{"text_format":"1","workbook":"xlsx","n_sheets":5,"sheets":["Beschreibung","Buchung","Übersicht Verwendungsnachweis","Mittelanforderung","Ausfüllhilfe"],"not_rendered":{"charts":0,"images":0,"macros":1,"external_links":0,"defined_names":13,"comments":2,"pivot_tables":0},"unopened":[],"bounds":{"document_bytes":16777216,"sheet_cells":100000,"rows_first":2000,"rows_last":500,"rows_between":2000,"halvings":0,"cell_chars":16384,"cell_head_chars":4096},"cells_cut":0,"cells_raw":0,"read":"whole","date_system":"1900"}

{"sheet":"Beschreibung","index":0,"n_rows":0,"n_cols":0,"rows_kept":0,"cut":false,"hidden":false,"merged":[]}

{"sheet":"Buchung","index":1,"n_rows":4001,"n_cols":10,"rows_kept":4001,"cut":false,"hidden":false,"merged":[[0,0,0,9]]}
["Buchungsliste"]
[]
["Budgetlinie","Maßnahme","Datum","Empfänger","Betrag in €","Betrag FW","Art FW","Begründung","Belegnummer","Einnahme/Ausgabe"]
[{"$f":"INDEX(Tabelle2[[#All],[Budgetlinie]],MATCH(Tabelle1[[#This Row],[Maßnahme]],Ausfüllhilfe!$C$1:$C$22,0))","v":"2.4"},"2.4_",null,null,null,null,null,null,null,{"$f":"VLOOKUP(Tabelle1[[#This Row],[Budgetlinie]],Ausfüllhilfe!$A$1:$D$23,4,0)","v":"Ausgabe"}]
[{"$f":"INDEX(Tabelle2[[#All],[Budgetlinie]],MATCH(Tabelle1[[#This Row],[Maßnahme]],Ausfüllhilfe!$C$1:$C$22,0))","v":{"$error":"#N/A"}},null,null,null,null,null,null,null,null,{"$f":"VLOOKUP(Tabelle1[[#This Row],[Budgetlinie]],Ausfüllhilfe!$A$1:$D$23,4,0)","v":{"$error":"#N/A"}}]
[{"$f":"INDEX(Tabelle2[[#All],[Budgetlinie]],MATCH(Tabelle1[[#This Row],[Maßnahme]],Ausfüllhilfe!$C$1:$C$22,0))","v":{"$error":"#N/A"}},null,null,null,null,null,null,null,null,{"$f":"VLOOKUP(Tabelle1[[#This Row],[Budgetlinie]],Ausfüllhilfe!$A$1:$D$23,4,0)","v":{"$error":"#N/A"}}]
[{"$f":"INDEX(Tabelle2[[#All],[Budgetlinie]],MATCH(Tabelle1[[#This Row],[Maßnahme]],Ausfüllhilfe!$C$1:$C$22,0))","v":{"$error":"#N/A"}},null,null,null,null,null,null,null,null,{"$f":"VLOOKUP(Tabelle1[[#This Row],[Budgetlinie]],Ausfüllhilfe!$A$1:$D$23,4,0)","v":{"$error":"#N/A"}}]
[{"$f":"INDEX(Tabelle2[[#All],[Budgetlinie]],MATCH(Tabelle1[[#This Row],[Maßnahme]],Ausfüllhilfe!$C$1:$C$22,0))","v":{"$error":"#N/A"}},null,null,null,null,null,null,null,null,{"$f":"VLOOKUP(Tabelle1[[#This Row],[Budgetlinie]],Ausfüllhilfe!$A$1:$D$23,4,0)","v":{"$error":"#N/A"}}]
[{"$f":"INDEX(Tabelle2[[#All],[Budgetlinie]],MATCH(Tabelle1[[#This Row],[Maßnahme]],Ausfüllhilfe!$C$1:$C$22,0))","v":{"$error":"#N/A"}},null,null,null,null,null,null,null,null,{"$f":"VLOOKUP(Tabelle1[[#This Row],[Budgetlinie]],Ausfüllhilfe!$A$1:$D$23,4,0)","v":{"$error":"#N/A"}}]
[{"$f":"INDEX(Tabelle2[[#All],[Budgetlinie]],MATCH(Tabelle1[[#This Row],[Maßnahme]],Ausfüllhilfe!$C$1:$C$22,0))","v":{"$error":"#N/A"}},null,null,null,null,null,null,null,null,{"$f":"VLOOKUP(Tabelle1[[#This Row],[Budgetlinie]],Ausfüllhilfe!$A$1:$D$23,4,0)","v":{"$error":"#N/A"}}]
[{"$f":"INDEX(Tabelle2[[#All],[Budgetlinie]],MATCH(Tabelle1[[#This Row],[Maßnahme]],Ausfüllhilfe!$C$1:$C$22,0))","v":{"$error":"#N/A"}},null,null,null,null,null,null,null,null,{"$f":"VLOOKUP(Tabelle1[[#This Row],[Budgetlinie]],Ausfüllhilfe!$A$1:$D$23,4,0)","v":{"$error":"#N/A"}}]
[{"$f":"INDEX(Tabelle2[[#All],[Budgetlinie]],MATCH(Tabelle1[[#This Row],[Maßnahme]],Ausfüllhilfe!$C$1:$C$22,0))","v":{"$error":"#N/A"}},null,null,null,null,null,null,null,null,{"$f":"VLOOKUP(Tabelle1[[#This Row],[Budgetlinie]],Ausfüllhilfe!$A$1:$D$23,4,0)","v":{"$error":"#N/A"}}]
[{"$f":"INDEX(Tabelle2[[#All],[Budgetlinie]],MATCH(Tabelle1[[#This Row],[Maßnahme]],Ausfüllhilfe!$C$1:$C$22,0))","v":{"$error":"#N/A"}},null,null,null,null,null,null,null,null,{"$f":"VLOOKUP(Tabelle1[[#This Row],[Budgetlinie]],Ausfüllhilfe!$A$1:$D$23,4,0)","v":{"$error":"#N/A"}}]
[{"$f":"INDEX(Tabelle2[[#All],[Budgetlinie]],MATCH(Tabelle1[[#This Row],[Maßnahme]],Ausfüllhilfe!$C$1:$C$22,0))","v":{"$error":"#N/A"}},null,null,null,null,null,null,null,null,{"$f":"VLOOKUP(Tabelle1[[#This Row],[Budgetlinie]],Ausfüllhilfe!$A$1:$D$23,4,0)","v":{"$error":"#N/A"}}]
[{"$f":"INDEX(Tabelle2[[#All],[Budgetlinie]],MATCH(Tabelle1[[#This Row],[Maßnahme]],Ausfüllhilfe!$C$1:$C$22,0))","v":{"$error":"#N/A"}},null,null,null,null,null,null,null,null,{"$f":"VLOOKUP(Tabelle1[[#This Row],[Budgetlinie]],Ausfüllhilfe!$A$1:$D$23,4,0)","v":{"$error":"#N/A"}}]
[{"$f":"INDEX(Tabelle2[[#All],[Budgetlinie]],MATCH(Tabelle1[[#This Row],[Maßnahme]],Ausfüllhilfe!$C$1:$C$22,0))","v":{"$error":"#N/A"}},null,null,null,null,null,null,null,null,{"$f":"VLOOKUP(Tabelle1[[#This Row],[Budgetlinie]],Ausfüllhilfe!$A$1:$D$23,4,0)","v":{"$error":"#N/A"}}]
[{"$f":"INDEX(Tabelle2[[#All],[Budgetlinie]],MATCH(Tabelle1[[#This Row],[Maßnahme]],Ausfüllhilfe!$C$1:$C$22,0))","v":{"$error":"#N/A"}},null,null,null,null,null,null,null,null,{"$f":"VLOOKUP(Tabelle1[[#This Row],[Budgetlinie]],Ausfüllhilfe!$A$1:$D$23,4,0)","v":{"$error":"#N/A"}}]
[{"$f":"INDEX(Tabelle2[[#All],[Budgetlinie]],MATCH(Tabelle1[[#This Row],[Maßnahme]],Ausfüllhilfe!$C$1:$C$22,0))","v":{"$error":"#N/A"}},null,null,null,null,null,null,null,null,{"$f":"VLOOKUP(Tabelle1[[#This Row],[Budgetlinie]],Ausfüllhilfe!$A$1:$D$23,4,0)","v":{"$error":"#N/A"}}]
[{"$f":"INDEX(Tabelle2[[#All],[Budgetlinie]],MATCH(Tabelle1[[#This Row],[Maßnahme]],Ausfüllhilfe!$C$1:$C$22,0))","v":{"$error":"#N/A"}},null,null,null,null,null,null,null,null,{"$f":"VLOOKUP(Tabelle1[[#This Row],[Budgetlinie]],Ausfüllhilfe!$A$1:$D$23,4,0)","v":{"$error":"#N/A"}}]
[{"$f":"INDEX(Tabelle2[[#All],[Budgetlinie]],MATCH(Tabelle1[[#This Row],[Maßnahme]],Ausfüllhilfe!$C$1:$C$22,0))","v":{"$error":"#N/A"}},null,null,null,null,null,null,null,null,{"$f":"VLOOKUP(Tabelle1[[#This Row],[Budgetlinie]],Ausfüllhilfe!$A$1:$D$23,4,0)","v":{"$error":"#N/A"}}]
[{"$f":"INDEX(Tabelle2[[#All],[Budgetlinie]],MATCH(Tabelle1[[#This Row],[Maßnahme]],Ausfüllhilfe!$C$1:$C$22,0))","v":{"$error":"#N/A"}},null,null,null,null,null,null,null,null,{"$f":"VLOOKUP(Tabelle1[[#This Row],[Budgetlinie]],Ausfüllhilfe!$A$1:$D$23,4,0)","v":{"$error":"#N/A"}}]
[{"$f":"INDEX(Tabelle2[[#All],[Budgetlinie]],MATCH(Tabelle1[[#This Row],[Maßnahme]],Ausfüllhilfe!$C$1:$C$22,0))","v":{"$error":"#N/A"}},null,null,null,null,null,null,null,null,{"$f":"VLOOKUP(Tabelle1[[#This Row],[Budgetlinie]],Ausfüllhilfe!$A$1:$D$23,4,0)","v":{"$error":"#N/A"}}]
[{"$f":"INDEX(Tabelle2[[#All],[Budgetlinie]],MATCH(Tabelle1[[#This Row],[Maßnahme]],Ausfüllhilfe!$C$1:$C$22,0))","v":{"$error":"#N/A"}},null,null,null,null,null,null,null,null,{"$f":"VLOOKUP(Tabelle1[[#This Row],[Budgetlinie]],Ausfüllhilfe!$A$1:$D$23,4,0)","v":{"$error":"#N/A"}}]
[{"$f":"INDEX(Tabelle2[[#All],[Budgetlinie]],MATCH(Tabelle1[[#This Row],[Maßnahme]],Ausfüllhilfe!$C$1:$C$22,0))","v":{"$error":"#N/A"}},null,null,null,null,null,null,null,null,{"$f":"VLOOKUP(Tabelle1[[#This Row],[Budgetlinie]],Ausfüllhilfe!$A$1:$D$23,4,0)","v":{"$error":"#N/A"}}]
[{"$f":"INDEX(Tabelle2[[#All],[Budgetlinie]],MATCH(Tabelle1[[#This Row],[Maßnahme]],Ausfüllhilfe!$C$1:$C$22,0))","v":{"$error":"#N/A"}},null,null,null,null,null,null,null,null,{"$f":"VLOOKUP(Tabelle1[[#This Row],[Budgetlinie]],Ausfüllhilfe!$A$1:$D$23,4,0)","v":{"$error":"#N/A"}}]
[{"$f":"INDEX(Tabelle2[[#All],[Budgetlinie]],MATCH(Tabelle1[[#This Row],[Maßnahme]],Ausfüllhilfe!$C$1:$C$22,0))","v":{"$error":"#N/A"}},null,null,null,null,null,null,null,null,{"$f":"VLOOKUP(Tabelle1[[#This Row],[Budgetlinie]],Ausfüllhilfe!$A$1:$D$23,4,0)","v":{"$error":"#N/A"}}]
[{"$f":"INDEX(Tabelle2[[#All],[Budgetlinie]],MATCH(Tabelle1[[#This Row],[Maßnahme]],Ausfüllhilfe!$C$1:$C$22,0))","v":{"$error":"#N/A"}},null,null,null,null,null,null,null,null,{"$f":"VLOOKUP(Tabelle1[[#This Row],[Budgetlinie]],Ausfüllhilfe!$A$1:$D$23,4,0)","v":{"$error":"#N/A"}}]
[{"$f":"INDEX(Tabelle2[[#All],[Budgetlinie]],MATCH(Tabelle1[[#This Row],[Maßnahme]],Ausfüllhilfe!$C$1:$C$22,0))","v":{"$error":"#N/A"}},null,null,null,null,null,null,null,null,{"$f":"VLOOKUP(Tabelle1[[#This Row],[Budgetlinie]],Ausfüllhilfe!$A$1:$D$23,4,0)","v":{"$error":"#N/A"}}]
[{"$f":"INDEX(Tabelle2[[#All],[Budgetlinie]],MATCH(Tabelle1[[#This Row],[Maßnahme]],Ausfüllhilfe!$C$1:$C$22,0))","v":{"$error":"#N/A"}},null,null,null,null,null,null,null,null,{"$f":"VLOOKUP(Tabelle1[[#This Row],[Budgetlinie]],Ausfüllhilfe!$A$1:$D$23,4,0)","v":{"$error":"#N/A"}}]
[{"$f":"INDEX(Tabelle2[[#All],[Budgetlinie]],MATCH(Tabelle1[[#This Row],[Maßnahme]],Ausfüllhilfe!$C$1:$C$22,0))","v":{"$error":"#N/A"}},null,null,null,null,null,null,null,null,{"$f":"VLOOKUP(Tabelle1[[#This Row],[Budgetlinie]],Ausfüllhilfe!$A$1:$D$23,4,0)","v":{"$error":"#N/A"}}]
[{"$f":"INDEX(Tabelle2[[#All],[Budgetlinie]],MATCH(Tabelle1[[#This Row],[Maßnahme]],Ausfüllhilfe!$C$1:$C$22,0))","v":{"$error":"#N/A"}},null,null,null,null,null,null,null,null,{"$f":"VLOOKUP(Tabelle1[[#This Row],[Budgetlinie]],Ausfüllhilfe!$A$1:$D$23,4,0)","v":{"$error":"#N/A"}}]
[{"$f":"INDEX(Tabelle2[[#All],[Budgetlinie]],MATCH(Tabelle1[[#This Row],[Maßnahme]],Ausfüllhilfe!$C$1:$C$22,0))","v":{"$error":"#N/A"}},null,null,null,null,null,null,null,null,{"$f":"VLOOKUP(Tabelle1[[#This Row],[Budgetlinie]],Ausfüllhilfe!$A$1:$D$23,4,0)","v":{"$error":"#N/A"}}]
[{"$f":"INDEX(Tabelle2[[#All],[Budgetlinie]],MATCH(Tabelle1[[#This Row],[Maßnahme]],Ausfüllhilfe!$C$1:$C$22,0))","v":{"$error":"#N/A"}},null,null,null,null,null,null,null,null,{"$f":"VLOOKUP(Tabelle1[[#This Row],[Budgetlinie]],Ausfüllhilfe!$A$1:$D$23,4,0)","v":{"$error":"#N/A"}}]
[{"$f":"INDEX(Tabelle2[[#All],[Budgetlinie]],MATCH(Tabelle1[[#This Row],[Maßnahme]],Ausfüllhilfe!$C$1:$C$22,0))","v":{"$error":"#N/A"}},null,null,null,null,null,null,null,null,{"$f":"VLOOKUP(Tabelle1[[#This Row],[Budgetlinie]],Ausfüllhilfe!$A$1:$D$23,4,0)","v":{"$error":"#N/A"}}]
[{"$f":"INDEX(Tabelle2[[#All],[Budgetlinie]],MATCH(Tabelle1[[#This Row],[Maßnahme]],Ausfüllhilfe!$C$1:$C$22,0))","v":{"$error":"#N/A"}},null,null,null,null,null,null,null,null,{"$f":"VLOOKUP(Tabelle1[[#This Row],[Budgetlinie]],Ausfüllhilfe!$A$1:$D$23,4,0)","v":{"$error":"#N/A"}}]
[{"$f":"INDEX(Tabelle2[[#All],[Budgetlinie]],MATCH(Tabelle1[[#This Row],[Maßnahme]],Ausfüllhilfe!$C$1:$C$22,0))","v":{"$error":"#N/A"}},null,null,null,null,null,null,null,null,{"$f":"VLOOKUP(Tabelle1[[#This Row],[Budgetlinie]],Ausfüllhilfe!$A$1:$D$23,4,0)","v":{"$error":"#N/A"}}]
[{"$f":"INDEX(Tabelle2[[#All],[Budgetlinie]],MATCH(Tabelle1[[#This Row],[Maßnahme]],Ausfüllhilfe!$C$1:$C$22,0))","v":{"$error":"#N/A"}},null,null,null,null,null,null,null,null,{"$f":"VLOOKUP(Tabelle1[[#This Row],[Budgetlinie]],Ausfüllhilfe!$A$1:$D$23,4,0)","v":{"$error":"#N/A"}}]
[{"$f":"INDEX(Tabelle2[[#All],[Budgetlinie]],MATCH(Tabelle1[[#This Row],[Maßnahme]],Ausfüllhilfe!$C$1:$C$22,0))","v":{"$error":"#N/A"}},null,null,null,null,null,null,null,null,{"$f":"VLOOKUP(Tabelle1[[#This Row],[Budgetlinie]],Ausfüllhilfe!$A$1:$D$23,4,0)","v":{"$error":"#N/A"}}]
[{"$f":"INDEX(Tabelle2[[#All],[Budgetlinie]],MATCH(Tabelle1[[#This Row],[Maßnahme]],Ausfüllhilfe!$C$1:$C$22,0))","v":{"$error":"#N/A"}},null,null,null,null,null,null,null,null,{"$f":"VLOOKUP(Tabelle1[[#This Row],[Budgetlinie]],Ausfüllhilfe!$A$1:$D$23,4,0)","v":{"$error":"#N/A"}}]
[{"$f":"INDEX(Tabelle2[[#All],[Budgetlinie]],MATCH(Tabelle1[[#This Row],[Maßnahme]],Ausfüllhilfe!$C$1:$C$22,0))","v":{"$error":"#N/A"}},null,null,null,null,null,null,null,null,{"$f":"VLOOKUP(Tabelle1[[#This Row],[Budgetlinie]],Ausfüllhilfe!$A$1:$D$23,4,0)","v":{"$error":"#N/A"}}]
[{"$f":"INDEX(Tabelle2[[#All],[Budgetlinie]],MATCH(Tabelle1[[#This Row],[Maßnahme]],Ausfüllhilfe!$C$1:$C$22,0))","v":{"$error":"#N/A"}},null,null,null,null,null,null,null,null,{"$f":"VLOOKUP(Tabelle1[[#This Row],[Budgetlinie]],Ausfüllhilfe!$A$1:$D$23,4,0)","v":{"$error":"#N/A"}}]
[{"$f":"INDEX(Tabelle2[[#All],[Budgetlinie]],MATCH(Tabelle1[[#This Row],[Maßnahme]],Ausfüllhilfe!$C$1:$C$22,0))","v":{"$error":"#N/A"}},null,null,null,null,null,null,null,null,{"$f":"VLOOKUP(Tabelle1[[#This Row],[Budgetlinie]],Ausfüllhilfe!$A$1:$D$23,4,0)","v":{"$error":"#N/A"}}]
[{"$f":"INDEX(Tabelle2[[#All],[Budgetlinie]],MATCH(Tabelle1[[#This Row],[Maßnahme]],Ausfüllhilfe!$C$1:$C$22,0))","v":{"$error":"#N/A"}},null,null,null,null,null,null,null,null,{"$f":"VLOOKUP(Tabelle1[[#This Row],[Budgetlinie]],Ausfüllhilfe!$A$1:$D$23,4,0)","v":{"$error":"#N/A"}}]
[{"$f":"INDEX(Tabelle2[[#All],[Budgetlinie]],MATCH(Tabelle1[[#This Row],[Maßnahme]],Ausfüllhilfe!$C$1:$C$22,0))","v":{"$error":"#N/A"}},null,null,null,null,null,null,null,null,{"$f":"VLOOKUP(Tabelle1[[#This Row],[Budgetlinie]],Ausfüllhilfe!$A$1:$D$23,4,0)","v":{"$error":"#N/A"}}]
[{"$f":"INDEX(Tabelle2[[#All],[Budgetlinie]],MATCH(Tabelle1[[#This Row],[Maßnahme]],Ausfüllhilfe!$C$1:$C$22,0))","v":{"$error":"#N/A"}},null,null,null,null,null,null,null,null,{"$f":"VLOOKUP(Tabelle1[[#This Row],[Budgetlinie]],Ausfüllhilfe!$A$1:$D$23,4,0)","v":{"$error":"#N/A"}}]
[{"$f":"INDEX(Tabelle2[[#All],[Budgetlinie]],MATCH(Tabelle1[[#This Row],[Maßnahme]],Ausfüllhilfe!$C$1:$C$22,0))","v":{"$error":"#N/A"}},null,null,null,null,null,null,null,null,{"$f":"VLOOKUP(Tabelle1[[#This Row],[Budgetlinie]],Ausfüllhilfe!$A$1:$D$23,4,0)","v":{"$error":"#N/A"}}]
[{"$f":"INDEX(Tabelle2[[#All],[Budgetlinie]],MATCH(Tabelle1[[#This Row],[Maßnahme]],Ausfüllhilfe!$C$1:$C$22,0))","v":{"$error":"#N/A"}},null,null,null,null,null,null,null,null,{"$f":"VLOOKUP(Tabelle1[[#This Row],[Budgetlinie]],Ausfüllhilfe!$A$1:$D$23,4,0)","v":{"$error":"#N/A"}}]
[{"$f":"INDEX(Tabelle2[[#All],[Budgetlinie]],MATCH(Tabelle1[[#This Row],[Maßnahme]],Ausfüllhilfe!$C$1:$C$22,0))","v":{"$error":"#N/A"}},null,null,null,null,null,null,null,null,{"$f":"VLOOKUP(Tabelle1[[#This Row],[Budgetlinie]],Ausfüllhilfe!$A$1:$D$23,4,0)","v":{"$error":"#N/A"}}]
[{"$f":"INDEX(Tabelle2[[#All],[Budgetlinie]],MATCH(Tabelle1[[#This Row],[Maßnahme]],Ausfüllhilfe!$C$1:$C$22,0))","v":{"$error":"#N/A"}},null,null,null,null,null,null,null,null,{"$f":"VLOOKUP(Tabelle1[[#This Row],[Budgetlinie]],Ausfüllhilfe!$A$1:$D$23,4,0)","v":{"$error":"#N/A"}}]
[{"$f":"INDEX(Tabelle2[[#All],[Budgetlinie]],MATCH(Tabelle1[[#This Row],[Maßnahme]],Ausfüllhilfe!$C$1:$C$22,0))","v":{"$error":"#N/A"}},null,null,null,null,null,null,null,null,{"$f":"VLOOKUP(Tabelle1[[#This Row],[Budgetlinie]],Ausfüllhilfe!$A$1:$D$23,4,0)","v":{"$error":"#N/A"}}]
[{"$f":"INDEX(Tabelle2[[#All],[Budgetlinie]],MATCH(Tabelle1[[#This Row],[Maßnahme]],Ausfüllhilfe!$C$1:$C$22,0))","v":{"$error":"#N/A"}},null,null,null,null,null,null,null,null,{"$f":"VLOOKUP(Tabelle1[[#This Row],[Budgetlinie]],Ausfüllhilfe!$A$1:$D$23,4,0)","v":{"$error":"#N/A"}}]
[{"$f":"INDEX(Tabelle2[[#All],[Budgetlinie]],MATCH(Tabelle1[[#This Row],[Maßnahme]],Ausfüllhilfe!$C$1:$C$22,0))","v":{"$error":"#N/A"}},null,null,null,null,null,null,null,null,{"$f":"VLOOKUP(Tabelle1[[#This Row],[Budgetlinie]],Ausfüllhilfe!$A$1:$D$23,4,0)","v":{"$error":"#N/A"}}]
[{"$f":"INDEX(Tabelle2[[#All],[Budgetlinie]],MATCH(Tabelle1[[#This Row],[Maßnahme]],Ausfüllhilfe!$C$1:$C$22,0))","v":{"$error":"#N/A"}},null,null,null,null,null,null,null,null,{"$f":"VLOOKUP(Tabelle1[[#This Row],[Budgetlinie]],Ausfüllhilfe!$A$1:$D$23,4,0)","v":{"$error":"#N/A"}}]
[{"$f":"INDEX(Tabelle2[[#All],[Budgetlinie]],MATCH(Tabelle1[[#This Row],[Maßnahme]],Ausfüllhilfe!$C$1:$C$22,0))","v":{"$error":"#N/A"}},null,null,null,null,null,null,null,null,{"$f":"VLOOKUP(Tabelle1[[#This Row],[Budgetlinie]],Ausfüllhilfe!$A$1:$D$23,4,0)","v":{"$error":"#N/A"}}]
[{"$f":"INDEX(Tabelle2[[#All],[Budgetlinie]],MATCH(Tabelle1[[#This Row],[Maßnahme]],Ausfüllhilfe!$C$1:$C$22,0))","v":{"$error":"#N/A"}},null,null,null,null,null,null,null,null,{"$f":"VLOOKUP(Tabelle1[[#This Row],[Budgetlinie]],Ausfüllhilfe!$A$1:$D$23,4,0)","v":{"$error":"#N/A"}}]
[{"$f":"INDEX(Tabelle2[[#All],[Budgetlinie]],MATCH(Tabelle1[[#This Row],[Maßnahme]],Ausfüllhilfe!$C$1:$C$22,0))","v":{"$error":"#N/A"}},null,null,null,null,null,null,null,null,{"$f":"VLOOKUP(Tabelle1[[#This Row],[Budgetlinie]],Ausfüllhilfe!$A$1:$D$23,4,0)","v":{"$error":"#N/A"}}]
[{"$f":"INDEX(Tabelle2[[#All],[Budgetlinie]],MATCH(Tabelle1[[#This Row],[Maßnahme]],Ausfüllhilfe!$C$1:$C$22,0))","v":{"$error":"#N/A"}},null,null,null,null,null,null,null,null,{"$f":"VLOOKUP(Tabelle1[[#This Row],[Budgetlinie]],Ausfüllhilfe!$A$1:$D$23,4,0)","v":{"$error":"#N/A"}}]
[{"$f":"INDEX(Tabelle2[[#All],[Budgetlinie]],MATCH(Tabelle1[[#This Row],[Maßnahme]],Ausfüllhilfe!$C$1:$C$22,0))","v":{"$error":"#N/A"}},null,null,null,null,null,null,null,null,{"$f":"VLOOKUP(Tabelle1[[#This Row],[Budgetlinie]],Ausfüllhilfe!$A$1:$D$23,4,0)","v":{"$error":"#N/A"}}]
[{"$f":"INDEX(Tabelle2[[#All],[Budgetlinie]],MATCH(Tabelle1[[#This Row],[Maßnahme]],Ausfüllhilfe!$C$1:$C$22,0))","v":{"$error":"#N/A"}},null,null,null,null,null,null,null,null,{"$f":"VLOOKUP(Tabelle1[[#This Row],[Budgetlinie]],Ausfüllhilfe!$A$1:$D$23,4,0)","v":{"$error":"#N/A"}}]
[{"$f":"INDEX(Tabelle2[[#All],[Budgetlinie]],MATCH(Tabelle1[[#This Row],[Maßnahme]],Ausfüllhilfe!$C$1:$C$22,0))","v":{"$error":"#N/A"}},null,null,null,null,null,null,null,null,{"$f":"VLOOKUP(Tabelle1[[#This Row],[Budgetlinie]],Ausfüllhilfe!$A$1:$D$23,4,0)","v":{"$error":"#N/A"}}]
[{"$f":"INDEX(Tabelle2[[#All],[Budgetlinie]],MATCH(Tabelle1[[#This Row],[Maßnahme]],Ausfüllhilfe!$C$1:$C$22,0))","v":{"$error":"#N/A"}},null,null,null,null,null,null,null,null,{"$f":"VLOOKUP(Tabelle1[[#This Row],[Budgetlinie]],Ausfüllhilfe!$A$1:$D$23,4,0)","v":{"$error":"#N/A"}}]
[{"$f":"INDEX(Tabelle2[[#All],[Budgetlinie]],MATCH(Tabelle1[[#This Row],[Maßnahme]],Ausfüllhilfe!$C$1:$C$22,0))","v":{"$error":"#N/A"}},null,null,null,null,null,null,null,null,{"$f":"VLOOKUP(Tabelle1[[#This Row],[Budgetlinie]],Ausfüllhilfe!$A$1:$D$23,4,0)","v":{"$error":"#N/A"}}]
[{"$f":"INDEX(Tabelle2[[#All],[Budgetlinie]],MATCH(Tabelle1[[#This Row],[Maßnahme]],Ausfüllhilfe!$C$1:$C$22,0))","v":{"$error":"#N/A"}},null,null,null,null,null,null,null,null,{"$f":"VLOOKUP(Tabelle1[[#This Row],[Budgetlinie]],Ausfüllhilfe!$A$1:$D$23,4,0)","v":{"$error":"#N/A"}}]
[{"$f":"INDEX(Tabelle2[[#All],[Budgetlinie]],MATCH(Tabelle1[[#This Row],[Maßnahme]],Ausfüllhilfe!$C$1:$C$22,0))","v":{"$error":"#N/A"}},null,null,null,null,null,null,null,null,{"$f":"VLOOKUP(Tabelle1[[#This Row],[Budgetlinie]],Ausfüllhilfe!$A$1:$D$23,4,0)","v":{"$error":"#N/A"}}]
[{"$f":"INDEX(Tabelle2[[#All],[Budgetlinie]],MATCH(Tabelle1[[#This Row],[Maßnahme]],Ausfüllhilfe!$C$1:$C$22,0))","v":{"$error":"#N/A"}},null,null,null,null,null,null,null,null,{"$f":"VLOOKUP(Tabelle1[[#This Row],[Budgetlinie]],Ausfüllhilfe!$A$1:$D$23,4,0)","v":{"$error":"#N/A"}}]
[{"$f":"INDEX(Tabelle2[[#All],[Budgetlinie]],MATCH(Tabelle1[[#This Row],[Maßnahme]],Ausfüllhilfe!$C$1:$C$22,0))","v":{"$error":"#N/A"}},null,null,null,null,null,null,null,null,{"$f":"VLOOKUP(Tabelle1[[#This Row],[Budgetlinie]],Ausfüllhilfe!$A$1:$D$23,4,0)","v":{"$error":"#N/A"}}]
[{"$f":"INDEX(Tabelle2[[#All],[Budgetlinie]],MATCH(Tabelle1[[#This Row],[Maßnahme]],Ausfüllhilfe!$C$1:$C$22,0))","v":{"$error":"#N/A"}},null,null,null,null,null,null,null,null,{"$f":"VLOOKUP(Tabelle1[[#This Row],[Budgetlinie]],Ausfüllhilfe!$A$1:$D$23,4,0)","v":{"$error":"#N/A"}}]
[{"$f":"INDEX(Tabelle2[[#All],[Budgetlinie]],MATCH(Tabelle1[[#This Row],[Maßnahme]],Ausfüllhilfe!$C$1:$C$22,0))","v":{"$error":"#N/A"}},null,null,null,null,null,null,null,null,{"$f":"VLOOKUP(Tabelle1[[#This Row],[Budgetlinie]],Ausfüllhilfe!$A$1:$D$23,4,0)","v":{"$error":"#N/A"}}]
[{"$f":"INDEX(Tabelle2[[#All],[Budgetlinie]],MATCH(Tabelle1[[#This Row],[Maßnahme]],Ausfüllhilfe!$C$1:$C$22,0))","v":{"$error":"#N/A"}},null,null,null,null,null,null,null,null,{"$f":"VLOOKUP(Tabelle1[[#This Row],[Budgetlinie]],Ausfüllhilfe!$A$1:$D$23,4,0)","v":{"$error":"#N/A"}}]
[{"$f":"INDEX(Tabelle2[[#All],[Budgetlinie]],MATCH(Tabelle1[[#This Row],[Maßnahme]],Ausfüllhilfe!$C$1:$C$22,0))","v":{"$error":"#N/A"}},null,null,null,null,null,null,null,null,{"$f":"VLOOKUP(Tabelle1[[#This Row],[Budgetlinie]],Ausfüllhilfe!$A$1:$D$23,4,0)","v":{"$error":"#N/A"}}]
[{"$f":"INDEX(Tabelle2[[#All],[Budgetlinie]],MATCH(Tabelle1[[#This Row],[Maßnahme]],Ausfüllhilfe!$C$1:$C$22,0))","v":{"$error":"#N/A"}},null,null,null,null,null,null,null,null,{"$f":"VLOOKUP(Tabelle1[[#This Row],[Budgetlinie]],Ausfüllhilfe!$A$1:$D$23,4,0)","v":{"$error":"#N/A"}}]
[{"$f":"INDEX(Tabelle2[[#All],[Budgetlinie]],MATCH(Tabelle1[[#This Row],[Maßnahme]],Ausfüllhilfe!$C$1:$C$22,0))","v":{"$error":"#N/A"}},null,null,null,null,null,null,null,null,{"$f":"VLOOKUP(Tabelle1[[#This Row],[Budgetlinie]],Ausfüllhilfe!$A$1:$D$23,4,0)","v":{"$error":"#N/A"}}]
[{"$f":"INDEX(Tabelle2[[#All],[Budgetlinie]],MATCH(Tabelle1[[#This Row],[Maßnahme]],Ausfüllhilfe!$C$1:$C$22,0))","v":{"$error":"#N/A"}},null,null,null,null,null,null,null,null,{"$f":"VLOOKUP(Tabelle1[[#This Row],[Budgetlinie]],Ausfüllhilfe!$A$1:$D$23,4,0)","v":{"$error":"#N/A"}}]
[{"$f":"INDEX(Tabelle2[[#All],[Budgetlinie]],MATCH(Tabelle1[[#This Row],[Maßnahme]],Ausfüllhilfe!$C$1:$C$22,0))","v":{"$error":"#N/A"}},null,null,null,null,null,null,null,null,{"$f":"VLOOKUP(Tabelle1[[#This Row],[Budgetlinie]],Ausfüllhilfe!$A$1:$D$23,4,0)","v":{"$error":"#N/A"}}]
[{"$f":"INDEX(Tabelle2[[#All],[Budgetlinie]],MATCH(Tabelle1[[#This Row],[Maßnahme]],Ausfüllhilfe!$C$1:$C$22,0))","v":{"$error":"#N/A"}},null,null,null,null,null,null,null,null,{"$f":"VLOOKUP(Tabelle1[[#This Row],[Budgetlinie]],Ausfüllhilfe!$A$1:$D$23,4,0)","v":{"$error":"#N/A"}}]
[{"$f":"INDEX(Tabelle2[[#All],[Budgetlinie]],MATCH(Tabelle1[[#This Row],[Maßnahme]],Ausfüllhilfe!$C$1:$C$22,0))","v":{"$error":"#N/A"}},null,null,null,null,null,null,null,null,{"$f":"VLOOKUP(Tabelle1[[#This Row],[Budgetlinie]],Ausfüllhilfe!$A$1:$D$23,4,0)","v":{"$error":"#N/A"}}]
[{"$f":"INDEX(Tabelle2[[#All],[Budgetlinie]],MATCH(Tabelle1[[#This Row],[Maßnahme]],Ausfüllhilfe!$C$1:$C$22,0))","v":{"$error":"#N/A"}},null,null,null,null,null,null,null,null,{"$f":"VLOOKUP(Tabelle1[[#This Row],[Budgetlinie]],Ausfüllhilfe!$A$1:$D$23,4,0)","v":{"$error":"#N/A"}}]
[{"$f":"INDEX(Tabelle2[[#All],[Budgetlinie]],MATCH(Tabelle1[[#This Row],[Maßnahme]],Ausfüllhilfe!$C$1:$C$22,0))","v":{"$error":"#N/A"}},null,null,null,null,null,null,null,null,{"$f":"VLOOKUP(Tabelle1[[#This Row],[Budgetlinie]],Ausfüllhilfe!$A$1:$D$23,4,0)","v":{"$error":"#N/A"}}]
[{"$f":"INDEX(Tabelle2[[#All],[Budgetlinie]],MATCH(Tabelle1[[#This Row],[Maßnahme]],Ausfüllhilfe!$C$1:$C$22,0))","v":{"$error":"#N/A"}},null,null,null,null,null,null,null,null,{"$f":"VLOOKUP(Tabelle1[[#This Row],[Budgetlinie]],Ausfüllhilfe!$A$1:$D$23,4,0)","v":{"$error":"#N/A"}}]
[{"$f":"INDEX(Tabelle2[[#All],[Budgetlinie]],MATCH(Tabelle1[[#This Row],[Maßnahme]],Ausfüllhilfe!$C$1:$C$22,0))","v":{"$error":"#N/A"}},null,null,null,null,null,null,null,null,{"$f":"VLOOKUP(Tabelle1[[#This Row],[Budgetlinie]],Ausfüllhilfe!$A$1:$D$23,4,0)","v":{"$error":"#N/A"}}]
[{"$f":"INDEX(Tabelle2[[#All],[Budgetlinie]],MATCH(Tabelle1[[#This Row],[Maßnahme]],Ausfüllhilfe!$C$1:$C$22,0))","v":{"$error":"#N/A"}},null,null,null,null,null,null,null,null,{"$f":"VLOOKUP(Tabelle1[[#This Row],[Budgetlinie]],Ausfüllhilfe!$A$1:$D$23,4,0)","v":{"$error":"#N/A"}}]
[{"$f":"INDEX(Tabelle2[[#All],[Budgetlinie]],MATCH(Tabelle1[[#This Row],[Maßnahme]],Ausfüllhilfe!$C$1:$C$22,0))","v":{"$error":"#N/A"}},null,null,null,null,null,null,null,null,{"$f":"VLOOKUP(Tabelle1[[#This Row],[Budgetlinie]],Ausfüllhilfe!$A$1:$D$23,4,0)","v":{"$error":"#N/A"}}]
[{"$f":"INDEX(Tabelle2[[#All],[Budgetlinie]],MATCH(Tabelle1[[#This Row],[Maßnahme]],Ausfüllhilfe!$C$1:$C$22,0))","v":{"$error":"#N/A"}},null,null,null,null,null,null,null,null,{"$f":"VLOOKUP(Tabelle1[[#This Row],[Budgetlinie]],Ausfüllhilfe!$A$1:$D$23,4,0)","v":{"$error":"#N/A"}}]
[{"$f":"INDEX(Tabelle2[[#All],[Budgetlinie]],MATCH(Tabelle1[[#This Row],[Maßnahme]],Ausfüllhilfe!$C$1:$C$22,0))","v":{"$error":"#N/A"}},null,null,null,null,null,null,null,null,{"$f":"VLOOKUP(Tabelle1[[#This Row],[Budgetlinie]],Ausfüllhilfe!$A$1:$D$23,4,0)","v":{"$error":"#N/A"}}]
[{"$f":"INDEX(Tabelle2[[#All],[Budgetlinie]],MATCH(Tabelle1[[#This Row],[Maßnahme]],Ausfüllhilfe!$C$1:$C$22,0))","v":{"$error":"#N/A"}},null,null,null,null,null,null,null,null,{"$f":"VLOOKUP(Tabelle1[[#This Row],[Budgetlinie]],Ausfüllhilfe!$A$1:$D$23,4,0)","v":{"$error":"#N/A"}}]
[{"$f":"INDEX(Tabelle2[[#All],[Budgetlinie]],MATCH(Tabelle1[[#This Row],[Maßnahme]],Ausfüllhilfe!$C$1:$C$22,0))","v":{"$error":"#N/A"}},null,null,null,null,null,null,null,null,{"$f":"VLOOKUP(Tabelle1[[#This Row],[Budgetlinie]],Ausfüllhilfe!$A$1:$D$23,4,0)","v":{"$error":"#N/A"}}]
[{"$f":"INDEX(Tabelle2[[#All],[Budgetlinie]],MATCH(Tabelle1[[#This Row],[Maßnahme]],Ausfüllhilfe!$C$1:$C$22,0))","v":{"$error":"#N/A"}},null,null,null,null,null,null,null,null,{"$f":"VLOOKUP(Tabelle1[[#This Row],[Budgetlinie]],Ausfüllhilfe!$A$1:$D$23,4,0)","v":{"$error":"#N/A"}}]
[{"$f":"INDEX(Tabelle2[[#All],[Budgetlinie]],MATCH(Tabelle1[[#This Row],[Maßnahme]],Ausfüllhilfe!$C$1:$C$22,0))","v":{"$error":"#N/A"}},null,null,null,null,null,null,null,null,{"$f":"VLOOKUP(Tabelle1[[#This Row],[Budgetlinie]],Ausfüllhilfe!$A$1:$D$23,4,0)","v":{"$error":"#N/A"}}]
[{"$f":"INDEX(Tabelle2[[#All],[Budgetlinie]],MATCH(Tabelle1[[#This Row],[Maßnahme]],Ausfüllhilfe!$C$1:$C$22,0))","v":{"$error":"#N/A"}},null,null,null,null,null,null,null,null,{"$f":"VLOOKUP(Tabelle1[[#This Row],[Budgetlinie]],Ausfüllhilfe!$A$1:$D$23,4,0)","v":{"$error":"#N/A"}}]
[{"$f":"INDEX(Tabelle2[[#All],[Budgetlinie]],MATCH(Tabelle1[[#This Row],[Maßnahme]],Ausfüllhilfe!$C$1:$C$22,0))","v":{"$error":"#N/A"}},null,null,null,null,null,null,null,null,{"$f":"VLOOKUP(Tabelle1[[#This Row],[Budgetlinie]],Ausfüllhilfe!$A$1:$D$23,4,0)","v":{"$error":"#N/A"}}]
[{"$f":"INDEX(Tabelle2[[#All],[Budgetlinie]],MATCH(Tabelle1[[#This Row],[Maßnahme]],Ausfüllhilfe!$C$1:$C$22,0))","v":{"$error":"#N/A"}},null,null,null,null,null,null,null,null,{"$f":"VLOOKUP(Tabelle1[[#This Row],[Budgetlinie]],Ausfüllhilfe!$A$1:$D$23,4,0)","v":{"$error":"#N/A"}}]
[{"$f":"INDEX(Tabelle2[[#All],[Budgetlinie]],MATCH(Tabelle1[[#This Row],[Maßnahme]],Ausfüllhilfe!$C$1:$C$22,0))","v":{"$error":"#N/A"}},null,null,null,null,null,null,null,null,{"$f":"VLOOKUP(Tabelle1[[#This Row],[Budgetlinie]],Ausfüllhilfe!$A$1:$D$23,4,0)","v":{"$error":"#N/A"}}]
[{"$f":"INDEX(Tabelle2[[#All],[Budgetlinie]],MATCH(Tabelle1[[#This Row],[Maßnahme]],Ausfüllhilfe!$C$1:$C$22,0))","v":{"$error":"#N/A"}},null,null,null,null,null,null,null,null,{"$f":"VLOOKUP(Tabelle1[[#This Row],[Budgetlinie]],Ausfüllhilfe!$A$1:$D$23,4,0)","v":{"$error":"#N/A"}}]
[{"$f":"INDEX(Tabelle2[[#All],[Budgetlinie]],MATCH(Tabelle1[[#This Row],[Maßnahme]],Ausfüllhilfe!$C$1:$C$22,0))","v":{"$error":"#N/A"}},null,null,null,null,null,null,null,null,{"$f":"VLOOKUP(Tabelle1[[#This Row],[Budgetlinie]],Ausfüllhilfe!$A$1:$D$23,4,0)","v":{"$error":"#N/A"}}]
[{"$f":"INDEX(Tabelle2[[#All],[Budgetlinie]],MATCH(Tabelle1[[#This Row],[Maßnahme]],Ausfüllhilfe!$C$1:$C$22,0))","v":{"$error":"#N/A"}},null,null,null,null,null,null,null,null,{"$f":"VLOOKUP(Tabelle1[[#This Row],[Budgetlinie]],Ausfüllhilfe!$A$1:$D$23,4,0)","v":{"$error":"#N/A"}}]
[{"$f":"INDEX(Tabelle2[[#All],[Budgetlinie]],MATCH(Tabelle1[[#This Row],[Maßnahme]],Ausfüllhilfe!$C$1:$C$22,0))","v":{"$error":"#N/A"}},null,null,null,null,null,null,null,null,{"$f":"VLOOKUP(Tabelle1[[#This Row],[Budgetlinie]],Ausfüllhilfe!$A$1:$D$23,4,0)","v":{"$error":"#N/A"}}]
[{"$f":"INDEX(Tabelle2[[#All],[Budgetlinie]],MATCH(Tabelle1[[#This Row],[Maßnahme]],Ausfüllhilfe!$C$1:$C$22,0))","v":{"$error":"#N/A"}},null,null,null,null,null,null,null,null,{"$f":"VLOOKUP(Tabelle1[[#This Row],[Budgetlinie]],Ausfüllhilfe!$A$1:$D$23,4,0)","v":{"$error":"#N/A"}}]
[{"$f":"INDEX(Tabelle2[[#All],[Budgetlinie]],MATCH(Tabelle1[[#This Row],[Maßnahme]],Ausfüllhilfe!$C$1:$C$22,0))","v":{"$error":"#N/A"}},null,null,null,null,null,null,null,null,{"$f":"VLOOKUP(Tabelle1[[#This Row],[Budgetlinie]],Ausfüllhilfe!$A$1:$D$23,4,0)","v":{"$error":"#N/A"}}]
[{"$f":"INDEX(Tabelle2[[#All],[Budgetlinie]],MATCH(Tabelle1[[#This Row],[Maßnahme]],Ausfüllhilfe!$C$1:$C$22,0))","v":{"$error":"#N/A"}},null,null,null,null,null,null,null,null,{"$f":"VLOOKUP(Tabelle1[[#This Row],[Budgetlinie]],Ausfüllhilfe!$A$1:$D$23,4,0)","v":{"$error":"#N/A"}}]
[{"$f":"INDEX(Tabelle2[[#All],[Budgetlinie]],MATCH(Tabelle1[[#This Row],[Maßnahme]],Ausfüllhilfe!$C$1:$C$22,0))","v":{"$error":"#N/A"}},null,null,null,null,null,null,null,null,{"$f":"VLOOKUP(Tabelle1[[#This Row],[Budgetlinie]],Ausfüllhilfe!$A$1:$D$23,4,0)","v":{"$error":"#N/A"}}]
[{"$f":"INDEX(Tabelle2[[#All],[Budgetlinie]],MATCH(Tabelle1[[#This Row],[Maßnahme]],Ausfüllhilfe!$C$1:$C$22,0))","v":{"$error":"#N/A"}},null,null,null,null,null,null,null,null,{"$f":"VLOOKUP(Tabelle1[[#This Row],[Budgetlinie]],Ausfüllhilfe!$A$1:$D$23,4,0)","v":{"$error":"#N/A"}}]
[{"$f":"INDEX(Tabelle2[[#All],[Budgetlinie]],MATCH(Tabelle1[[#This Row],[Maßnahme]],Ausfüllhilfe!$C$1:$C$22,0))","v":{"$error":"#N/A"}},null,null,null,null,null,null,null,null,{"$f":"VLOOKUP(Tabelle1[[#This Row],[Budgetlinie]],Ausfüllhilfe!$A$1:$D$23,4,0)","v":{"$error":"#N/A"}}]
[{"$f":"INDEX(Tabelle2[[#All],[Budgetlinie]],MATCH(Tabelle1[[#This Row],[Maßnahme]],Ausfüllhilfe!$C$1:$C$22,0))","v":{"$error":"#N/A"}},null,null,null,null,null,null,null,null,{"$f":"VLOOKUP(Tabelle1[[#This Row],[Budgetlinie]],Ausfüllhilfe!$A$1:$D$23,4,0)","v":{"$error":"#N/A"}}]
[{"$f":"INDEX(Tabelle2[[#All],[Budgetlinie]],MATCH(Tabelle1[[#This Row],[Maßnahme]],Ausfüllhilfe!$C$1:$C$22,0))","v":{"$error":"#N/A"}},null,null,null,null,null,null,null,null,{"$f":"VLOOKUP(Tabelle1[[#This Row],[Budgetlinie]],Ausfüllhilfe!$A$1:$D$23,4,0)","v":{"$error":"#N/A"}}]
[{"$f":"INDEX(Tabelle2[[#All],[Budgetlinie]],MATCH(Tabelle1[[#This Row],[Maßnahme]],Ausfüllhilfe!$C$1:$C$22,0))","v":{"$error":"#N/A"}},null,null,null,null,null,null,null,null,{"$f":"VLOOKUP(Tabelle1[[#This Row],[Budgetlinie]],Ausfüllhilfe!$A$1:$D$23,4,0)","v":{"$error":"#N/A"}}]
[{"$f":"INDEX(Tabelle2[[#All],[Budgetlinie]],MATCH(Tabelle1[[#This Row],[Maßnahme]],Ausfüllhilfe!$C$1:$C$22,0))","v":{"$error":"#N/A"}},null,null,null,null,null,null,null,null,{"$f":"VLOOKUP(Tabelle1[[#This Row],[Budgetlinie]],Ausfüllhilfe!$A$1:$D$23,4,0)","v":{"$error":"#N/A"}}]
[{"$f":"INDEX(Tabelle2[[#All],[Budgetlinie]],MATCH(Tabelle1[[#This Row],[Maßnahme]],Ausfüllhilfe!$C$1:$C$22,0))","v":{"$error":"#N/A"}},null,null,null,null,null,null,null,null,{"$f":"VLOOKUP(Tabelle1[[#This Row],[Budgetlinie]],Ausfüllhilfe!$A$1:$D$23,4,0)","v":{"$error":"#N/A"}}]
[{"$f":"INDEX(Tabelle2[[#All],[Budgetlinie]],MATCH(Tabelle1[[#This Row],[Maßnahme]],Ausfüllhilfe!$C$1:$C$22,0))","v":{"$error":"#N/A"}},null,null,null,null,null,null,null,null,{"$f":"VLOOKUP(Tabelle1[[#This Row],[Budgetlinie]],Ausfüllhilfe!$A$1:$D$23,4,0)","v":{"$error":"#N/A"}}]
[{"$f":"INDEX(Tabelle2[[#All],[Budgetlinie]],MATCH(Tabelle1[[#This Row],[Maßnahme]],Ausfüllhilfe!$C$1:$C$22,0))","v":{"$error":"#N/A"}},null,null,null,null,null,null,null,null,{"$f":"VLOOKUP(Tabelle1[[#This Row],[Budgetlinie]],Ausfüllhilfe!$A$1:$D$23,4,0)","v":{"$error":"#N/A"}}]
[{"$f":"INDEX(Tabelle2[[#All],[Budgetlinie]],MATCH(Tabelle1[[#This Row],[Maßnahme]],Ausfüllhilfe!$C$1:$C$22,0))","v":{"$error":"#N/A"}},null,null,null,null,null,null,null,null,{"$f":"VLOOKUP(Tabelle1[[#This Row],[Budgetlinie]],Ausfüllhilfe!$A$1:$D$23,4,0)","v":{"$error":"#N/A"}}]
[{"$f":"INDEX(Tabelle2[[#All],[Budgetlinie]],MATCH(Tabelle1[[#This Row],[Maßnahme]],Ausfüllhilfe!$C$1:$C$22,0))","v":{"$error":"#N/A"}},null,null,null,null,null,null,null,null,{"$f":"VLOOKUP(Tabelle1[[#This Row],[Budgetlinie]],Ausfüllhilfe!$A$1:$D$23,4,0)","v":{"$error":"#N/A"}}]
[{"$f":"INDEX(Tabelle2[[#All],[Budgetlinie]],MATCH(Tabelle1[[#This Row],[Maßnahme]],Ausfüllhilfe!$C$1:$C$22,0))","v":{"$error":"#N/A"}},null,null,null,null,null,null,null,null,{"$f":"VLOOKUP(Tabelle1[[#This Row],[Budgetlinie]],Ausfüllhilfe!$A$1:$D$23,4,0)","v":{"$error":"#N/A"}}]
[{"$f":"INDEX(Tabelle2[[#All],[Budgetlinie]],MATCH(Tabelle1[[#This Row],[Maßnahme]],Ausfüllhilfe!$C$1:$C$22,0))","v":{"$error":"#N/A"}},null,null,null,null,null,null,null,null,{"$f":"VLOOKUP(Tabelle1[[#This Row],[Budgetlinie]],Ausfüllhilfe!$A$1:$D$23,4,0)","v":{"$error":"#N/A"}}]
[{"$f":"INDEX(Tabelle2[[#All],[Budgetlinie]],MATCH(Tabelle1[[#This Row],[Maßnahme]],Ausfüllhilfe!$C$1:$C$22,0))","v":{"$error":"#N/A"}},null,null,null,null,null,null,null,null,{"$f":"VLOOKUP(Tabelle1[[#This Row],[Budgetlinie]],Ausfüllhilfe!$A$1:$D$23,4,0)","v":{"$error":"#N/A"}}]
[{"$f":"INDEX(Tabelle2[[#All],[Budgetlinie]],MATCH(Tabelle1[[#This Row],[Maßnahme]],Ausfüllhilfe!$C$1:$C$22,0))","v":{"$error":"#N/A"}},null,null,null,null,null,null,null,null,{"$f":"VLOOKUP(Tabelle1[[#This Row],[Budgetlinie]],Ausfüllhilfe!$A$1:$D$23,4,0)","v":{"$error":"#N/A"}}]
[{"$f":"INDEX(Tabelle2[[#All],[Budgetlinie]],MATCH(Tabelle1[[#This Row],[Maßnahme]],Ausfüllhilfe!$C$1:$C$22,0))","v":{"$error":"#N/A"}},null,null,null,null,null,null,null,null,{"$f":"VLOOKUP(Tabelle1[[#This Row],[Budgetlinie]],Ausfüllhilfe!$A$1:$D$23,4,0)","v":{"$error":"#N/A"}}]
[{"$f":"INDEX(Tabelle2[[#All],[Budgetlinie]],MATCH(Tabelle1[[#This Row],[Maßnahme]],Ausfüllhilfe!$C$1:$C$22,0))","v":{"$error":"#N/A"}},null,null,null,null,null,null,null,null,{"$f":"VLOOKUP(Tabelle1[[#This Row],[Budgetlinie]],Ausfüllhilfe!$A$1:$D$23,4,0)","v":{"$error":"#N/A"}}]
[{"$f":"INDEX(Tabelle2[[#All],[Budgetlinie]],MATCH(Tabelle1[[#This Row],[Maßnahme]],Ausfüllhilfe!$C$1:$C$22,0))","v":{"$error":"#N/A"}},null,null,null,null,null,null,null,null,{"$f":"VLOOKUP(Tabelle1[[#This Row],[Budgetlinie]],Ausfüllhilfe!$A$1:$D$23,4,0)","v":{"$error":"#N/A"}}]
[{"$f":"INDEX(Tabelle2[[#All],[Budgetlinie]],MATCH(Tabelle1[[#This Row],[Maßnahme]],Ausfüllhilfe!$C$1:$C$22,0))","v":{"$error":"#N/A"}},null,null,null,null,null,null,null,null,{"$f":"VLOOKUP(Tabelle1[[#This Row],[Budgetlinie]],Ausfüllhilfe!$A$1:$D$23,4,0)","v":{"$error":"#N/A"}}]
[{"$f":"INDEX(Tabelle2[[#All],[Budgetlinie]],MATCH(Tabelle1[[#This Row],[Maßnahme]],Ausfüllhilfe!$C$1:$C$22,0))","v":{"$error":"#N/A"}},null,null,null,null,null,null,null,null,{"$f":"VLOOKUP(Tabelle1[[#This Row],[Budgetlinie]],Ausfüllhilfe!$A$1:$D$23,4,0)","v":{"$error":"#N/A"}}]
[{"$f":"INDEX(Tabelle2[[#All],[Budgetlinie]],MATCH(Tabelle1[[#This Row],[Maßnahme]],Ausfüllhilfe!$C$1:$C$22,0))","v":{"$error":"#N/A"}},null,null,null,null,null,null,null,null,{"$f":"VLOOKUP(Tabelle1[[#This Row],[Budgetlinie]],Ausfüllhilfe!$A$1:$D$23,4,0)","v":{"$error":"#N/A"}}]
[{"$f":"INDEX(Tabelle2[[#All],[Budgetlinie]],MATCH(Tabelle1[[#This Row],[Maßnahme]],Ausfüllhilfe!$C$1:$C$22,0))","v":{"$error":"#N/A"}},null,null,null,null,null,null,null,null,{"$f":"VLOOKUP(Tabelle1[[#This Row],[Budgetlinie]],Ausfüllhilfe!$A$1:$D$23,4,0)","v":{"$error":"#N/A"}}]
[{"$f":"INDEX(Tabelle2[[#All],[Budgetlinie]],MATCH(Tabelle1[[#This Row],[Maßnahme]],Ausfüllhilfe!$C$1:$C$22,0))","v":{"$error":"#N/A"}},null,null,null,null,null,null,null,null,{"$f":"VLOOKUP(Tabelle1[[#This Row],[Budgetlinie]],Ausfüllhilfe!$A$1:$D$23,4,0)","v":{"$error":"#N/A"}}]
[{"$f":"INDEX(Tabelle2[[#All],[Budgetlinie]],MATCH(Tabelle1[[#This Row],[Maßnahme]],Ausfüllhilfe!$C$1:$C$22,0))","v":{"$error":"#N/A"}},null,null,null,null,null,null,null,null,{"$f":"VLOOKUP(Tabelle1[[#This Row],[Budgetlinie]],Ausfüllhilfe!$A$1:$D$23,4,0)","v":{"$error":"#N/A"}}]
[{"$f":"INDEX(Tabelle2[[#All],[Budgetlinie]],MATCH(Tabelle1[[#This Row],[Maßnahme]],Ausfüllhilfe!$C$1:$C$22,0))","v":{"$error":"#N/A"}},null,null,null,null,null,null,null,null,{"$f":"VLOOKUP(Tabelle1[[#This Row],[Budgetlinie]],Ausfüllhilfe!$A$1:$D$23,4,0)","v":{"$error":"#N/A"}}]
[{"$f":"INDEX(Tabelle2[[#All],[Budgetlinie]],MATCH(Tabelle1[[#This Row],[Maßnahme]],Ausfüllhilfe!$C$1:$C$22,0))","v":{"$error":"#N/A"}},null,null,null,null,null,null,null,null,{"$f":"VLOOKUP(Tabelle1[[#This Row],[Budgetlinie]],Ausfüllhilfe!$A$1:$D$23,4,0)","v":{"$error":"#N/A"}}]
[{"$f":"INDEX(Tabelle2[[#All],[Budgetlinie]],MATCH(Tabelle1[[#This Row],[Maßnahme]],Ausfüllhilfe!$C$1:$C$22,0))","v":{"$error":"#N/A"}},null,null,null,null,null,null,null,null,{"$f":"VLOOKUP(Tabelle1[[#This Row],[Budgetlinie]],Ausfüllhilfe!$A$1:$D$23,4,0)","v":{"$error":"#N/A"}}]
[{"$f":"INDEX(Tabelle2[[#All],[Budgetlinie]],MATCH(Tabelle1[[#This Row],[Maßnahme]],Ausfüllhilfe!$C$1:$C$22,0))","v":{"$error":"#N/A"}},null,null,null,null,null,null,null,null,{"$f":"VLOOKUP(Tabelle1[[#This Row],[Budgetlinie]],Ausfüllhilfe!$A$1:$D$23,4,0)","v":{"$error":"#N/A"}}]
[{"$f":"INDEX(Tabelle2[[#All],[Budgetlinie]],MATCH(Tabelle1[[#This Row],[Maßnahme]],Ausfüllhilfe!$C$1:$C$22,0))","v":{"$error":"#N/A"}},null,null,null,null,null,null,null,null,{"$f":"VLOOKUP(Tabelle1[[#This Row],[Budgetlinie]],Ausfüllhilfe!$A$1:$D$23,4,0)","v":{"$error":"#N/A"}}]
[{"$f":"INDEX(Tabelle2[[#All],[Budgetlinie]],MATCH(Tabelle1[[#This Row],[Maßnahme]],Ausfüllhilfe!$C$1:$C$22,0))","v":{"$error":"#N/A"}},null,null,null,null,null,null,null,null,{"$f":"VLOOKUP(Tabelle1[[#This Row],[Budgetlinie]],Ausfüllhilfe!$A$1:$D$23,4,0)","v":{"$error":"#N/A"}}]
[{"$f":"INDEX(Tabelle2[[#All],[Budgetlinie]],MATCH(Tabelle1[[#This Row],[Maßnahme]],Ausfüllhilfe!$C$1:$C$22,0))","v":{"$error":"#N/A"}},null,null,null,null,null,null,null,null,{"$f":"VLOOKUP(Tabelle1[[#This Row],[Budgetlinie]],Ausfüllhilfe!$A$1:$D$23,4,0)","v":{"$error":"#N/A"}}]
[{"$f":"INDEX(Tabelle2[[#All],[Budgetlinie]],MATCH(Tabelle1[[#This Row],[Maßnahme]],Ausfüllhilfe!$C$1:$C$22,0))","v":{"$error":"#N/A"}},null,null,null,null,null,null,null,null,{"$f":"VLOOKUP(Tabelle1[[#This Row],[Budgetlinie]],Ausfüllhilfe!$A$1:$D$23,4,0)","v":{"$error":"#N/A"}}]
[{"$f":"INDEX(Tabelle2[[#All],[Budgetlinie]],MATCH(Tabelle1[[#This Row],[Maßnahme]],Ausfüllhilfe!$C$1:$C$22,0))","v":{"$error":"#N/A"}},null,null,null,null,null,null,null,null,{"$f":"VLOOKUP(Tabelle1[[#This Row],[Budgetlinie]],Ausfüllhilfe!$A$1:$D$23,4,0)","v":{"$error":"#N/A"}}]
[{"$f":"INDEX(Tabelle2[[#All],[Budgetlinie]],MATCH(Tabelle1[[#This Row],[Maßnahme]],Ausfüllhilfe!$C$1:$C$22,0))","v":{"$error":"#N/A"}},null,null,null,null,null,null,null,null,{"$f":"VLOOKUP(Tabelle1[[#This Row],[Budgetlinie]],Ausfüllhilfe!$A$1:$D$23,4,0)","v":{"$error":"#N/A"}}]
[{"$f":"INDEX(Tabelle2[[#All],[Budgetlinie]],MATCH(Tabelle1[[#This Row],[Maßnahme]],Ausfüllhilfe!$C$1:$C$22,0))","v":{"$error":"#N/A"}},null,null,null,null,null,null,null,null,{"$f":"VLOOKUP(Tabelle1[[#This Row],[Budgetlinie]],Ausfüllhilfe!$A$1:$D$23,4,0)","v":{"$error":"#N/A"}}]
[{"$f":"INDEX(Tabelle2[[#All],[Budgetlinie]],MATCH(Tabelle1[[#This Row],[Maßnahme]],Ausfüllhilfe!$C$1:$C$22,0))","v":{"$error":"#N/A"}},null,null,null,null,null,null,null,null,{"$f":"VLOOKUP(Tabelle1[[#This Row],[Budgetlinie]],Ausfüllhilfe!$A$1:$D$23,4,0)","v":{"$error":"#N/A"}}]
[{"$f":"INDEX(Tabelle2[[#All],[Budgetlinie]],MATCH(Tabelle1[[#This Row],[Maßnahme]],Ausfüllhilfe!$C$1:$C$22,0))","v":{"$error":"#N/A"}},null,null,null,null,null,null,null,null,{"$f":"VLOOKUP(Tabelle1[[#This Row],[Budgetlinie]],Ausfüllhilfe!$A$1:$D$23,4,0)","v":{"$error":"#N/A"}}]
[{"$f":"INDEX(Tabelle2[[#All],[Budgetlinie]],MATCH(Tabelle1[[#This Row],[Maßnahme]],Ausfüllhilfe!$C$1:$C$22,0))","v":{"$error":"#N/A"}},null,null,null,null,null,null,null,null,{"$f":"VLOOKUP(Tabelle1[[#This Row],[Budgetlinie]],Ausfüllhilfe!$A$1:$D$23,4,0)","v":{"$error":"#N/A"}}]
[{"$f":"INDEX(Tabelle2[[#All],[Budgetlinie]],MATCH(Tabelle1[[#This Row],[Maßnahme]],Ausfüllhilfe!$C$1:$C$22,0))","v":{"$error":"#N/A"}},null,null,null,null,null,null,null,null,{"$f":"VLOOKUP(Tabelle1[[#This Row],[Budgetlinie]],Ausfüllhilfe!$A$1:$D$23,4,0)","v":{"$error":"#N/A"}}]
[{"$f":"INDEX(Tabelle2[[#All],[Budgetlinie]],MATCH(Tabelle1[[#This Row],[Maßnahme]],Ausfüllhilfe!$C$1:$C$22,0))","v":{"$error":"#N/A"}},null,null,null,null,null,null,null,null,{"$f":"VLOOKUP(Tabelle1[[#This Row],[Budgetlinie]],Ausfüllhilfe!$A$1:$D$23,4,0)","v":{"$error":"#N/A"}}]
[{"$f":"INDEX(Tabelle2[[#All],[Budgetlinie]],MATCH(Tabelle1[[#This Row],[Maßnahme]],Ausfüllhilfe!$C$1:$C$22,0))","v":{"$error":"#N/A"}},null,null,null,null,null,null,null,null,{"$f":"VLOOKUP(Tabelle1[[#This Row],[Budgetlinie]],Ausfüllhilfe!$A$1:$D$23,4,0)","v":{"$error":"#N/A"}}]
[{"$f":"INDEX(Tabelle2[[#All],[Budgetlinie]],MATCH(Tabelle1[[#This Row],[Maßnahme]],Ausfüllhilfe!$C$1:$C$22,0))","v":{"$error":"#N/A"}},null,null,null,null,null,null,null,null,{"$f":"VLOOKUP(Tabelle1[[#This Row],[Budgetlinie]],Ausfüllhilfe!$A$1:$D$23,4,0)","v":{"$error":"#N/A"}}]
[{"$f":"INDEX(Tabelle2[[#All],[Budgetlinie]],MATCH(Tabelle1[[#This Row],[Maßnahme]],Ausfüllhilfe!$C$1:$C$22,0))","v":{"$error":"#N/A"}},null,null,null,null,null,null,null,null,{"$f":"VLOOKUP(Tabelle1[[#This Row],[Budgetlinie]],Ausfüllhilfe!$A$1:$D$23,4,0)","v":{"$error":"#N/A"}}]
[{"$f":"INDEX(Tabelle2[[#All],[Budgetlinie]],MATCH(Tabelle1[[#This Row],[Maßnahme]],Ausfüllhilfe!$C$1:$C$22,0))","v":{"$error":"#N/A"}},null,null,null,null,null,null,null,null,{"$f":"VLOOKUP(Tabelle1[[#This Row],[Budgetlinie]],Ausfüllhilfe!$A$1:$D$23,4,0)","v":{"$error":"#N/A"}}]
[{"$f":"INDEX(Tabelle2[[#All],[Budgetlinie]],MATCH(Tabelle1[[#This Row],[Maßnahme]],Ausfüllhilfe!$C$1:$C$22,0))","v":{"$error":"#N/A"}},null,null,null,null,null,null,null,null,{"$f":"VLOOKUP(Tabelle1[[#This Row],[Budgetlinie]],Ausfüllhilfe!$A$1:$D$23,4,0)","v":{"$error":"#N/A"}}]
[{"$f":"INDEX(Tabelle2[[#All],[Budgetlinie]],MATCH(Tabelle1[[#This Row],[Maßnahme]],Ausfüllhilfe!$C$1:$C$22,0))","v":{"$error":"#N/A"}},null,null,null,null,null,null,null,null,{"$f":"VLOOKUP(Tabelle1[[#This Row],[Budgetlinie]],Ausfüllhilfe!$A$1:$D$23,4,0)","v":{"$error":"#N/A"}}]
[{"$f":"INDEX(Tabelle2[[#All],[Budgetlinie]],MATCH(Tabelle1[[#This Row],[Maßnahme]],Ausfüllhilfe!$C$1:$C$22,0))","v":{"$error":"#N/A"}},null,null,null,null,null,null,null,null,{"$f":"VLOOKUP(Tabelle1[[#This Row],[Budgetlinie]],Ausfüllhilfe!$A$1:$D$23,4,0)","v":{"$error":"#N/A"}}]
[{"$f":"INDEX(Tabelle2[[#All],[Budgetlinie]],MATCH(Tabelle1[[#This Row],[Maßnahme]],Ausfüllhilfe!$C$1:$C$22,0))","v":{"$error":"#N/A"}},null,null,null,null,null,null,null,null,{"$f":"VLOOKUP(Tabelle1[[#This Row],[Budgetlinie]],Ausfüllhilfe!$A$1:$D$23,4,0)","v":{"$error":"#N/A"}}]
[{"$f":"INDEX(Tabelle2[[#All],[Budgetlinie]],MATCH(Tabelle1[[#This Row],[Maßnahme]],Ausfüllhilfe!$C$1:$C$22,0))","v":{"$error":"#N/A"}},null,null,null,null,null,null,null,null,{"$f":"VLOOKUP(Tabelle1[[#This Row],[Budgetlinie]],Ausfüllhilfe!$A$1:$D$23,4,0)","v":{"$error":"#N/A"}}]
[{"$f":"INDEX(Tabelle2[[#All],[Budgetlinie]],MATCH(Tabelle1[[#This Row],[Maßnahme]],Ausfüllhilfe!$C$1:$C$22,0))","v":{"$error":"#N/A"}},null,null,null,null,null,null,null,null,{"$f":"VLOOKUP(Tabelle1[[#This Row],[Budgetlinie]],Ausfüllhilfe!$A$1:$D$23,4,0)","v":{"$error":"#N/A"}}]
[{"$f":"INDEX(Tabelle2[[#All],[Budgetlinie]],MATCH(Tabelle1[[#This Row],[Maßnahme]],Ausfüllhilfe!$C$1:$C$22,0))","v":{"$error":"#N/A"}},null,null,null,null,null,null,null,null,{"$f":"VLOOKUP(Tabelle1[[#This Row],[Budgetlinie]],Ausfüllhilfe!$A$1:$D$23,4,0)","v":{"$error":"#N/A"}}]
[{"$f":"INDEX(Tabelle2[[#All],[Budgetlinie]],MATCH(Tabelle1[[#This Row],[Maßnahme]],Ausfüllhilfe!$C$1:$C$22,0))","v":{"$error":"#N/A"}},null,null,null,null,null,null,null,null,{"$f":"VLOOKUP(Tabelle1[[#This Row],[Budgetlinie]],Ausfüllhilfe!$A$1:$D$23,4,0)","v":{"$error":"#N/A"}}]
[{"$f":"INDEX(Tabelle2[[#All],[Budgetlinie]],MATCH(Tabelle1[[#This Row],[Maßnahme]],Ausfüllhilfe!$C$1:$C$22,0))","v":{"$error":"#N/A"}},null,null,null,null,null,null,null,null,{"$f":"VLOOKUP(Tabelle1[[#This Row],[Budgetlinie]],Ausfüllhilfe!$A$1:$D$23,4,0)","v":{"$error":"#N/A"}}]
[{"$f":"INDEX(Tabelle2[[#All],[Budgetlinie]],MATCH(Tabelle1[[#This Row],[Maßnahme]],Ausfüllhilfe!$C$1:$C$22,0))","v":{"$error":"#N/A"}},null,null,null,null,null,null,null,null,{"$f":"VLOOKUP(Tabelle1[[#This Row],[Budgetlinie]],Ausfüllhilfe!$A$1:$D$23,4,0)","v":{"$error":"#N/A"}}]
[{"$f":"INDEX(Tabelle2[[#All],[Budgetlinie]],MATCH(Tabelle1[[#This Row],[Maßnahme]],Ausfüllhilfe!$C$1:$C$22,0))","v":{"$error":"#N/A"}},null,null,null,null,null,null,null,null,{"$f":"VLOOKUP(Tabelle1[[#This Row],[Budgetlinie]],Ausfüllhilfe!$A$1:$D$23,4,0)","v":{"$error":"#N/A"}}]
[{"$f":"INDEX(Tabelle2[[#All],[Budgetlinie]],MATCH(Tabelle1[[#This Row],[Maßnahme]],Ausfüllhilfe!$C$1:$C$22,0))","v":{"$error":"#N/A"}},null,null,null,null,null,null,null,null,{"$f":"VLOOKUP(Tabelle1[[#This Row],[Budgetlinie]],Ausfüllhilfe!$A$1:$D$23,4,0)","v":{"$error":"#N/A"}}]
[{"$f":"INDEX(Tabelle2[[#All],[Budgetlinie]],MATCH(Tabelle1[[#This Row],[Maßnahme]],Ausfüllhilfe!$C$1:$C$22,0))","v":{"$error":"#N/A"}},null,null,null,null,null,null,null,null,{"$f":"VLOOKUP(Tabelle1[[#This Row],[Budgetlinie]],Ausfüllhilfe!$A$1:$D$23,4,0)","v":{"$error":"#N/A"}}]
[{"$f":"INDEX(Tabelle2[[#All],[Budgetlinie]],MATCH(Tabelle1[[#This Row],[Maßnahme]],Ausfüllhilfe!$C$1:$C$22,0))","v":{"$error":"#N/A"}},null,null,null,null,null,null,null,null,{"$f":"VLOOKUP(Tabelle1[[#This Row],[Budgetlinie]],Ausfüllhilfe!$A$1:$D$23,4,0)","v":{"$error":"#N/A"}}]
[{"$f":"INDEX(Tabelle2[[#All],[Budgetlinie]],MATCH(Tabelle1[[#This Row],[Maßnahme]],Ausfüllhilfe!$C$1:$C$22,0))","v":{"$error":"#N/A"}},null,null,null,null,null,null,null,null,{"$f":"VLOOKUP(Tabelle1[[#This Row],[Budgetlinie]],Ausfüllhilfe!$A$1:$D$23,4,0)","v":{"$error":"#N/A"}}]
[{"$f":"INDEX(Tabelle2[[#All],[Budgetlinie]],MATCH(Tabelle1[[#This Row],[Maßnahme]],Ausfüllhilfe!$C$1:$C$22,0))","v":{"$error":"#N/A"}},null,null,null,null,null,null,null,null,{"$f":"VLOOKUP(Tabelle1[[#This Row],[Budgetlinie]],Ausfüllhilfe!$A$1:$D$23,4,0)","v":{"$error":"#N/A"}}]
[{"$f":"INDEX(Tabelle2[[#All],[Budgetlinie]],MATCH(Tabelle1[[#This Row],[Maßnahme]],Ausfüllhilfe!$C$1:$C$22,0))","v":{"$error":"#N/A"}},null,null,null,null,null,null,null,null,{"$f":"VLOOKUP(Tabelle1[[#This Row],[Budgetlinie]],Ausfüllhilfe!$A$1:$D$23,4,0)","v":{"$error":"#N/A"}}]
[{"$f":"INDEX(Tabelle2[[#All],[Budgetlinie]],MATCH(Tabelle1[[#This Row],[Maßnahme]],Ausfüllhilfe!$C$1:$C$22,0))","v":{"$error":"#N/A"}},null,null,null,null,null,null,null,null,{"$f":"VLOOKUP(Tabelle1[[#This Row],[Budgetlinie]],Ausfüllhilfe!$A$1:$D$23,4,0)","v":{"$error":"#N/A"}}]
[{"$f":"INDEX(Tabelle2[[#All],[Budgetlinie]],MATCH(Tabelle1[[#This Row],[Maßnahme]],Ausfüllhilfe!$C$1:$C$22,0))","v":{"$error":"#N/A"}},null,null,null,null,null,null,null,null,{"$f":"VLOOKUP(Tabelle1[[#This Row],[Budgetlinie]],Ausfüllhilfe!$A$1:$D$23,4,0)","v":{"$error":"#N/A"}}]
[{"$f":"INDEX(Tabelle2[[#All],[Budgetlinie]],MATCH(Tabelle1[[#This Row],[Maßnahme]],Ausfüllhilfe!$C$1:$C$22,0))","v":{"$error":"#N/A"}},null,null,null,null,null,null,null,null,{"$f":"VLOOKUP(Tabelle1[[#This Row],[Budgetlinie]],Ausfüllhilfe!$A$1:$D$23,4,0)","v":{"$error":"#N/A"}}]
[{"$f":"INDEX(Tabelle2[[#All],[Budgetlinie]],MATCH(Tabelle1[[#This Row],[Maßnahme]],Ausfüllhilfe!$C$1:$C$22,0))","v":{"$error":"#N/A"}},null,null,null,null,null,null,null,null,{"$f":"VLOOKUP(Tabelle1[[#This Row],[Budgetlinie]],Ausfüllhilfe!$A$1:$D$23,4,0)","v":{"$error":"#N/A"}}]
[{"$f":"INDEX(Tabelle2[[#All],[Budgetlinie]],MATCH(Tabelle1[[#This Row],[Maßnahme]],Ausfüllhilfe!$C$1:$C$22,0))","v":{"$error":"#N/A"}},null,null,null,null,null,null,null,null,{"$f":"VLOOKUP(Tabelle1[[#This Row],[Budgetlinie]],Ausfüllhilfe!$A$1:$D$23,4,0)","v":{"$error":"#N/A"}}]
[{"$f":"INDEX(Tabelle2[[#All],[Budgetlinie]],MATCH(Tabelle1[[#This Row],[Maßnahme]],Ausfüllhilfe!$C$1:$C$22,0))","v":{"$error":"#N/A"}},null,null,null,null,null,null,null,null,{"$f":"VLOOKUP(Tabelle1[[#This Row],[Budgetlinie]],Ausfüllhilfe!$A$1:$D$23,4,0)","v":{"$error":"#N/A"}}]
[{"$f":"INDEX(Tabelle2[[#All],[Budgetlinie]],MATCH(Tabelle1[[#This Row],[Maßnahme]],Ausfüllhilfe!$C$1:$C$22,0))","v":{"$error":"#N/A"}},null,null,null,null,null,null,null,null,{"$f":"VLOOKUP(Tabelle1[[#This Row],[Budgetlinie]],Ausfüllhilfe!$A$1:$D$23,4,0)","v":{"$error":"#N/A"}}]
[{"$f":"INDEX(Tabelle2[[#All],[Budgetlinie]],MATCH(Tabelle1[[#This Row],[Maßnahme]],Ausfüllhilfe!$C$1:$C$22,0))","v":{"$error":"#N/A"}},null,null,null,null,null,null,null,null,{"$f":"VLOOKUP(Tabelle1[[#This Row],[Budgetlinie]],Ausfüllhilfe!$A$1:$D$23,4,0)","v":{"$error":"#N/A"}}]
[{"$f":"INDEX(Tabelle2[[#All],[Budgetlinie]],MATCH(Tabelle1[[#This Row],[Maßnahme]],Ausfüllhilfe!$C$1:$C$22,0))","v":{"$error":"#N/A"}},null,null,null,null,null,null,null,null,{"$f":"VLOOKUP(Tabelle1[[#This Row],[Budgetlinie]],Ausfüllhilfe!$A$1:$D$23,4,0)","v":{"$error":"#N/A"}}]
[{"$f":"INDEX(Tabelle2[[#All],[Budgetlinie]],MATCH(Tabelle1[[#This Row],[Maßnahme]],Ausfüllhilfe!$C$1:$C$22,0))","v":{"$error":"#N/A"}},null,null,null,null,null,null,null,null,{"$f":"VLOOKUP(Tabelle1[[#This Row],[Budgetlinie]],Ausfüllhilfe!$A$1:$D$23,4,0)","v":{"$error":"#N/A"}}]
[{"$f":"INDEX(Tabelle2[[#All],[Budgetlinie]],MATCH(Tabelle1[[#This Row],[Maßnahme]],Ausfüllhilfe!$C$1:$C$22,0))","v":{"$error":"#N/A"}},null,null,null,null,null,null,null,null,{"$f":"VLOOKUP(Tabelle1[[#This Row],[Budgetlinie]],Ausfüllhilfe!$A$1:$D$23,4,0)","v":{"$error":"#N/A"}}]
[{"$f":"INDEX(Tabelle2[[#All],[Budgetlinie]],MATCH(Tabelle1[[#This Row],[Maßnahme]],Ausfüllhilfe!$C$1:$C$22,0))","v":{"$error":"#N/A"}},null,null,null,null,null,null,null,null,{"$f":"VLOOKUP(Tabelle1[[#This Row],[Budgetlinie]],Ausfüllhilfe!$A$1:$D$23,4,0)","v":{"$error":"#N/A"}}]
[{"$f":"INDEX(Tabelle2[[#All],[Budgetlinie]],MATCH(Tabelle1[[#This Row],[Maßnahme]],Ausfüllhilfe!$C$1:$C$22,0))","v":{"$error":"#N/A"}},null,null,null,null,null,null,null,null,{"$f":"VLOOKUP(Tabelle1[[#This Row],[Budgetlinie]],Ausfüllhilfe!$A$1:$D$23,4,0)","v":{"$error":"#N/A"}}]
[{"$f":"INDEX(Tabelle2[[#All],[Budgetlinie]],MATCH(Tabelle1[[#This Row],[Maßnahme]],Ausfüllhilfe!$C$1:$C$22,0))","v":{"$error":"#N/A"}},null,null,null,null,null,null,null,null,{"$f":"VLOOKUP(Tabelle1[[#This Row],[Budgetlinie]],Ausfüllhilfe!$A$1:$D$23,4,0)","v":{"$error":"#N/A"}}]
[{"$f":"INDEX(Tabelle2[[#All],[Budgetlinie]],MATCH(Tabelle1[[#This Row],[Maßnahme]],Ausfüllhilfe!$C$1:$C$22,0))","v":{"$error":"#N/A"}},null,null,null,null,null,null,null,null,{"$f":"VLOOKUP(Tabelle1[[#This Row],[Budgetlinie]],Ausfüllhilfe!$A$1:$D$23,4,0)","v":{"$error":"#N/A"}}]
[{"$f":"INDEX(Tabelle2[[#All],[Budgetlinie]],MATCH(Tabelle1[[#This Row],[Maßnahme]],Ausfüllhilfe!$C$1:$C$22,0))","v":{"$error":"#N/A"}},null,null,null,null,null,null,null,null,{"$f":"VLOOKUP(Tabelle1[[#This Row],[Budgetlinie]],Ausfüllhilfe!$A$1:$D$23,4,0)","v":{"$error":"#N/A"}}]
[{"$f":"INDEX(Tabelle2[[#All],[Budgetlinie]],MATCH(Tabelle1[[#This Row],[Maßnahme]],Ausfüllhilfe!$C$1:$C$22,0))","v":{"$error":"#N/A"}},null,null,null,null,null,null,null,null,{"$f":"VLOOKUP(Tabelle1[[#This Row],[Budgetlinie]],Ausfüllhilfe!$A$1:$D$23,4,0)","v":{"$error":"#N/A"}}]
[{"$f":"INDEX(Tabelle2[[#All],[Budgetlinie]],MATCH(Tabelle1[[#This Row],[Maßnahme]],Ausfüllhilfe!$C$1:$C$22,0))","v":{"$error":"#N/A"}},null,null,null,null,null,null,null,null,{"$f":"VLOOKUP(Tabelle1[[#This Row],[Budgetlinie]],Ausfüllhilfe!$A$1:$D$23,4,0)","v":{"$error":"#N/A"}}]
[{"$f":"INDEX(Tabelle2[[#All],[Budgetlinie]],MATCH(Tabelle1[[#This Row],[Maßnahme]],Ausfüllhilfe!$C$1:$C$22,0))","v":{"$error":"#N/A"}},null,null,null,null,null,null,null,null,{"$f":"VLOOKUP(Tabelle1[[#This Row],[Budgetlinie]],Ausfüllhilfe!$A$1:$D$23,4,0)","v":{"$error":"#N/A"}}]
[{"$f":"INDEX(Tabelle2[[#All],[Budgetlinie]],MATCH(Tabelle1[[#This Row],[Maßnahme]],Ausfüllhilfe!$C$1:$C$22,0))","v":{"$error":"#N/A"}},null,null,null,null,null,null,null,null,{"$f":"VLOOKUP(Tabelle1[[#This Row],[Budgetlinie]],Ausfüllhilfe!$A$1:$D$23,4,0)","v":{"$error":"#N/A"}}]
[{"$f":"INDEX(Tabelle2[[#All],[Budgetlinie]],MATCH(Tabelle1[[#This Row],[Maßnahme]],Ausfüllhilfe!$C$1:$C$22,0))","v":{"$error":"#N/A"}},null,null,null,null,null,null,null,null,{"$f":"VLOOKUP(Tabelle1[[#This Row],[Budgetlinie]],Ausfüllhilfe!$A$1:$D$23,4,0)","v":{"$error":"#N/A"}}]
[{"$f":"INDEX(Tabelle2[[#All],[Budgetlinie]],MATCH(Tabelle1[[#This Row],[Maßnahme]],Ausfüllhilfe!$C$1:$C$22,0))","v":{"$error":"#N/A"}},null,null,null,null,null,null,null,null,{"$f":"VLOOKUP(Tabelle1[[#This Row],[Budgetlinie]],Ausfüllhilfe!$A$1:$D$23,4,0)","v":{"$error":"#N/A"}}]
[{"$f":"INDEX(Tabelle2[[#All],[Budgetlinie]],MATCH(Tabelle1[[#This Row],[Maßnahme]],Ausfüllhilfe!$C$1:$C$22,0))","v":{"$error":"#N/A"}},null,null,null,null,null,null,null,null,{"$f":"VLOOKUP(Tabelle1[[#This Row],[Budgetlinie]],Ausfüllhilfe!$A$1:$D$23,4,0)","v":{"$error":"#N/A"}}]
[{"$f":"INDEX(Tabelle2[[#All],[Budgetlinie]],MATCH(Tabelle1[[#This Row],[Maßnahme]],Ausfüllhilfe!$C$1:$C$22,0))","v":{"$error":"#N/A"}},null,null,null,null,null,null,null,null,{"$f":"VLOOKUP(Tabelle1[[#This Row],[Budgetlinie]],Ausfüllhilfe!$A$1:$D$23,4,0)","v":{"$error":"#N/A"}}]
[{"$f":"INDEX(Tabelle2[[#All],[Budgetlinie]],MATCH(Tabelle1[[#This Row],[Maßnahme]],Ausfüllhilfe!$C$1:$C$22,0))","v":{"$error":"#N/A"}},null,null,null,null,null,null,null,null,{"$f":"VLOOKUP(Tabelle1[[#This Row],[Budgetlinie]],Ausfüllhilfe!$A$1:$D$23,4,0)","v":{"$error":"#N/A"}}]
[{"$f":"INDEX(Tabelle2[[#All],[Budgetlinie]],MATCH(Tabelle1[[#This Row],[Maßnahme]],Ausfüllhilfe!$C$1:$C$22,0))","v":{"$error":"#N/A"}},null,null,null,null,null,null,null,null,{"$f":"VLOOKUP(Tabelle1[[#This Row],[Budgetlinie]],Ausfüllhilfe!$A$1:$D$23,4,0)","v":{"$error":"#N/A"}}]
[{"$f":"INDEX(Tabelle2[[#All],[Budgetlinie]],MATCH(Tabelle1[[#This Row],[Maßnahme]],Ausfüllhilfe!$C$1:$C$22,0))","v":{"$error":"#N/A"}},null,null,null,null,null,null,null,null,{"$f":"VLOOKUP(Tabelle1[[#This Row],[Budgetlinie]],Ausfüllhilfe!$A$1:$D$23,4,0)","v":{"$error":"#N/A"}}]
[{"$f":"INDEX(Tabelle2[[#All],[Budgetlinie]],MATCH(Tabelle1[[#This Row],[Maßnahme]],Ausfüllhilfe!$C$1:$C$22,0))","v":{"$error":"#N/A"}},null,null,null,null,null,null,null,null,{"$f":"VLOOKUP(Tabelle1[[#This Row],[Budgetlinie]],Ausfüllhilfe!$A$1:$D$23,4,0)","v":{"$error":"#N/A"}}]
[{"$f":"INDEX(Tabelle2[[#All],[Budgetlinie]],MATCH(Tabelle1[[#This Row],[Maßnahme]],Ausfüllhilfe!$C$1:$C$22,0))","v":{"$error":"#N/A"}},null,null,null,null,null,null,null,null,{"$f":"VLOOKUP(Tabelle1[[#This Row],[Budgetlinie]],Ausfüllhilfe!$A$1:$D$23,4,0)","v":{"$error":"#N/A"}}]
[{"$f":"INDEX(Tabelle2[[#All],[Budgetlinie]],MATCH(Tabelle1[[#This Row],[Maßnahme]],Ausfüllhilfe!$C$1:$C$22,0))","v":{"$error":"#N/A"}},null,null,null,null,null,null,null,null,{"$f":"VLOOKUP(Tabelle1[[#This Row],[Budgetlinie]],Ausfüllhilfe!$A$1:$D$23,4,0)","v":{"$error":"#N/A"}}]
[{"$f":"INDEX(Tabelle2[[#All],[Budgetlinie]],MATCH(Tabelle1[[#This Row],[Maßnahme]],Ausfüllhilfe!$C$1:$C$22,0))","v":{"$error":"#N/A"}},null,null,null,null,null,null,null,null,{"$f":"VLOOKUP(Tabelle1[[#This Row],[Budgetlinie]],Ausfüllhilfe!$A$1:$D$23,4,0)","v":{"$error":"#N/A"}}]
[{"$f":"INDEX(Tabelle2[[#All],[Budgetlinie]],MATCH(Tabelle1[[#This Row],[Maßnahme]],Ausfüllhilfe!$C$1:$C$22,0))","v":{"$error":"#N/A"}},null,null,null,null,null,null,null,null,{"$f":"VLOOKUP(Tabelle1[[#This Row],[Budgetlinie]],Ausfüllhilfe!$A$1:$D$23,4,0)","v":{"$error":"#N/A"}}]
[{"$f":"INDEX(Tabelle2[[#All],[Budgetlinie]],MATCH(Tabelle1[[#This Row],[Maßnahme]],Ausfüllhilfe!$C$1:$C$22,0))","v":{"$error":"#N/A"}},null,null,null,null,null,null,null,null,{"$f":"VLOOKUP(Tabelle1[[#This Row],[Budgetlinie]],Ausfüllhilfe!$A$1:$D$23,4,0)","v":{"$error":"#N/A"}}]
[{"$f":"INDEX(Tabelle2[[#All],[Budgetlinie]],MATCH(Tabelle1[[#This Row],[Maßnahme]],Ausfüllhilfe!$C$1:$C$22,0))","v":{"$error":"#N/A"}},null,null,null,null,null,null,null,null,{"$f":"VLOOKUP(Tabelle1[[#This Row],[Budgetlinie]],Ausfüllhilfe!$A$1:$D$23,4,0)","v":{"$error":"#N/A"}}]
[{"$f":"INDEX(Tabelle2[[#All],[Budgetlinie]],MATCH(Tabelle1[[#This Row],[Maßnahme]],Ausfüllhilfe!$C$1:$C$22,0))","v":{"$error":"#N/A"}},null,null,null,null,null,null,null,null,{"$f":"VLOOKUP(Tabelle1[[#This Row],[Budgetlinie]],Ausfüllhilfe!$A$1:$D$23,4,0)","v":{"$error":"#N/A"}}]
[{"$f":"INDEX(Tabelle2[[#All],[Budgetlinie]],MATCH(Tabelle1[[#This Row],[Maßnahme]],Ausfüllhilfe!$C$1:$C$22,0))","v":{"$error":"#N/A"}},null,null,null,null,null,null,null,null,{"$f":"VLOOKUP(Tabelle1[[#This Row],[Budgetlinie]],Ausfüllhilfe!$A$1:$D$23,4,0)","v":{"$error":"#N/A"}}]
[{"$f":"INDEX(Tabelle2[[#All],[Budgetlinie]],MATCH(Tabelle1[[#This Row],[Maßnahme]],Ausfüllhilfe!$C$1:$C$22,0))","v":{"$error":"#N/A"}},null,null,null,null,null,null,null,null,{"$f":"VLOOKUP(Tabelle1[[#This Row],[Budgetlinie]],Ausfüllhilfe!$A$1:$D$23,4,0)","v":{"$error":"#N/A"}}]
[{"$f":"INDEX(Tabelle2[[#All],[Budgetlinie]],MATCH(Tabelle1[[#This Row],[Maßnahme]],Ausfüllhilfe!$C$1:$C$22,0))","v":{"$error":"#N/A"}},null,null,null,null,null,null,null,null,{"$f":"VLOOKUP(Tabelle1[[#This Row],[Budgetlinie]],Ausfüllhilfe!$A$1:$D$23,4,0)","v":{"$error":"#N/A"}}]
[{"$f":"INDEX(Tabelle2[[#All],[Budgetlinie]],MATCH(Tabelle1[[#This Row],[Maßnahme]],Ausfüllhilfe!$C$1:$C$22,0))","v":{"$error":"#N/A"}},null,null,null,null,null,null,null,null,{"$f":"VLOOKUP(Tabelle1[[#This Row],[Budgetlinie]],Ausfüllhilfe!$A$1:$D$23,4,0)","v":{"$error":"#N/A"}}]
[{"$f":"INDEX(Tabelle2[[#All],[Budgetlinie]],MATCH(Tabelle1[[#This Row],[Maßnahme]],Ausfüllhilfe!$C$1:$C$22,0))","v":{"$error":"#N/A"}},null,null,null,null,null,null,null,null,{"$f":"VLOOKUP(Tabelle1[[#This Row],[Budgetlinie]],Ausfüllhilfe!$A$1:$D$23,4,0)","v":{"$error":"#N/A"}}]
[{"$f":"INDEX(Tabelle2[[#All],[Budgetlinie]],MATCH(Tabelle1[[#This Row],[Maßnahme]],Ausfüllhilfe!$C$1:$C$22,0))","v":{"$error":"#N/A"}},null,null,null,null,null,null,null,null,{"$f":"VLOOKUP(Tabelle1[[#This Row],[Budgetlinie]],Ausfüllhilfe!$A$1:$D$23,4,0)","v":{"$error":"#N/A"}}]
[{"$f":"INDEX(Tabelle2[[#All],[Budgetlinie]],MATCH(Tabelle1[[#This Row],[Maßnahme]],Ausfüllhilfe!$C$1:$C$22,0))","v":{"$error":"#N/A"}},null,null,null,null,null,null,null,null,{"$f":"VLOOKUP(Tabelle1[[#This Row],[Budgetlinie]],Ausfüllhilfe!$A$1:$D$23,4,0)","v":{"$error":"#N/A"}}]
[{"$f":"INDEX(Tabelle2[[#All],[Budgetlinie]],MATCH(Tabelle1[[#This Row],[Maßnahme]],Ausfüllhilfe!$C$1:$C$22,0))","v":{"$error":"#N/A"}},null,null,null,null,null,null,null,null,{"$f":"VLOOKUP(Tabelle1[[#This Row],[Budgetlinie]],Ausfüllhilfe!$A$1:$D$23,4,0)","v":{"$error":"#N/A"}}]
[{"$f":"INDEX(Tabelle2[[#All],[Budgetlinie]],MATCH(Tabelle1[[#This Row],[Maßnahme]],Ausfüllhilfe!$C$1:$C$22,0))","v":{"$error":"#N/A"}},null,null,null,null,null,null,null,null,{"$f":"VLOOKUP(Tabelle1[[#This Row],[Budgetlinie]],Ausfüllhilfe!$A$1:$D$23,4,0)","v":{"$error":"#N/A"}}]
[{"$f":"INDEX(Tabelle2[[#All],[Budgetlinie]],MATCH(Tabelle1[[#This Row],[Maßnahme]],Ausfüllhilfe!$C$1:$C$22,0))","v":{"$error":"#N/A"}},null,null,null,null,null,null,null,null,{"$f":"VLOOKUP(Tabelle1[[#This Row],[Budgetlinie]],Ausfüllhilfe!$A$1:$D$23,4,0)","v":{"$error":"#N/A"}}]
[{"$f":"INDEX(Tabelle2[[#All],[Budgetlinie]],MATCH(Tabelle1[[#This Row],[Maßnahme]],Ausfüllhilfe!$C$1:$C$22,0))","v":{"$error":"#N/A"}},null,null,null,null,null,null,null,null,{"$f":"VLOOKUP(Tabelle1[[#This Row],[Budgetlinie]],Ausfüllhilfe!$A$1:$D$23,4,0)","v":{"$error":"#N/A"}}]
[{"$f":"INDEX(Tabelle2[[#All],[Budgetlinie]],MATCH(Tabelle1[[#This Row],[Maßnahme]],Ausfüllhilfe!$C$1:$C$22,0))","v":{"$error":"#N/A"}},null,null,null,null,null,null,null,null,{"$f":"VLOOKUP(Tabelle1[[#This Row],[Budgetlinie]],Ausfüllhilfe!$A$1:$D$23,4,0)","v":{"$error":"#N/A"}}]
[{"$f":"INDEX(Tabelle2[[#All],[Budgetlinie]],MATCH(Tabelle1[[#This Row],[Maßnahme]],Ausfüllhilfe!$C$1:$C$22,0))","v":{"$error":"#N/A"}},null,null,null,null,null,null,null,null,{"$f":"VLOOKUP(Tabelle1[[#This Row],[Budgetlinie]],Ausfüllhilfe!$A$1:$D$23,4,0)","v":{"$error":"#N/A"}}]
[{"$f":"INDEX(Tabelle2[[#All],[Budgetlinie]],MATCH(Tabelle1[[#This Row],[Maßnahme]],Ausfüllhilfe!$C$1:$C$22,0))","v":{"$error":"#N/A"}},null,null,null,null,null,null,null,null,{"$f":"VLOOKUP(Tabelle1[[#This Row],[Budgetlinie]],Ausfüllhilfe!$A$1:$D$23,4,0)","v":{"$error":"#N/A"}}]
[{"$f":"INDEX(Tabelle2[[#All],[Budgetlinie]],MATCH(Tabelle1[[#This Row],[Maßnahme]],Ausfüllhilfe!$C$1:$C$22,0))","v":{"$error":"#N/A"}},null,null,null,null,null,null,null,null,{"$f":"VLOOKUP(Tabelle1[[#This Row],[Budgetlinie]],Ausfüllhilfe!$A$1:$D$23,4,0)","v":{"$error":"#N/A"}}]
[{"$f":"INDEX(Tabelle2[[#All],[Budgetlinie]],MATCH(Tabelle1[[#This Row],[Maßnahme]],Ausfüllhilfe!$C$1:$C$22,0))","v":{"$error":"#N/A"}},null,null,null,null,null,null,null,null,{"$f":"VLOOKUP(Tabelle1[[#This Row],[Budgetlinie]],Ausfüllhilfe!$A$1:$D$23,4,0)","v":{"$error":"#N/A"}}]
[{"$f":"INDEX(Tabelle2[[#All],[Budgetlinie]],MATCH(Tabelle1[[#This Row],[Maßnahme]],Ausfüllhilfe!$C$1:$C$22,0))","v":{"$error":"#N/A"}},null,null,null,null,null,null,null,null,{"$f":"VLOOKUP(Tabelle1[[#This Row],[Budgetlinie]],Ausfüllhilfe!$A$1:$D$23,4,0)","v":{"$error":"#N/A"}}]
[{"$f":"INDEX(Tabelle2[[#All],[Budgetlinie]],MATCH(Tabelle1[[#This Row],[Maßnahme]],Ausfüllhilfe!$C$1:$C$22,0))","v":{"$error":"#N/A"}},null,null,null,null,null,null,null,null,{"$f":"VLOOKUP(Tabelle1[[#This Row],[Budgetlinie]],Ausfüllhilfe!$A$1:$D$23,4,0)","v":{"$error":"#N/A"}}]
[{"$f":"INDEX(Tabelle2[[#All],[Budgetlinie]],MATCH(Tabelle1[[#This Row],[Maßnahme]],Ausfüllhilfe!$C$1:$C$22,0))","v":{"$error":"#N/A"}},null,null,null,null,null,null,null,null,{"$f":"VLOOKUP(Tabelle1[[#This Row],[Budgetlinie]],Ausfüllhilfe!$A$1:$D$23,4,0)","v":{"$error":"#N/A"}}]
[{"$f":"INDEX(Tabelle2[[#All],[Budgetlinie]],MATCH(Tabelle1[[#This Row],[Maßnahme]],Ausfüllhilfe!$C$1:$C$22,0))","v":{"$error":"#N/A"}},null,null,null,null,null,null,null,null,{"$f":"VLOOKUP(Tabelle1[[#This Row],[Budgetlinie]],Ausfüllhilfe!$A$1:$D$23,4,0)","v":{"$error":"#N/A"}}]
[{"$f":"INDEX(Tabelle2[[#All],[Budgetlinie]],MATCH(Tabelle1[[#This Row],[Maßnahme]],Ausfüllhilfe!$C$1:$C$22,0))","v":{"$error":"#N/A"}},null,null,null,null,null,null,null,null,{"$f":"VLOOKUP(Tabelle1[[#This Row],[Budgetlinie]],Ausfüllhilfe!$A$1:$D$23,4,0)","v":{"$error":"#N/A"}}]
[{"$f":"INDEX(Tabelle2[[#All],[Budgetlinie]],MATCH(Tabelle1[[#This Row],[Maßnahme]],Ausfüllhilfe!$C$1:$C$22,0))","v":{"$error":"#N/A"}},null,null,null,null,null,null,null,null,{"$f":"VLOOKUP(Tabelle1[[#This Row],[Budgetlinie]],Ausfüllhilfe!$A$1:$D$23,4,0)","v":{"$error":"#N/A"}}]
[{"$f":"INDEX(Tabelle2[[#All],[Budgetlinie]],MATCH(Tabelle1[[#This Row],[Maßnahme]],Ausfüllhilfe!$C$1:$C$22,0))","v":{"$error":"#N/A"}},null,null,null,null,null,null,null,null,{"$f":"VLOOKUP(Tabelle1[[#This Row],[Budgetlinie]],Ausfüllhilfe!$A$1:$D$23,4,0)","v":{"$error":"#N/A"}}]
[{"$f":"INDEX(Tabelle2[[#All],[Budgetlinie]],MATCH(Tabelle1[[#This Row],[Maßnahme]],Ausfüllhilfe!$C$1:$C$22,0))","v":{"$error":"#N/A"}},null,null,null,null,null,null,null,null,{"$f":"VLOOKUP(Tabelle1[[#This Row],[Budgetlinie]],Ausfüllhilfe!$A$1:$D$23,4,0)","v":{"$error":"#N/A"}}]
[{"$f":"INDEX(Tabelle2[[#All],[Budgetlinie]],MATCH(Tabelle1[[#This Row],[Maßnahme]],Ausfüllhilfe!$C$1:$C$22,0))","v":{"$error":"#N/A"}},null,null,null,null,null,null,null,null,{"$f":"VLOOKUP(Tabelle1[[#This Row],[Budgetlinie]],Ausfüllhilfe!$A$1:$D$23,4,0)","v":{"$error":"#N/A"}}]
[{"$f":"INDEX(Tabelle2[[#All],[Budgetlinie]],MATCH(Tabelle1[[#This Row],[Maßnahme]],Ausfüllhilfe!$C$1:$C$22,0))","v":{"$error":"#N/A"}},null,null,null,null,null,null,null,null,{"$f":"VLOOKUP(Tabelle1[[#This Row],[Budgetlinie]],Ausfüllhilfe!$A$1:$D$23,4,0)","v":{"$error":"#N/A"}}]
[{"$f":"INDEX(Tabelle2[[#All],[Budgetlinie]],MATCH(Tabelle1[[#This Row],[Maßnahme]],Ausfüllhilfe!$C$1:$C$22,0))","v":{"$error":"#N/A"}},null,null,null,null,null,null,null,null,{"$f":"VLOOKUP(Tabelle1[[#This Row],[Budgetlinie]],Ausfüllhilfe!$A$1:$D$23,4,0)","v":{"$error":"#N/A"}}]
[{"$f":"INDEX(Tabelle2[[#All],[Budgetlinie]],MATCH(Tabelle1[[#This Row],[Maßnahme]],Ausfüllhilfe!$C$1:$C$22,0))","v":{"$error":"#N/A"}},null,null,null,null,null,null,null,null,{"$f":"VLOOKUP(Tabelle1[[#This Row],[Budgetlinie]],Ausfüllhilfe!$A$1:$D$23,4,0)","v":{"$error":"#N/A"}}]
[{"$f":"INDEX(Tabelle2[[#All],[Budgetlinie]],MATCH(Tabelle1[[#This Row],[Maßnahme]],Ausfüllhilfe!$C$1:$C$22,0))","v":{"$error":"#N/A"}},null,null,null,null,null,null,null,null,{"$f":"VLOOKUP(Tabelle1[[#This Row],[Budgetlinie]],Ausfüllhilfe!$A$1:$D$23,4,0)","v":{"$error":"#N/A"}}]
[{"$f":"INDEX(Tabelle2[[#All],[Budgetlinie]],MATCH(Tabelle1[[#This Row],[Maßnahme]],Ausfüllhilfe!$C$1:$C$22,0))","v":{"$error":"#N/A"}},null,null,null,null,null,null,null,null,{"$f":"VLOOKUP(Tabelle1[[#This Row],[Budgetlinie]],Ausfüllhilfe!$A$1:$D$23,4,0)","v":{"$error":"#N/A"}}]
[{"$f":"INDEX(Tabelle2[[#All],[Budgetlinie]],MATCH(Tabelle1[[#This Row],[Maßnahme]],Ausfüllhilfe!$C$1:$C$22,0))","v":{"$error":"#N/A"}},null,null,null,null,null,null,null,null,{"$f":"VLOOKUP(Tabelle1[[#This Row],[Budgetlinie]],Ausfüllhilfe!$A$1:$D$23,4,0)","v":{"$error":"#N/A"}}]
[{"$f":"INDEX(Tabelle2[[#All],[Budgetlinie]],MATCH(Tabelle1[[#This Row],[Maßnahme]],Ausfüllhilfe!$C$1:$C$22,0))","v":{"$error":"#N/A"}},null,null,null,null,null,null,null,null,{"$f":"VLOOKUP(Tabelle1[[#This Row],[Budgetlinie]],Ausfüllhilfe!$A$1:$D$23,4,0)","v":{"$error":"#N/A"}}]
[{"$f":"INDEX(Tabelle2[[#All],[Budgetlinie]],MATCH(Tabelle1[[#This Row],[Maßnahme]],Ausfüllhilfe!$C$1:$C$22,0))","v":{"$error":"#N/A"}},null,null,null,null,null,null,null,null,{"$f":"VLOOKUP(Tabelle1[[#This Row],[Budgetlinie]],Ausfüllhilfe!$A$1:$D$23,4,0)","v":{"$error":"#N/A"}}]
[{"$f":"INDEX(Tabelle2[[#All],[Budgetlinie]],MATCH(Tabelle1[[#This Row],[Maßnahme]],Ausfüllhilfe!$C$1:$C$22,0))","v":{"$error":"#N/A"}},null,null,null,null,null,null,null,null,{"$f":"VLOOKUP(Tabelle1[[#This Row],[Budgetlinie]],Ausfüllhilfe!$A$1:$D$23,4,0)","v":{"$error":"#N/A"}}]
[{"$f":"INDEX(Tabelle2[[#All],[Budgetlinie]],MATCH(Tabelle1[[#This Row],[Maßnahme]],Ausfüllhilfe!$C$1:$C$22,0))","v":{"$error":"#N/A"}},null,null,null,null,null,null,null,null,{"$f":"VLOOKUP(Tabelle1[[#This Row],[Budgetlinie]],Ausfüllhilfe!$A$1:$D$23,4,0)","v":{"$error":"#N/A"}}]
[{"$f":"INDEX(Tabelle2[[#All],[Budgetlinie]],MATCH(Tabelle1[[#This Row],[Maßnahme]],Ausfüllhilfe!$C$1:$C$22,0))","v":{"$error":"#N/A"}},null,null,null,null,null,null,null,null,{"$f":"VLOOKUP(Tabelle1[[#This Row],[Budgetlinie]],Ausfüllhilfe!$A$1:$D$23,4,0)","v":{"$error":"#N/A"}}]
[{"$f":"INDEX(Tabelle2[[#All],[Budgetlinie]],MATCH(Tabelle1[[#This Row],[Maßnahme]],Ausfüllhilfe!$C$1:$C$22,0))","v":{"$error":"#N/A"}},null,null,null,null,null,null,null,null,{"$f":"VLOOKUP(Tabelle1[[#This Row],[Budgetlinie]],Ausfüllhilfe!$A$1:$D$23,4,0)","v":{"$error":"#N/A"}}]
[{"$f":"INDEX(Tabelle2[[#All],[Budgetlinie]],MATCH(Tabelle1[[#This Row],[Maßnahme]],Ausfüllhilfe!$C$1:$C$22,0))","v":{"$error":"#N/A"}},null,null,null,null,null,null,null,null,{"$f":"VLOOKUP(Tabelle1[[#This Row],[Budgetlinie]],Ausfüllhilfe!$A$1:$D$23,4,0)","v":{"$error":"#N/A"}}]
[{"$f":"INDEX(Tabelle2[[#All],[Budgetlinie]],MATCH(Tabelle1[[#This Row],[Maßnahme]],Ausfüllhilfe!$C$1:$C$22,0))","v":{"$error":"#N/A"}},null,null,null,null,null,null,null,null,{"$f":"VLOOKUP(Tabelle1[[#This Row],[Budgetlinie]],Ausfüllhilfe!$A$1:$D$23,4,0)","v":{"$error":"#N/A"}}]
[{"$f":"INDEX(Tabelle2[[#All],[Budgetlinie]],MATCH(Tabelle1[[#This Row],[Maßnahme]],Ausfüllhilfe!$C$1:$C$22,0))","v":{"$error":"#N/A"}},null,null,null,null,null,null,null,null,{"$f":"VLOOKUP(Tabelle1[[#This Row],[Budgetlinie]],Ausfüllhilfe!$A$1:$D$23,4,0)","v":{"$error":"#N/A"}}]
[{"$f":"INDEX(Tabelle2[[#All],[Budgetlinie]],MATCH(Tabelle1[[#This Row],[Maßnahme]],Ausfüllhilfe!$C$1:$C$22,0))","v":{"$error":"#N/A"}},null,null,null,null,null,null,null,null,{"$f":"VLOOKUP(Tabelle1[[#This Row],[Budgetlinie]],Ausfüllhilfe!$A$1:$D$23,4,0)","v":{"$error":"#N/A"}}]
[{"$f":"INDEX(Tabelle2[[#All],[Budgetlinie]],MATCH(Tabelle1[[#This Row],[Maßnahme]],Ausfüllhilfe!$C$1:$C$22,0))","v":{"$error":"#N/A"}},null,null,null,null,null,null,null,null,{"$f":"VLOOKUP(Tabelle1[[#This Row],[Budgetlinie]],Ausfüllhilfe!$A$1:$D$23,4,0)","v":{"$error":"#N/A"}}]
[{"$f":"INDEX(Tabelle2[[#All],[Budgetlinie]],MATCH(Tabelle1[[#This Row],[Maßnahme]],Ausfüllhilfe!$C$1:$C$22,0))","v":{"$error":"#N/A"}},null,null,null,null,null,null,null,null,{"$f":"VLOOKUP(Tabelle1[[#This Row],[Budgetlinie]],Ausfüllhilfe!$A$1:$D$23,4,0)","v":{"$error":"#N/A"}}]
[{"$f":"INDEX(Tabelle2[[#All],[Budgetlinie]],MATCH(Tabelle1[[#This Row],[Maßnahme]],Ausfüllhilfe!$C$1:$C$22,0))","v":{"$error":"#N/A"}},null,null,null,null,null,null,null,null,{"$f":"VLOOKUP(Tabelle1[[#This Row],[Budgetlinie]],Ausfüllhilfe!$A$1:$D$23,4,0)","v":{"$error":"#N/A"}}]
[{"$f":"INDEX(Tabelle2[[#All],[Budgetlinie]],MATCH(Tabelle1[[#This Row],[Maßnahme]],Ausfüllhilfe!$C$1:$C$22,0))","v":{"$error":"#N/A"}},null,null,null,null,null,null,null,null,{"$f":"VLOOKUP(Tabelle1[[#This Row],[Budgetlinie]],Ausfüllhilfe!$A$1:$D$23,4,0)","v":{"$error":"#N/A"}}]
[{"$f":"INDEX(Tabelle2[[#All],[Budgetlinie]],MATCH(Tabelle1[[#This Row],[Maßnahme]],Ausfüllhilfe!$C$1:$C$22,0))","v":{"$error":"#N/A"}},null,null,null,null,null,null,null,null,{"$f":"VLOOKUP(Tabelle1[[#This Row],[Budgetlinie]],Ausfüllhilfe!$A$1:$D$23,4,0)","v":{"$error":"#N/A"}}]
[{"$f":"INDEX(Tabelle2[[#All],[Budgetlinie]],MATCH(Tabelle1[[#This Row],[Maßnahme]],Ausfüllhilfe!$C$1:$C$22,0))","v":{"$error":"#N/A"}},null,null,null,null,null,null,null,null,{"$f":"VLOOKUP(Tabelle1[[#This Row],[Budgetlinie]],Ausfüllhilfe!$A$1:$D$23,4,0)","v":{"$error":"#N/A"}}]
[{"$f":"INDEX(Tabelle2[[#All],[Budgetlinie]],MATCH(Tabelle1[[#This Row],[Maßnahme]],Ausfüllhilfe!$C$1:$C$22,0))","v":{"$error":"#N/A"}},null,null,null,null,null,null,null,null,{"$f":"VLOOKUP(Tabelle1[[#This Row],[Budgetlinie]],Ausfüllhilfe!$A$1:$D$23,4,0)","v":{"$error":"#N/A"}}]
[{"$f":"INDEX(Tabelle2[[#All],[Budgetlinie]],MATCH(Tabelle1[[#This Row],[Maßnahme]],Ausfüllhilfe!$C$1:$C$22,0))","v":{"$error":"#N/A"}},null,null,null,null,null,null,null,null,{"$f":"VLOOKUP(Tabelle1[[#This Row],[Budgetlinie]],Ausfüllhilfe!$A$1:$D$23,4,0)","v":{"$error":"#N/A"}}]
[{"$f":"INDEX(Tabelle2[[#All],[Budgetlinie]],MATCH(Tabelle1[[#This Row],[Maßnahme]],Ausfüllhilfe!$C$1:$C$22,0))","v":{"$error":"#N/A"}},null,null,null,null,null,null,null,null,{"$f":"VLOOKUP(Tabelle1[[#This Row],[Budgetlinie]],Ausfüllhilfe!$A$1:$D$23,4,0)","v":{"$error":"#N/A"}}]
[{"$f":"INDEX(Tabelle2[[#All],[Budgetlinie]],MATCH(Tabelle1[[#This Row],[Maßnahme]],Ausfüllhilfe!$C$1:$C$22,0))","v":{"$error":"#N/A"}},null,null,null,null,null,null,null,null,{"$f":"VLOOKUP(Tabelle1[[#This Row],[Budgetlinie]],Ausfüllhilfe!$A$1:$D$23,4,0)","v":{"$error":"#N/A"}}]
[{"$f":"INDEX(Tabelle2[[#All],[Budgetlinie]],MATCH(Tabelle1[[#This Row],[Maßnahme]],Ausfüllhilfe!$C$1:$C$22,0))","v":{"$error":"#N/A"}},null,null,null,null,null,null,null,null,{"$f":"VLOOKUP(Tabelle1[[#This Row],[Budgetlinie]],Ausfüllhilfe!$A$1:$D$23,4,0)","v":{"$error":"#N/A"}}]
[{"$f":"INDEX(Tabelle2[[#All],[Budgetlinie]],MATCH(Tabelle1[[#This Row],[Maßnahme]],Ausfüllhilfe!$C$1:$C$22,0))","v":{"$error":"#N/A"}},null,null,null,null,null,null,null,null,{"$f":"VLOOKUP(Tabelle1[[#This Row],[Budgetlinie]],Ausfüllhilfe!$A$1:$D$23,4,0)","v":{"$error":"#N/A"}}]
[{"$f":"INDEX(Tabelle2[[#All],[Budgetlinie]],MATCH(Tabelle1[[#This Row],[Maßnahme]],Ausfüllhilfe!$C$1:$C$22,0))","v":{"$error":"#N/A"}},null,null,null,null,null,null,null,null,{"$f":"VLOOKUP(Tabelle1[[#This Row],[Budgetlinie]],Ausfüllhilfe!$A$1:$D$23,4,0)","v":{"$error":"#N/A"}}]
[{"$f":"INDEX(Tabelle2[[#All],[Budgetlinie]],MATCH(Tabelle1[[#This Row],[Maßnahme]],Ausfüllhilfe!$C$1:$C$22,0))","v":{"$error":"#N/A"}},null,null,null,null,null,null,null,null,{"$f":"VLOOKUP(Tabelle1[[#This Row],[Budgetlinie]],Ausfüllhilfe!$A$1:$D$23,4,0)","v":{"$error":"#N/A"}}]
[{"$f":"INDEX(Tabelle2[[#All],[Budgetlinie]],MATCH(Tabelle1[[#This Row],[Maßnahme]],Ausfüllhilfe!$C$1:$C$22,0))","v":{"$error":"#N/A"}},null,null,null,null,null,null,null,null,{"$f":"VLOOKUP(Tabelle1[[#This Row],[Budgetlinie]],Ausfüllhilfe!$A$1:$D$23,4,0)","v":{"$error":"#N/A"}}]
[{"$f":"INDEX(Tabelle2[[#All],[Budgetlinie]],MATCH(Tabelle1[[#This Row],[Maßnahme]],Ausfüllhilfe!$C$1:$C$22,0))","v":{"$error":"#N/A"}},null,null,null,null,null,null,null,null,{"$f":"VLOOKUP(Tabelle1[[#This Row],[Budgetlinie]],Ausfüllhilfe!$A$1:$D$23,4,0)","v":{"$error":"#N/A"}}]
[{"$f":"INDEX(Tabelle2[[#All],[Budgetlinie]],MATCH(Tabelle1[[#This Row],[Maßnahme]],Ausfüllhilfe!$C$1:$C$22,0))","v":{"$error":"#N/A"}},null,null,null,null,null,null,null,null,{"$f":"VLOOKUP(Tabelle1[[#This Row],[Budgetlinie]],Ausfüllhilfe!$A$1:$D$23,4,0)","v":{"$error":"#N/A"}}]
[{"$f":"INDEX(Tabelle2[[#All],[Budgetlinie]],MATCH(Tabelle1[[#This Row],[Maßnahme]],Ausfüllhilfe!$C$1:$C$22,0))","v":{"$error":"#N/A"}},null,null,null,null,null,null,null,null,{"$f":"VLOOKUP(Tabelle1[[#This Row],[Budgetlinie]],Ausfüllhilfe!$A$1:$D$23,4,0)","v":{"$error":"#N/A"}}]
[{"$f":"INDEX(Tabelle2[[#All],[Budgetlinie]],MATCH(Tabelle1[[#This Row],[Maßnahme]],Ausfüllhilfe!$C$1:$C$22,0))","v":{"$error":"#N/A"}},null,null,null,null,null,null,null,null,{"$f":"VLOOKUP(Tabelle1[[#This Row],[Budgetlinie]],Ausfüllhilfe!$A$1:$D$23,4,0)","v":{"$error":"#N/A"}}]
[{"$f":"INDEX(Tabelle2[[#All],[Budgetlinie]],MATCH(Tabelle1[[#This Row],[Maßnahme]],Ausfüllhilfe!$C$1:$C$22,0))","v":{"$error":"#N/A"}},null,null,null,null,null,null,null,null,{"$f":"VLOOKUP(Tabelle1[[#This Row],[Budgetlinie]],Ausfüllhilfe!$A$1:$D$23,4,0)","v":{"$error":"#N/A"}}]
[{"$f":"INDEX(Tabelle2[[#All],[Budgetlinie]],MATCH(Tabelle1[[#This Row],[Maßnahme]],Ausfüllhilfe!$C$1:$C$22,0))","v":{"$error":"#N/A"}},null,null,null,null,null,null,null,null,{"$f":"VLOOKUP(Tabelle1[[#This Row],[Budgetlinie]],Ausfüllhilfe!$A$1:$D$23,4,0)","v":{"$error":"#N/A"}}]
[{"$f":"INDEX(Tabelle2[[#All],[Budgetlinie]],MATCH(Tabelle1[[#This Row],[Maßnahme]],Ausfüllhilfe!$C$1:$C$22,0))","v":{"$error":"#N/A"}},null,null,null,null,null,null,null,null,{"$f":"VLOOKUP(Tabelle1[[#This Row],[Budgetlinie]],Ausfüllhilfe!$A$1:$D$23,4,0)","v":{"$error":"#N/A"}}]
[{"$f":"INDEX(Tabelle2[[#All],[Budgetlinie]],MATCH(Tabelle1[[#This Row],[Maßnahme]],Ausfüllhilfe!$C$1:$C$22,0))","v":{"$error":"#N/A"}},null,null,null,null,null,null,null,null,{"$f":"VLOOKUP(Tabelle1[[#This Row],[Budgetlinie]],Ausfüllhilfe!$A$1:$D$23,4,0)","v":{"$error":"#N/A"}}]
[{"$f":"INDEX(Tabelle2[[#All],[Budgetlinie]],MATCH(Tabelle1[[#This Row],[Maßnahme]],Ausfüllhilfe!$C$1:$C$22,0))","v":{"$error":"#N/A"}},null,null,null,null,null,null,null,null,{"$f":"VLOOKUP(Tabelle1[[#This Row],[Budgetlinie]],Ausfüllhilfe!$A$1:$D$23,4,0)","v":{"$error":"#N/A"}}]
[{"$f":"INDEX(Tabelle2[[#All],[Budgetlinie]],MATCH(Tabelle1[[#This Row],[Maßnahme]],Ausfüllhilfe!$C$1:$C$22,0))","v":{"$error":"#N/A"}},null,null,null,null,null,null,null,null,{"$f":"VLOOKUP(Tabelle1[[#This Row],[Budgetlinie]],Ausfüllhilfe!$A$1:$D$23,4,0)","v":{"$error":"#N/A"}}]
[{"$f":"INDEX(Tabelle2[[#All],[Budgetlinie]],MATCH(Tabelle1[[#This Row],[Maßnahme]],Ausfüllhilfe!$C$1:$C$22,0))","v":{"$error":"#N/A"}},null,null,null,null,null,null,null,null,{"$f":"VLOOKUP(Tabelle1[[#This Row],[Budgetlinie]],Ausfüllhilfe!$A$1:$D$23,4,0)","v":{"$error":"#N/A"}}]
[{"$f":"INDEX(Tabelle2[[#All],[Budgetlinie]],MATCH(Tabelle1[[#This Row],[Maßnahme]],Ausfüllhilfe!$C$1:$C$22,0))","v":{"$error":"#N/A"}},null,null,null,null,null,null,null,null,{"$f":"VLOOKUP(Tabelle1[[#This Row],[Budgetlinie]],Ausfüllhilfe!$A$1:$D$23,4,0)","v":{"$error":"#N/A"}}]
[{"$f":"INDEX(Tabelle2[[#All],[Budgetlinie]],MATCH(Tabelle1[[#This Row],[Maßnahme]],Ausfüllhilfe!$C$1:$C$22,0))","v":{"$error":"#N/A"}},null,null,null,null,null,null,null,null,{"$f":"VLOOKUP(Tabelle1[[#This Row],[Budgetlinie]],Ausfüllhilfe!$A$1:$D$23,4,0)","v":{"$error":"#N/A"}}]
[{"$f":"INDEX(Tabelle2[[#All],[Budgetlinie]],MATCH(Tabelle1[[#This Row],[Maßnahme]],Ausfüllhilfe!$C$1:$C$22,0))","v":{"$error":"#N/A"}},null,null,null,null,null,null,null,null,{"$f":"VLOOKUP(Tabelle1[[#This Row],[Budgetlinie]],Ausfüllhilfe!$A$1:$D$23,4,0)","v":{"$error":"#N/A"}}]
[{"$f":"INDEX(Tabelle2[[#All],[Budgetlinie]],MATCH(Tabelle1[[#This Row],[Maßnahme]],Ausfüllhilfe!$C$1:$C$22,0))","v":{"$error":"#N/A"}},null,null,null,null,null,null,null,null,{"$f":"VLOOKUP(Tabelle1[[#This Row],[Budgetlinie]],Ausfüllhilfe!$A$1:$D$23,4,0)","v":{"$error":"#N/A"}}]
[{"$f":"INDEX(Tabelle2[[#All],[Budgetlinie]],MATCH(Tabelle1[[#This Row],[Maßnahme]],Ausfüllhilfe!$C$1:$C$22,0))","v":{"$error":"#N/A"}},null,null,null,null,null,null,null,null,{"$f":"VLOOKUP(Tabelle1[[#This Row],[Budgetlinie]],Ausfüllhilfe!$A$1:$D$23,4,0)","v":{"$error":"#N/A"}}]
[{"$f":"INDEX(Tabelle2[[#All],[Budgetlinie]],MATCH(Tabelle1[[#This Row],[Maßnahme]],Ausfüllhilfe!$C$1:$C$22,0))","v":{"$error":"#N/A"}},null,null,null,null,null,null,null,null,{"$f":"VLOOKUP(Tabelle1[[#This Row],[Budgetlinie]],Ausfüllhilfe!$A$1:$D$23,4,0)","v":{"$error":"#N/A"}}]
[{"$f":"INDEX(Tabelle2[[#All],[Budgetlinie]],MATCH(Tabelle1[[#This Row],[Maßnahme]],Ausfüllhilfe!$C$1:$C$22,0))","v":{"$error":"#N/A"}},null,null,null,null,null,null,null,null,{"$f":"VLOOKUP(Tabelle1[[#This Row],[Budgetlinie]],Ausfüllhilfe!$A$1:$D$23,4,0)","v":{"$error":"#N/A"}}]
[{"$f":"INDEX(Tabelle2[[#All],[Budgetlinie]],MATCH(Tabelle1[[#This Row],[Maßnahme]],Ausfüllhilfe!$C$1:$C$22,0))","v":{"$error":"#N/A"}},null,null,null,null,null,null,null,null,{"$f":"VLOOKUP(Tabelle1[[#This Row],[Budgetlinie]],Ausfüllhilfe!$A$1:$D$23,4,0)","v":{"$error":"#N/A"}}]
[{"$f":"INDEX(Tabelle2[[#All],[Budgetlinie]],MATCH(Tabelle1[[#This Row],[Maßnahme]],Ausfüllhilfe!$C$1:$C$22,0))","v":{"$error":"#N/A"}},null,null,null,null,null,null,null,null,{"$f":"VLOOKUP(Tabelle1[[#This Row],[Budgetlinie]],Ausfüllhilfe!$A$1:$D$23,4,0)","v":{"$error":"#N/A"}}]
[{"$f":"INDEX(Tabelle2[[#All],[Budgetlinie]],MATCH(Tabelle1[[#This Row],[Maßnahme]],Ausfüllhilfe!$C$1:$C$22,0))","v":{"$error":"#N/A"}},null,null,null,null,null,null,null,null,{"$f":"VLOOKUP(Tabelle1[[#This Row],[Budgetlinie]],Ausfüllhilfe!$A$1:$D$23,4,0)","v":{"$error":"#N/A"}}]
[{"$f":"INDEX(Tabelle2[[#All],[Budgetlinie]],MATCH(Tabelle1[[#This Row],[Maßnahme]],Ausfüllhilfe!$C$1:$C$22,0))","v":{"$error":"#N/A"}},null,null,null,null,null,null,null,null,{"$f":"VLOOKUP(Tabelle1[[#This Row],[Budgetlinie]],Ausfüllhilfe!$A$1:$D$23,4,0)","v":{"$error":"#N/A"}}]
[{"$f":"INDEX(Tabelle2[[#All],[Budgetlinie]],MATCH(Tabelle1[[#This Row],[Maßnahme]],Ausfüllhilfe!$C$1:$C$22,0))","v":{"$error":"#N/A"}},null,null,null,null,null,null,null,null,{"$f":"VLOOKUP(Tabelle1[[#This Row],[Budgetlinie]],Ausfüllhilfe!$A$1:$D$23,4,0)","v":{"$error":"#N/A"}}]
[{"$f":"INDEX(Tabelle2[[#All],[Budgetlinie]],MATCH(Tabelle1[[#This Row],[Maßnahme]],Ausfüllhilfe!$C$1:$C$22,0))","v":{"$error":"#N/A"}},null,null,null,null,null,null,null,null,{"$f":"VLOOKUP(Tabelle1[[#This Row],[Budgetlinie]],Ausfüllhilfe!$A$1:$D$23,4,0)","v":{"$error":"#N/A"}}]
[{"$f":"INDEX(Tabelle2[[#All],[Budgetlinie]],MATCH(Tabelle1[[#This Row],[Maßnahme]],Ausfüllhilfe!$C$1:$C$22,0))","v":{"$error":"#N/A"}},null,null,null,null,null,null,null,null,{"$f":"VLOOKUP(Tabelle1[[#This Row],[Budgetlinie]],Ausfüllhilfe!$A$1:$D$23,4,0)","v":{"$error":"#N/A"}}]
[{"$f":"INDEX(Tabelle2[[#All],[Budgetlinie]],MATCH(Tabelle1[[#This Row],[Maßnahme]],Ausfüllhilfe!$C$1:$C$22,0))","v":{"$error":"#N/A"}},null,null,null,null,null,null,null,null,{"$f":"VLOOKUP(Tabelle1[[#This Row],[Budgetlinie]],Ausfüllhilfe!$A$1:$D$23,4,0)","v":{"$error":"#N/A"}}]
[{"$f":"INDEX(Tabelle2[[#All],[Budgetlinie]],MATCH(Tabelle1[[#This Row],[Maßnahme]],Ausfüllhilfe!$C$1:$C$22,0))","v":{"$error":"#N/A"}},null,null,null,null,null,null,null,null,{"$f":"VLOOKUP(Tabelle1[[#This Row],[Budgetlinie]],Ausfüllhilfe!$A$1:$D$23,4,0)","v":{"$error":"#N/A"}}]
[{"$f":"INDEX(Tabelle2[[#All],[Budgetlinie]],MATCH(Tabelle1[[#This Row],[Maßnahme]],Ausfüllhilfe!$C$1:$C$22,0))","v":{"$error":"#N/A"}},null,null,null,null,null,null,null,null,{"$f":"VLOOKUP(Tabelle1[[#This Row],[Budgetlinie]],Ausfüllhilfe!$A$1:$D$23,4,0)","v":{"$error":"#N/A"}}]
[{"$f":"INDEX(Tabelle2[[#All],[Budgetlinie]],MATCH(Tabelle1[[#This Row],[Maßnahme]],Ausfüllhilfe!$C$1:$C$22,0))","v":{"$error":"#N/A"}},null,null,null,null,null,null,null,null,{"$f":"VLOOKUP(Tabelle1[[#This Row],[Budgetlinie]],Ausfüllhilfe!$A$1:$D$23,4,0)","v":{"$error":"#N/A"}}]
[{"$f":"INDEX(Tabelle2[[#All],[Budgetlinie]],MATCH(Tabelle1[[#This Row],[Maßnahme]],Ausfüllhilfe!$C$1:$C$22,0))","v":{"$error":"#N/A"}},null,null,null,null,null,null,null,null,{"$f":"VLOOKUP(Tabelle1[[#This Row],[Budgetlinie]],Ausfüllhilfe!$A$1:$D$23,4,0)","v":{"$error":"#N/A"}}]
[{"$f":"INDEX(Tabelle2[[#All],[Budgetlinie]],MATCH(Tabelle1[[#This Row],[Maßnahme]],Ausfüllhilfe!$C$1:$C$22,0))","v":{"$error":"#N/A"}},null,null,null,null,null,null,null,null,{"$f":"VLOOKUP(Tabelle1[[#This Row],[Budgetlinie]],Ausfüllhilfe!$A$1:$D$23,4,0)","v":{"$error":"#N/A"}}]
[{"$f":"INDEX(Tabelle2[[#All],[Budgetlinie]],MATCH(Tabelle1[[#This Row],[Maßnahme]],Ausfüllhilfe!$C$1:$C$22,0))","v":{"$error":"#N/A"}},null,null,null,null,null,null,null,null,{"$f":"VLOOKUP(Tabelle1[[#This Row],[Budgetlinie]],Ausfüllhilfe!$A$1:$D$23,4,0)","v":{"$error":"#N/A"}}]
[{"$f":"INDEX(Tabelle2[[#All],[Budgetlinie]],MATCH(Tabelle1[[#This Row],[Maßnahme]],Ausfüllhilfe!$C$1:$C$22,0))","v":{"$error":"#N/A"}},null,null,null,null,null,null,null,null,{"$f":"VLOOKUP(Tabelle1[[#This Row],[Budgetlinie]],Ausfüllhilfe!$A$1:$D$23,4,0)","v":{"$error":"#N/A"}}]
[{"$f":"INDEX(Tabelle2[[#All],[Budgetlinie]],MATCH(Tabelle1[[#This Row],[Maßnahme]],Ausfüllhilfe!$C$1:$C$22,0))","v":{"$error":"#N/A"}},null,null,null,null,null,null,null,null,{"$f":"VLOOKUP(Tabelle1[[#This Row],[Budgetlinie]],Ausfüllhilfe!$A$1:$D$23,4,0)","v":{"$error":"#N/A"}}]
[{"$f":"INDEX(Tabelle2[[#All],[Budgetlinie]],MATCH(Tabelle1[[#This Row],[Maßnahme]],Ausfüllhilfe!$C$1:$C$22,0))","v":{"$error":"#N/A"}},null,null,null,null,null,null,null,null,{"$f":"VLOOKUP(Tabelle1[[#This Row],[Budgetlinie]],Ausfüllhilfe!$A$1:$D$23,4,0)","v":{"$error":"#N/A"}}]
[{"$f":"INDEX(Tabelle2[[#All],[Budgetlinie]],MATCH(Tabelle1[[#This Row],[Maßnahme]],Ausfüllhilfe!$C$1:$C$22,0))","v":{"$error":"#N/A"}},null,null,null,null,null,null,null,null,{"$f":"VLOOKUP(Tabelle1[[#This Row],[Budgetlinie]],Ausfüllhilfe!$A$1:$D$23,4,0)","v":{"$error":"#N/A"}}]
[{"$f":"INDEX(Tabelle2[[#All],[Budgetlinie]],MATCH(Tabelle1[[#This Row],[Maßnahme]],Ausfüllhilfe!$C$1:$C$22,0))","v":{"$error":"#N/A"}},null,null,null,null,null,null,null,null,{"$f":"VLOOKUP(Tabelle1[[#This Row],[Budgetlinie]],Ausfüllhilfe!$A$1:$D$23,4,0)","v":{"$error":"#N/A"}}]
[{"$f":"INDEX(Tabelle2[[#All],[Budgetlinie]],MATCH(Tabelle1[[#This Row],[Maßnahme]],Ausfüllhilfe!$C$1:$C$22,0))","v":{"$error":"#N/A"}},null,null,null,null,null,null,null,null,{"$f":"VLOOKUP(Tabelle1[[#This Row],[Budgetlinie]],Ausfüllhilfe!$A$1:$D$23,4,0)","v":{"$error":"#N/A"}}]
[{"$f":"INDEX(Tabelle2[[#All],[Budgetlinie]],MATCH(Tabelle1[[#This Row],[Maßnahme]],Ausfüllhilfe!$C$1:$C$22,0))","v":{"$error":"#N/A"}},null,null,null,null,null,null,null,null,{"$f":"VLOOKUP(Tabelle1[[#This Row],[Budgetlinie]],Ausfüllhilfe!$A$1:$D$23,4,0)","v":{"$error":"#N/A"}}]
[{"$f":"INDEX(Tabelle2[[#All],[Budgetlinie]],MATCH(Tabelle1[[#This Row],[Maßnahme]],Ausfüllhilfe!$C$1:$C$22,0))","v":{"$error":"#N/A"}},null,null,null,null,null,null,null,null,{"$f":"VLOOKUP(Tabelle1[[#This Row],[Budgetlinie]],Ausfüllhilfe!$A$1:$D$23,4,0)","v":{"$error":"#N/A"}}]
[{"$f":"INDEX(Tabelle2[[#All],[Budgetlinie]],MATCH(Tabelle1[[#This Row],[Maßnahme]],Ausfüllhilfe!$C$1:$C$22,0))","v":{"$error":"#N/A"}},null,null,null,null,null,null,null,null,{"$f":"VLOOKUP(Tabelle1[[#This Row],[Budgetlinie]],Ausfüllhilfe!$A$1:$D$23,4,0)","v":{"$error":"#N/A"}}]
[{"$f":"INDEX(Tabelle2[[#All],[Budgetlinie]],MATCH(Tabelle1[[#This Row],[Maßnahme]],Ausfüllhilfe!$C$1:$C$22,0))","v":{"$error":"#N/A"}},null,null,null,null,null,null,null,null,{"$f":"VLOOKUP(Tabelle1[[#This Row],[Budgetlinie]],Ausfüllhilfe!$A$1:$D$23,4,0)","v":{"$error":"#N/A"}}]
[{"$f":"INDEX(Tabelle2[[#All],[Budgetlinie]],MATCH(Tabelle1[[#This Row],[Maßnahme]],Ausfüllhilfe!$C$1:$C$22,0))","v":{"$error":"#N/A"}},null,null,null,null,null,null,null,null,{"$f":"VLOOKUP(Tabelle1[[#This Row],[Budgetlinie]],Ausfüllhilfe!$A$1:$D$23,4,0)","v":{"$error":"#N/A"}}]
[{"$f":"INDEX(Tabelle2[[#All],[Budgetlinie]],MATCH(Tabelle1[[#This Row],[Maßnahme]],Ausfüllhilfe!$C$1:$C$22,0))","v":{"$error":"#N/A"}},null,null,null,null,null,null,null,null,{"$f":"VLOOKUP(Tabelle1[[#This Row],[Budgetlinie]],Ausfüllhilfe!$A$1:$D$23,4,0)","v":{"$error":"#N/A"}}]
[{"$f":"INDEX(Tabelle2[[#All],[Budgetlinie]],MATCH(Tabelle1[[#This Row],[Maßnahme]],Ausfüllhilfe!$C$1:$C$22,0))","v":{"$error":"#N/A"}},null,null,null,null,null,null,null,null,{"$f":"VLOOKUP(Tabelle1[[#This Row],[Budgetlinie]],Ausfüllhilfe!$A$1:$D$23,4,0)","v":{"$error":"#N/A"}}]
[{"$f":"INDEX(Tabelle2[[#All],[Budgetlinie]],MATCH(Tabelle1[[#This Row],[Maßnahme]],Ausfüllhilfe!$C$1:$C$22,0))","v":{"$error":"#N/A"}},null,null,null,null,null,null,null,null,{"$f":"VLOOKUP(Tabelle1[[#This Row],[Budgetlinie]],Ausfüllhilfe!$A$1:$D$23,4,0)","v":{"$error":"#N/A"}}]
[{"$f":"INDEX(Tabelle2[[#All],[Budgetlinie]],MATCH(Tabelle1[[#This Row],[Maßnahme]],Ausfüllhilfe!$C$1:$C$22,0))","v":{"$error":"#N/A"}},null,null,null,null,null,null,null,null,{"$f":"VLOOKUP(Tabelle1[[#This Row],[Budgetlinie]],Ausfüllhilfe!$A$1:$D$23,4,0)","v":{"$error":"#N/A"}}]
[{"$f":"INDEX(Tabelle2[[#All],[Budgetlinie]],MATCH(Tabelle1[[#This Row],[Maßnahme]],Ausfüllhilfe!$C$1:$C$22,0))","v":{"$error":"#N/A"}},null,null,null,null,null,null,null,null,{"$f":"VLOOKUP(Tabelle1[[#This Row],[Budgetlinie]],Ausfüllhilfe!$A$1:$D$23,4,0)","v":{"$error":"#N/A"}}]
[{"$f":"INDEX(Tabelle2[[#All],[Budgetlinie]],MATCH(Tabelle1[[#This Row],[Maßnahme]],Ausfüllhilfe!$C$1:$C$22,0))","v":{"$error":"#N/A"}},null,null,null,null,null,null,null,null,{"$f":"VLOOKUP(Tabelle1[[#This Row],[Budgetlinie]],Ausfüllhilfe!$A$1:$D$23,4,0)","v":{"$error":"#N/A"}}]
[{"$f":"INDEX(Tabelle2[[#All],[Budgetlinie]],MATCH(Tabelle1[[#This Row],[Maßnahme]],Ausfüllhilfe!$C$1:$C$22,0))","v":{"$error":"#N/A"}},null,null,null,null,null,null,null,null,{"$f":"VLOOKUP(Tabelle1[[#This Row],[Budgetlinie]],Ausfüllhilfe!$A$1:$D$23,4,0)","v":{"$error":"#N/A"}}]
[{"$f":"INDEX(Tabelle2[[#All],[Budgetlinie]],MATCH(Tabelle1[[#This Row],[Maßnahme]],Ausfüllhilfe!$C$1:$C$22,0))","v":{"$error":"#N/A"}},null,null,null,null,null,null,null,null,{"$f":"VLOOKUP(Tabelle1[[#This Row],[Budgetlinie]],Ausfüllhilfe!$A$1:$D$23,4,0)","v":{"$error":"#N/A"}}]
[{"$f":"INDEX(Tabelle2[[#All],[Budgetlinie]],MATCH(Tabelle1[[#This Row],[Maßnahme]],Ausfüllhilfe!$C$1:$C$22,0))","v":{"$error":"#N/A"}},null,null,null,null,null,null,null,null,{"$f":"VLOOKUP(Tabelle1[[#This Row],[Budgetlinie]],Ausfüllhilfe!$A$1:$D$23,4,0)","v":{"$error":"#N/A"}}]
[{"$f":"INDEX(Tabelle2[[#All],[Budgetlinie]],MATCH(Tabelle1[[#This Row],[Maßnahme]],Ausfüllhilfe!$C$1:$C$22,0))","v":{"$error":"#N/A"}},null,null,null,null,null,null,null,null,{"$f":"VLOOKUP(Tabelle1[[#This Row],[Budgetlinie]],Ausfüllhilfe!$A$1:$D$23,4,0)","v":{"$error":"#N/A"}}]
[{"$f":"INDEX(Tabelle2[[#All],[Budgetlinie]],MATCH(Tabelle1[[#This Row],[Maßnahme]],Ausfüllhilfe!$C$1:$C$22,0))","v":{"$error":"#N/A"}},null,null,null,null,null,null,null,null,{"$f":"VLOOKUP(Tabelle1[[#This Row],[Budgetlinie]],Ausfüllhilfe!$A$1:$D$23,4,0)","v":{"$error":"#N/A"}}]
[{"$f":"INDEX(Tabelle2[[#All],[Budgetlinie]],MATCH(Tabelle1[[#This Row],[Maßnahme]],Ausfüllhilfe!$C$1:$C$22,0))","v":{"$error":"#N/A"}},null,null,null,null,null,null,null,null,{"$f":"VLOOKUP(Tabelle1[[#This Row],[Budgetlinie]],Ausfüllhilfe!$A$1:$D$23,4,0)","v":{"$error":"#N/A"}}]
[{"$f":"INDEX(Tabelle2[[#All],[Budgetlinie]],MATCH(Tabelle1[[#This Row],[Maßnahme]],Ausfüllhilfe!$C$1:$C$22,0))","v":{"$error":"#N/A"}},null,null,null,null,null,null,null,null,{"$f":"VLOOKUP(Tabelle1[[#This Row],[Budgetlinie]],Ausfüllhilfe!$A$1:$D$23,4,0)","v":{"$error":"#N/A"}}]
[{"$f":"INDEX(Tabelle2[[#All],[Budgetlinie]],MATCH(Tabelle1[[#This Row],[Maßnahme]],Ausfüllhilfe!$C$1:$C$22,0))","v":{"$error":"#N/A"}},null,null,null,null,null,null,null,null,{"$f":"VLOOKUP(Tabelle1[[#This Row],[Budgetlinie]],Ausfüllhilfe!$A$1:$D$23,4,0)","v":{"$error":"#N/A"}}]
[{"$f":"INDEX(Tabelle2[[#All],[Budgetlinie]],MATCH(Tabelle1[[#This Row],[Maßnahme]],Ausfüllhilfe!$C$1:$C$22,0))","v":{"$error":"#N/A"}},null,null,null,null,null,null,null,null,{"$f":"VLOOKUP(Tabelle1[[#This Row],[Budgetlinie]],Ausfüllhilfe!$A$1:$D$23,4,0)","v":{"$error":"#N/A"}}]
[{"$f":"INDEX(Tabelle2[[#All],[Budgetlinie]],MATCH(Tabelle1[[#This Row],[Maßnahme]],Ausfüllhilfe!$C$1:$C$22,0))","v":{"$error":"#N/A"}},null,null,null,null,null,null,null,null,{"$f":"VLOOKUP(Tabelle1[[#This Row],[Budgetlinie]],Ausfüllhilfe!$A$1:$D$23,4,0)","v":{"$error":"#N/A"}}]
[{"$f":"INDEX(Tabelle2[[#All],[Budgetlinie]],MATCH(Tabelle1[[#This Row],[Maßnahme]],Ausfüllhilfe!$C$1:$C$22,0))","v":{"$error":"#N/A"}},null,null,null,null,null,null,null,null,{"$f":"VLOOKUP(Tabelle1[[#This Row],[Budgetlinie]],Ausfüllhilfe!$A$1:$D$23,4,0)","v":{"$error":"#N/A"}}]
[{"$f":"INDEX(Tabelle2[[#All],[Budgetlinie]],MATCH(Tabelle1[[#This Row],[Maßnahme]],Ausfüllhilfe!$C$1:$C$22,0))","v":{"$error":"#N/A"}},null,null,null,null,null,null,null,null,{"$f":"VLOOKUP(Tabelle1[[#This Row],[Budgetlinie]],Ausfüllhilfe!$A$1:$D$23,4,0)","v":{"$error":"#N/A"}}]
[{"$f":"INDEX(Tabelle2[[#All],[Budgetlinie]],MATCH(Tabelle1[[#This Row],[Maßnahme]],Ausfüllhilfe!$C$1:$C$22,0))","v":{"$error":"#N/A"}},null,null,null,null,null,null,null,null,{"$f":"VLOOKUP(Tabelle1[[#This Row],[Budgetlinie]],Ausfüllhilfe!$A$1:$D$23,4,0)","v":{"$error":"#N/A"}}]
[{"$f":"INDEX(Tabelle2[[#All],[Budgetlinie]],MATCH(Tabelle1[[#This Row],[Maßnahme]],Ausfüllhilfe!$C$1:$C$22,0))","v":{"$error":"#N/A"}},null,null,null,null,null,null,null,null,{"$f":"VLOOKUP(Tabelle1[[#This Row],[Budgetlinie]],Ausfüllhilfe!$A$1:$D$23,4,0)","v":{"$error":"#N/A"}}]
[{"$f":"INDEX(Tabelle2[[#All],[Budgetlinie]],MATCH(Tabelle1[[#This Row],[Maßnahme]],Ausfüllhilfe!$C$1:$C$22,0))","v":{"$error":"#N/A"}},null,null,null,null,null,null,null,null,{"$f":"VLOOKUP(Tabelle1[[#This Row],[Budgetlinie]],Ausfüllhilfe!$A$1:$D$23,4,0)","v":{"$error":"#N/A"}}]
[{"$f":"INDEX(Tabelle2[[#All],[Budgetlinie]],MATCH(Tabelle1[[#This Row],[Maßnahme]],Ausfüllhilfe!$C$1:$C$22,0))","v":{"$error":"#N/A"}},null,null,null,null,null,null,null,null,{"$f":"VLOOKUP(Tabelle1[[#This Row],[Budgetlinie]],Ausfüllhilfe!$A$1:$D$23,4,0)","v":{"$error":"#N/A"}}]
[{"$f":"INDEX(Tabelle2[[#All],[Budgetlinie]],MATCH(Tabelle1[[#This Row],[Maßnahme]],Ausfüllhilfe!$C$1:$C$22,0))","v":{"$error":"#N/A"}},null,null,null,null,null,null,null,null,{"$f":"VLOOKUP(Tabelle1[[#This Row],[Budgetlinie]],Ausfüllhilfe!$A$1:$D$23,4,0)","v":{"$error":"#N/A"}}]
[{"$f":"INDEX(Tabelle2[[#All],[Budgetlinie]],MATCH(Tabelle1[[#This Row],[Maßnahme]],Ausfüllhilfe!$C$1:$C$22,0))","v":{"$error":"#N/A"}},null,null,null,null,null,null,null,null,{"$f":"VLOOKUP(Tabelle1[[#This Row],[Budgetlinie]],Ausfüllhilfe!$A$1:$D$23,4,0)","v":{"$error":"#N/A"}}]
[{"$f":"INDEX(Tabelle2[[#All],[Budgetlinie]],MATCH(Tabelle1[[#This Row],[Maßnahme]],Ausfüllhilfe!$C$1:$C$22,0))","v":{"$error":"#N/A"}},null,null,null,null,null,null,null,null,{"$f":"VLOOKUP(Tabelle1[[#This Row],[Budgetlinie]],Ausfüllhilfe!$A$1:$D$23,4,0)","v":{"$error":"#N/A"}}]
[{"$f":"INDEX(Tabelle2[[#All],[Budgetlinie]],MATCH(Tabelle1[[#This Row],[Maßnahme]],Ausfüllhilfe!$C$1:$C$22,0))","v":{"$error":"#N/A"}},null,null,null,null,null,null,null,null,{"$f":"VLOOKUP(Tabelle1[[#This Row],[Budgetlinie]],Ausfüllhilfe!$A$1:$D$23,4,0)","v":{"$error":"#N/A"}}]
[{"$f":"INDEX(Tabelle2[[#All],[Budgetlinie]],MATCH(Tabelle1[[#This Row],[Maßnahme]],Ausfüllhilfe!$C$1:$C$22,0))","v":{"$error":"#N/A"}},null,null,null,null,null,null,null,null,{"$f":"VLOOKUP(Tabelle1[[#This Row],[Budgetlinie]],Ausfüllhilfe!$A$1:$D$23,4,0)","v":{"$error":"#N/A"}}]
[{"$f":"INDEX(Tabelle2[[#All],[Budgetlinie]],MATCH(Tabelle1[[#This Row],[Maßnahme]],Ausfüllhilfe!$C$1:$C$22,0))","v":{"$error":"#N/A"}},null,null,null,null,null,null,null,null,{"$f":"VLOOKUP(Tabelle1[[#This Row],[Budgetlinie]],Ausfüllhilfe!$A$1:$D$23,4,0)","v":{"$error":"#N/A"}}]
[{"$f":"INDEX(Tabelle2[[#All],[Budgetlinie]],MATCH(Tabelle1[[#This Row],[Maßnahme]],Ausfüllhilfe!$C$1:$C$22,0))","v":{"$error":"#N/A"}},null,null,null,null,null,null,null,null,{"$f":"VLOOKUP(Tabelle1[[#This Row],[Budgetlinie]],Ausfüllhilfe!$A$1:$D$23,4,0)","v":{"$error":"#N/A"}}]
[{"$f":"INDEX(Tabelle2[[#All],[Budgetlinie]],MATCH(Tabelle1[[#This Row],[Maßnahme]],Ausfüllhilfe!$C$1:$C$22,0))","v":{"$error":"#N/A"}},null,null,null,null,null,null,null,null,{"$f":"VLOOKUP(Tabelle1[[#This Row],[Budgetlinie]],Ausfüllhilfe!$A$1:$D$23,4,0)","v":{"$error":"#N/A"}}]
[{"$f":"INDEX(Tabelle2[[#All],[Budgetlinie]],MATCH(Tabelle1[[#This Row],[Maßnahme]],Ausfüllhilfe!$C$1:$C$22,0))","v":{"$error":"#N/A"}},null,null,null,null,null,null,null,null,{"$f":"VLOOKUP(Tabelle1[[#This Row],[Budgetlinie]],Ausfüllhilfe!$A$1:$D$23,4,0)","v":{"$error":"#N/A"}}]
[{"$f":"INDEX(Tabelle2[[#All],[Budgetlinie]],MATCH(Tabelle1[[#This Row],[Maßnahme]],Ausfüllhilfe!$C$1:$C$22,0))","v":{"$error":"#N/A"}},null,null,null,null,null,null,null,null,{"$f":"VLOOKUP(Tabelle1[[#This Row],[Budgetlinie]],Ausfüllhilfe!$A$1:$D$23,4,0)","v":{"$error":"#N/A"}}]
[{"$f":"INDEX(Tabelle2[[#All],[Budgetlinie]],MATCH(Tabelle1[[#This Row],[Maßnahme]],Ausfüllhilfe!$C$1:$C$22,0))","v":{"$error":"#N/A"}},null,null,null,null,null,null,null,null,{"$f":"VLOOKUP(Tabelle1[[#This Row],[Budgetlinie]],Ausfüllhilfe!$A$1:$D$23,4,0)","v":{"$error":"#N/A"}}]
[{"$f":"INDEX(Tabelle2[[#All],[Budgetlinie]],MATCH(Tabelle1[[#This Row],[Maßnahme]],Ausfüllhilfe!$C$1:$C$22,0))","v":{"$error":"#N/A"}},null,null,null,null,null,null,null,null,{"$f":"VLOOKUP(Tabelle1[[#This Row],[Budgetlinie]],Ausfüllhilfe!$A$1:$D$23,4,0)","v":{"$error":"#N/A"}}]
[{"$f":"INDEX(Tabelle2[[#All],[Budgetlinie]],MATCH(Tabelle1[[#This Row],[Maßnahme]],Ausfüllhilfe!$C$1:$C$22,0))","v":{"$error":"#N/A"}},null,null,null,null,null,null,null,null,{"$f":"VLOOKUP(Tabelle1[[#This Row],[Budgetlinie]],Ausfüllhilfe!$A$1:$D$23,4,0)","v":{"$error":"#N/A"}}]
[{"$f":"INDEX(Tabelle2[[#All],[Budgetlinie]],MATCH(Tabelle1[[#This Row],[Maßnahme]],Ausfüllhilfe!$C$1:$C$22,0))","v":{"$error":"#N/A"}},null,null,null,null,null,null,null,null,{"$f":"VLOOKUP(Tabelle1[[#This Row],[Budgetlinie]],Ausfüllhilfe!$A$1:$D$23,4,0)","v":{"$error":"#N/A"}}]
[{"$f":"INDEX(Tabelle2[[#All],[Budgetlinie]],MATCH(Tabelle1[[#This Row],[Maßnahme]],Ausfüllhilfe!$C$1:$C$22,0))","v":{"$error":"#N/A"}},null,null,null,null,null,null,null,null,{"$f":"VLOOKUP(Tabelle1[[#This Row],[Budgetlinie]],Ausfüllhilfe!$A$1:$D$23,4,0)","v":{"$error":"#N/A"}}]
[{"$f":"INDEX(Tabelle2[[#All],[Budgetlinie]],MATCH(Tabelle1[[#This Row],[Maßnahme]],Ausfüllhilfe!$C$1:$C$22,0))","v":{"$error":"#N/A"}},null,null,null,null,null,null,null,null,{"$f":"VLOOKUP(Tabelle1[[#This Row],[Budgetlinie]],Ausfüllhilfe!$A$1:$D$23,4,0)","v":{"$error":"#N/A"}}]
[{"$f":"INDEX(Tabelle2[[#All],[Budgetlinie]],MATCH(Tabelle1[[#This Row],[Maßnahme]],Ausfüllhilfe!$C$1:$C$22,0))","v":{"$error":"#N/A"}},null,null,null,null,null,null,null,null,{"$f":"VLOOKUP(Tabelle1[[#This Row],[Budgetlinie]],Ausfüllhilfe!$A$1:$D$23,4,0)","v":{"$error":"#N/A"}}]
[{"$f":"INDEX(Tabelle2[[#All],[Budgetlinie]],MATCH(Tabelle1[[#This Row],[Maßnahme]],Ausfüllhilfe!$C$1:$C$22,0))","v":{"$error":"#N/A"}},null,null,null,null,null,null,null,null,{"$f":"VLOOKUP(Tabelle1[[#This Row],[Budgetlinie]],Ausfüllhilfe!$A$1:$D$23,4,0)","v":{"$error":"#N/A"}}]
[{"$f":"INDEX(Tabelle2[[#All],[Budgetlinie]],MATCH(Tabelle1[[#This Row],[Maßnahme]],Ausfüllhilfe!$C$1:$C$22,0))","v":{"$error":"#N/A"}},null,null,null,null,null,null,null,null,{"$f":"VLOOKUP(Tabelle1[[#This Row],[Budgetlinie]],Ausfüllhilfe!$A$1:$D$23,4,0)","v":{"$error":"#N/A"}}]
[{"$f":"INDEX(Tabelle2[[#All],[Budgetlinie]],MATCH(Tabelle1[[#This Row],[Maßnahme]],Ausfüllhilfe!$C$1:$C$22,0))","v":{"$error":"#N/A"}},null,null,null,null,null,null,null,null,{"$f":"VLOOKUP(Tabelle1[[#This Row],[Budgetlinie]],Ausfüllhilfe!$A$1:$D$23,4,0)","v":{"$error":"#N/A"}}]
[{"$f":"INDEX(Tabelle2[[#All],[Budgetlinie]],MATCH(Tabelle1[[#This Row],[Maßnahme]],Ausfüllhilfe!$C$1:$C$22,0))","v":{"$error":"#N/A"}},null,null,null,null,null,null,null,null,{"$f":"VLOOKUP(Tabelle1[[#This Row],[Budgetlinie]],Ausfüllhilfe!$A$1:$D$23,4,0)","v":{"$error":"#N/A"}}]
[{"$f":"INDEX(Tabelle2[[#All],[Budgetlinie]],MATCH(Tabelle1[[#This Row],[Maßnahme]],Ausfüllhilfe!$C$1:$C$22,0))","v":{"$error":"#N/A"}},null,null,null,null,null,null,null,null,{"$f":"VLOOKUP(Tabelle1[[#This Row],[Budgetlinie]],Ausfüllhilfe!$A$1:$D$23,4,0)","v":{"$error":"#N/A"}}]
[{"$f":"INDEX(Tabelle2[[#All],[Budgetlinie]],MATCH(Tabelle1[[#This Row],[Maßnahme]],Ausfüllhilfe!$C$1:$C$22,0))","v":{"$error":"#N/A"}},null,null,null,null,null,null,null,null,{"$f":"VLOOKUP(Tabelle1[[#This Row],[Budgetlinie]],Ausfüllhilfe!$A$1:$D$23,4,0)","v":{"$error":"#N/A"}}]
[{"$f":"INDEX(Tabelle2[[#All],[Budgetlinie]],MATCH(Tabelle1[[#This Row],[Maßnahme]],Ausfüllhilfe!$C$1:$C$22,0))","v":{"$error":"#N/A"}},null,null,null,null,null,null,null,null,{"$f":"VLOOKUP(Tabelle1[[#This Row],[Budgetlinie]],Ausfüllhilfe!$A$1:$D$23,4,0)","v":{"$error":"#N/A"}}]
[{"$f":"INDEX(Tabelle2[[#All],[Budgetlinie]],MATCH(Tabelle1[[#This Row],[Maßnahme]],Ausfüllhilfe!$C$1:$C$22,0))","v":{"$error":"#N/A"}},null,null,null,null,null,null,null,null,{"$f":"VLOOKUP(Tabelle1[[#This Row],[Budgetlinie]],Ausfüllhilfe!$A$1:$D$23,4,0)","v":{"$error":"#N/A"}}]
[{"$f":"INDEX(Tabelle2[[#All],[Budgetlinie]],MATCH(Tabelle1[[#This Row],[Maßnahme]],Ausfüllhilfe!$C$1:$C$22,0))","v":{"$error":"#N/A"}},null,null,null,null,null,null,null,null,{"$f":"VLOOKUP(Tabelle1[[#This Row],[Budgetlinie]],Ausfüllhilfe!$A$1:$D$23,4,0)","v":{"$error":"#N/A"}}]
[{"$f":"INDEX(Tabelle2[[#All],[Budgetlinie]],MATCH(Tabelle1[[#This Row],[Maßnahme]],Ausfüllhilfe!$C$1:$C$22,0))","v":{"$error":"#N/A"}},null,null,null,null,null,null,null,null,{"$f":"VLOOKUP(Tabelle1[[#This Row],[Budgetlinie]],Ausfüllhilfe!$A$1:$D$23,4,0)","v":{"$error":"#N/A"}}]
[{"$f":"INDEX(Tabelle2[[#All],[Budgetlinie]],MATCH(Tabelle1[[#This Row],[Maßnahme]],Ausfüllhilfe!$C$1:$C$22,0))","v":{"$error":"#N/A"}},null,null,null,null,null,null,null,null,{"$f":"VLOOKUP(Tabelle1[[#This Row],[Budgetlinie]],Ausfüllhilfe!$A$1:$D$23,4,0)","v":{"$error":"#N/A"}}]
[{"$f":"INDEX(Tabelle2[[#All],[Budgetlinie]],MATCH(Tabelle1[[#This Row],[Maßnahme]],Ausfüllhilfe!$C$1:$C$22,0))","v":{"$error":"#N/A"}},null,null,null,null,null,null,null,null,{"$f":"VLOOKUP(Tabelle1[[#This Row],[Budgetlinie]],Ausfüllhilfe!$A$1:$D$23,4,0)","v":{"$error":"#N/A"}}]
[{"$f":"INDEX(Tabelle2[[#All],[Budgetlinie]],MATCH(Tabelle1[[#This Row],[Maßnahme]],Ausfüllhilfe!$C$1:$C$22,0))","v":{"$error":"#N/A"}},null,null,null,null,null,null,null,null,{"$f":"VLOOKUP(Tabelle1[[#This Row],[Budgetlinie]],Ausfüllhilfe!$A$1:$D$23,4,0)","v":{"$error":"#N/A"}}]
[{"$f":"INDEX(Tabelle2[[#All],[Budgetlinie]],MATCH(Tabelle1[[#This Row],[Maßnahme]],Ausfüllhilfe!$C$1:$C$22,0))","v":{"$error":"#N/A"}},null,null,null,null,null,null,null,null,{"$f":"VLOOKUP(Tabelle1[[#This Row],[Budgetlinie]],Ausfüllhilfe!$A$1:$D$23,4,0)","v":{"$error":"#N/A"}}]
[{"$f":"INDEX(Tabelle2[[#All],[Budgetlinie]],MATCH(Tabelle1[[#This Row],[Maßnahme]],Ausfüllhilfe!$C$1:$C$22,0))","v":{"$error":"#N/A"}},null,null,null,null,null,null,null,null,{"$f":"VLOOKUP(Tabelle1[[#This Row],[Budgetlinie]],Ausfüllhilfe!$A$1:$D$23,4,0)","v":{"$error":"#N/A"}}]
[{"$f":"INDEX(Tabelle2[[#All],[Budgetlinie]],MATCH(Tabelle1[[#This Row],[Maßnahme]],Ausfüllhilfe!$C$1:$C$22,0))","v":{"$error":"#N/A"}},null,null,null,null,null,null,null,null,{"$f":"VLOOKUP(Tabelle1[[#This Row],[Budgetlinie]],Ausfüllhilfe!$A$1:$D$23,4,0)","v":{"$error":"#N/A"}}]
[{"$f":"INDEX(Tabelle2[[#All],[Budgetlinie]],MATCH(Tabelle1[[#This Row],[Maßnahme]],Ausfüllhilfe!$C$1:$C$22,0))","v":{"$error":"#N/A"}},null,null,null,null,null,null,null,null,{"$f":"VLOOKUP(Tabelle1[[#This Row],[Budgetlinie]],Ausfüllhilfe!$A$1:$D$23,4,0)","v":{"$error":"#N/A"}}]
[{"$f":"INDEX(Tabelle2[[#All],[Budgetlinie]],MATCH(Tabelle1[[#This Row],[Maßnahme]],Ausfüllhilfe!$C$1:$C$22,0))","v":{"$error":"#N/A"}},null,null,null,null,null,null,null,null,{"$f":"VLOOKUP(Tabelle1[[#This Row],[Budgetlinie]],Ausfüllhilfe!$A$1:$D$23,4,0)","v":{"$error":"#N/A"}}]
[{"$f":"INDEX(Tabelle2[[#All],[Budgetlinie]],MATCH(Tabelle1[[#This Row],[Maßnahme]],Ausfüllhilfe!$C$1:$C$22,0))","v":{"$error":"#N/A"}},null,null,null,null,null,null,null,null,{"$f":"VLOOKUP(Tabelle1[[#This Row],[Budgetlinie]],Ausfüllhilfe!$A$1:$D$23,4,0)","v":{"$error":"#N/A"}}]
[{"$f":"INDEX(Tabelle2[[#All],[Budgetlinie]],MATCH(Tabelle1[[#This Row],[Maßnahme]],Ausfüllhilfe!$C$1:$C$22,0))","v":{"$error":"#N/A"}},null,null,null,null,null,null,null,null,{"$f":"VLOOKUP(Tabelle1[[#This Row],[Budgetlinie]],Ausfüllhilfe!$A$1:$D$23,4,0)","v":{"$error":"#N/A"}}]
[{"$f":"INDEX(Tabelle2[[#All],[Budgetlinie]],MATCH(Tabelle1[[#This Row],[Maßnahme]],Ausfüllhilfe!$C$1:$C$22,0))","v":{"$error":"#N/A"}},null,null,null,null,null,null,null,null,{"$f":"VLOOKUP(Tabelle1[[#This Row],[Budgetlinie]],Ausfüllhilfe!$A$1:$D$23,4,0)","v":{"$error":"#N/A"}}]
[{"$f":"INDEX(Tabelle2[[#All],[Budgetlinie]],MATCH(Tabelle1[[#This Row],[Maßnahme]],Ausfüllhilfe!$C$1:$C$22,0))","v":{"$error":"#N/A"}},null,null,null,null,null,null,null,null,{"$f":"VLOOKUP(Tabelle1[[#This Row],[Budgetlinie]],Ausfüllhilfe!$A$1:$D$23,4,0)","v":{"$error":"#N/A"}}]
[{"$f":"INDEX(Tabelle2[[#All],[Budgetlinie]],MATCH(Tabelle1[[#This Row],[Maßnahme]],Ausfüllhilfe!$C$1:$C$22,0))","v":{"$error":"#N/A"}},null,null,null,null,null,null,null,null,{"$f":"VLOOKUP(Tabelle1[[#This Row],[Budgetlinie]],Ausfüllhilfe!$A$1:$D$23,4,0)","v":{"$error":"#N/A"}}]
[{"$f":"INDEX(Tabelle2[[#All],[Budgetlinie]],MATCH(Tabelle1[[#This Row],[Maßnahme]],Ausfüllhilfe!$C$1:$C$22,0))","v":{"$error":"#N/A"}},null,null,null,null,null,null,null,null,{"$f":"VLOOKUP(Tabelle1[[#This Row],[Budgetlinie]],Ausfüllhilfe!$A$1:$D$23,4,0)","v":{"$error":"#N/A"}}]
[{"$f":"INDEX(Tabelle2[[#All],[Budgetlinie]],MATCH(Tabelle1[[#This Row],[Maßnahme]],Ausfüllhilfe!$C$1:$C$22,0))","v":{"$error":"#N/A"}},null,null,null,null,null,null,null,null,{"$f":"VLOOKUP(Tabelle1[[#This Row],[Budgetlinie]],Ausfüllhilfe!$A$1:$D$23,4,0)","v":{"$error":"#N/A"}}]
[{"$f":"INDEX(Tabelle2[[#All],[Budgetlinie]],MATCH(Tabelle1[[#This Row],[Maßnahme]],Ausfüllhilfe!$C$1:$C$22,0))","v":{"$error":"#N/A"}},null,null,null,null,null,null,null,null,{"$f":"VLOOKUP(Tabelle1[[#This Row],[Budgetlinie]],Ausfüllhilfe!$A$1:$D$23,4,0)","v":{"$error":"#N/A"}}]
[{"$f":"INDEX(Tabelle2[[#All],[Budgetlinie]],MATCH(Tabelle1[[#This Row],[Maßnahme]],Ausfüllhilfe!$C$1:$C$22,0))","v":{"$error":"#N/A"}},null,null,null,null,null,null,null,null,{"$f":"VLOOKUP(Tabelle1[[#This Row],[Budgetlinie]],Ausfüllhilfe!$A$1:$D$23,4,0)","v":{"$error":"#N/A"}}]
[{"$f":"INDEX(Tabelle2[[#All],[Budgetlinie]],MATCH(Tabelle1[[#This Row],[Maßnahme]],Ausfüllhilfe!$C$1:$C$22,0))","v":{"$error":"#N/A"}},null,null,null,null,null,null,null,null,{"$f":"VLOOKUP(Tabelle1[[#This Row],[Budgetlinie]],Ausfüllhilfe!$A$1:$D$23,4,0)","v":{"$error":"#N/A"}}]
[{"$f":"INDEX(Tabelle2[[#All],[Budgetlinie]],MATCH(Tabelle1[[#This Row],[Maßnahme]],Ausfüllhilfe!$C$1:$C$22,0))","v":{"$error":"#N/A"}},null,null,null,null,null,null,null,null,{"$f":"VLOOKUP(Tabelle1[[#This Row],[Budgetlinie]],Ausfüllhilfe!$A$1:$D$23,4,0)","v":{"$error":"#N/A"}}]
[{"$f":"INDEX(Tabelle2[[#All],[Budgetlinie]],MATCH(Tabelle1[[#This Row],[Maßnahme]],Ausfüllhilfe!$C$1:$C$22,0))","v":{"$error":"#N/A"}},null,null,null,null,null,null,null,null,{"$f":"VLOOKUP(Tabelle1[[#This Row],[Budgetlinie]],Ausfüllhilfe!$A$1:$D$23,4,0)","v":{"$error":"#N/A"}}]
[{"$f":"INDEX(Tabelle2[[#All],[Budgetlinie]],MATCH(Tabelle1[[#This Row],[Maßnahme]],Ausfüllhilfe!$C$1:$C$22,0))","v":{"$error":"#N/A"}},null,null,null,null,null,null,null,null,{"$f":"VLOOKUP(Tabelle1[[#This Row],[Budgetlinie]],Ausfüllhilfe!$A$1:$D$23,4,0)","v":{"$error":"#N/A"}}]
[{"$f":"INDEX(Tabelle2[[#All],[Budgetlinie]],MATCH(Tabelle1[[#This Row],[Maßnahme]],Ausfüllhilfe!$C$1:$C$22,0))","v":{"$error":"#N/A"}},null,null,null,null,null,null,null,null,{"$f":"VLOOKUP(Tabelle1[[#This Row],[Budgetlinie]],Ausfüllhilfe!$A$1:$D$23,4,0)","v":{"$error":"#N/A"}}]
[{"$f":"INDEX(Tabelle2[[#All],[Budgetlinie]],MATCH(Tabelle1[[#This Row],[Maßnahme]],Ausfüllhilfe!$C$1:$C$22,0))","v":{"$error":"#N/A"}},null,null,null,null,null,null,null,null,{"$f":"VLOOKUP(Tabelle1[[#This Row],[Budgetlinie]],Ausfüllhilfe!$A$1:$D$23,4,0)","v":{"$error":"#N/A"}}]
[{"$f":"INDEX(Tabelle2[[#All],[Budgetlinie]],MATCH(Tabelle1[[#This Row],[Maßnahme]],Ausfüllhilfe!$C$1:$C$22,0))","v":{"$error":"#N/A"}},null,null,null,null,null,null,null,null,{"$f":"VLOOKUP(Tabelle1[[#This Row],[Budgetlinie]],Ausfüllhilfe!$A$1:$D$23,4,0)","v":{"$error":"#N/A"}}]
[{"$f":"INDEX(Tabelle2[[#All],[Budgetlinie]],MATCH(Tabelle1[[#This Row],[Maßnahme]],Ausfüllhilfe!$C$1:$C$22,0))","v":{"$error":"#N/A"}},null,null,null,null,null,null,null,null,{"$f":"VLOOKUP(Tabelle1[[#This Row],[Budgetlinie]],Ausfüllhilfe!$A$1:$D$23,4,0)","v":{"$error":"#N/A"}}]
[{"$f":"INDEX(Tabelle2[[#All],[Budgetlinie]],MATCH(Tabelle1[[#This Row],[Maßnahme]],Ausfüllhilfe!$C$1:$C$22,0))","v":{"$error":"#N/A"}},null,null,null,null,null,null,null,null,{"$f":"VLOOKUP(Tabelle1[[#This Row],[Budgetlinie]],Ausfüllhilfe!$A$1:$D$23,4,0)","v":{"$error":"#N/A"}}]
[{"$f":"INDEX(Tabelle2[[#All],[Budgetlinie]],MATCH(Tabelle1[[#This Row],[Maßnahme]],Ausfüllhilfe!$C$1:$C$22,0))","v":{"$error":"#N/A"}},null,null,null,null,null,null,null,null,{"$f":"VLOOKUP(Tabelle1[[#This Row],[Budgetlinie]],Ausfüllhilfe!$A$1:$D$23,4,0)","v":{"$error":"#N/A"}}]
[{"$f":"INDEX(Tabelle2[[#All],[Budgetlinie]],MATCH(Tabelle1[[#This Row],[Maßnahme]],Ausfüllhilfe!$C$1:$C$22,0))","v":{"$error":"#N/A"}},null,null,null,null,null,null,null,null,{"$f":"VLOOKUP(Tabelle1[[#This Row],[Budgetlinie]],Ausfüllhilfe!$A$1:$D$23,4,0)","v":{"$error":"#N/A"}}]
[{"$f":"INDEX(Tabelle2[[#All],[Budgetlinie]],MATCH(Tabelle1[[#This Row],[Maßnahme]],Ausfüllhilfe!$C$1:$C$22,0))","v":{"$error":"#N/A"}},null,null,null,null,null,null,null,null,{"$f":"VLOOKUP(Tabelle1[[#This Row],[Budgetlinie]],Ausfüllhilfe!$A$1:$D$23,4,0)","v":{"$error":"#N/A"}}]
[{"$f":"INDEX(Tabelle2[[#All],[Budgetlinie]],MATCH(Tabelle1[[#This Row],[Maßnahme]],Ausfüllhilfe!$C$1:$C$22,0))","v":{"$error":"#N/A"}},null,null,null,null,null,null,null,null,{"$f":"VLOOKUP(Tabelle1[[#This Row],[Budgetlinie]],Ausfüllhilfe!$A$1:$D$23,4,0)","v":{"$error":"#N/A"}}]
[{"$f":"INDEX(Tabelle2[[#All],[Budgetlinie]],MATCH(Tabelle1[[#This Row],[Maßnahme]],Ausfüllhilfe!$C$1:$C$22,0))","v":{"$error":"#N/A"}},null,null,null,null,null,null,null,null,{"$f":"VLOOKUP(Tabelle1[[#This Row],[Budgetlinie]],Ausfüllhilfe!$A$1:$D$23,4,0)","v":{"$error":"#N/A"}}]
[{"$f":"INDEX(Tabelle2[[#All],[Budgetlinie]],MATCH(Tabelle1[[#This Row],[Maßnahme]],Ausfüllhilfe!$C$1:$C$22,0))","v":{"$error":"#N/A"}},null,null,null,null,null,null,null,null,{"$f":"VLOOKUP(Tabelle1[[#This Row],[Budgetlinie]],Ausfüllhilfe!$A$1:$D$23,4,0)","v":{"$error":"#N/A"}}]
[{"$f":"INDEX(Tabelle2[[#All],[Budgetlinie]],MATCH(Tabelle1[[#This Row],[Maßnahme]],Ausfüllhilfe!$C$1:$C$22,0))","v":{"$error":"#N/A"}},null,null,null,null,null,null,null,null,{"$f":"VLOOKUP(Tabelle1[[#This Row],[Budgetlinie]],Ausfüllhilfe!$A$1:$D$23,4,0)","v":{"$error":"#N/A"}}]
[{"$f":"INDEX(Tabelle2[[#All],[Budgetlinie]],MATCH(Tabelle1[[#This Row],[Maßnahme]],Ausfüllhilfe!$C$1:$C$22,0))","v":{"$error":"#N/A"}},null,null,null,null,null,null,null,null,{"$f":"VLOOKUP(Tabelle1[[#This Row],[Budgetlinie]],Ausfüllhilfe!$A$1:$D$23,4,0)","v":{"$error":"#N/A"}}]
[{"$f":"INDEX(Tabelle2[[#All],[Budgetlinie]],MATCH(Tabelle1[[#This Row],[Maßnahme]],Ausfüllhilfe!$C$1:$C$22,0))","v":{"$error":"#N/A"}},null,null,null,null,null,null,null,null,{"$f":"VLOOKUP(Tabelle1[[#This Row],[Budgetlinie]],Ausfüllhilfe!$A$1:$D$23,4,0)","v":{"$error":"#N/A"}}]
[{"$f":"INDEX(Tabelle2[[#All],[Budgetlinie]],MATCH(Tabelle1[[#This Row],[Maßnahme]],Ausfüllhilfe!$C$1:$C$22,0))","v":{"$error":"#N/A"}},null,null,null,null,null,null,null,null,{"$f":"VLOOKUP(Tabelle1[[#This Row],[Budgetlinie]],Ausfüllhilfe!$A$1:$D$23,4,0)","v":{"$error":"#N/A"}}]
[{"$f":"INDEX(Tabelle2[[#All],[Budgetlinie]],MATCH(Tabelle1[[#This Row],[Maßnahme]],Ausfüllhilfe!$C$1:$C$22,0))","v":{"$error":"#N/A"}},null,null,null,null,null,null,null,null,{"$f":"VLOOKUP(Tabelle1[[#This Row],[Budgetlinie]],Ausfüllhilfe!$A$1:$D$23,4,0)","v":{"$error":"#N/A"}}]
[{"$f":"INDEX(Tabelle2[[#All],[Budgetlinie]],MATCH(Tabelle1[[#This Row],[Maßnahme]],Ausfüllhilfe!$C$1:$C$22,0))","v":{"$error":"#N/A"}},null,null,null,null,null,null,null,null,{"$f":"VLOOKUP(Tabelle1[[#This Row],[Budgetlinie]],Ausfüllhilfe!$A$1:$D$23,4,0)","v":{"$error":"#N/A"}}]
[{"$f":"INDEX(Tabelle2[[#All],[Budgetlinie]],MATCH(Tabelle1[[#This Row],[Maßnahme]],Ausfüllhilfe!$C$1:$C$22,0))","v":{"$error":"#N/A"}},null,null,null,null,null,null,null,null,{"$f":"VLOOKUP(Tabelle1[[#This Row],[Budgetlinie]],Ausfüllhilfe!$A$1:$D$23,4,0)","v":{"$error":"#N/A"}}]
[{"$f":"INDEX(Tabelle2[[#All],[Budgetlinie]],MATCH(Tabelle1[[#This Row],[Maßnahme]],Ausfüllhilfe!$C$1:$C$22,0))","v":{"$error":"#N/A"}},null,null,null,null,null,null,null,null,{"$f":"VLOOKUP(Tabelle1[[#This Row],[Budgetlinie]],Ausfüllhilfe!$A$1:$D$23,4,0)","v":{"$error":"#N/A"}}]
[{"$f":"INDEX(Tabelle2[[#All],[Budgetlinie]],MATCH(Tabelle1[[#This Row],[Maßnahme]],Ausfüllhilfe!$C$1:$C$22,0))","v":{"$error":"#N/A"}},null,null,null,null,null,null,null,null,{"$f":"VLOOKUP(Tabelle1[[#This Row],[Budgetlinie]],Ausfüllhilfe!$A$1:$D$23,4,0)","v":{"$error":"#N/A"}}]
[{"$f":"INDEX(Tabelle2[[#All],[Budgetlinie]],MATCH(Tabelle1[[#This Row],[Maßnahme]],Ausfüllhilfe!$C$1:$C$22,0))","v":{"$error":"#N/A"}},null,null,null,null,null,null,null,null,{"$f":"VLOOKUP(Tabelle1[[#This Row],[Budgetlinie]],Ausfüllhilfe!$A$1:$D$23,4,0)","v":{"$error":"#N/A"}}]
[{"$f":"INDEX(Tabelle2[[#All],[Budgetlinie]],MATCH(Tabelle1[[#This Row],[Maßnahme]],Ausfüllhilfe!$C$1:$C$22,0))","v":{"$error":"#N/A"}},null,null,null,null,null,null,null,null,{"$f":"VLOOKUP(Tabelle1[[#This Row],[Budgetlinie]],Ausfüllhilfe!$A$1:$D$23,4,0)","v":{"$error":"#N/A"}}]
[{"$f":"INDEX(Tabelle2[[#All],[Budgetlinie]],MATCH(Tabelle1[[#This Row],[Maßnahme]],Ausfüllhilfe!$C$1:$C$22,0))","v":{"$error":"#N/A"}},null,null,null,null,null,null,null,null,{"$f":"VLOOKUP(Tabelle1[[#This Row],[Budgetlinie]],Ausfüllhilfe!$A$1:$D$23,4,0)","v":{"$error":"#N/A"}}]
[{"$f":"INDEX(Tabelle2[[#All],[Budgetlinie]],MATCH(Tabelle1[[#This Row],[Maßnahme]],Ausfüllhilfe!$C$1:$C$22,0))","v":{"$error":"#N/A"}},null,null,null,null,null,null,null,null,{"$f":"VLOOKUP(Tabelle1[[#This Row],[Budgetlinie]],Ausfüllhilfe!$A$1:$D$23,4,0)","v":{"$error":"#N/A"}}]
[{"$f":"INDEX(Tabelle2[[#All],[Budgetlinie]],MATCH(Tabelle1[[#This Row],[Maßnahme]],Ausfüllhilfe!$C$1:$C$22,0))","v":{"$error":"#N/A"}},null,null,null,null,null,null,null,null,{"$f":"VLOOKUP(Tabelle1[[#This Row],[Budgetlinie]],Ausfüllhilfe!$A$1:$D$23,4,0)","v":{"$error":"#N/A"}}]
[{"$f":"INDEX(Tabelle2[[#All],[Budgetlinie]],MATCH(Tabelle1[[#This Row],[Maßnahme]],Ausfüllhilfe!$C$1:$C$22,0))","v":{"$error":"#N/A"}},null,null,null,null,null,null,null,null,{"$f":"VLOOKUP(Tabelle1[[#This Row],[Budgetlinie]],Ausfüllhilfe!$A$1:$D$23,4,0)","v":{"$error":"#N/A"}}]
[{"$f":"INDEX(Tabelle2[[#All],[Budgetlinie]],MATCH(Tabelle1[[#This Row],[Maßnahme]],Ausfüllhilfe!$C$1:$C$22,0))","v":{"$error":"#N/A"}},null,null,null,null,null,null,null,null,{"$f":"VLOOKUP(Tabelle1[[#This Row],[Budgetlinie]],Ausfüllhilfe!$A$1:$D$23,4,0)","v":{"$error":"#N/A"}}]
[{"$f":"INDEX(Tabelle2[[#All],[Budgetlinie]],MATCH(Tabelle1[[#This Row],[Maßnahme]],Ausfüllhilfe!$C$1:$C$22,0))","v":{"$error":"#N/A"}},null,null,null,null,null,null,null,null,{"$f":"VLOOKUP(Tabelle1[[#This Row],[Budgetlinie]],Ausfüllhilfe!$A$1:$D$23,4,0)","v":{"$error":"#N/A"}}]
[{"$f":"INDEX(Tabelle2[[#All],[Budgetlinie]],MATCH(Tabelle1[[#This Row],[Maßnahme]],Ausfüllhilfe!$C$1:$C$22,0))","v":{"$error":"#N/A"}},null,null,null,null,null,null,null,null,{"$f":"VLOOKUP(Tabelle1[[#This Row],[Budgetlinie]],Ausfüllhilfe!$A$1:$D$23,4,0)","v":{"$error":"#N/A"}}]
[{"$f":"INDEX(Tabelle2[[#All],[Budgetlinie]],MATCH(Tabelle1[[#This Row],[Maßnahme]],Ausfüllhilfe!$C$1:$C$22,0))","v":{"$error":"#N/A"}},null,null,null,null,null,null,null,null,{"$f":"VLOOKUP(Tabelle1[[#This Row],[Budgetlinie]],Ausfüllhilfe!$A$1:$D$23,4,0)","v":{"$error":"#N/A"}}]
[{"$f":"INDEX(Tabelle2[[#All],[Budgetlinie]],MATCH(Tabelle1[[#This Row],[Maßnahme]],Ausfüllhilfe!$C$1:$C$22,0))","v":{"$error":"#N/A"}},null,null,null,null,null,null,null,null,{"$f":"VLOOKUP(Tabelle1[[#This Row],[Budgetlinie]],Ausfüllhilfe!$A$1:$D$23,4,0)","v":{"$error":"#N/A"}}]
[{"$f":"INDEX(Tabelle2[[#All],[Budgetlinie]],MATCH(Tabelle1[[#This Row],[Maßnahme]],Ausfüllhilfe!$C$1:$C$22,0))","v":{"$error":"#N/A"}},null,null,null,null,null,null,null,null,{"$f":"VLOOKUP(Tabelle1[[#This Row],[Budgetlinie]],Ausfüllhilfe!$A$1:$D$23,4,0)","v":{"$error":"#N/A"}}]
[{"$f":"INDEX(Tabelle2[[#All],[Budgetlinie]],MATCH(Tabelle1[[#This Row],[Maßnahme]],Ausfüllhilfe!$C$1:$C$22,0))","v":{"$error":"#N/A"}},null,null,null,null,null,null,null,null,{"$f":"VLOOKUP(Tabelle1[[#This Row],[Budgetlinie]],Ausfüllhilfe!$A$1:$D$23,4,0)","v":{"$error":"#N/A"}}]
[{"$f":"INDEX(Tabelle2[[#All],[Budgetlinie]],MATCH(Tabelle1[[#This Row],[Maßnahme]],Ausfüllhilfe!$C$1:$C$22,0))","v":{"$error":"#N/A"}},null,null,null,null,null,null,null,null,{"$f":"VLOOKUP(Tabelle1[[#This Row],[Budgetlinie]],Ausfüllhilfe!$A$1:$D$23,4,0)","v":{"$error":"#N/A"}}]
[{"$f":"INDEX(Tabelle2[[#All],[Budgetlinie]],MATCH(Tabelle1[[#This Row],[Maßnahme]],Ausfüllhilfe!$C$1:$C$22,0))","v":{"$error":"#N/A"}},null,null,null,null,null,null,null,null,{"$f":"VLOOKUP(Tabelle1[[#This Row],[Budgetlinie]],Ausfüllhilfe!$A$1:$D$23,4,0)","v":{"$error":"#N/A"}}]
[{"$f":"INDEX(Tabelle2[[#All],[Budgetlinie]],MATCH(Tabelle1[[#This Row],[Maßnahme]],Ausfüllhilfe!$C$1:$C$22,0))","v":{"$error":"#N/A"}},null,null,null,null,null,null,null,null,{"$f":"VLOOKUP(Tabelle1[[#This Row],[Budgetlinie]],Ausfüllhilfe!$A$1:$D$23,4,0)","v":{"$error":"#N/A"}}]
[{"$f":"INDEX(Tabelle2[[#All],[Budgetlinie]],MATCH(Tabelle1[[#This Row],[Maßnahme]],Ausfüllhilfe!$C$1:$C$22,0))","v":{"$error":"#N/A"}},null,null,null,null,null,null,null,null,{"$f":"VLOOKUP(Tabelle1[[#This Row],[Budgetlinie]],Ausfüllhilfe!$A$1:$D$23,4,0)","v":{"$error":"#N/A"}}]
[{"$f":"INDEX(Tabelle2[[#All],[Budgetlinie]],MATCH(Tabelle1[[#This Row],[Maßnahme]],Ausfüllhilfe!$C$1:$C$22,0))","v":{"$error":"#N/A"}},null,null,null,null,null,null,null,null,{"$f":"VLOOKUP(Tabelle1[[#This Row],[Budgetlinie]],Ausfüllhilfe!$A$1:$D$23,4,0)","v":{"$error":"#N/A"}}]
[{"$f":"INDEX(Tabelle2[[#All],[Budgetlinie]],MATCH(Tabelle1[[#This Row],[Maßnahme]],Ausfüllhilfe!$C$1:$C$22,0))","v":{"$error":"#N/A"}},null,null,null,null,null,null,null,null,{"$f":"VLOOKUP(Tabelle1[[#This Row],[Budgetlinie]],Ausfüllhilfe!$A$1:$D$23,4,0)","v":{"$error":"#N/A"}}]
[{"$f":"INDEX(Tabelle2[[#All],[Budgetlinie]],MATCH(Tabelle1[[#This Row],[Maßnahme]],Ausfüllhilfe!$C$1:$C$22,0))","v":{"$error":"#N/A"}},null,null,null,null,null,null,null,null,{"$f":"VLOOKUP(Tabelle1[[#This Row],[Budgetlinie]],Ausfüllhilfe!$A$1:$D$23,4,0)","v":{"$error":"#N/A"}}]
[{"$f":"INDEX(Tabelle2[[#All],[Budgetlinie]],MATCH(Tabelle1[[#This Row],[Maßnahme]],Ausfüllhilfe!$C$1:$C$22,0))","v":{"$error":"#N/A"}},null,null,null,null,null,null,null,null,{"$f":"VLOOKUP(Tabelle1[[#This Row],[Budgetlinie]],Ausfüllhilfe!$A$1:$D$23,4,0)","v":{"$error":"#N/A"}}]
[{"$f":"INDEX(Tabelle2[[#All],[Budgetlinie]],MATCH(Tabelle1[[#This Row],[Maßnahme]],Ausfüllhilfe!$C$1:$C$22,0))","v":{"$error":"#N/A"}},null,null,null,null,null,null,null,null,{"$f":"VLOOKUP(Tabelle1[[#This Row],[Budgetlinie]],Ausfüllhilfe!$A$1:$D$23,4,0)","v":{"$error":"#N/A"}}]
[{"$f":"INDEX(Tabelle2[[#All],[Budgetlinie]],MATCH(Tabelle1[[#This Row],[Maßnahme]],Ausfüllhilfe!$C$1:$C$22,0))","v":{"$error":"#N/A"}},null,null,null,null,null,null,null,null,{"$f":"VLOOKUP(Tabelle1[[#This Row],[Budgetlinie]],Ausfüllhilfe!$A$1:$D$23,4,0)","v":{"$error":"#N/A"}}]
[{"$f":"INDEX(Tabelle2[[#All],[Budgetlinie]],MATCH(Tabelle1[[#This Row],[Maßnahme]],Ausfüllhilfe!$C$1:$C$22,0))","v":{"$error":"#N/A"}},null,null,null,null,null,null,null,null,{"$f":"VLOOKUP(Tabelle1[[#This Row],[Budgetlinie]],Ausfüllhilfe!$A$1:$D$23,4,0)","v":{"$error":"#N/A"}}]
[{"$f":"INDEX(Tabelle2[[#All],[Budgetlinie]],MATCH(Tabelle1[[#This Row],[Maßnahme]],Ausfüllhilfe!$C$1:$C$22,0))","v":{"$error":"#N/A"}},null,null,null,null,null,null,null,null,{"$f":"VLOOKUP(Tabelle1[[#This Row],[Budgetlinie]],Ausfüllhilfe!$A$1:$D$23,4,0)","v":{"$error":"#N/A"}}]
[{"$f":"INDEX(Tabelle2[[#All],[Budgetlinie]],MATCH(Tabelle1[[#This Row],[Maßnahme]],Ausfüllhilfe!$C$1:$C$22,0))","v":{"$error":"#N/A"}},null,null,null,null,null,null,null,null,{"$f":"VLOOKUP(Tabelle1[[#This Row],[Budgetlinie]],Ausfüllhilfe!$A$1:$D$23,4,0)","v":{"$error":"#N/A"}}]
[{"$f":"INDEX(Tabelle2[[#All],[Budgetlinie]],MATCH(Tabelle1[[#This Row],[Maßnahme]],Ausfüllhilfe!$C$1:$C$22,0))","v":{"$error":"#N/A"}},null,null,null,null,null,null,null,null,{"$f":"VLOOKUP(Tabelle1[[#This Row],[Budgetlinie]],Ausfüllhilfe!$A$1:$D$23,4,0)","v":{"$error":"#N/A"}}]
[{"$f":"INDEX(Tabelle2[[#All],[Budgetlinie]],MATCH(Tabelle1[[#This Row],[Maßnahme]],Ausfüllhilfe!$C$1:$C$22,0))","v":{"$error":"#N/A"}},null,null,null,null,null,null,null,null,{"$f":"VLOOKUP(Tabelle1[[#This Row],[Budgetlinie]],Ausfüllhilfe!$A$1:$D$23,4,0)","v":{"$error":"#N/A"}}]
[{"$f":"INDEX(Tabelle2[[#All],[Budgetlinie]],MATCH(Tabelle1[[#This Row],[Maßnahme]],Ausfüllhilfe!$C$1:$C$22,0))","v":{"$error":"#N/A"}},null,null,null,null,null,null,null,null,{"$f":"VLOOKUP(Tabelle1[[#This Row],[Budgetlinie]],Ausfüllhilfe!$A$1:$D$23,4,0)","v":{"$error":"#N/A"}}]
[{"$f":"INDEX(Tabelle2[[#All],[Budgetlinie]],MATCH(Tabelle1[[#This Row],[Maßnahme]],Ausfüllhilfe!$C$1:$C$22,0))","v":{"$error":"#N/A"}},null,null,null,null,null,null,null,null,{"$f":"VLOOKUP(Tabelle1[[#This Row],[Budgetlinie]],Ausfüllhilfe!$A$1:$D$23,4,0)","v":{"$error":"#N/A"}}]
[{"$f":"INDEX(Tabelle2[[#All],[Budgetlinie]],MATCH(Tabelle1[[#This Row],[Maßnahme]],Ausfüllhilfe!$C$1:$C$22,0))","v":{"$error":"#N/A"}},null,null,null,null,null,null,null,null,{"$f":"VLOOKUP(Tabelle1[[#This Row],[Budgetlinie]],Ausfüllhilfe!$A$1:$D$23,4,0)","v":{"$error":"#N/A"}}]
[{"$f":"INDEX(Tabelle2[[#All],[Budgetlinie]],MATCH(Tabelle1[[#This Row],[Maßnahme]],Ausfüllhilfe!$C$1:$C$22,0))","v":{"$error":"#N/A"}},null,null,null,null,null,null,null,null,{"$f":"VLOOKUP(Tabelle1[[#This Row],[Budgetlinie]],Ausfüllhilfe!$A$1:$D$23,4,0)","v":{"$error":"#N/A"}}]
[{"$f":"INDEX(Tabelle2[[#All],[Budgetlinie]],MATCH(Tabelle1[[#This Row],[Maßnahme]],Ausfüllhilfe!$C$1:$C$22,0))","v":{"$error":"#N/A"}},null,null,null,null,null,null,null,null,{"$f":"VLOOKUP(Tabelle1[[#This Row],[Budgetlinie]],Ausfüllhilfe!$A$1:$D$23,4,0)","v":{"$error":"#N/A"}}]
[{"$f":"INDEX(Tabelle2[[#All],[Budgetlinie]],MATCH(Tabelle1[[#This Row],[Maßnahme]],Ausfüllhilfe!$C$1:$C$22,0))","v":{"$error":"#N/A"}},null,null,null,null,null,null,null,null,{"$f":"VLOOKUP(Tabelle1[[#This Row],[Budgetlinie]],Ausfüllhilfe!$A$1:$D$23,4,0)","v":{"$error":"#N/A"}}]
[{"$f":"INDEX(Tabelle2[[#All],[Budgetlinie]],MATCH(Tabelle1[[#This Row],[Maßnahme]],Ausfüllhilfe!$C$1:$C$22,0))","v":{"$error":"#N/A"}},null,null,null,null,null,null,null,null,{"$f":"VLOOKUP(Tabelle1[[#This Row],[Budgetlinie]],Ausfüllhilfe!$A$1:$D$23,4,0)","v":{"$error":"#N/A"}}]
[{"$f":"INDEX(Tabelle2[[#All],[Budgetlinie]],MATCH(Tabelle1[[#This Row],[Maßnahme]],Ausfüllhilfe!$C$1:$C$22,0))","v":{"$error":"#N/A"}},null,null,null,null,null,null,null,null,{"$f":"VLOOKUP(Tabelle1[[#This Row],[Budgetlinie]],Ausfüllhilfe!$A$1:$D$23,4,0)","v":{"$error":"#N/A"}}]
[{"$f":"INDEX(Tabelle2[[#All],[Budgetlinie]],MATCH(Tabelle1[[#This Row],[Maßnahme]],Ausfüllhilfe!$C$1:$C$22,0))","v":{"$error":"#N/A"}},null,null,null,null,null,null,null,null,{"$f":"VLOOKUP(Tabelle1[[#This Row],[Budgetlinie]],Ausfüllhilfe!$A$1:$D$23,4,0)","v":{"$error":"#N/A"}}]
[{"$f":"INDEX(Tabelle2[[#All],[Budgetlinie]],MATCH(Tabelle1[[#This Row],[Maßnahme]],Ausfüllhilfe!$C$1:$C$22,0))","v":{"$error":"#N/A"}},null,null,null,null,null,null,null,null,{"$f":"VLOOKUP(Tabelle1[[#This Row],[Budgetlinie]],Ausfüllhilfe!$A$1:$D$23,4,0)","v":{"$error":"#N/A"}}]
[{"$f":"INDEX(Tabelle2[[#All],[Budgetlinie]],MATCH(Tabelle1[[#This Row],[Maßnahme]],Ausfüllhilfe!$C$1:$C$22,0))","v":{"$error":"#N/A"}},null,null,null,null,null,null,null,null,{"$f":"VLOOKUP(Tabelle1[[#This Row],[Budgetlinie]],Ausfüllhilfe!$A$1:$D$23,4,0)","v":{"$error":"#N/A"}}]
[{"$f":"INDEX(Tabelle2[[#All],[Budgetlinie]],MATCH(Tabelle1[[#This Row],[Maßnahme]],Ausfüllhilfe!$C$1:$C$22,0))","v":{"$error":"#N/A"}},null,null,null,null,null,null,null,null,{"$f":"VLOOKUP(Tabelle1[[#This Row],[Budgetlinie]],Ausfüllhilfe!$A$1:$D$23,4,0)","v":{"$error":"#N/A"}}]
[{"$f":"INDEX(Tabelle2[[#All],[Budgetlinie]],MATCH(Tabelle1[[#This Row],[Maßnahme]],Ausfüllhilfe!$C$1:$C$22,0))","v":{"$error":"#N/A"}},null,null,null,null,null,null,null,null,{"$f":"VLOOKUP(Tabelle1[[#This Row],[Budgetlinie]],Ausfüllhilfe!$A$1:$D$23,4,0)","v":{"$error":"#N/A"}}]
[{"$f":"INDEX(Tabelle2[[#All],[Budgetlinie]],MATCH(Tabelle1[[#This Row],[Maßnahme]],Ausfüllhilfe!$C$1:$C$22,0))","v":{"$error":"#N/A"}},null,null,null,null,null,null,null,null,{"$f":"VLOOKUP(Tabelle1[[#This Row],[Budgetlinie]],Ausfüllhilfe!$A$1:$D$23,4,0)","v":{"$error":"#N/A"}}]
[{"$f":"INDEX(Tabelle2[[#All],[Budgetlinie]],MATCH(Tabelle1[[#This Row],[Maßnahme]],Ausfüllhilfe!$C$1:$C$22,0))","v":{"$error":"#N/A"}},null,null,null,null,null,null,null,null,{"$f":"VLOOKUP(Tabelle1[[#This Row],[Budgetlinie]],Ausfüllhilfe!$A$1:$D$23,4,0)","v":{"$error":"#N/A"}}]
[{"$f":"INDEX(Tabelle2[[#All],[Budgetlinie]],MATCH(Tabelle1[[#This Row],[Maßnahme]],Ausfüllhilfe!$C$1:$C$22,0))","v":{"$error":"#N/A"}},null,null,null,null,null,null,null,null,{"$f":"VLOOKUP(Tabelle1[[#This Row],[Budgetlinie]],Ausfüllhilfe!$A$1:$D$23,4,0)","v":{"$error":"#N/A"}}]
[{"$f":"INDEX(Tabelle2[[#All],[Budgetlinie]],MATCH(Tabelle1[[#This Row],[Maßnahme]],Ausfüllhilfe!$C$1:$C$22,0))","v":{"$error":"#N/A"}},null,null,null,null,null,null,null,null,{"$f":"VLOOKUP(Tabelle1[[#This Row],[Budgetlinie]],Ausfüllhilfe!$A$1:$D$23,4,0)","v":{"$error":"#N/A"}}]
[{"$f":"INDEX(Tabelle2[[#All],[Budgetlinie]],MATCH(Tabelle1[[#This Row],[Maßnahme]],Ausfüllhilfe!$C$1:$C$22,0))","v":{"$error":"#N/A"}},null,null,null,null,null,null,null,null,{"$f":"VLOOKUP(Tabelle1[[#This Row],[Budgetlinie]],Ausfüllhilfe!$A$1:$D$23,4,0)","v":{"$error":"#N/A"}}]
[{"$f":"INDEX(Tabelle2[[#All],[Budgetlinie]],MATCH(Tabelle1[[#This Row],[Maßnahme]],Ausfüllhilfe!$C$1:$C$22,0))","v":{"$error":"#N/A"}},null,null,null,null,null,null,null,null,{"$f":"VLOOKUP(Tabelle1[[#This Row],[Budgetlinie]],Ausfüllhilfe!$A$1:$D$23,4,0)","v":{"$error":"#N/A"}}]
[{"$f":"INDEX(Tabelle2[[#All],[Budgetlinie]],MATCH(Tabelle1[[#This Row],[Maßnahme]],Ausfüllhilfe!$C$1:$C$22,0))","v":{"$error":"#N/A"}},null,null,null,null,null,null,null,null,{"$f":"VLOOKUP(Tabelle1[[#This Row],[Budgetlinie]],Ausfüllhilfe!$A$1:$D$23,4,0)","v":{"$error":"#N/A"}}]
[{"$f":"INDEX(Tabelle2[[#All],[Budgetlinie]],MATCH(Tabelle1[[#This Row],[Maßnahme]],Ausfüllhilfe!$C$1:$C$22,0))","v":{"$error":"#N/A"}},null,null,null,null,null,null,null,null,{"$f":"VLOOKUP(Tabelle1[[#This Row],[Budgetlinie]],Ausfüllhilfe!$A$1:$D$23,4,0)","v":{"$error":"#N/A"}}]
[{"$f":"INDEX(Tabelle2[[#All],[Budgetlinie]],MATCH(Tabelle1[[#This Row],[Maßnahme]],Ausfüllhilfe!$C$1:$C$22,0))","v":{"$error":"#N/A"}},null,null,null,null,null,null,null,null,{"$f":"VLOOKUP(Tabelle1[[#This Row],[Budgetlinie]],Ausfüllhilfe!$A$1:$D$23,4,0)","v":{"$error":"#N/A"}}]
[{"$f":"INDEX(Tabelle2[[#All],[Budgetlinie]],MATCH(Tabelle1[[#This Row],[Maßnahme]],Ausfüllhilfe!$C$1:$C$22,0))","v":{"$error":"#N/A"}},null,null,null,null,null,null,null,null,{"$f":"VLOOKUP(Tabelle1[[#This Row],[Budgetlinie]],Ausfüllhilfe!$A$1:$D$23,4,0)","v":{"$error":"#N/A"}}]
[{"$f":"INDEX(Tabelle2[[#All],[Budgetlinie]],MATCH(Tabelle1[[#This Row],[Maßnahme]],Ausfüllhilfe!$C$1:$C$22,0))","v":{"$error":"#N/A"}},null,null,null,null,null,null,null,null,{"$f":"VLOOKUP(Tabelle1[[#This Row],[Budgetlinie]],Ausfüllhilfe!$A$1:$D$23,4,0)","v":{"$error":"#N/A"}}]
[{"$f":"INDEX(Tabelle2[[#All],[Budgetlinie]],MATCH(Tabelle1[[#This Row],[Maßnahme]],Ausfüllhilfe!$C$1:$C$22,0))","v":{"$error":"#N/A"}},null,null,null,null,null,null,null,null,{"$f":"VLOOKUP(Tabelle1[[#This Row],[Budgetlinie]],Ausfüllhilfe!$A$1:$D$23,4,0)","v":{"$error":"#N/A"}}]
[{"$f":"INDEX(Tabelle2[[#All],[Budgetlinie]],MATCH(Tabelle1[[#This Row],[Maßnahme]],Ausfüllhilfe!$C$1:$C$22,0))","v":{"$error":"#N/A"}},null,null,null,null,null,null,null,null,{"$f":"VLOOKUP(Tabelle1[[#This Row],[Budgetlinie]],Ausfüllhilfe!$A$1:$D$23,4,0)","v":{"$error":"#N/A"}}]
[{"$f":"INDEX(Tabelle2[[#All],[Budgetlinie]],MATCH(Tabelle1[[#This Row],[Maßnahme]],Ausfüllhilfe!$C$1:$C$22,0))","v":{"$error":"#N/A"}},null,null,null,null,null,null,null,null,{"$f":"VLOOKUP(Tabelle1[[#This Row],[Budgetlinie]],Ausfüllhilfe!$A$1:$D$23,4,0)","v":{"$error":"#N/A"}}]
[{"$f":"INDEX(Tabelle2[[#All],[Budgetlinie]],MATCH(Tabelle1[[#This Row],[Maßnahme]],Ausfüllhilfe!$C$1:$C$22,0))","v":{"$error":"#N/A"}},null,null,null,null,null,null,null,null,{"$f":"VLOOKUP(Tabelle1[[#This Row],[Budgetlinie]],Ausfüllhilfe!$A$1:$D$23,4,0)","v":{"$error":"#N/A"}}]
[{"$f":"INDEX(Tabelle2[[#All],[Budgetlinie]],MATCH(Tabelle1[[#This Row],[Maßnahme]],Ausfüllhilfe!$C$1:$C$22,0))","v":{"$error":"#N/A"}},null,null,null,null,null,null,null,null,{"$f":"VLOOKUP(Tabelle1[[#This Row],[Budgetlinie]],Ausfüllhilfe!$A$1:$D$23,4,0)","v":{"$error":"#N/A"}}]
[{"$f":"INDEX(Tabelle2[[#All],[Budgetlinie]],MATCH(Tabelle1[[#This Row],[Maßnahme]],Ausfüllhilfe!$C$1:$C$22,0))","v":{"$error":"#N/A"}},null,null,null,null,null,null,null,null,{"$f":"VLOOKUP(Tabelle1[[#This Row],[Budgetlinie]],Ausfüllhilfe!$A$1:$D$23,4,0)","v":{"$error":"#N/A"}}]
[{"$f":"INDEX(Tabelle2[[#All],[Budgetlinie]],MATCH(Tabelle1[[#This Row],[Maßnahme]],Ausfüllhilfe!$C$1:$C$22,0))","v":{"$error":"#N/A"}},null,null,null,null,null,null,null,null,{"$f":"VLOOKUP(Tabelle1[[#This Row],[Budgetlinie]],Ausfüllhilfe!$A$1:$D$23,4,0)","v":{"$error":"#N/A"}}]
[{"$f":"INDEX(Tabelle2[[#All],[Budgetlinie]],MATCH(Tabelle1[[#This Row],[Maßnahme]],Ausfüllhilfe!$C$1:$C$22,0))","v":{"$error":"#N/A"}},null,null,null,null,null,null,null,null,{"$f":"VLOOKUP(Tabelle1[[#This Row],[Budgetlinie]],Ausfüllhilfe!$A$1:$D$23,4,0)","v":{"$error":"#N/A"}}]
[{"$f":"INDEX(Tabelle2[[#All],[Budgetlinie]],MATCH(Tabelle1[[#This Row],[Maßnahme]],Ausfüllhilfe!$C$1:$C$22,0))","v":{"$error":"#N/A"}},null,null,null,null,null,null,null,null,{"$f":"VLOOKUP(Tabelle1[[#This Row],[Budgetlinie]],Ausfüllhilfe!$A$1:$D$23,4,0)","v":{"$error":"#N/A"}}]
[{"$f":"INDEX(Tabelle2[[#All],[Budgetlinie]],MATCH(Tabelle1[[#This Row],[Maßnahme]],Ausfüllhilfe!$C$1:$C$22,0))","v":{"$error":"#N/A"}},null,null,null,null,null,null,null,null,{"$f":"VLOOKUP(Tabelle1[[#This Row],[Budgetlinie]],Ausfüllhilfe!$A$1:$D$23,4,0)","v":{"$error":"#N/A"}}]
[{"$f":"INDEX(Tabelle2[[#All],[Budgetlinie]],MATCH(Tabelle1[[#This Row],[Maßnahme]],Ausfüllhilfe!$C$1:$C$22,0))","v":{"$error":"#N/A"}},null,null,null,null,null,null,null,null,{"$f":"VLOOKUP(Tabelle1[[#This Row],[Budgetlinie]],Ausfüllhilfe!$A$1:$D$23,4,0)","v":{"$error":"#N/A"}}]
[{"$f":"INDEX(Tabelle2[[#All],[Budgetlinie]],MATCH(Tabelle1[[#This Row],[Maßnahme]],Ausfüllhilfe!$C$1:$C$22,0))","v":{"$error":"#N/A"}},null,null,null,null,null,null,null,null,{"$f":"VLOOKUP(Tabelle1[[#This Row],[Budgetlinie]],Ausfüllhilfe!$A$1:$D$23,4,0)","v":{"$error":"#N/A"}}]
[{"$f":"INDEX(Tabelle2[[#All],[Budgetlinie]],MATCH(Tabelle1[[#This Row],[Maßnahme]],Ausfüllhilfe!$C$1:$C$22,0))","v":{"$error":"#N/A"}},null,null,null,null,null,null,null,null,{"$f":"VLOOKUP(Tabelle1[[#This Row],[Budgetlinie]],Ausfüllhilfe!$A$1:$D$23,4,0)","v":{"$error":"#N/A"}}]
[{"$f":"INDEX(Tabelle2[[#All],[Budgetlinie]],MATCH(Tabelle1[[#This Row],[Maßnahme]],Ausfüllhilfe!$C$1:$C$22,0))","v":{"$error":"#N/A"}},null,null,null,null,null,null,null,null,{"$f":"VLOOKUP(Tabelle1[[#This Row],[Budgetlinie]],Ausfüllhilfe!$A$1:$D$23,4,0)","v":{"$error":"#N/A"}}]
[{"$f":"INDEX(Tabelle2[[#All],[Budgetlinie]],MATCH(Tabelle1[[#This Row],[Maßnahme]],Ausfüllhilfe!$C$1:$C$22,0))","v":{"$error":"#N/A"}},null,null,null,null,null,null,null,null,{"$f":"VLOOKUP(Tabelle1[[#This Row],[Budgetlinie]],Ausfüllhilfe!$A$1:$D$23,4,0)","v":{"$error":"#N/A"}}]
[{"$f":"INDEX(Tabelle2[[#All],[Budgetlinie]],MATCH(Tabelle1[[#This Row],[Maßnahme]],Ausfüllhilfe!$C$1:$C$22,0))","v":{"$error":"#N/A"}},null,null,null,null,null,null,null,null,{"$f":"VLOOKUP(Tabelle1[[#This Row],[Budgetlinie]],Ausfüllhilfe!$A$1:$D$23,4,0)","v":{"$error":"#N/A"}}]
[{"$f":"INDEX(Tabelle2[[#All],[Budgetlinie]],MATCH(Tabelle1[[#This Row],[Maßnahme]],Ausfüllhilfe!$C$1:$C$22,0))","v":{"$error":"#N/A"}},null,null,null,null,null,null,null,null,{"$f":"VLOOKUP(Tabelle1[[#This Row],[Budgetlinie]],Ausfüllhilfe!$A$1:$D$23,4,0)","v":{"$error":"#N/A"}}]
[{"$f":"INDEX(Tabelle2[[#All],[Budgetlinie]],MATCH(Tabelle1[[#This Row],[Maßnahme]],Ausfüllhilfe!$C$1:$C$22,0))","v":{"$error":"#N/A"}},null,null,null,null,null,null,null,null,{"$f":"VLOOKUP(Tabelle1[[#This Row],[Budgetlinie]],Ausfüllhilfe!$A$1:$D$23,4,0)","v":{"$error":"#N/A"}}]
[{"$f":"INDEX(Tabelle2[[#All],[Budgetlinie]],MATCH(Tabelle1[[#This Row],[Maßnahme]],Ausfüllhilfe!$C$1:$C$22,0))","v":{"$error":"#N/A"}},null,null,null,null,null,null,null,null,{"$f":"VLOOKUP(Tabelle1[[#This Row],[Budgetlinie]],Ausfüllhilfe!$A$1:$D$23,4,0)","v":{"$error":"#N/A"}}]
[{"$f":"INDEX(Tabelle2[[#All],[Budgetlinie]],MATCH(Tabelle1[[#This Row],[Maßnahme]],Ausfüllhilfe!$C$1:$C$22,0))","v":{"$error":"#N/A"}},null,null,null,null,null,null,null,null,{"$f":"VLOOKUP(Tabelle1[[#This Row],[Budgetlinie]],Ausfüllhilfe!$A$1:$D$23,4,0)","v":{"$error":"#N/A"}}]
[{"$f":"INDEX(Tabelle2[[#All],[Budgetlinie]],MATCH(Tabelle1[[#This Row],[Maßnahme]],Ausfüllhilfe!$C$1:$C$22,0))","v":{"$error":"#N/A"}},null,null,null,null,null,null,null,null,{"$f":"VLOOKUP(Tabelle1[[#This Row],[Budgetlinie]],Ausfüllhilfe!$A$1:$D$23,4,0)","v":{"$error":"#N/A"}}]
[{"$f":"INDEX(Tabelle2[[#All],[Budgetlinie]],MATCH(Tabelle1[[#This Row],[Maßnahme]],Ausfüllhilfe!$C$1:$C$22,0))","v":{"$error":"#N/A"}},null,null,null,null,null,null,null,null,{"$f":"VLOOKUP(Tabelle1[[#This Row],[Budgetlinie]],Ausfüllhilfe!$A$1:$D$23,4,0)","v":{"$error":"#N/A"}}]
[{"$f":"INDEX(Tabelle2[[#All],[Budgetlinie]],MATCH(Tabelle1[[#This Row],[Maßnahme]],Ausfüllhilfe!$C$1:$C$22,0))","v":{"$error":"#N/A"}},null,null,null,null,null,null,null,null,{"$f":"VLOOKUP(Tabelle1[[#This Row],[Budgetlinie]],Ausfüllhilfe!$A$1:$D$23,4,0)","v":{"$error":"#N/A"}}]
[{"$f":"INDEX(Tabelle2[[#All],[Budgetlinie]],MATCH(Tabelle1[[#This Row],[Maßnahme]],Ausfüllhilfe!$C$1:$C$22,0))","v":{"$error":"#N/A"}},null,null,null,null,null,null,null,null,{"$f":"VLOOKUP(Tabelle1[[#This Row],[Budgetlinie]],Ausfüllhilfe!$A$1:$D$23,4,0)","v":{"$error":"#N/A"}}]
[{"$f":"INDEX(Tabelle2[[#All],[Budgetlinie]],MATCH(Tabelle1[[#This Row],[Maßnahme]],Ausfüllhilfe!$C$1:$C$22,0))","v":{"$error":"#N/A"}},null,null,null,null,null,null,null,null,{"$f":"VLOOKUP(Tabelle1[[#This Row],[Budgetlinie]],Ausfüllhilfe!$A$1:$D$23,4,0)","v":{"$error":"#N/A"}}]
[{"$f":"INDEX(Tabelle2[[#All],[Budgetlinie]],MATCH(Tabelle1[[#This Row],[Maßnahme]],Ausfüllhilfe!$C$1:$C$22,0))","v":{"$error":"#N/A"}},null,null,null,null,null,null,null,null,{"$f":"VLOOKUP(Tabelle1[[#This Row],[Budgetlinie]],Ausfüllhilfe!$A$1:$D$23,4,0)","v":{"$error":"#N/A"}}]
[{"$f":"INDEX(Tabelle2[[#All],[Budgetlinie]],MATCH(Tabelle1[[#This Row],[Maßnahme]],Ausfüllhilfe!$C$1:$C$22,0))","v":{"$error":"#N/A"}},null,null,null,null,null,null,null,null,{"$f":"VLOOKUP(Tabelle1[[#This Row],[Budgetlinie]],Ausfüllhilfe!$A$1:$D$23,4,0)","v":{"$error":"#N/A"}}]
[{"$f":"INDEX(Tabelle2[[#All],[Budgetlinie]],MATCH(Tabelle1[[#This Row],[Maßnahme]],Ausfüllhilfe!$C$1:$C$22,0))","v":{"$error":"#N/A"}},null,null,null,null,null,null,null,null,{"$f":"VLOOKUP(Tabelle1[[#This Row],[Budgetlinie]],Ausfüllhilfe!$A$1:$D$23,4,0)","v":{"$error":"#N/A"}}]
[{"$f":"INDEX(Tabelle2[[#All],[Budgetlinie]],MATCH(Tabelle1[[#This Row],[Maßnahme]],Ausfüllhilfe!$C$1:$C$22,0))","v":{"$error":"#N/A"}},null,null,null,null,null,null,null,null,{"$f":"VLOOKUP(Tabelle1[[#This Row],[Budgetlinie]],Ausfüllhilfe!$A$1:$D$23,4,0)","v":{"$error":"#N/A"}}]
[{"$f":"INDEX(Tabelle2[[#All],[Budgetlinie]],MATCH(Tabelle1[[#This Row],[Maßnahme]],Ausfüllhilfe!$C$1:$C$22,0))","v":{"$error":"#N/A"}},null,null,null,null,null,null,null,null,{"$f":"VLOOKUP(Tabelle1[[#This Row],[Budgetlinie]],Ausfüllhilfe!$A$1:$D$23,4,0)","v":{"$error":"#N/A"}}]
[{"$f":"INDEX(Tabelle2[[#All],[Budgetlinie]],MATCH(Tabelle1[[#This Row],[Maßnahme]],Ausfüllhilfe!$C$1:$C$22,0))","v":{"$error":"#N/A"}},null,null,null,null,null,null,null,null,{"$f":"VLOOKUP(Tabelle1[[#This Row],[Budgetlinie]],Ausfüllhilfe!$A$1:$D$23,4,0)","v":{"$error":"#N/A"}}]
[{"$f":"INDEX(Tabelle2[[#All],[Budgetlinie]],MATCH(Tabelle1[[#This Row],[Maßnahme]],Ausfüllhilfe!$C$1:$C$22,0))","v":{"$error":"#N/A"}},null,null,null,null,null,null,null,null,{"$f":"VLOOKUP(Tabelle1[[#This Row],[Budgetlinie]],Ausfüllhilfe!$A$1:$D$23,4,0)","v":{"$error":"#N/A"}}]
[{"$f":"INDEX(Tabelle2[[#All],[Budgetlinie]],MATCH(Tabelle1[[#This Row],[Maßnahme]],Ausfüllhilfe!$C$1:$C$22,0))","v":{"$error":"#N/A"}},null,null,null,null,null,null,null,null,{"$f":"VLOOKUP(Tabelle1[[#This Row],[Budgetlinie]],Ausfüllhilfe!$A$1:$D$23,4,0)","v":{"$error":"#N/A"}}]
[{"$f":"INDEX(Tabelle2[[#All],[Budgetlinie]],MATCH(Tabelle1[[#This Row],[Maßnahme]],Ausfüllhilfe!$C$1:$C$22,0))","v":{"$error":"#N/A"}},null,null,null,null,null,null,null,null,{"$f":"VLOOKUP(Tabelle1[[#This Row],[Budgetlinie]],Ausfüllhilfe!$A$1:$D$23,4,0)","v":{"$error":"#N/A"}}]
[{"$f":"INDEX(Tabelle2[[#All],[Budgetlinie]],MATCH(Tabelle1[[#This Row],[Maßnahme]],Ausfüllhilfe!$C$1:$C$22,0))","v":{"$error":"#N/A"}},null,null,null,null,null,null,null,null,{"$f":"VLOOKUP(Tabelle1[[#This Row],[Budgetlinie]],Ausfüllhilfe!$A$1:$D$23,4,0)","v":{"$error":"#N/A"}}]
[{"$f":"INDEX(Tabelle2[[#All],[Budgetlinie]],MATCH(Tabelle1[[#This Row],[Maßnahme]],Ausfüllhilfe!$C$1:$C$22,0))","v":{"$error":"#N/A"}},null,null,null,null,null,null,null,null,{"$f":"VLOOKUP(Tabelle1[[#This Row],[Budgetlinie]],Ausfüllhilfe!$A$1:$D$23,4,0)","v":{"$error":"#N/A"}}]
[{"$f":"INDEX(Tabelle2[[#All],[Budgetlinie]],MATCH(Tabelle1[[#This Row],[Maßnahme]],Ausfüllhilfe!$C$1:$C$22,0))","v":{"$error":"#N/A"}},null,null,null,null,null,null,null,null,{"$f":"VLOOKUP(Tabelle1[[#This Row],[Budgetlinie]],Ausfüllhilfe!$A$1:$D$23,4,0)","v":{"$error":"#N/A"}}]
[{"$f":"INDEX(Tabelle2[[#All],[Budgetlinie]],MATCH(Tabelle1[[#This Row],[Maßnahme]],Ausfüllhilfe!$C$1:$C$22,0))","v":{"$error":"#N/A"}},null,null,null,null,null,null,null,null,{"$f":"VLOOKUP(Tabelle1[[#This Row],[Budgetlinie]],Ausfüllhilfe!$A$1:$D$23,4,0)","v":{"$error":"#N/A"}}]
[{"$f":"INDEX(Tabelle2[[#All],[Budgetlinie]],MATCH(Tabelle1[[#This Row],[Maßnahme]],Ausfüllhilfe!$C$1:$C$22,0))","v":{"$error":"#N/A"}},null,null,null,null,null,null,null,null,{"$f":"VLOOKUP(Tabelle1[[#This Row],[Budgetlinie]],Ausfüllhilfe!$A$1:$D$23,4,0)","v":{"$error":"#N/A"}}]
[{"$f":"INDEX(Tabelle2[[#All],[Budgetlinie]],MATCH(Tabelle1[[#This Row],[Maßnahme]],Ausfüllhilfe!$C$1:$C$22,0))","v":{"$error":"#N/A"}},null,null,null,null,null,null,null,null,{"$f":"VLOOKUP(Tabelle1[[#This Row],[Budgetlinie]],Ausfüllhilfe!$A$1:$D$23,4,0)","v":{"$error":"#N/A"}}]
[{"$f":"INDEX(Tabelle2[[#All],[Budgetlinie]],MATCH(Tabelle1[[#This Row],[Maßnahme]],Ausfüllhilfe!$C$1:$C$22,0))","v":{"$error":"#N/A"}},null,null,null,null,null,null,null,null,{"$f":"VLOOKUP(Tabelle1[[#This Row],[Budgetlinie]],Ausfüllhilfe!$A$1:$D$23,4,0)","v":{"$error":"#N/A"}}]
[{"$f":"INDEX(Tabelle2[[#All],[Budgetlinie]],MATCH(Tabelle1[[#This Row],[Maßnahme]],Ausfüllhilfe!$C$1:$C$22,0))","v":{"$error":"#N/A"}},null,null,null,null,null,null,null,null,{"$f":"VLOOKUP(Tabelle1[[#This Row],[Budgetlinie]],Ausfüllhilfe!$A$1:$D$23,4,0)","v":{"$error":"#N/A"}}]
[{"$f":"INDEX(Tabelle2[[#All],[Budgetlinie]],MATCH(Tabelle1[[#This Row],[Maßnahme]],Ausfüllhilfe!$C$1:$C$22,0))","v":{"$error":"#N/A"}},null,null,null,null,null,null,null,null,{"$f":"VLOOKUP(Tabelle1[[#This Row],[Budgetlinie]],Ausfüllhilfe!$A$1:$D$23,4,0)","v":{"$error":"#N/A"}}]
[{"$f":"INDEX(Tabelle2[[#All],[Budgetlinie]],MATCH(Tabelle1[[#This Row],[Maßnahme]],Ausfüllhilfe!$C$1:$C$22,0))","v":{"$error":"#N/A"}},null,null,null,null,null,null,null,null,{"$f":"VLOOKUP(Tabelle1[[#This Row],[Budgetlinie]],Ausfüllhilfe!$A$1:$D$23,4,0)","v":{"$error":"#N/A"}}]
[{"$f":"INDEX(Tabelle2[[#All],[Budgetlinie]],MATCH(Tabelle1[[#This Row],[Maßnahme]],Ausfüllhilfe!$C$1:$C$22,0))","v":{"$error":"#N/A"}},null,null,null,null,null,null,null,null,{"$f":"VLOOKUP(Tabelle1[[#This Row],[Budgetlinie]],Ausfüllhilfe!$A$1:$D$23,4,0)","v":{"$error":"#N/A"}}]
[{"$f":"INDEX(Tabelle2[[#All],[Budgetlinie]],MATCH(Tabelle1[[#This Row],[Maßnahme]],Ausfüllhilfe!$C$1:$C$22,0))","v":{"$error":"#N/A"}},null,null,null,null,null,null,null,null,{"$f":"VLOOKUP(Tabelle1[[#This Row],[Budgetlinie]],Ausfüllhilfe!$A$1:$D$23,4,0)","v":{"$error":"#N/A"}}]
[{"$f":"INDEX(Tabelle2[[#All],[Budgetlinie]],MATCH(Tabelle1[[#This Row],[Maßnahme]],Ausfüllhilfe!$C$1:$C$22,0))","v":{"$error":"#N/A"}},null,null,null,null,null,null,null,null,{"$f":"VLOOKUP(Tabelle1[[#This Row],[Budgetlinie]],Ausfüllhilfe!$A$1:$D$23,4,0)","v":{"$error":"#N/A"}}]
[{"$f":"INDEX(Tabelle2[[#All],[Budgetlinie]],MATCH(Tabelle1[[#This Row],[Maßnahme]],Ausfüllhilfe!$C$1:$C$22,0))","v":{"$error":"#N/A"}},null,null,null,null,null,null,null,null,{"$f":"VLOOKUP(Tabelle1[[#This Row],[Budgetlinie]],Ausfüllhilfe!$A$1:$D$23,4,0)","v":{"$error":"#N/A"}}]
[{"$f":"INDEX(Tabelle2[[#All],[Budgetlinie]],MATCH(Tabelle1[[#This Row],[Maßnahme]],Ausfüllhilfe!$C$1:$C$22,0))","v":{"$error":"#N/A"}},null,null,null,null,null,null,null,null,{"$f":"VLOOKUP(Tabelle1[[#This Row],[Budgetlinie]],Ausfüllhilfe!$A$1:$D$23,4,0)","v":{"$error":"#N/A"}}]
[{"$f":"INDEX(Tabelle2[[#All],[Budgetlinie]],MATCH(Tabelle1[[#This Row],[Maßnahme]],Ausfüllhilfe!$C$1:$C$22,0))","v":{"$error":"#N/A"}},null,null,null,null,null,null,null,null,{"$f":"VLOOKUP(Tabelle1[[#This Row],[Budgetlinie]],Ausfüllhilfe!$A$1:$D$23,4,0)","v":{"$error":"#N/A"}}]
[{"$f":"INDEX(Tabelle2[[#All],[Budgetlinie]],MATCH(Tabelle1[[#This Row],[Maßnahme]],Ausfüllhilfe!$C$1:$C$22,0))","v":{"$error":"#N/A"}},null,null,null,null,null,null,null,null,{"$f":"VLOOKUP(Tabelle1[[#This Row],[Budgetlinie]],Ausfüllhilfe!$A$1:$D$23,4,0)","v":{"$error":"#N/A"}}]
[{"$f":"INDEX(Tabelle2[[#All],[Budgetlinie]],MATCH(Tabelle1[[#This Row],[Maßnahme]],Ausfüllhilfe!$C$1:$C$22,0))","v":{"$error":"#N/A"}},null,null,null,null,null,null,null,null,{"$f":"VLOOKUP(Tabelle1[[#This Row],[Budgetlinie]],Ausfüllhilfe!$A$1:$D$23,4,0)","v":{"$error":"#N/A"}}]
[{"$f":"INDEX(Tabelle2[[#All],[Budgetlinie]],MATCH(Tabelle1[[#This Row],[Maßnahme]],Ausfüllhilfe!$C$1:$C$22,0))","v":{"$error":"#N/A"}},null,null,null,null,null,null,null,null,{"$f":"VLOOKUP(Tabelle1[[#This Row],[Budgetlinie]],Ausfüllhilfe!$A$1:$D$23,4,0)","v":{"$error":"#N/A"}}]
[{"$f":"INDEX(Tabelle2[[#All],[Budgetlinie]],MATCH(Tabelle1[[#This Row],[Maßnahme]],Ausfüllhilfe!$C$1:$C$22,0))","v":{"$error":"#N/A"}},null,null,null,null,null,null,null,null,{"$f":"VLOOKUP(Tabelle1[[#This Row],[Budgetlinie]],Ausfüllhilfe!$A$1:$D$23,4,0)","v":{"$error":"#N/A"}}]
[{"$f":"INDEX(Tabelle2[[#All],[Budgetlinie]],MATCH(Tabelle1[[#This Row],[Maßnahme]],Ausfüllhilfe!$C$1:$C$22,0))","v":{"$error":"#N/A"}},null,null,null,null,null,null,null,null,{"$f":"VLOOKUP(Tabelle1[[#This Row],[Budgetlinie]],Ausfüllhilfe!$A$1:$D$23,4,0)","v":{"$error":"#N/A"}}]
[{"$f":"INDEX(Tabelle2[[#All],[Budgetlinie]],MATCH(Tabelle1[[#This Row],[Maßnahme]],Ausfüllhilfe!$C$1:$C$22,0))","v":{"$error":"#N/A"}},null,null,null,null,null,null,null,null,{"$f":"VLOOKUP(Tabelle1[[#This Row],[Budgetlinie]],Ausfüllhilfe!$A$1:$D$23,4,0)","v":{"$error":"#N/A"}}]
[{"$f":"INDEX(Tabelle2[[#All],[Budgetlinie]],MATCH(Tabelle1[[#This Row],[Maßnahme]],Ausfüllhilfe!$C$1:$C$22,0))","v":{"$error":"#N/A"}},null,null,null,null,null,null,null,null,{"$f":"VLOOKUP(Tabelle1[[#This Row],[Budgetlinie]],Ausfüllhilfe!$A$1:$D$23,4,0)","v":{"$error":"#N/A"}}]
[{"$f":"INDEX(Tabelle2[[#All],[Budgetlinie]],MATCH(Tabelle1[[#This Row],[Maßnahme]],Ausfüllhilfe!$C$1:$C$22,0))","v":{"$error":"#N/A"}},null,null,null,null,null,null,null,null,{"$f":"VLOOKUP(Tabelle1[[#This Row],[Budgetlinie]],Ausfüllhilfe!$A$1:$D$23,4,0)","v":{"$error":"#N/A"}}]
[{"$f":"INDEX(Tabelle2[[#All],[Budgetlinie]],MATCH(Tabelle1[[#This Row],[Maßnahme]],Ausfüllhilfe!$C$1:$C$22,0))","v":{"$error":"#N/A"}},null,null,null,null,null,null,null,null,{"$f":"VLOOKUP(Tabelle1[[#This Row],[Budgetlinie]],Ausfüllhilfe!$A$1:$D$23,4,0)","v":{"$error":"#N/A"}}]
[{"$f":"INDEX(Tabelle2[[#All],[Budgetlinie]],MATCH(Tabelle1[[#This Row],[Maßnahme]],Ausfüllhilfe!$C$1:$C$22,0))","v":{"$error":"#N/A"}},null,null,null,null,null,null,null,null,{"$f":"VLOOKUP(Tabelle1[[#This Row],[Budgetlinie]],Ausfüllhilfe!$A$1:$D$23,4,0)","v":{"$error":"#N/A"}}]
[{"$f":"INDEX(Tabelle2[[#All],[Budgetlinie]],MATCH(Tabelle1[[#This Row],[Maßnahme]],Ausfüllhilfe!$C$1:$C$22,0))","v":{"$error":"#N/A"}},null,null,null,null,null,null,null,null,{"$f":"VLOOKUP(Tabelle1[[#This Row],[Budgetlinie]],Ausfüllhilfe!$A$1:$D$23,4,0)","v":{"$error":"#N/A"}}]
[{"$f":"INDEX(Tabelle2[[#All],[Budgetlinie]],MATCH(Tabelle1[[#This Row],[Maßnahme]],Ausfüllhilfe!$C$1:$C$22,0))","v":{"$error":"#N/A"}},null,null,null,null,null,null,null,null,{"$f":"VLOOKUP(Tabelle1[[#This Row],[Budgetlinie]],Ausfüllhilfe!$A$1:$D$23,4,0)","v":{"$error":"#N/A"}}]
[{"$f":"INDEX(Tabelle2[[#All],[Budgetlinie]],MATCH(Tabelle1[[#This Row],[Maßnahme]],Ausfüllhilfe!$C$1:$C$22,0))","v":{"$error":"#N/A"}},null,null,null,null,null,null,null,null,{"$f":"VLOOKUP(Tabelle1[[#This Row],[Budgetlinie]],Ausfüllhilfe!$A$1:$D$23,4,0)","v":{"$error":"#N/A"}}]
[{"$f":"INDEX(Tabelle2[[#All],[Budgetlinie]],MATCH(Tabelle1[[#This Row],[Maßnahme]],Ausfüllhilfe!$C$1:$C$22,0))","v":{"$error":"#N/A"}},null,null,null,null,null,null,null,null,{"$f":"VLOOKUP(Tabelle1[[#This Row],[Budgetlinie]],Ausfüllhilfe!$A$1:$D$23,4,0)","v":{"$error":"#N/A"}}]
[{"$f":"INDEX(Tabelle2[[#All],[Budgetlinie]],MATCH(Tabelle1[[#This Row],[Maßnahme]],Ausfüllhilfe!$C$1:$C$22,0))","v":{"$error":"#N/A"}},null,null,null,null,null,null,null,null,{"$f":"VLOOKUP(Tabelle1[[#This Row],[Budgetlinie]],Ausfüllhilfe!$A$1:$D$23,4,0)","v":{"$error":"#N/A"}}]
[{"$f":"INDEX(Tabelle2[[#All],[Budgetlinie]],MATCH(Tabelle1[[#This Row],[Maßnahme]],Ausfüllhilfe!$C$1:$C$22,0))","v":{"$error":"#N/A"}},null,null,null,null,null,null,null,null,{"$f":"VLOOKUP(Tabelle1[[#This Row],[Budgetlinie]],Ausfüllhilfe!$A$1:$D$23,4,0)","v":{"$error":"#N/A"}}]
[{"$f":"INDEX(Tabelle2[[#All],[Budgetlinie]],MATCH(Tabelle1[[#This Row],[Maßnahme]],Ausfüllhilfe!$C$1:$C$22,0))","v":{"$error":"#N/A"}},null,null,null,null,null,null,null,null,{"$f":"VLOOKUP(Tabelle1[[#This Row],[Budgetlinie]],Ausfüllhilfe!$A$1:$D$23,4,0)","v":{"$error":"#N/A"}}]
[{"$f":"INDEX(Tabelle2[[#All],[Budgetlinie]],MATCH(Tabelle1[[#This Row],[Maßnahme]],Ausfüllhilfe!$C$1:$C$22,0))","v":{"$error":"#N/A"}},null,null,null,null,null,null,null,null,{"$f":"VLOOKUP(Tabelle1[[#This Row],[Budgetlinie]],Ausfüllhilfe!$A$1:$D$23,4,0)","v":{"$error":"#N/A"}}]
[{"$f":"INDEX(Tabelle2[[#All],[Budgetlinie]],MATCH(Tabelle1[[#This Row],[Maßnahme]],Ausfüllhilfe!$C$1:$C$22,0))","v":{"$error":"#N/A"}},null,null,null,null,null,null,null,null,{"$f":"VLOOKUP(Tabelle1[[#This Row],[Budgetlinie]],Ausfüllhilfe!$A$1:$D$23,4,0)","v":{"$error":"#N/A"}}]
[{"$f":"INDEX(Tabelle2[[#All],[Budgetlinie]],MATCH(Tabelle1[[#This Row],[Maßnahme]],Ausfüllhilfe!$C$1:$C$22,0))","v":{"$error":"#N/A"}},null,null,null,null,null,null,null,null,{"$f":"VLOOKUP(Tabelle1[[#This Row],[Budgetlinie]],Ausfüllhilfe!$A$1:$D$23,4,0)","v":{"$error":"#N/A"}}]
[{"$f":"INDEX(Tabelle2[[#All],[Budgetlinie]],MATCH(Tabelle1[[#This Row],[Maßnahme]],Ausfüllhilfe!$C$1:$C$22,0))","v":{"$error":"#N/A"}},null,null,null,null,null,null,null,null,{"$f":"VLOOKUP(Tabelle1[[#This Row],[Budgetlinie]],Ausfüllhilfe!$A$1:$D$23,4,0)","v":{"$error":"#N/A"}}]
[{"$f":"INDEX(Tabelle2[[#All],[Budgetlinie]],MATCH(Tabelle1[[#This Row],[Maßnahme]],Ausfüllhilfe!$C$1:$C$22,0))","v":{"$error":"#N/A"}},null,null,null,null,null,null,null,null,{"$f":"VLOOKUP(Tabelle1[[#This Row],[Budgetlinie]],Ausfüllhilfe!$A$1:$D$23,4,0)","v":{"$error":"#N/A"}}]
[{"$f":"INDEX(Tabelle2[[#All],[Budgetlinie]],MATCH(Tabelle1[[#This Row],[Maßnahme]],Ausfüllhilfe!$C$1:$C$22,0))","v":{"$error":"#N/A"}},null,null,null,null,null,null,null,null,{"$f":"VLOOKUP(Tabelle1[[#This Row],[Budgetlinie]],Ausfüllhilfe!$A$1:$D$23,4,0)","v":{"$error":"#N/A"}}]
[{"$f":"INDEX(Tabelle2[[#All],[Budgetlinie]],MATCH(Tabelle1[[#This Row],[Maßnahme]],Ausfüllhilfe!$C$1:$C$22,0))","v":{"$error":"#N/A"}},null,null,null,null,null,null,null,null,{"$f":"VLOOKUP(Tabelle1[[#This Row],[Budgetlinie]],Ausfüllhilfe!$A$1:$D$23,4,0)","v":{"$error":"#N/A"}}]
[{"$f":"INDEX(Tabelle2[[#All],[Budgetlinie]],MATCH(Tabelle1[[#This Row],[Maßnahme]],Ausfüllhilfe!$C$1:$C$22,0))","v":{"$error":"#N/A"}},null,null,null,null,null,null,null,null,{"$f":"VLOOKUP(Tabelle1[[#This Row],[Budgetlinie]],Ausfüllhilfe!$A$1:$D$23,4,0)","v":{"$error":"#N/A"}}]
[{"$f":"INDEX(Tabelle2[[#All],[Budgetlinie]],MATCH(Tabelle1[[#This Row],[Maßnahme]],Ausfüllhilfe!$C$1:$C$22,0))","v":{"$error":"#N/A"}},null,null,null,null,null,null,null,null,{"$f":"VLOOKUP(Tabelle1[[#This Row],[Budgetlinie]],Ausfüllhilfe!$A$1:$D$23,4,0)","v":{"$error":"#N/A"}}]
[{"$f":"INDEX(Tabelle2[[#All],[Budgetlinie]],MATCH(Tabelle1[[#This Row],[Maßnahme]],Ausfüllhilfe!$C$1:$C$22,0))","v":{"$error":"#N/A"}},null,null,null,null,null,null,null,null,{"$f":"VLOOKUP(Tabelle1[[#This Row],[Budgetlinie]],Ausfüllhilfe!$A$1:$D$23,4,0)","v":{"$error":"#N/A"}}]
[{"$f":"INDEX(Tabelle2[[#All],[Budgetlinie]],MATCH(Tabelle1[[#This Row],[Maßnahme]],Ausfüllhilfe!$C$1:$C$22,0))","v":{"$error":"#N/A"}},null,null,null,null,null,null,null,null,{"$f":"VLOOKUP(Tabelle1[[#This Row],[Budgetlinie]],Ausfüllhilfe!$A$1:$D$23,4,0)","v":{"$error":"#N/A"}}]
[{"$f":"INDEX(Tabelle2[[#All],[Budgetlinie]],MATCH(Tabelle1[[#This Row],[Maßnahme]],Ausfüllhilfe!$C$1:$C$22,0))","v":{"$error":"#N/A"}},null,null,null,null,null,null,null,null,{"$f":"VLOOKUP(Tabelle1[[#This Row],[Budgetlinie]],Ausfüllhilfe!$A$1:$D$23,4,0)","v":{"$error":"#N/A"}}]
[{"$f":"INDEX(Tabelle2[[#All],[Budgetlinie]],MATCH(Tabelle1[[#This Row],[Maßnahme]],Ausfüllhilfe!$C$1:$C$22,0))","v":{"$error":"#N/A"}},null,null,null,null,null,null,null,null,{"$f":"VLOOKUP(Tabelle1[[#This Row],[Budgetlinie]],Ausfüllhilfe!$A$1:$D$23,4,0)","v":{"$error":"#N/A"}}]
[{"$f":"INDEX(Tabelle2[[#All],[Budgetlinie]],MATCH(Tabelle1[[#This Row],[Maßnahme]],Ausfüllhilfe!$C$1:$C$22,0))","v":{"$error":"#N/A"}},null,null,null,null,null,null,null,null,{"$f":"VLOOKUP(Tabelle1[[#This Row],[Budgetlinie]],Ausfüllhilfe!$A$1:$D$23,4,0)","v":{"$error":"#N/A"}}]
[{"$f":"INDEX(Tabelle2[[#All],[Budgetlinie]],MATCH(Tabelle1[[#This Row],[Maßnahme]],Ausfüllhilfe!$C$1:$C$22,0))","v":{"$error":"#N/A"}},null,null,null,null,null,null,null,null,{"$f":"VLOOKUP(Tabelle1[[#This Row],[Budgetlinie]],Ausfüllhilfe!$A$1:$D$23,4,0)","v":{"$error":"#N/A"}}]
[{"$f":"INDEX(Tabelle2[[#All],[Budgetlinie]],MATCH(Tabelle1[[#This Row],[Maßnahme]],Ausfüllhilfe!$C$1:$C$22,0))","v":{"$error":"#N/A"}},null,null,null,null,null,null,null,null,{"$f":"VLOOKUP(Tabelle1[[#This Row],[Budgetlinie]],Ausfüllhilfe!$A$1:$D$23,4,0)","v":{"$error":"#N/A"}}]
[{"$f":"INDEX(Tabelle2[[#All],[Budgetlinie]],MATCH(Tabelle1[[#This Row],[Maßnahme]],Ausfüllhilfe!$C$1:$C$22,0))","v":{"$error":"#N/A"}},null,null,null,null,null,null,null,null,{"$f":"VLOOKUP(Tabelle1[[#This Row],[Budgetlinie]],Ausfüllhilfe!$A$1:$D$23,4,0)","v":{"$error":"#N/A"}}]
[{"$f":"INDEX(Tabelle2[[#All],[Budgetlinie]],MATCH(Tabelle1[[#This Row],[Maßnahme]],Ausfüllhilfe!$C$1:$C$22,0))","v":{"$error":"#N/A"}},null,null,null,null,null,null,null,null,{"$f":"VLOOKUP(Tabelle1[[#This Row],[Budgetlinie]],Ausfüllhilfe!$A$1:$D$23,4,0)","v":{"$error":"#N/A"}}]
[{"$f":"INDEX(Tabelle2[[#All],[Budgetlinie]],MATCH(Tabelle1[[#This Row],[Maßnahme]],Ausfüllhilfe!$C$1:$C$22,0))","v":{"$error":"#N/A"}},null,null,null,null,null,null,null,null,{"$f":"VLOOKUP(Tabelle1[[#This Row],[Budgetlinie]],Ausfüllhilfe!$A$1:$D$23,4,0)","v":{"$error":"#N/A"}}]
[{"$f":"INDEX(Tabelle2[[#All],[Budgetlinie]],MATCH(Tabelle1[[#This Row],[Maßnahme]],Ausfüllhilfe!$C$1:$C$22,0))","v":{"$error":"#N/A"}},null,null,null,null,null,null,null,null,{"$f":"VLOOKUP(Tabelle1[[#This Row],[Budgetlinie]],Ausfüllhilfe!$A$1:$D$23,4,0)","v":{"$error":"#N/A"}}]
[{"$f":"INDEX(Tabelle2[[#All],[Budgetlinie]],MATCH(Tabelle1[[#This Row],[Maßnahme]],Ausfüllhilfe!$C$1:$C$22,0))","v":{"$error":"#N/A"}},null,null,null,null,null,null,null,null,{"$f":"VLOOKUP(Tabelle1[[#This Row],[Budgetlinie]],Ausfüllhilfe!$A$1:$D$23,4,0)","v":{"$error":"#N/A"}}]
[{"$f":"INDEX(Tabelle2[[#All],[Budgetlinie]],MATCH(Tabelle1[[#This Row],[Maßnahme]],Ausfüllhilfe!$C$1:$C$22,0))","v":{"$error":"#N/A"}},null,null,null,null,null,null,null,null,{"$f":"VLOOKUP(Tabelle1[[#This Row],[Budgetlinie]],Ausfüllhilfe!$A$1:$D$23,4,0)","v":{"$error":"#N/A"}}]
[{"$f":"INDEX(Tabelle2[[#All],[Budgetlinie]],MATCH(Tabelle1[[#This Row],[Maßnahme]],Ausfüllhilfe!$C$1:$C$22,0))","v":{"$error":"#N/A"}},null,null,null,null,null,null,null,null,{"$f":"VLOOKUP(Tabelle1[[#This Row],[Budgetlinie]],Ausfüllhilfe!$A$1:$D$23,4,0)","v":{"$error":"#N/A"}}]
[{"$f":"INDEX(Tabelle2[[#All],[Budgetlinie]],MATCH(Tabelle1[[#This Row],[Maßnahme]],Ausfüllhilfe!$C$1:$C$22,0))","v":{"$error":"#N/A"}},null,null,null,null,null,null,null,null,{"$f":"VLOOKUP(Tabelle1[[#This Row],[Budgetlinie]],Ausfüllhilfe!$A$1:$D$23,4,0)","v":{"$error":"#N/A"}}]
[{"$f":"INDEX(Tabelle2[[#All],[Budgetlinie]],MATCH(Tabelle1[[#This Row],[Maßnahme]],Ausfüllhilfe!$C$1:$C$22,0))","v":{"$error":"#N/A"}},null,null,null,null,null,null,null,null,{"$f":"VLOOKUP(Tabelle1[[#This Row],[Budgetlinie]],Ausfüllhilfe!$A$1:$D$23,4,0)","v":{"$error":"#N/A"}}]
[{"$f":"INDEX(Tabelle2[[#All],[Budgetlinie]],MATCH(Tabelle1[[#This Row],[Maßnahme]],Ausfüllhilfe!$C$1:$C$22,0))","v":{"$error":"#N/A"}},null,null,null,null,null,null,null,null,{"$f":"VLOOKUP(Tabelle1[[#This Row],[Budgetlinie]],Ausfüllhilfe!$A$1:$D$23,4,0)","v":{"$error":"#N/A"}}]
[{"$f":"INDEX(Tabelle2[[#All],[Budgetlinie]],MATCH(Tabelle1[[#This Row],[Maßnahme]],Ausfüllhilfe!$C$1:$C$22,0))","v":{"$error":"#N/A"}},null,null,null,null,null,null,null,null,{"$f":"VLOOKUP(Tabelle1[[#This Row],[Budgetlinie]],Ausfüllhilfe!$A$1:$D$23,4,0)","v":{"$error":"#N/A"}}]
[{"$f":"INDEX(Tabelle2[[#All],[Budgetlinie]],MATCH(Tabelle1[[#This Row],[Maßnahme]],Ausfüllhilfe!$C$1:$C$22,0))","v":{"$error":"#N/A"}},null,null,null,null,null,null,null,null,{"$f":"VLOOKUP(Tabelle1[[#This Row],[Budgetlinie]],Ausfüllhilfe!$A$1:$D$23,4,0)","v":{"$error":"#N/A"}}]
[{"$f":"INDEX(Tabelle2[[#All],[Budgetlinie]],MATCH(Tabelle1[[#This Row],[Maßnahme]],Ausfüllhilfe!$C$1:$C$22,0))","v":{"$error":"#N/A"}},null,null,null,null,null,null,null,null,{"$f":"VLOOKUP(Tabelle1[[#This Row],[Budgetlinie]],Ausfüllhilfe!$A$1:$D$23,4,0)","v":{"$error":"#N/A"}}]
[{"$f":"INDEX(Tabelle2[[#All],[Budgetlinie]],MATCH(Tabelle1[[#This Row],[Maßnahme]],Ausfüllhilfe!$C$1:$C$22,0))","v":{"$error":"#N/A"}},null,null,null,null,null,null,null,null,{"$f":"VLOOKUP(Tabelle1[[#This Row],[Budgetlinie]],Ausfüllhilfe!$A$1:$D$23,4,0)","v":{"$error":"#N/A"}}]
[{"$f":"INDEX(Tabelle2[[#All],[Budgetlinie]],MATCH(Tabelle1[[#This Row],[Maßnahme]],Ausfüllhilfe!$C$1:$C$22,0))","v":{"$error":"#N/A"}},null,null,null,null,null,null,null,null,{"$f":"VLOOKUP(Tabelle1[[#This Row],[Budgetlinie]],Ausfüllhilfe!$A$1:$D$23,4,0)","v":{"$error":"#N/A"}}]
[{"$f":"INDEX(Tabelle2[[#All],[Budgetlinie]],MATCH(Tabelle1[[#This Row],[Maßnahme]],Ausfüllhilfe!$C$1:$C$22,0))","v":{"$error":"#N/A"}},null,null,null,null,null,null,null,null,{"$f":"VLOOKUP(Tabelle1[[#This Row],[Budgetlinie]],Ausfüllhilfe!$A$1:$D$23,4,0)","v":{"$error":"#N/A"}}]
[{"$f":"INDEX(Tabelle2[[#All],[Budgetlinie]],MATCH(Tabelle1[[#This Row],[Maßnahme]],Ausfüllhilfe!$C$1:$C$22,0))","v":{"$error":"#N/A"}},null,null,null,null,null,null,null,null,{"$f":"VLOOKUP(Tabelle1[[#This Row],[Budgetlinie]],Ausfüllhilfe!$A$1:$D$23,4,0)","v":{"$error":"#N/A"}}]
[{"$f":"INDEX(Tabelle2[[#All],[Budgetlinie]],MATCH(Tabelle1[[#This Row],[Maßnahme]],Ausfüllhilfe!$C$1:$C$22,0))","v":{"$error":"#N/A"}},null,null,null,null,null,null,null,null,{"$f":"VLOOKUP(Tabelle1[[#This Row],[Budgetlinie]],Ausfüllhilfe!$A$1:$D$23,4,0)","v":{"$error":"#N/A"}}]
[{"$f":"INDEX(Tabelle2[[#All],[Budgetlinie]],MATCH(Tabelle1[[#This Row],[Maßnahme]],Ausfüllhilfe!$C$1:$C$22,0))","v":{"$error":"#N/A"}},null,null,null,null,null,null,null,null,{"$f":"VLOOKUP(Tabelle1[[#This Row],[Budgetlinie]],Ausfüllhilfe!$A$1:$D$23,4,0)","v":{"$error":"#N/A"}}]
[{"$f":"INDEX(Tabelle2[[#All],[Budgetlinie]],MATCH(Tabelle1[[#This Row],[Maßnahme]],Ausfüllhilfe!$C$1:$C$22,0))","v":{"$error":"#N/A"}},null,null,null,null,null,null,null,null,{"$f":"VLOOKUP(Tabelle1[[#This Row],[Budgetlinie]],Ausfüllhilfe!$A$1:$D$23,4,0)","v":{"$error":"#N/A"}}]
[{"$f":"INDEX(Tabelle2[[#All],[Budgetlinie]],MATCH(Tabelle1[[#This Row],[Maßnahme]],Ausfüllhilfe!$C$1:$C$22,0))","v":{"$error":"#N/A"}},null,null,null,null,null,null,null,null,{"$f":"VLOOKUP(Tabelle1[[#This Row],[Budgetlinie]],Ausfüllhilfe!$A$1:$D$23,4,0)","v":{"$error":"#N/A"}}]
[{"$f":"INDEX(Tabelle2[[#All],[Budgetlinie]],MATCH(Tabelle1[[#This Row],[Maßnahme]],Ausfüllhilfe!$C$1:$C$22,0))","v":{"$error":"#N/A"}},null,null,null,null,null,null,null,null,{"$f":"VLOOKUP(Tabelle1[[#This Row],[Budgetlinie]],Ausfüllhilfe!$A$1:$D$23,4,0)","v":{"$error":"#N/A"}}]
[{"$f":"INDEX(Tabelle2[[#All],[Budgetlinie]],MATCH(Tabelle1[[#This Row],[Maßnahme]],Ausfüllhilfe!$C$1:$C$22,0))","v":{"$error":"#N/A"}},null,null,null,null,null,null,null,null,{"$f":"VLOOKUP(Tabelle1[[#This Row],[Budgetlinie]],Ausfüllhilfe!$A$1:$D$23,4,0)","v":{"$error":"#N/A"}}]
[{"$f":"INDEX(Tabelle2[[#All],[Budgetlinie]],MATCH(Tabelle1[[#This Row],[Maßnahme]],Ausfüllhilfe!$C$1:$C$22,0))","v":{"$error":"#N/A"}},null,null,null,null,null,null,null,null,{"$f":"VLOOKUP(Tabelle1[[#This Row],[Budgetlinie]],Ausfüllhilfe!$A$1:$D$23,4,0)","v":{"$error":"#N/A"}}]
[{"$f":"INDEX(Tabelle2[[#All],[Budgetlinie]],MATCH(Tabelle1[[#This Row],[Maßnahme]],Ausfüllhilfe!$C$1:$C$22,0))","v":{"$error":"#N/A"}},null,null,null,null,null,null,null,null,{"$f":"VLOOKUP(Tabelle1[[#This Row],[Budgetlinie]],Ausfüllhilfe!$A$1:$D$23,4,0)","v":{"$error":"#N/A"}}]
[{"$f":"INDEX(Tabelle2[[#All],[Budgetlinie]],MATCH(Tabelle1[[#This Row],[Maßnahme]],Ausfüllhilfe!$C$1:$C$22,0))","v":{"$error":"#N/A"}},null,null,null,null,null,null,null,null,{"$f":"VLOOKUP(Tabelle1[[#This Row],[Budgetlinie]],Ausfüllhilfe!$A$1:$D$23,4,0)","v":{"$error":"#N/A"}}]
[{"$f":"INDEX(Tabelle2[[#All],[Budgetlinie]],MATCH(Tabelle1[[#This Row],[Maßnahme]],Ausfüllhilfe!$C$1:$C$22,0))","v":{"$error":"#N/A"}},null,null,null,null,null,null,null,null,{"$f":"VLOOKUP(Tabelle1[[#This Row],[Budgetlinie]],Ausfüllhilfe!$A$1:$D$23,4,0)","v":{"$error":"#N/A"}}]
[{"$f":"INDEX(Tabelle2[[#All],[Budgetlinie]],MATCH(Tabelle1[[#This Row],[Maßnahme]],Ausfüllhilfe!$C$1:$C$22,0))","v":{"$error":"#N/A"}},null,null,null,null,null,null,null,null,{"$f":"VLOOKUP(Tabelle1[[#This Row],[Budgetlinie]],Ausfüllhilfe!$A$1:$D$23,4,0)","v":{"$error":"#N/A"}}]
[{"$f":"INDEX(Tabelle2[[#All],[Budgetlinie]],MATCH(Tabelle1[[#This Row],[Maßnahme]],Ausfüllhilfe!$C$1:$C$22,0))","v":{"$error":"#N/A"}},null,null,null,null,null,null,null,null,{"$f":"VLOOKUP(Tabelle1[[#This Row],[Budgetlinie]],Ausfüllhilfe!$A$1:$D$23,4,0)","v":{"$error":"#N/A"}}]
[{"$f":"INDEX(Tabelle2[[#All],[Budgetlinie]],MATCH(Tabelle1[[#This Row],[Maßnahme]],Ausfüllhilfe!$C$1:$C$22,0))","v":{"$error":"#N/A"}},null,null,null,null,null,null,null,null,{"$f":"VLOOKUP(Tabelle1[[#This Row],[Budgetlinie]],Ausfüllhilfe!$A$1:$D$23,4,0)","v":{"$error":"#N/A"}}]
[{"$f":"INDEX(Tabelle2[[#All],[Budgetlinie]],MATCH(Tabelle1[[#This Row],[Maßnahme]],Ausfüllhilfe!$C$1:$C$22,0))","v":{"$error":"#N/A"}},null,null,null,null,null,null,null,null,{"$f":"VLOOKUP(Tabelle1[[#This Row],[Budgetlinie]],Ausfüllhilfe!$A$1:$D$23,4,0)","v":{"$error":"#N/A"}}]
[{"$f":"INDEX(Tabelle2[[#All],[Budgetlinie]],MATCH(Tabelle1[[#This Row],[Maßnahme]],Ausfüllhilfe!$C$1:$C$22,0))","v":{"$error":"#N/A"}},null,null,null,null,null,null,null,null,{"$f":"VLOOKUP(Tabelle1[[#This Row],[Budgetlinie]],Ausfüllhilfe!$A$1:$D$23,4,0)","v":{"$error":"#N/A"}}]
[{"$f":"INDEX(Tabelle2[[#All],[Budgetlinie]],MATCH(Tabelle1[[#This Row],[Maßnahme]],Ausfüllhilfe!$C$1:$C$22,0))","v":{"$error":"#N/A"}},null,null,null,null,null,null,null,null,{"$f":"VLOOKUP(Tabelle1[[#This Row],[Budgetlinie]],Ausfüllhilfe!$A$1:$D$23,4,0)","v":{"$error":"#N/A"}}]
[{"$f":"INDEX(Tabelle2[[#All],[Budgetlinie]],MATCH(Tabelle1[[#This Row],[Maßnahme]],Ausfüllhilfe!$C$1:$C$22,0))","v":{"$error":"#N/A"}},null,null,null,null,null,null,null,null,{"$f":"VLOOKUP(Tabelle1[[#This Row],[Budgetlinie]],Ausfüllhilfe!$A$1:$D$23,4,0)","v":{"$error":"#N/A"}}]
[{"$f":"INDEX(Tabelle2[[#All],[Budgetlinie]],MATCH(Tabelle1[[#This Row],[Maßnahme]],Ausfüllhilfe!$C$1:$C$22,0))","v":{"$error":"#N/A"}},null,null,null,null,null,null,null,null,{"$f":"VLOOKUP(Tabelle1[[#This Row],[Budgetlinie]],Ausfüllhilfe!$A$1:$D$23,4,0)","v":{"$error":"#N/A"}}]
[{"$f":"INDEX(Tabelle2[[#All],[Budgetlinie]],MATCH(Tabelle1[[#This Row],[Maßnahme]],Ausfüllhilfe!$C$1:$C$22,0))","v":{"$error":"#N/A"}},null,null,null,null,null,null,null,null,{"$f":"VLOOKUP(Tabelle1[[#This Row],[Budgetlinie]],Ausfüllhilfe!$A$1:$D$23,4,0)","v":{"$error":"#N/A"}}]
[{"$f":"INDEX(Tabelle2[[#All],[Budgetlinie]],MATCH(Tabelle1[[#This Row],[Maßnahme]],Ausfüllhilfe!$C$1:$C$22,0))","v":{"$error":"#N/A"}},null,null,null,null,null,null,null,null,{"$f":"VLOOKUP(Tabelle1[[#This Row],[Budgetlinie]],Ausfüllhilfe!$A$1:$D$23,4,0)","v":{"$error":"#N/A"}}]
[{"$f":"INDEX(Tabelle2[[#All],[Budgetlinie]],MATCH(Tabelle1[[#This Row],[Maßnahme]],Ausfüllhilfe!$C$1:$C$22,0))","v":{"$error":"#N/A"}},null,null,null,null,null,null,null,null,{"$f":"VLOOKUP(Tabelle1[[#This Row],[Budgetlinie]],Ausfüllhilfe!$A$1:$D$23,4,0)","v":{"$error":"#N/A"}}]
[{"$f":"INDEX(Tabelle2[[#All],[Budgetlinie]],MATCH(Tabelle1[[#This Row],[Maßnahme]],Ausfüllhilfe!$C$1:$C$22,0))","v":{"$error":"#N/A"}},null,null,null,null,null,null,null,null,{"$f":"VLOOKUP(Tabelle1[[#This Row],[Budgetlinie]],Ausfüllhilfe!$A$1:$D$23,4,0)","v":{"$error":"#N/A"}}]
[{"$f":"INDEX(Tabelle2[[#All],[Budgetlinie]],MATCH(Tabelle1[[#This Row],[Maßnahme]],Ausfüllhilfe!$C$1:$C$22,0))","v":{"$error":"#N/A"}},null,null,null,null,null,null,null,null,{"$f":"VLOOKUP(Tabelle1[[#This Row],[Budgetlinie]],Ausfüllhilfe!$A$1:$D$23,4,0)","v":{"$error":"#N/A"}}]
[{"$f":"INDEX(Tabelle2[[#All],[Budgetlinie]],MATCH(Tabelle1[[#This Row],[Maßnahme]],Ausfüllhilfe!$C$1:$C$22,0))","v":{"$error":"#N/A"}},null,null,null,null,null,null,null,null,{"$f":"VLOOKUP(Tabelle1[[#This Row],[Budgetlinie]],Ausfüllhilfe!$A$1:$D$23,4,0)","v":{"$error":"#N/A"}}]
[{"$f":"INDEX(Tabelle2[[#All],[Budgetlinie]],MATCH(Tabelle1[[#This Row],[Maßnahme]],Ausfüllhilfe!$C$1:$C$22,0))","v":{"$error":"#N/A"}},null,null,null,null,null,null,null,null,{"$f":"VLOOKUP(Tabelle1[[#This Row],[Budgetlinie]],Ausfüllhilfe!$A$1:$D$23,4,0)","v":{"$error":"#N/A"}}]
[{"$f":"INDEX(Tabelle2[[#All],[Budgetlinie]],MATCH(Tabelle1[[#This Row],[Maßnahme]],Ausfüllhilfe!$C$1:$C$22,0))","v":{"$error":"#N/A"}},null,null,null,null,null,null,null,null,{"$f":"VLOOKUP(Tabelle1[[#This Row],[Budgetlinie]],Ausfüllhilfe!$A$1:$D$23,4,0)","v":{"$error":"#N/A"}}]
[{"$f":"INDEX(Tabelle2[[#All],[Budgetlinie]],MATCH(Tabelle1[[#This Row],[Maßnahme]],Ausfüllhilfe!$C$1:$C$22,0))","v":{"$error":"#N/A"}},null,null,null,null,null,null,null,null,{"$f":"VLOOKUP(Tabelle1[[#This Row],[Budgetlinie]],Ausfüllhilfe!$A$1:$D$23,4,0)","v":{"$error":"#N/A"}}]
[{"$f":"INDEX(Tabelle2[[#All],[Budgetlinie]],MATCH(Tabelle1[[#This Row],[Maßnahme]],Ausfüllhilfe!$C$1:$C$22,0))","v":{"$error":"#N/A"}},null,null,null,null,null,null,null,null,{"$f":"VLOOKUP(Tabelle1[[#This Row],[Budgetlinie]],Ausfüllhilfe!$A$1:$D$23,4,0)","v":{"$error":"#N/A"}}]
[{"$f":"INDEX(Tabelle2[[#All],[Budgetlinie]],MATCH(Tabelle1[[#This Row],[Maßnahme]],Ausfüllhilfe!$C$1:$C$22,0))","v":{"$error":"#N/A"}},null,null,null,null,null,null,null,null,{"$f":"VLOOKUP(Tabelle1[[#This Row],[Budgetlinie]],Ausfüllhilfe!$A$1:$D$23,4,0)","v":{"$error":"#N/A"}}]
[{"$f":"INDEX(Tabelle2[[#All],[Budgetlinie]],MATCH(Tabelle1[[#This Row],[Maßnahme]],Ausfüllhilfe!$C$1:$C$22,0))","v":{"$error":"#N/A"}},null,null,null,null,null,null,null,null,{"$f":"VLOOKUP(Tabelle1[[#This Row],[Budgetlinie]],Ausfüllhilfe!$A$1:$D$23,4,0)","v":{"$error":"#N/A"}}]
[{"$f":"INDEX(Tabelle2[[#All],[Budgetlinie]],MATCH(Tabelle1[[#This Row],[Maßnahme]],Ausfüllhilfe!$C$1:$C$22,0))","v":{"$error":"#N/A"}},null,null,null,null,null,null,null,null,{"$f":"VLOOKUP(Tabelle1[[#This Row],[Budgetlinie]],Ausfüllhilfe!$A$1:$D$23,4,0)","v":{"$error":"#N/A"}}]
[{"$f":"INDEX(Tabelle2[[#All],[Budgetlinie]],MATCH(Tabelle1[[#This Row],[Maßnahme]],Ausfüllhilfe!$C$1:$C$22,0))","v":{"$error":"#N/A"}},null,null,null,null,null,null,null,null,{"$f":"VLOOKUP(Tabelle1[[#This Row],[Budgetlinie]],Ausfüllhilfe!$A$1:$D$23,4,0)","v":{"$error":"#N/A"}}]
[{"$f":"INDEX(Tabelle2[[#All],[Budgetlinie]],MATCH(Tabelle1[[#This Row],[Maßnahme]],Ausfüllhilfe!$C$1:$C$22,0))","v":{"$error":"#N/A"}},null,null,null,null,null,null,null,null,{"$f":"VLOOKUP(Tabelle1[[#This Row],[Budgetlinie]],Ausfüllhilfe!$A$1:$D$23,4,0)","v":{"$error":"#N/A"}}]
[{"$f":"INDEX(Tabelle2[[#All],[Budgetlinie]],MATCH(Tabelle1[[#This Row],[Maßnahme]],Ausfüllhilfe!$C$1:$C$22,0))","v":{"$error":"#N/A"}},null,null,null,null,null,null,null,null,{"$f":"VLOOKUP(Tabelle1[[#This Row],[Budgetlinie]],Ausfüllhilfe!$A$1:$D$23,4,0)","v":{"$error":"#N/A"}}]
[{"$f":"INDEX(Tabelle2[[#All],[Budgetlinie]],MATCH(Tabelle1[[#This Row],[Maßnahme]],Ausfüllhilfe!$C$1:$C$22,0))","v":{"$error":"#N/A"}},null,null,null,null,null,null,null,null,{"$f":"VLOOKUP(Tabelle1[[#This Row],[Budgetlinie]],Ausfüllhilfe!$A$1:$D$23,4,0)","v":{"$error":"#N/A"}}]
[{"$f":"INDEX(Tabelle2[[#All],[Budgetlinie]],MATCH(Tabelle1[[#This Row],[Maßnahme]],Ausfüllhilfe!$C$1:$C$22,0))","v":{"$error":"#N/A"}},null,null,null,null,null,null,null,null,{"$f":"VLOOKUP(Tabelle1[[#This Row],[Budgetlinie]],Ausfüllhilfe!$A$1:$D$23,4,0)","v":{"$error":"#N/A"}}]
[{"$f":"INDEX(Tabelle2[[#All],[Budgetlinie]],MATCH(Tabelle1[[#This Row],[Maßnahme]],Ausfüllhilfe!$C$1:$C$22,0))","v":{"$error":"#N/A"}},null,null,null,null,null,null,null,null,{"$f":"VLOOKUP(Tabelle1[[#This Row],[Budgetlinie]],Ausfüllhilfe!$A$1:$D$23,4,0)","v":{"$error":"#N/A"}}]
[{"$f":"INDEX(Tabelle2[[#All],[Budgetlinie]],MATCH(Tabelle1[[#This Row],[Maßnahme]],Ausfüllhilfe!$C$1:$C$22,0))","v":{"$error":"#N/A"}},null,null,null,null,null,null,null,null,{"$f":"VLOOKUP(Tabelle1[[#This Row],[Budgetlinie]],Ausfüllhilfe!$A$1:$D$23,4,0)","v":{"$error":"#N/A"}}]
[{"$f":"INDEX(Tabelle2[[#All],[Budgetlinie]],MATCH(Tabelle1[[#This Row],[Maßnahme]],Ausfüllhilfe!$C$1:$C$22,0))","v":{"$error":"#N/A"}},null,null,null,null,null,null,null,null,{"$f":"VLOOKUP(Tabelle1[[#This Row],[Budgetlinie]],Ausfüllhilfe!$A$1:$D$23,4,0)","v":{"$error":"#N/A"}}]
[{"$f":"INDEX(Tabelle2[[#All],[Budgetlinie]],MATCH(Tabelle1[[#This Row],[Maßnahme]],Ausfüllhilfe!$C$1:$C$22,0))","v":{"$error":"#N/A"}},null,null,null,null,null,null,null,null,{"$f":"VLOOKUP(Tabelle1[[#This Row],[Budgetlinie]],Ausfüllhilfe!$A$1:$D$23,4,0)","v":{"$error":"#N/A"}}]
[{"$f":"INDEX(Tabelle2[[#All],[Budgetlinie]],MATCH(Tabelle1[[#This Row],[Maßnahme]],Ausfüllhilfe!$C$1:$C$22,0))","v":{"$error":"#N/A"}},null,null,null,null,null,null,null,null,{"$f":"VLOOKUP(Tabelle1[[#This Row],[Budgetlinie]],Ausfüllhilfe!$A$1:$D$23,4,0)","v":{"$error":"#N/A"}}]
[{"$f":"INDEX(Tabelle2[[#All],[Budgetlinie]],MATCH(Tabelle1[[#This Row],[Maßnahme]],Ausfüllhilfe!$C$1:$C$22,0))","v":{"$error":"#N/A"}},null,null,null,null,null,null,null,null,{"$f":"VLOOKUP(Tabelle1[[#This Row],[Budgetlinie]],Ausfüllhilfe!$A$1:$D$23,4,0)","v":{"$error":"#N/A"}}]
[{"$f":"INDEX(Tabelle2[[#All],[Budgetlinie]],MATCH(Tabelle1[[#This Row],[Maßnahme]],Ausfüllhilfe!$C$1:$C$22,0))","v":{"$error":"#N/A"}},null,null,null,null,null,null,null,null,{"$f":"VLOOKUP(Tabelle1[[#This Row],[Budgetlinie]],Ausfüllhilfe!$A$1:$D$23,4,0)","v":{"$error":"#N/A"}}]
[{"$f":"INDEX(Tabelle2[[#All],[Budgetlinie]],MATCH(Tabelle1[[#This Row],[Maßnahme]],Ausfüllhilfe!$C$1:$C$22,0))","v":{"$error":"#N/A"}},null,null,null,null,null,null,null,null,{"$f":"VLOOKUP(Tabelle1[[#This Row],[Budgetlinie]],Ausfüllhilfe!$A$1:$D$23,4,0)","v":{"$error":"#N/A"}}]
[{"$f":"INDEX(Tabelle2[[#All],[Budgetlinie]],MATCH(Tabelle1[[#This Row],[Maßnahme]],Ausfüllhilfe!$C$1:$C$22,0))","v":{"$error":"#N/A"}},null,null,null,null,null,null,null,null,{"$f":"VLOOKUP(Tabelle1[[#This Row],[Budgetlinie]],Ausfüllhilfe!$A$1:$D$23,4,0)","v":{"$error":"#N/A"}}]
[{"$f":"INDEX(Tabelle2[[#All],[Budgetlinie]],MATCH(Tabelle1[[#This Row],[Maßnahme]],Ausfüllhilfe!$C$1:$C$22,0))","v":{"$error":"#N/A"}},null,null,null,null,null,null,null,null,{"$f":"VLOOKUP(Tabelle1[[#This Row],[Budgetlinie]],Ausfüllhilfe!$A$1:$D$23,4,0)","v":{"$error":"#N/A"}}]
[{"$f":"INDEX(Tabelle2[[#All],[Budgetlinie]],MATCH(Tabelle1[[#This Row],[Maßnahme]],Ausfüllhilfe!$C$1:$C$22,0))","v":{"$error":"#N/A"}},null,null,null,null,null,null,null,null,{"$f":"VLOOKUP(Tabelle1[[#This Row],[Budgetlinie]],Ausfüllhilfe!$A$1:$D$23,4,0)","v":{"$error":"#N/A"}}]
[{"$f":"INDEX(Tabelle2[[#All],[Budgetlinie]],MATCH(Tabelle1[[#This Row],[Maßnahme]],Ausfüllhilfe!$C$1:$C$22,0))","v":{"$error":"#N/A"}},null,null,null,null,null,null,null,null,{"$f":"VLOOKUP(Tabelle1[[#This Row],[Budgetlinie]],Ausfüllhilfe!$A$1:$D$23,4,0)","v":{"$error":"#N/A"}}]
[{"$f":"INDEX(Tabelle2[[#All],[Budgetlinie]],MATCH(Tabelle1[[#This Row],[Maßnahme]],Ausfüllhilfe!$C$1:$C$22,0))","v":{"$error":"#N/A"}},null,null,null,null,null,null,null,null,{"$f":"VLOOKUP(Tabelle1[[#This Row],[Budgetlinie]],Ausfüllhilfe!$A$1:$D$23,4,0)","v":{"$error":"#N/A"}}]
[{"$f":"INDEX(Tabelle2[[#All],[Budgetlinie]],MATCH(Tabelle1[[#This Row],[Maßnahme]],Ausfüllhilfe!$C$1:$C$22,0))","v":{"$error":"#N/A"}},null,null,null,null,null,null,null,null,{"$f":"VLOOKUP(Tabelle1[[#This Row],[Budgetlinie]],Ausfüllhilfe!$A$1:$D$23,4,0)","v":{"$error":"#N/A"}}]
[{"$f":"INDEX(Tabelle2[[#All],[Budgetlinie]],MATCH(Tabelle1[[#This Row],[Maßnahme]],Ausfüllhilfe!$C$1:$C$22,0))","v":{"$error":"#N/A"}},null,null,null,null,null,null,null,null,{"$f":"VLOOKUP(Tabelle1[[#This Row],[Budgetlinie]],Ausfüllhilfe!$A$1:$D$23,4,0)","v":{"$error":"#N/A"}}]
[{"$f":"INDEX(Tabelle2[[#All],[Budgetlinie]],MATCH(Tabelle1[[#This Row],[Maßnahme]],Ausfüllhilfe!$C$1:$C$22,0))","v":{"$error":"#N/A"}},null,null,null,null,null,null,null,null,{"$f":"VLOOKUP(Tabelle1[[#This Row],[Budgetlinie]],Ausfüllhilfe!$A$1:$D$23,4,0)","v":{"$error":"#N/A"}}]
[{"$f":"INDEX(Tabelle2[[#All],[Budgetlinie]],MATCH(Tabelle1[[#This Row],[Maßnahme]],Ausfüllhilfe!$C$1:$C$22,0))","v":{"$error":"#N/A"}},null,null,null,null,null,null,null,null,{"$f":"VLOOKUP(Tabelle1[[#This Row],[Budgetlinie]],Ausfüllhilfe!$A$1:$D$23,4,0)","v":{"$error":"#N/A"}}]
[{"$f":"INDEX(Tabelle2[[#All],[Budgetlinie]],MATCH(Tabelle1[[#This Row],[Maßnahme]],Ausfüllhilfe!$C$1:$C$22,0))","v":{"$error":"#N/A"}},null,null,null,null,null,null,null,null,{"$f":"VLOOKUP(Tabelle1[[#This Row],[Budgetlinie]],Ausfüllhilfe!$A$1:$D$23,4,0)","v":{"$error":"#N/A"}}]
[{"$f":"INDEX(Tabelle2[[#All],[Budgetlinie]],MATCH(Tabelle1[[#This Row],[Maßnahme]],Ausfüllhilfe!$C$1:$C$22,0))","v":{"$error":"#N/A"}},null,null,null,null,null,null,null,null,{"$f":"VLOOKUP(Tabelle1[[#This Row],[Budgetlinie]],Ausfüllhilfe!$A$1:$D$23,4,0)","v":{"$error":"#N/A"}}]
[{"$f":"INDEX(Tabelle2[[#All],[Budgetlinie]],MATCH(Tabelle1[[#This Row],[Maßnahme]],Ausfüllhilfe!$C$1:$C$22,0))","v":{"$error":"#N/A"}},null,null,null,null,null,null,null,null,{"$f":"VLOOKUP(Tabelle1[[#This Row],[Budgetlinie]],Ausfüllhilfe!$A$1:$D$23,4,0)","v":{"$error":"#N/A"}}]
[{"$f":"INDEX(Tabelle2[[#All],[Budgetlinie]],MATCH(Tabelle1[[#This Row],[Maßnahme]],Ausfüllhilfe!$C$1:$C$22,0))","v":{"$error":"#N/A"}},null,null,null,null,null,null,null,null,{"$f":"VLOOKUP(Tabelle1[[#This Row],[Budgetlinie]],Ausfüllhilfe!$A$1:$D$23,4,0)","v":{"$error":"#N/A"}}]
[{"$f":"INDEX(Tabelle2[[#All],[Budgetlinie]],MATCH(Tabelle1[[#This Row],[Maßnahme]],Ausfüllhilfe!$C$1:$C$22,0))","v":{"$error":"#N/A"}},null,null,null,null,null,null,null,null,{"$f":"VLOOKUP(Tabelle1[[#This Row],[Budgetlinie]],Ausfüllhilfe!$A$1:$D$23,4,0)","v":{"$error":"#N/A"}}]
[{"$f":"INDEX(Tabelle2[[#All],[Budgetlinie]],MATCH(Tabelle1[[#This Row],[Maßnahme]],Ausfüllhilfe!$C$1:$C$22,0))","v":{"$error":"#N/A"}},null,null,null,null,null,null,null,null,{"$f":"VLOOKUP(Tabelle1[[#This Row],[Budgetlinie]],Ausfüllhilfe!$A$1:$D$23,4,0)","v":{"$error":"#N/A"}}]
[{"$f":"INDEX(Tabelle2[[#All],[Budgetlinie]],MATCH(Tabelle1[[#This Row],[Maßnahme]],Ausfüllhilfe!$C$1:$C$22,0))","v":{"$error":"#N/A"}},null,null,null,null,null,null,null,null,{"$f":"VLOOKUP(Tabelle1[[#This Row],[Budgetlinie]],Ausfüllhilfe!$A$1:$D$23,4,0)","v":{"$error":"#N/A"}}]
[{"$f":"INDEX(Tabelle2[[#All],[Budgetlinie]],MATCH(Tabelle1[[#This Row],[Maßnahme]],Ausfüllhilfe!$C$1:$C$22,0))","v":{"$error":"#N/A"}},null,null,null,null,null,null,null,null,{"$f":"VLOOKUP(Tabelle1[[#This Row],[Budgetlinie]],Ausfüllhilfe!$A$1:$D$23,4,0)","v":{"$error":"#N/A"}}]
[{"$f":"INDEX(Tabelle2[[#All],[Budgetlinie]],MATCH(Tabelle1[[#This Row],[Maßnahme]],Ausfüllhilfe!$C$1:$C$22,0))","v":{"$error":"#N/A"}},null,null,null,null,null,null,null,null,{"$f":"VLOOKUP(Tabelle1[[#This Row],[Budgetlinie]],Ausfüllhilfe!$A$1:$D$23,4,0)","v":{"$error":"#N/A"}}]
[{"$f":"INDEX(Tabelle2[[#All],[Budgetlinie]],MATCH(Tabelle1[[#This Row],[Maßnahme]],Ausfüllhilfe!$C$1:$C$22,0))","v":{"$error":"#N/A"}},null,null,null,null,null,null,null,null,{"$f":"VLOOKUP(Tabelle1[[#This Row],[Budgetlinie]],Ausfüllhilfe!$A$1:$D$23,4,0)","v":{"$error":"#N/A"}}]
[{"$f":"INDEX(Tabelle2[[#All],[Budgetlinie]],MATCH(Tabelle1[[#This Row],[Maßnahme]],Ausfüllhilfe!$C$1:$C$22,0))","v":{"$error":"#N/A"}},null,null,null,null,null,null,null,null,{"$f":"VLOOKUP(Tabelle1[[#This Row],[Budgetlinie]],Ausfüllhilfe!$A$1:$D$23,4,0)","v":{"$error":"#N/A"}}]
[{"$f":"INDEX(Tabelle2[[#All],[Budgetlinie]],MATCH(Tabelle1[[#This Row],[Maßnahme]],Ausfüllhilfe!$C$1:$C$22,0))","v":{"$error":"#N/A"}},null,null,null,null,null,null,null,null,{"$f":"VLOOKUP(Tabelle1[[#This Row],[Budgetlinie]],Ausfüllhilfe!$A$1:$D$23,4,0)","v":{"$error":"#N/A"}}]
[{"$f":"INDEX(Tabelle2[[#All],[Budgetlinie]],MATCH(Tabelle1[[#This Row],[Maßnahme]],Ausfüllhilfe!$C$1:$C$22,0))","v":{"$error":"#N/A"}},null,null,null,null,null,null,null,null,{"$f":"VLOOKUP(Tabelle1[[#This Row],[Budgetlinie]],Ausfüllhilfe!$A$1:$D$23,4,0)","v":{"$error":"#N/A"}}]
[{"$f":"INDEX(Tabelle2[[#All],[Budgetlinie]],MATCH(Tabelle1[[#This Row],[Maßnahme]],Ausfüllhilfe!$C$1:$C$22,0))","v":{"$error":"#N/A"}},null,null,null,null,null,null,null,null,{"$f":"VLOOKUP(Tabelle1[[#This Row],[Budgetlinie]],Ausfüllhilfe!$A$1:$D$23,4,0)","v":{"$error":"#N/A"}}]
[{"$f":"INDEX(Tabelle2[[#All],[Budgetlinie]],MATCH(Tabelle1[[#This Row],[Maßnahme]],Ausfüllhilfe!$C$1:$C$22,0))","v":{"$error":"#N/A"}},null,null,null,null,null,null,null,null,{"$f":"VLOOKUP(Tabelle1[[#This Row],[Budgetlinie]],Ausfüllhilfe!$A$1:$D$23,4,0)","v":{"$error":"#N/A"}}]
[{"$f":"INDEX(Tabelle2[[#All],[Budgetlinie]],MATCH(Tabelle1[[#This Row],[Maßnahme]],Ausfüllhilfe!$C$1:$C$22,0))","v":{"$error":"#N/A"}},null,null,null,null,null,null,null,null,{"$f":"VLOOKUP(Tabelle1[[#This Row],[Budgetlinie]],Ausfüllhilfe!$A$1:$D$23,4,0)","v":{"$error":"#N/A"}}]
[{"$f":"INDEX(Tabelle2[[#All],[Budgetlinie]],MATCH(Tabelle1[[#This Row],[Maßnahme]],Ausfüllhilfe!$C$1:$C$22,0))","v":{"$error":"#N/A"}},null,null,null,null,null,null,null,null,{"$f":"VLOOKUP(Tabelle1[[#This Row],[Budgetlinie]],Ausfüllhilfe!$A$1:$D$23,4,0)","v":{"$error":"#N/A"}}]
[{"$f":"INDEX(Tabelle2[[#All],[Budgetlinie]],MATCH(Tabelle1[[#This Row],[Maßnahme]],Ausfüllhilfe!$C$1:$C$22,0))","v":{"$error":"#N/A"}},null,null,null,null,null,null,null,null,{"$f":"VLOOKUP(Tabelle1[[#This Row],[Budgetlinie]],Ausfüllhilfe!$A$1:$D$23,4,0)","v":{"$error":"#N/A"}}]
[{"$f":"INDEX(Tabelle2[[#All],[Budgetlinie]],MATCH(Tabelle1[[#This Row],[Maßnahme]],Ausfüllhilfe!$C$1:$C$22,0))","v":{"$error":"#N/A"}},null,null,null,null,null,null,null,null,{"$f":"VLOOKUP(Tabelle1[[#This Row],[Budgetlinie]],Ausfüllhilfe!$A$1:$D$23,4,0)","v":{"$error":"#N/A"}}]
[{"$f":"INDEX(Tabelle2[[#All],[Budgetlinie]],MATCH(Tabelle1[[#This Row],[Maßnahme]],Ausfüllhilfe!$C$1:$C$22,0))","v":{"$error":"#N/A"}},null,null,null,null,null,null,null,null,{"$f":"VLOOKUP(Tabelle1[[#This Row],[Budgetlinie]],Ausfüllhilfe!$A$1:$D$23,4,0)","v":{"$error":"#N/A"}}]
[{"$f":"INDEX(Tabelle2[[#All],[Budgetlinie]],MATCH(Tabelle1[[#This Row],[Maßnahme]],Ausfüllhilfe!$C$1:$C$22,0))","v":{"$error":"#N/A"}},null,null,null,null,null,null,null,null,{"$f":"VLOOKUP(Tabelle1[[#This Row],[Budgetlinie]],Ausfüllhilfe!$A$1:$D$23,4,0)","v":{"$error":"#N/A"}}]
[{"$f":"INDEX(Tabelle2[[#All],[Budgetlinie]],MATCH(Tabelle1[[#This Row],[Maßnahme]],Ausfüllhilfe!$C$1:$C$22,0))","v":{"$error":"#N/A"}},null,null,null,null,null,null,null,null,{"$f":"VLOOKUP(Tabelle1[[#This Row],[Budgetlinie]],Ausfüllhilfe!$A$1:$D$23,4,0)","v":{"$error":"#N/A"}}]
[{"$f":"INDEX(Tabelle2[[#All],[Budgetlinie]],MATCH(Tabelle1[[#This Row],[Maßnahme]],Ausfüllhilfe!$C$1:$C$22,0))","v":{"$error":"#N/A"}},null,null,null,null,null,null,null,null,{"$f":"VLOOKUP(Tabelle1[[#This Row],[Budgetlinie]],Ausfüllhilfe!$A$1:$D$23,4,0)","v":{"$error":"#N/A"}}]
[{"$f":"INDEX(Tabelle2[[#All],[Budgetlinie]],MATCH(Tabelle1[[#This Row],[Maßnahme]],Ausfüllhilfe!$C$1:$C$22,0))","v":{"$error":"#N/A"}},null,null,null,null,null,null,null,null,{"$f":"VLOOKUP(Tabelle1[[#This Row],[Budgetlinie]],Ausfüllhilfe!$A$1:$D$23,4,0)","v":{"$error":"#N/A"}}]
[{"$f":"INDEX(Tabelle2[[#All],[Budgetlinie]],MATCH(Tabelle1[[#This Row],[Maßnahme]],Ausfüllhilfe!$C$1:$C$22,0))","v":{"$error":"#N/A"}},null,null,null,null,null,null,null,null,{"$f":"VLOOKUP(Tabelle1[[#This Row],[Budgetlinie]],Ausfüllhilfe!$A$1:$D$23,4,0)","v":{"$error":"#N/A"}}]
[{"$f":"INDEX(Tabelle2[[#All],[Budgetlinie]],MATCH(Tabelle1[[#This Row],[Maßnahme]],Ausfüllhilfe!$C$1:$C$22,0))","v":{"$error":"#N/A"}},null,null,null,null,null,null,null,null,{"$f":"VLOOKUP(Tabelle1[[#This Row],[Budgetlinie]],Ausfüllhilfe!$A$1:$D$23,4,0)","v":{"$error":"#N/A"}}]
[{"$f":"INDEX(Tabelle2[[#All],[Budgetlinie]],MATCH(Tabelle1[[#This Row],[Maßnahme]],Ausfüllhilfe!$C$1:$C$22,0))","v":{"$error":"#N/A"}},null,null,null,null,null,null,null,null,{"$f":"VLOOKUP(Tabelle1[[#This Row],[Budgetlinie]],Ausfüllhilfe!$A$1:$D$23,4,0)","v":{"$error":"#N/A"}}]
[{"$f":"INDEX(Tabelle2[[#All],[Budgetlinie]],MATCH(Tabelle1[[#This Row],[Maßnahme]],Ausfüllhilfe!$C$1:$C$22,0))","v":{"$error":"#N/A"}},null,null,null,null,null,null,null,null,{"$f":"VLOOKUP(Tabelle1[[#This Row],[Budgetlinie]],Ausfüllhilfe!$A$1:$D$23,4,0)","v":{"$error":"#N/A"}}]
[{"$f":"INDEX(Tabelle2[[#All],[Budgetlinie]],MATCH(Tabelle1[[#This Row],[Maßnahme]],Ausfüllhilfe!$C$1:$C$22,0))","v":{"$error":"#N/A"}},null,null,null,null,null,null,null,null,{"$f":"VLOOKUP(Tabelle1[[#This Row],[Budgetlinie]],Ausfüllhilfe!$A$1:$D$23,4,0)","v":{"$error":"#N/A"}}]
[{"$f":"INDEX(Tabelle2[[#All],[Budgetlinie]],MATCH(Tabelle1[[#This Row],[Maßnahme]],Ausfüllhilfe!$C$1:$C$22,0))","v":{"$error":"#N/A"}},null,null,null,null,null,null,null,null,{"$f":"VLOOKUP(Tabelle1[[#This Row],[Budgetlinie]],Ausfüllhilfe!$A$1:$D$23,4,0)","v":{"$error":"#N/A"}}]
[{"$f":"INDEX(Tabelle2[[#All],[Budgetlinie]],MATCH(Tabelle1[[#This Row],[Maßnahme]],Ausfüllhilfe!$C$1:$C$22,0))","v":{"$error":"#N/A"}},null,null,null,null,null,null,null,null,{"$f":"VLOOKUP(Tabelle1[[#This Row],[Budgetlinie]],Ausfüllhilfe!$A$1:$D$23,4,0)","v":{"$error":"#N/A"}}]
[{"$f":"INDEX(Tabelle2[[#All],[Budgetlinie]],MATCH(Tabelle1[[#This Row],[Maßnahme]],Ausfüllhilfe!$C$1:$C$22,0))","v":{"$error":"#N/A"}},null,null,null,null,null,null,null,null,{"$f":"VLOOKUP(Tabelle1[[#This Row],[Budgetlinie]],Ausfüllhilfe!$A$1:$D$23,4,0)","v":{"$error":"#N/A"}}]
[{"$f":"INDEX(Tabelle2[[#All],[Budgetlinie]],MATCH(Tabelle1[[#This Row],[Maßnahme]],Ausfüllhilfe!$C$1:$C$22,0))","v":{"$error":"#N/A"}},null,null,null,null,null,null,null,null,{"$f":"VLOOKUP(Tabelle1[[#This Row],[Budgetlinie]],Ausfüllhilfe!$A$1:$D$23,4,0)","v":{"$error":"#N/A"}}]
[{"$f":"INDEX(Tabelle2[[#All],[Budgetlinie]],MATCH(Tabelle1[[#This Row],[Maßnahme]],Ausfüllhilfe!$C$1:$C$22,0))","v":{"$error":"#N/A"}},null,null,null,null,null,null,null,null,{"$f":"VLOOKUP(Tabelle1[[#This Row],[Budgetlinie]],Ausfüllhilfe!$A$1:$D$23,4,0)","v":{"$error":"#N/A"}}]
[{"$f":"INDEX(Tabelle2[[#All],[Budgetlinie]],MATCH(Tabelle1[[#This Row],[Maßnahme]],Ausfüllhilfe!$C$1:$C$22,0))","v":{"$error":"#N/A"}},null,null,null,null,null,null,null,null,{"$f":"VLOOKUP(Tabelle1[[#This Row],[Budgetlinie]],Ausfüllhilfe!$A$1:$D$23,4,0)","v":{"$error":"#N/A"}}]
[{"$f":"INDEX(Tabelle2[[#All],[Budgetlinie]],MATCH(Tabelle1[[#This Row],[Maßnahme]],Ausfüllhilfe!$C$1:$C$22,0))","v":{"$error":"#N/A"}},null,null,null,null,null,null,null,null,{"$f":"VLOOKUP(Tabelle1[[#This Row],[Budgetlinie]],Ausfüllhilfe!$A$1:$D$23,4,0)","v":{"$error":"#N/A"}}]
[{"$f":"INDEX(Tabelle2[[#All],[Budgetlinie]],MATCH(Tabelle1[[#This Row],[Maßnahme]],Ausfüllhilfe!$C$1:$C$22,0))","v":{"$error":"#N/A"}},null,null,null,null,null,null,null,null,{"$f":"VLOOKUP(Tabelle1[[#This Row],[Budgetlinie]],Ausfüllhilfe!$A$1:$D$23,4,0)","v":{"$error":"#N/A"}}]
[{"$f":"INDEX(Tabelle2[[#All],[Budgetlinie]],MATCH(Tabelle1[[#This Row],[Maßnahme]],Ausfüllhilfe!$C$1:$C$22,0))","v":{"$error":"#N/A"}},null,null,null,null,null,null,null,null,{"$f":"VLOOKUP(Tabelle1[[#This Row],[Budgetlinie]],Ausfüllhilfe!$A$1:$D$23,4,0)","v":{"$error":"#N/A"}}]
[{"$f":"INDEX(Tabelle2[[#All],[Budgetlinie]],MATCH(Tabelle1[[#This Row],[Maßnahme]],Ausfüllhilfe!$C$1:$C$22,0))","v":{"$error":"#N/A"}},null,null,null,null,null,null,null,null,{"$f":"VLOOKUP(Tabelle1[[#This Row],[Budgetlinie]],Ausfüllhilfe!$A$1:$D$23,4,0)","v":{"$error":"#N/A"}}]
[{"$f":"INDEX(Tabelle2[[#All],[Budgetlinie]],MATCH(Tabelle1[[#This Row],[Maßnahme]],Ausfüllhilfe!$C$1:$C$22,0))","v":{"$error":"#N/A"}},null,null,null,null,null,null,null,null,{"$f":"VLOOKUP(Tabelle1[[#This Row],[Budgetlinie]],Ausfüllhilfe!$A$1:$D$23,4,0)","v":{"$error":"#N/A"}}]
[{"$f":"INDEX(Tabelle2[[#All],[Budgetlinie]],MATCH(Tabelle1[[#This Row],[Maßnahme]],Ausfüllhilfe!$C$1:$C$22,0))","v":{"$error":"#N/A"}},null,null,null,null,null,null,null,null,{"$f":"VLOOKUP(Tabelle1[[#This Row],[Budgetlinie]],Ausfüllhilfe!$A$1:$D$23,4,0)","v":{"$error":"#N/A"}}]
[{"$f":"INDEX(Tabelle2[[#All],[Budgetlinie]],MATCH(Tabelle1[[#This Row],[Maßnahme]],Ausfüllhilfe!$C$1:$C$22,0))","v":{"$error":"#N/A"}},null,null,null,null,null,null,null,null,{"$f":"VLOOKUP(Tabelle1[[#This Row],[Budgetlinie]],Ausfüllhilfe!$A$1:$D$23,4,0)","v":{"$error":"#N/A"}}]
[{"$f":"INDEX(Tabelle2[[#All],[Budgetlinie]],MATCH(Tabelle1[[#This Row],[Maßnahme]],Ausfüllhilfe!$C$1:$C$22,0))","v":{"$error":"#N/A"}},null,null,null,null,null,null,null,null,{"$f":"VLOOKUP(Tabelle1[[#This Row],[Budgetlinie]],Ausfüllhilfe!$A$1:$D$23,4,0)","v":{"$error":"#N/A"}}]
[{"$f":"INDEX(Tabelle2[[#All],[Budgetlinie]],MATCH(Tabelle1[[#This Row],[Maßnahme]],Ausfüllhilfe!$C$1:$C$22,0))","v":{"$error":"#N/A"}},null,null,null,null,null,null,null,null,{"$f":"VLOOKUP(Tabelle1[[#This Row],[Budgetlinie]],Ausfüllhilfe!$A$1:$D$23,4,0)","v":{"$error":"#N/A"}}]
[{"$f":"INDEX(Tabelle2[[#All],[Budgetlinie]],MATCH(Tabelle1[[#This Row],[Maßnahme]],Ausfüllhilfe!$C$1:$C$22,0))","v":{"$error":"#N/A"}},null,null,null,null,null,null,null,null,{"$f":"VLOOKUP(Tabelle1[[#This Row],[Budgetlinie]],Ausfüllhilfe!$A$1:$D$23,4,0)","v":{"$error":"#N/A"}}]
[{"$f":"INDEX(Tabelle2[[#All],[Budgetlinie]],MATCH(Tabelle1[[#This Row],[Maßnahme]],Ausfüllhilfe!$C$1:$C$22,0))","v":{"$error":"#N/A"}},null,null,null,null,null,null,null,null,{"$f":"VLOOKUP(Tabelle1[[#This Row],[Budgetlinie]],Ausfüllhilfe!$A$1:$D$23,4,0)","v":{"$error":"#N/A"}}]
[{"$f":"INDEX(Tabelle2[[#All],[Budgetlinie]],MATCH(Tabelle1[[#This Row],[Maßnahme]],Ausfüllhilfe!$C$1:$C$22,0))","v":{"$error":"#N/A"}},null,null,null,null,null,null,null,null,{"$f":"VLOOKUP(Tabelle1[[#This Row],[Budgetlinie]],Ausfüllhilfe!$A$1:$D$23,4,0)","v":{"$error":"#N/A"}}]
[{"$f":"INDEX(Tabelle2[[#All],[Budgetlinie]],MATCH(Tabelle1[[#This Row],[Maßnahme]],Ausfüllhilfe!$C$1:$C$22,0))","v":{"$error":"#N/A"}},null,null,null,null,null,null,null,null,{"$f":"VLOOKUP(Tabelle1[[#This Row],[Budgetlinie]],Ausfüllhilfe!$A$1:$D$23,4,0)","v":{"$error":"#N/A"}}]
[{"$f":"INDEX(Tabelle2[[#All],[Budgetlinie]],MATCH(Tabelle1[[#This Row],[Maßnahme]],Ausfüllhilfe!$C$1:$C$22,0))","v":{"$error":"#N/A"}},null,null,null,null,null,null,null,null,{"$f":"VLOOKUP(Tabelle1[[#This Row],[Budgetlinie]],Ausfüllhilfe!$A$1:$D$23,4,0)","v":{"$error":"#N/A"}}]
[{"$f":"INDEX(Tabelle2[[#All],[Budgetlinie]],MATCH(Tabelle1[[#This Row],[Maßnahme]],Ausfüllhilfe!$C$1:$C$22,0))","v":{"$error":"#N/A"}},null,null,null,null,null,null,null,null,{"$f":"VLOOKUP(Tabelle1[[#This Row],[Budgetlinie]],Ausfüllhilfe!$A$1:$D$23,4,0)","v":{"$error":"#N/A"}}]
[{"$f":"INDEX(Tabelle2[[#All],[Budgetlinie]],MATCH(Tabelle1[[#This Row],[Maßnahme]],Ausfüllhilfe!$C$1:$C$22,0))","v":{"$error":"#N/A"}},null,null,null,null,null,null,null,null,{"$f":"VLOOKUP(Tabelle1[[#This Row],[Budgetlinie]],Ausfüllhilfe!$A$1:$D$23,4,0)","v":{"$error":"#N/A"}}]
[{"$f":"INDEX(Tabelle2[[#All],[Budgetlinie]],MATCH(Tabelle1[[#This Row],[Maßnahme]],Ausfüllhilfe!$C$1:$C$22,0))","v":{"$error":"#N/A"}},null,null,null,null,null,null,null,null,{"$f":"VLOOKUP(Tabelle1[[#This Row],[Budgetlinie]],Ausfüllhilfe!$A$1:$D$23,4,0)","v":{"$error":"#N/A"}}]
[{"$f":"INDEX(Tabelle2[[#All],[Budgetlinie]],MATCH(Tabelle1[[#This Row],[Maßnahme]],Ausfüllhilfe!$C$1:$C$22,0))","v":{"$error":"#N/A"}},null,null,null,null,null,null,null,null,{"$f":"VLOOKUP(Tabelle1[[#This Row],[Budgetlinie]],Ausfüllhilfe!$A$1:$D$23,4,0)","v":{"$error":"#N/A"}}]
[{"$f":"INDEX(Tabelle2[[#All],[Budgetlinie]],MATCH(Tabelle1[[#This Row],[Maßnahme]],Ausfüllhilfe!$C$1:$C$22,0))","v":{"$error":"#N/A"}},null,null,null,null,null,null,null,null,{"$f":"VLOOKUP(Tabelle1[[#This Row],[Budgetlinie]],Ausfüllhilfe!$A$1:$D$23,4,0)","v":{"$error":"#N/A"}}]
[{"$f":"INDEX(Tabelle2[[#All],[Budgetlinie]],MATCH(Tabelle1[[#This Row],[Maßnahme]],Ausfüllhilfe!$C$1:$C$22,0))","v":{"$error":"#N/A"}},null,null,null,null,null,null,null,null,{"$f":"VLOOKUP(Tabelle1[[#This Row],[Budgetlinie]],Ausfüllhilfe!$A$1:$D$23,4,0)","v":{"$error":"#N/A"}}]
[{"$f":"INDEX(Tabelle2[[#All],[Budgetlinie]],MATCH(Tabelle1[[#This Row],[Maßnahme]],Ausfüllhilfe!$C$1:$C$22,0))","v":{"$error":"#N/A"}},null,null,null,null,null,null,null,null,{"$f":"VLOOKUP(Tabelle1[[#This Row],[Budgetlinie]],Ausfüllhilfe!$A$1:$D$23,4,0)","v":{"$error":"#N/A"}}]
[{"$f":"INDEX(Tabelle2[[#All],[Budgetlinie]],MATCH(Tabelle1[[#This Row],[Maßnahme]],Ausfüllhilfe!$C$1:$C$22,0))","v":{"$error":"#N/A"}},null,null,null,null,null,null,null,null,{"$f":"VLOOKUP(Tabelle1[[#This Row],[Budgetlinie]],Ausfüllhilfe!$A$1:$D$23,4,0)","v":{"$error":"#N/A"}}]
[{"$f":"INDEX(Tabelle2[[#All],[Budgetlinie]],MATCH(Tabelle1[[#This Row],[Maßnahme]],Ausfüllhilfe!$C$1:$C$22,0))","v":{"$error":"#N/A"}},null,null,null,null,null,null,null,null,{"$f":"VLOOKUP(Tabelle1[[#This Row],[Budgetlinie]],Ausfüllhilfe!$A$1:$D$23,4,0)","v":{"$error":"#N/A"}}]
[{"$f":"INDEX(Tabelle2[[#All],[Budgetlinie]],MATCH(Tabelle1[[#This Row],[Maßnahme]],Ausfüllhilfe!$C$1:$C$22,0))","v":{"$error":"#N/A"}},null,null,null,null,null,null,null,null,{"$f":"VLOOKUP(Tabelle1[[#This Row],[Budgetlinie]],Ausfüllhilfe!$A$1:$D$23,4,0)","v":{"$error":"#N/A"}}]
[{"$f":"INDEX(Tabelle2[[#All],[Budgetlinie]],MATCH(Tabelle1[[#This Row],[Maßnahme]],Ausfüllhilfe!$C$1:$C$22,0))","v":{"$error":"#N/A"}},null,null,null,null,null,null,null,null,{"$f":"VLOOKUP(Tabelle1[[#This Row],[Budgetlinie]],Ausfüllhilfe!$A$1:$D$23,4,0)","v":{"$error":"#N/A"}}]
[{"$f":"INDEX(Tabelle2[[#All],[Budgetlinie]],MATCH(Tabelle1[[#This Row],[Maßnahme]],Ausfüllhilfe!$C$1:$C$22,0))","v":{"$error":"#N/A"}},null,null,null,null,null,null,null,null,{"$f":"VLOOKUP(Tabelle1[[#This Row],[Budgetlinie]],Ausfüllhilfe!$A$1:$D$23,4,0)","v":{"$error":"#N/A"}}]
[{"$f":"INDEX(Tabelle2[[#All],[Budgetlinie]],MATCH(Tabelle1[[#This Row],[Maßnahme]],Ausfüllhilfe!$C$1:$C$22,0))","v":{"$error":"#N/A"}},null,null,null,null,null,null,null,null,{"$f":"VLOOKUP(Tabelle1[[#This Row],[Budgetlinie]],Ausfüllhilfe!$A$1:$D$23,4,0)","v":{"$error":"#N/A"}}]
[{"$f":"INDEX(Tabelle2[[#All],[Budgetlinie]],MATCH(Tabelle1[[#This Row],[Maßnahme]],Ausfüllhilfe!$C$1:$C$22,0))","v":{"$error":"#N/A"}},null,null,null,null,null,null,null,null,{"$f":"VLOOKUP(Tabelle1[[#This Row],[Budgetlinie]],Ausfüllhilfe!$A$1:$D$23,4,0)","v":{"$error":"#N/A"}}]
[{"$f":"INDEX(Tabelle2[[#All],[Budgetlinie]],MATCH(Tabelle1[[#This Row],[Maßnahme]],Ausfüllhilfe!$C$1:$C$22,0))","v":{"$error":"#N/A"}},null,null,null,null,null,null,null,null,{"$f":"VLOOKUP(Tabelle1[[#This Row],[Budgetlinie]],Ausfüllhilfe!$A$1:$D$23,4,0)","v":{"$error":"#N/A"}}]
[{"$f":"INDEX(Tabelle2[[#All],[Budgetlinie]],MATCH(Tabelle1[[#This Row],[Maßnahme]],Ausfüllhilfe!$C$1:$C$22,0))","v":{"$error":"#N/A"}},null,null,null,null,null,null,null,null,{"$f":"VLOOKUP(Tabelle1[[#This Row],[Budgetlinie]],Ausfüllhilfe!$A$1:$D$23,4,0)","v":{"$error":"#N/A"}}]
[{"$f":"INDEX(Tabelle2[[#All],[Budgetlinie]],MATCH(Tabelle1[[#This Row],[Maßnahme]],Ausfüllhilfe!$C$1:$C$22,0))","v":{"$error":"#N/A"}},null,null,null,null,null,null,null,null,{"$f":"VLOOKUP(Tabelle1[[#This Row],[Budgetlinie]],Ausfüllhilfe!$A$1:$D$23,4,0)","v":{"$error":"#N/A"}}]
[{"$f":"INDEX(Tabelle2[[#All],[Budgetlinie]],MATCH(Tabelle1[[#This Row],[Maßnahme]],Ausfüllhilfe!$C$1:$C$22,0))","v":{"$error":"#N/A"}},null,null,null,null,null,null,null,null,{"$f":"VLOOKUP(Tabelle1[[#This Row],[Budgetlinie]],Ausfüllhilfe!$A$1:$D$23,4,0)","v":{"$error":"#N/A"}}]
[{"$f":"INDEX(Tabelle2[[#All],[Budgetlinie]],MATCH(Tabelle1[[#This Row],[Maßnahme]],Ausfüllhilfe!$C$1:$C$22,0))","v":{"$error":"#N/A"}},null,null,null,null,null,null,null,null,{"$f":"VLOOKUP(Tabelle1[[#This Row],[Budgetlinie]],Ausfüllhilfe!$A$1:$D$23,4,0)","v":{"$error":"#N/A"}}]
[{"$f":"INDEX(Tabelle2[[#All],[Budgetlinie]],MATCH(Tabelle1[[#This Row],[Maßnahme]],Ausfüllhilfe!$C$1:$C$22,0))","v":{"$error":"#N/A"}},null,null,null,null,null,null,null,null,{"$f":"VLOOKUP(Tabelle1[[#This Row],[Budgetlinie]],Ausfüllhilfe!$A$1:$D$23,4,0)","v":{"$error":"#N/A"}}]
[{"$f":"INDEX(Tabelle2[[#All],[Budgetlinie]],MATCH(Tabelle1[[#This Row],[Maßnahme]],Ausfüllhilfe!$C$1:$C$22,0))","v":{"$error":"#N/A"}},null,null,null,null,null,null,null,null,{"$f":"VLOOKUP(Tabelle1[[#This Row],[Budgetlinie]],Ausfüllhilfe!$A$1:$D$23,4,0)","v":{"$error":"#N/A"}}]
[{"$f":"INDEX(Tabelle2[[#All],[Budgetlinie]],MATCH(Tabelle1[[#This Row],[Maßnahme]],Ausfüllhilfe!$C$1:$C$22,0))","v":{"$error":"#N/A"}},null,null,null,null,null,null,null,null,{"$f":"VLOOKUP(Tabelle1[[#This Row],[Budgetlinie]],Ausfüllhilfe!$A$1:$D$23,4,0)","v":{"$error":"#N/A"}}]
[{"$f":"INDEX(Tabelle2[[#All],[Budgetlinie]],MATCH(Tabelle1[[#This Row],[Maßnahme]],Ausfüllhilfe!$C$1:$C$22,0))","v":{"$error":"#N/A"}},null,null,null,null,null,null,null,null,{"$f":"VLOOKUP(Tabelle1[[#This Row],[Budgetlinie]],Ausfüllhilfe!$A$1:$D$23,4,0)","v":{"$error":"#N/A"}}]
[{"$f":"INDEX(Tabelle2[[#All],[Budgetlinie]],MATCH(Tabelle1[[#This Row],[Maßnahme]],Ausfüllhilfe!$C$1:$C$22,0))","v":{"$error":"#N/A"}},null,null,null,null,null,null,null,null,{"$f":"VLOOKUP(Tabelle1[[#This Row],[Budgetlinie]],Ausfüllhilfe!$A$1:$D$23,4,0)","v":{"$error":"#N/A"}}]
[{"$f":"INDEX(Tabelle2[[#All],[Budgetlinie]],MATCH(Tabelle1[[#This Row],[Maßnahme]],Ausfüllhilfe!$C$1:$C$22,0))","v":{"$error":"#N/A"}},null,null,null,null,null,null,null,null,{"$f":"VLOOKUP(Tabelle1[[#This Row],[Budgetlinie]],Ausfüllhilfe!$A$1:$D$23,4,0)","v":{"$error":"#N/A"}}]
[{"$f":"INDEX(Tabelle2[[#All],[Budgetlinie]],MATCH(Tabelle1[[#This Row],[Maßnahme]],Ausfüllhilfe!$C$1:$C$22,0))","v":{"$error":"#N/A"}},null,null,null,null,null,null,null,null,{"$f":"VLOOKUP(Tabelle1[[#This Row],[Budgetlinie]],Ausfüllhilfe!$A$1:$D$23,4,0)","v":{"$error":"#N/A"}}]
[{"$f":"INDEX(Tabelle2[[#All],[Budgetlinie]],MATCH(Tabelle1[[#This Row],[Maßnahme]],Ausfüllhilfe!$C$1:$C$22,0))","v":{"$error":"#N/A"}},null,null,null,null,null,null,null,null,{"$f":"VLOOKUP(Tabelle1[[#This Row],[Budgetlinie]],Ausfüllhilfe!$A$1:$D$23,4,0)","v":{"$error":"#N/A"}}]
[{"$f":"INDEX(Tabelle2[[#All],[Budgetlinie]],MATCH(Tabelle1[[#This Row],[Maßnahme]],Ausfüllhilfe!$C$1:$C$22,0))","v":{"$error":"#N/A"}},null,null,null,null,null,null,null,null,{"$f":"VLOOKUP(Tabelle1[[#This Row],[Budgetlinie]],Ausfüllhilfe!$A$1:$D$23,4,0)","v":{"$error":"#N/A"}}]
[{"$f":"INDEX(Tabelle2[[#All],[Budgetlinie]],MATCH(Tabelle1[[#This Row],[Maßnahme]],Ausfüllhilfe!$C$1:$C$22,0))","v":{"$error":"#N/A"}},null,null,null,null,null,null,null,null,{"$f":"VLOOKUP(Tabelle1[[#This Row],[Budgetlinie]],Ausfüllhilfe!$A$1:$D$23,4,0)","v":{"$error":"#N/A"}}]
[{"$f":"INDEX(Tabelle2[[#All],[Budgetlinie]],MATCH(Tabelle1[[#This Row],[Maßnahme]],Ausfüllhilfe!$C$1:$C$22,0))","v":{"$error":"#N/A"}},null,null,null,null,null,null,null,null,{"$f":"VLOOKUP(Tabelle1[[#This Row],[Budgetlinie]],Ausfüllhilfe!$A$1:$D$23,4,0)","v":{"$error":"#N/A"}}]
[{"$f":"INDEX(Tabelle2[[#All],[Budgetlinie]],MATCH(Tabelle1[[#This Row],[Maßnahme]],Ausfüllhilfe!$C$1:$C$22,0))","v":{"$error":"#N/A"}},null,null,null,null,null,null,null,null,{"$f":"VLOOKUP(Tabelle1[[#This Row],[Budgetlinie]],Ausfüllhilfe!$A$1:$D$23,4,0)","v":{"$error":"#N/A"}}]
[{"$f":"INDEX(Tabelle2[[#All],[Budgetlinie]],MATCH(Tabelle1[[#This Row],[Maßnahme]],Ausfüllhilfe!$C$1:$C$22,0))","v":{"$error":"#N/A"}},null,null,null,null,null,null,null,null,{"$f":"VLOOKUP(Tabelle1[[#This Row],[Budgetlinie]],Ausfüllhilfe!$A$1:$D$23,4,0)","v":{"$error":"#N/A"}}]
[{"$f":"INDEX(Tabelle2[[#All],[Budgetlinie]],MATCH(Tabelle1[[#This Row],[Maßnahme]],Ausfüllhilfe!$C$1:$C$22,0))","v":{"$error":"#N/A"}},null,null,null,null,null,null,null,null,{"$f":"VLOOKUP(Tabelle1[[#This Row],[Budgetlinie]],Ausfüllhilfe!$A$1:$D$23,4,0)","v":{"$error":"#N/A"}}]
[{"$f":"INDEX(Tabelle2[[#All],[Budgetlinie]],MATCH(Tabelle1[[#This Row],[Maßnahme]],Ausfüllhilfe!$C$1:$C$22,0))","v":{"$error":"#N/A"}},null,null,null,null,null,null,null,null,{"$f":"VLOOKUP(Tabelle1[[#This Row],[Budgetlinie]],Ausfüllhilfe!$A$1:$D$23,4,0)","v":{"$error":"#N/A"}}]
[{"$f":"INDEX(Tabelle2[[#All],[Budgetlinie]],MATCH(Tabelle1[[#This Row],[Maßnahme]],Ausfüllhilfe!$C$1:$C$22,0))","v":{"$error":"#N/A"}},null,null,null,null,null,null,null,null,{"$f":"VLOOKUP(Tabelle1[[#This Row],[Budgetlinie]],Ausfüllhilfe!$A$1:$D$23,4,0)","v":{"$error":"#N/A"}}]
[{"$f":"INDEX(Tabelle2[[#All],[Budgetlinie]],MATCH(Tabelle1[[#This Row],[Maßnahme]],Ausfüllhilfe!$C$1:$C$22,0))","v":{"$error":"#N/A"}},null,null,null,null,null,null,null,null,{"$f":"VLOOKUP(Tabelle1[[#This Row],[Budgetlinie]],Ausfüllhilfe!$A$1:$D$23,4,0)","v":{"$error":"#N/A"}}]
[{"$f":"INDEX(Tabelle2[[#All],[Budgetlinie]],MATCH(Tabelle1[[#This Row],[Maßnahme]],Ausfüllhilfe!$C$1:$C$22,0))","v":{"$error":"#N/A"}},null,null,null,null,null,null,null,null,{"$f":"VLOOKUP(Tabelle1[[#This Row],[Budgetlinie]],Ausfüllhilfe!$A$1:$D$23,4,0)","v":{"$error":"#N/A"}}]
[{"$f":"INDEX(Tabelle2[[#All],[Budgetlinie]],MATCH(Tabelle1[[#This Row],[Maßnahme]],Ausfüllhilfe!$C$1:$C$22,0))","v":{"$error":"#N/A"}},null,null,null,null,null,null,null,null,{"$f":"VLOOKUP(Tabelle1[[#This Row],[Budgetlinie]],Ausfüllhilfe!$A$1:$D$23,4,0)","v":{"$error":"#N/A"}}]
[{"$f":"INDEX(Tabelle2[[#All],[Budgetlinie]],MATCH(Tabelle1[[#This Row],[Maßnahme]],Ausfüllhilfe!$C$1:$C$22,0))","v":{"$error":"#N/A"}},null,null,null,null,null,null,null,null,{"$f":"VLOOKUP(Tabelle1[[#This Row],[Budgetlinie]],Ausfüllhilfe!$A$1:$D$23,4,0)","v":{"$error":"#N/A"}}]
[{"$f":"INDEX(Tabelle2[[#All],[Budgetlinie]],MATCH(Tabelle1[[#This Row],[Maßnahme]],Ausfüllhilfe!$C$1:$C$22,0))","v":{"$error":"#N/A"}},null,null,null,null,null,null,null,null,{"$f":"VLOOKUP(Tabelle1[[#This Row],[Budgetlinie]],Ausfüllhilfe!$A$1:$D$23,4,0)","v":{"$error":"#N/A"}}]
[{"$f":"INDEX(Tabelle2[[#All],[Budgetlinie]],MATCH(Tabelle1[[#This Row],[Maßnahme]],Ausfüllhilfe!$C$1:$C$22,0))","v":{"$error":"#N/A"}},null,null,null,null,null,null,null,null,{"$f":"VLOOKUP(Tabelle1[[#This Row],[Budgetlinie]],Ausfüllhilfe!$A$1:$D$23,4,0)","v":{"$error":"#N/A"}}]
[{"$f":"INDEX(Tabelle2[[#All],[Budgetlinie]],MATCH(Tabelle1[[#This Row],[Maßnahme]],Ausfüllhilfe!$C$1:$C$22,0))","v":{"$error":"#N/A"}},null,null,null,null,null,null,null,null,{"$f":"VLOOKUP(Tabelle1[[#This Row],[Budgetlinie]],Ausfüllhilfe!$A$1:$D$23,4,0)","v":{"$error":"#N/A"}}]
[{"$f":"INDEX(Tabelle2[[#All],[Budgetlinie]],MATCH(Tabelle1[[#This Row],[Maßnahme]],Ausfüllhilfe!$C$1:$C$22,0))","v":{"$error":"#N/A"}},null,null,null,null,null,null,null,null,{"$f":"VLOOKUP(Tabelle1[[#This Row],[Budgetlinie]],Ausfüllhilfe!$A$1:$D$23,4,0)","v":{"$error":"#N/A"}}]
[{"$f":"INDEX(Tabelle2[[#All],[Budgetlinie]],MATCH(Tabelle1[[#This Row],[Maßnahme]],Ausfüllhilfe!$C$1:$C$22,0))","v":{"$error":"#N/A"}},null,null,null,null,null,null,null,null,{"$f":"VLOOKUP(Tabelle1[[#This Row],[Budgetlinie]],Ausfüllhilfe!$A$1:$D$23,4,0)","v":{"$error":"#N/A"}}]
[{"$f":"INDEX(Tabelle2[[#All],[Budgetlinie]],MATCH(Tabelle1[[#This Row],[Maßnahme]],Ausfüllhilfe!$C$1:$C$22,0))","v":{"$error":"#N/A"}},null,null,null,null,null,null,null,null,{"$f":"VLOOKUP(Tabelle1[[#This Row],[Budgetlinie]],Ausfüllhilfe!$A$1:$D$23,4,0)","v":{"$error":"#N/A"}}]
[{"$f":"INDEX(Tabelle2[[#All],[Budgetlinie]],MATCH(Tabelle1[[#This Row],[Maßnahme]],Ausfüllhilfe!$C$1:$C$22,0))","v":{"$error":"#N/A"}},null,null,null,null,null,null,null,null,{"$f":"VLOOKUP(Tabelle1[[#This Row],[Budgetlinie]],Ausfüllhilfe!$A$1:$D$23,4,0)","v":{"$error":"#N/A"}}]
[{"$f":"INDEX(Tabelle2[[#All],[Budgetlinie]],MATCH(Tabelle1[[#This Row],[Maßnahme]],Ausfüllhilfe!$C$1:$C$22,0))","v":{"$error":"#N/A"}},null,null,null,null,null,null,null,null,{"$f":"VLOOKUP(Tabelle1[[#This Row],[Budgetlinie]],Ausfüllhilfe!$A$1:$D$23,4,0)","v":{"$error":"#N/A"}}]
[{"$f":"INDEX(Tabelle2[[#All],[Budgetlinie]],MATCH(Tabelle1[[#This Row],[Maßnahme]],Ausfüllhilfe!$C$1:$C$22,0))","v":{"$error":"#N/A"}},null,null,null,null,null,null,null,null,{"$f":"VLOOKUP(Tabelle1[[#This Row],[Budgetlinie]],Ausfüllhilfe!$A$1:$D$23,4,0)","v":{"$error":"#N/A"}}]
[{"$f":"INDEX(Tabelle2[[#All],[Budgetlinie]],MATCH(Tabelle1[[#This Row],[Maßnahme]],Ausfüllhilfe!$C$1:$C$22,0))","v":{"$error":"#N/A"}},null,null,null,null,null,null,null,null,{"$f":"VLOOKUP(Tabelle1[[#This Row],[Budgetlinie]],Ausfüllhilfe!$A$1:$D$23,4,0)","v":{"$error":"#N/A"}}]
[{"$f":"INDEX(Tabelle2[[#All],[Budgetlinie]],MATCH(Tabelle1[[#This Row],[Maßnahme]],Ausfüllhilfe!$C$1:$C$22,0))","v":{"$error":"#N/A"}},null,null,null,null,null,null,null,null,{"$f":"VLOOKUP(Tabelle1[[#This Row],[Budgetlinie]],Ausfüllhilfe!$A$1:$D$23,4,0)","v":{"$error":"#N/A"}}]
[{"$f":"INDEX(Tabelle2[[#All],[Budgetlinie]],MATCH(Tabelle1[[#This Row],[Maßnahme]],Ausfüllhilfe!$C$1:$C$22,0))","v":{"$error":"#N/A"}},null,null,null,null,null,null,null,null,{"$f":"VLOOKUP(Tabelle1[[#This Row],[Budgetlinie]],Ausfüllhilfe!$A$1:$D$23,4,0)","v":{"$error":"#N/A"}}]
[{"$f":"INDEX(Tabelle2[[#All],[Budgetlinie]],MATCH(Tabelle1[[#This Row],[Maßnahme]],Ausfüllhilfe!$C$1:$C$22,0))","v":{"$error":"#N/A"}},null,null,null,null,null,null,null,null,{"$f":"VLOOKUP(Tabelle1[[#This Row],[Budgetlinie]],Ausfüllhilfe!$A$1:$D$23,4,0)","v":{"$error":"#N/A"}}]
[{"$f":"INDEX(Tabelle2[[#All],[Budgetlinie]],MATCH(Tabelle1[[#This Row],[Maßnahme]],Ausfüllhilfe!$C$1:$C$22,0))","v":{"$error":"#N/A"}},null,null,null,null,null,null,null,null,{"$f":"VLOOKUP(Tabelle1[[#This Row],[Budgetlinie]],Ausfüllhilfe!$A$1:$D$23,4,0)","v":{"$error":"#N/A"}}]
[{"$f":"INDEX(Tabelle2[[#All],[Budgetlinie]],MATCH(Tabelle1[[#This Row],[Maßnahme]],Ausfüllhilfe!$C$1:$C$22,0))","v":{"$error":"#N/A"}},null,null,null,null,null,null,null,null,{"$f":"VLOOKUP(Tabelle1[[#This Row],[Budgetlinie]],Ausfüllhilfe!$A$1:$D$23,4,0)","v":{"$error":"#N/A"}}]
[{"$f":"INDEX(Tabelle2[[#All],[Budgetlinie]],MATCH(Tabelle1[[#This Row],[Maßnahme]],Ausfüllhilfe!$C$1:$C$22,0))","v":{"$error":"#N/A"}},null,null,null,null,null,null,null,null,{"$f":"VLOOKUP(Tabelle1[[#This Row],[Budgetlinie]],Ausfüllhilfe!$A$1:$D$23,4,0)","v":{"$error":"#N/A"}}]
[{"$f":"INDEX(Tabelle2[[#All],[Budgetlinie]],MATCH(Tabelle1[[#This Row],[Maßnahme]],Ausfüllhilfe!$C$1:$C$22,0))","v":{"$error":"#N/A"}},null,null,null,null,null,null,null,null,{"$f":"VLOOKUP(Tabelle1[[#This Row],[Budgetlinie]],Ausfüllhilfe!$A$1:$D$23,4,0)","v":{"$error":"#N/A"}}]
[{"$f":"INDEX(Tabelle2[[#All],[Budgetlinie]],MATCH(Tabelle1[[#This Row],[Maßnahme]],Ausfüllhilfe!$C$1:$C$22,0))","v":{"$error":"#N/A"}},null,null,null,null,null,null,null,null,{"$f":"VLOOKUP(Tabelle1[[#This Row],[Budgetlinie]],Ausfüllhilfe!$A$1:$D$23,4,0)","v":{"$error":"#N/A"}}]
[{"$f":"INDEX(Tabelle2[[#All],[Budgetlinie]],MATCH(Tabelle1[[#This Row],[Maßnahme]],Ausfüllhilfe!$C$1:$C$22,0))","v":{"$error":"#N/A"}},null,null,null,null,null,null,null,null,{"$f":"VLOOKUP(Tabelle1[[#This Row],[Budgetlinie]],Ausfüllhilfe!$A$1:$D$23,4,0)","v":{"$error":"#N/A"}}]
[{"$f":"INDEX(Tabelle2[[#All],[Budgetlinie]],MATCH(Tabelle1[[#This Row],[Maßnahme]],Ausfüllhilfe!$C$1:$C$22,0))","v":{"$error":"#N/A"}},null,null,null,null,null,null,null,null,{"$f":"VLOOKUP(Tabelle1[[#This Row],[Budgetlinie]],Ausfüllhilfe!$A$1:$D$23,4,0)","v":{"$error":"#N/A"}}]
[{"$f":"INDEX(Tabelle2[[#All],[Budgetlinie]],MATCH(Tabelle1[[#This Row],[Maßnahme]],Ausfüllhilfe!$C$1:$C$22,0))","v":{"$error":"#N/A"}},null,null,null,null,null,null,null,null,{"$f":"VLOOKUP(Tabelle1[[#This Row],[Budgetlinie]],Ausfüllhilfe!$A$1:$D$23,4,0)","v":{"$error":"#N/A"}}]
[{"$f":"INDEX(Tabelle2[[#All],[Budgetlinie]],MATCH(Tabelle1[[#This Row],[Maßnahme]],Ausfüllhilfe!$C$1:$C$22,0))","v":{"$error":"#N/A"}},null,null,null,null,null,null,null,null,{"$f":"VLOOKUP(Tabelle1[[#This Row],[Budgetlinie]],Ausfüllhilfe!$A$1:$D$23,4,0)","v":{"$error":"#N/A"}}]
[{"$f":"INDEX(Tabelle2[[#All],[Budgetlinie]],MATCH(Tabelle1[[#This Row],[Maßnahme]],Ausfüllhilfe!$C$1:$C$22,0))","v":{"$error":"#N/A"}},null,null,null,null,null,null,null,null,{"$f":"VLOOKUP(Tabelle1[[#This Row],[Budgetlinie]],Ausfüllhilfe!$A$1:$D$23,4,0)","v":{"$error":"#N/A"}}]
[{"$f":"INDEX(Tabelle2[[#All],[Budgetlinie]],MATCH(Tabelle1[[#This Row],[Maßnahme]],Ausfüllhilfe!$C$1:$C$22,0))","v":{"$error":"#N/A"}},null,null,null,null,null,null,null,null,{"$f":"VLOOKUP(Tabelle1[[#This Row],[Budgetlinie]],Ausfüllhilfe!$A$1:$D$23,4,0)","v":{"$error":"#N/A"}}]
[{"$f":"INDEX(Tabelle2[[#All],[Budgetlinie]],MATCH(Tabelle1[[#This Row],[Maßnahme]],Ausfüllhilfe!$C$1:$C$22,0))","v":{"$error":"#N/A"}},null,null,null,null,null,null,null,null,{"$f":"VLOOKUP(Tabelle1[[#This Row],[Budgetlinie]],Ausfüllhilfe!$A$1:$D$23,4,0)","v":{"$error":"#N/A"}}]
[{"$f":"INDEX(Tabelle2[[#All],[Budgetlinie]],MATCH(Tabelle1[[#This Row],[Maßnahme]],Ausfüllhilfe!$C$1:$C$22,0))","v":{"$error":"#N/A"}},null,null,null,null,null,null,null,null,{"$f":"VLOOKUP(Tabelle1[[#This Row],[Budgetlinie]],Ausfüllhilfe!$A$1:$D$23,4,0)","v":{"$error":"#N/A"}}]
[{"$f":"INDEX(Tabelle2[[#All],[Budgetlinie]],MATCH(Tabelle1[[#This Row],[Maßnahme]],Ausfüllhilfe!$C$1:$C$22,0))","v":{"$error":"#N/A"}},null,null,null,null,null,null,null,null,{"$f":"VLOOKUP(Tabelle1[[#This Row],[Budgetlinie]],Ausfüllhilfe!$A$1:$D$23,4,0)","v":{"$error":"#N/A"}}]
[{"$f":"INDEX(Tabelle2[[#All],[Budgetlinie]],MATCH(Tabelle1[[#This Row],[Maßnahme]],Ausfüllhilfe!$C$1:$C$22,0))","v":{"$error":"#N/A"}},null,null,null,null,null,null,null,null,{"$f":"VLOOKUP(Tabelle1[[#This Row],[Budgetlinie]],Ausfüllhilfe!$A$1:$D$23,4,0)","v":{"$error":"#N/A"}}]
[{"$f":"INDEX(Tabelle2[[#All],[Budgetlinie]],MATCH(Tabelle1[[#This Row],[Maßnahme]],Ausfüllhilfe!$C$1:$C$22,0))","v":{"$error":"#N/A"}},null,null,null,null,null,null,null,null,{"$f":"VLOOKUP(Tabelle1[[#This Row],[Budgetlinie]],Ausfüllhilfe!$A$1:$D$23,4,0)","v":{"$error":"#N/A"}}]
[{"$f":"INDEX(Tabelle2[[#All],[Budgetlinie]],MATCH(Tabelle1[[#This Row],[Maßnahme]],Ausfüllhilfe!$C$1:$C$22,0))","v":{"$error":"#N/A"}},null,null,null,null,null,null,null,null,{"$f":"VLOOKUP(Tabelle1[[#This Row],[Budgetlinie]],Ausfüllhilfe!$A$1:$D$23,4,0)","v":{"$error":"#N/A"}}]
[{"$f":"INDEX(Tabelle2[[#All],[Budgetlinie]],MATCH(Tabelle1[[#This Row],[Maßnahme]],Ausfüllhilfe!$C$1:$C$22,0))","v":{"$error":"#N/A"}},null,null,null,null,null,null,null,null,{"$f":"VLOOKUP(Tabelle1[[#This Row],[Budgetlinie]],Ausfüllhilfe!$A$1:$D$23,4,0)","v":{"$error":"#N/A"}}]
[{"$f":"INDEX(Tabelle2[[#All],[Budgetlinie]],MATCH(Tabelle1[[#This Row],[Maßnahme]],Ausfüllhilfe!$C$1:$C$22,0))","v":{"$error":"#N/A"}},null,null,null,null,null,null,null,null,{"$f":"VLOOKUP(Tabelle1[[#This Row],[Budgetlinie]],Ausfüllhilfe!$A$1:$D$23,4,0)","v":{"$error":"#N/A"}}]
[{"$f":"INDEX(Tabelle2[[#All],[Budgetlinie]],MATCH(Tabelle1[[#This Row],[Maßnahme]],Ausfüllhilfe!$C$1:$C$22,0))","v":{"$error":"#N/A"}},null,null,null,null,null,null,null,null,{"$f":"VLOOKUP(Tabelle1[[#This Row],[Budgetlinie]],Ausfüllhilfe!$A$1:$D$23,4,0)","v":{"$error":"#N/A"}}]
[{"$f":"INDEX(Tabelle2[[#All],[Budgetlinie]],MATCH(Tabelle1[[#This Row],[Maßnahme]],Ausfüllhilfe!$C$1:$C$22,0))","v":{"$error":"#N/A"}},null,null,null,null,null,null,null,null,{"$f":"VLOOKUP(Tabelle1[[#This Row],[Budgetlinie]],Ausfüllhilfe!$A$1:$D$23,4,0)","v":{"$error":"#N/A"}}]
[{"$f":"INDEX(Tabelle2[[#All],[Budgetlinie]],MATCH(Tabelle1[[#This Row],[Maßnahme]],Ausfüllhilfe!$C$1:$C$22,0))","v":{"$error":"#N/A"}},null,null,null,null,null,null,null,null,{"$f":"VLOOKUP(Tabelle1[[#This Row],[Budgetlinie]],Ausfüllhilfe!$A$1:$D$23,4,0)","v":{"$error":"#N/A"}}]
[{"$f":"INDEX(Tabelle2[[#All],[Budgetlinie]],MATCH(Tabelle1[[#This Row],[Maßnahme]],Ausfüllhilfe!$C$1:$C$22,0))","v":{"$error":"#N/A"}},null,null,null,null,null,null,null,null,{"$f":"VLOOKUP(Tabelle1[[#This Row],[Budgetlinie]],Ausfüllhilfe!$A$1:$D$23,4,0)","v":{"$error":"#N/A"}}]
[{"$f":"INDEX(Tabelle2[[#All],[Budgetlinie]],MATCH(Tabelle1[[#This Row],[Maßnahme]],Ausfüllhilfe!$C$1:$C$22,0))","v":{"$error":"#N/A"}},null,null,null,null,null,null,null,null,{"$f":"VLOOKUP(Tabelle1[[#This Row],[Budgetlinie]],Ausfüllhilfe!$A$1:$D$23,4,0)","v":{"$error":"#N/A"}}]
[{"$f":"INDEX(Tabelle2[[#All],[Budgetlinie]],MATCH(Tabelle1[[#This Row],[Maßnahme]],Ausfüllhilfe!$C$1:$C$22,0))","v":{"$error":"#N/A"}},null,null,null,null,null,null,null,null,{"$f":"VLOOKUP(Tabelle1[[#This Row],[Budgetlinie]],Ausfüllhilfe!$A$1:$D$23,4,0)","v":{"$error":"#N/A"}}]
[{"$f":"INDEX(Tabelle2[[#All],[Budgetlinie]],MATCH(Tabelle1[[#This Row],[Maßnahme]],Ausfüllhilfe!$C$1:$C$22,0))","v":{"$error":"#N/A"}},null,null,null,null,null,null,null,null,{"$f":"VLOOKUP(Tabelle1[[#This Row],[Budgetlinie]],Ausfüllhilfe!$A$1:$D$23,4,0)","v":{"$error":"#N/A"}}]
[{"$f":"INDEX(Tabelle2[[#All],[Budgetlinie]],MATCH(Tabelle1[[#This Row],[Maßnahme]],Ausfüllhilfe!$C$1:$C$22,0))","v":{"$error":"#N/A"}},null,null,null,null,null,null,null,null,{"$f":"VLOOKUP(Tabelle1[[#This Row],[Budgetlinie]],Ausfüllhilfe!$A$1:$D$23,4,0)","v":{"$error":"#N/A"}}]
[{"$f":"INDEX(Tabelle2[[#All],[Budgetlinie]],MATCH(Tabelle1[[#This Row],[Maßnahme]],Ausfüllhilfe!$C$1:$C$22,0))","v":{"$error":"#N/A"}},null,null,null,null,null,null,null,null,{"$f":"VLOOKUP(Tabelle1[[#This Row],[Budgetlinie]],Ausfüllhilfe!$A$1:$D$23,4,0)","v":{"$error":"#N/A"}}]
[{"$f":"INDEX(Tabelle2[[#All],[Budgetlinie]],MATCH(Tabelle1[[#This Row],[Maßnahme]],Ausfüllhilfe!$C$1:$C$22,0))","v":{"$error":"#N/A"}},null,null,null,null,null,null,null,null,{"$f":"VLOOKUP(Tabelle1[[#This Row],[Budgetlinie]],Ausfüllhilfe!$A$1:$D$23,4,0)","v":{"$error":"#N/A"}}]
[{"$f":"INDEX(Tabelle2[[#All],[Budgetlinie]],MATCH(Tabelle1[[#This Row],[Maßnahme]],Ausfüllhilfe!$C$1:$C$22,0))","v":{"$error":"#N/A"}},null,null,null,null,null,null,null,null,{"$f":"VLOOKUP(Tabelle1[[#This Row],[Budgetlinie]],Ausfüllhilfe!$A$1:$D$23,4,0)","v":{"$error":"#N/A"}}]
[{"$f":"INDEX(Tabelle2[[#All],[Budgetlinie]],MATCH(Tabelle1[[#This Row],[Maßnahme]],Ausfüllhilfe!$C$1:$C$22,0))","v":{"$error":"#N/A"}},null,null,null,null,null,null,null,null,{"$f":"VLOOKUP(Tabelle1[[#This Row],[Budgetlinie]],Ausfüllhilfe!$A$1:$D$23,4,0)","v":{"$error":"#N/A"}}]
[{"$f":"INDEX(Tabelle2[[#All],[Budgetlinie]],MATCH(Tabelle1[[#This Row],[Maßnahme]],Ausfüllhilfe!$C$1:$C$22,0))","v":{"$error":"#N/A"}},null,null,null,null,null,null,null,null,{"$f":"VLOOKUP(Tabelle1[[#This Row],[Budgetlinie]],Ausfüllhilfe!$A$1:$D$23,4,0)","v":{"$error":"#N/A"}}]
[{"$f":"INDEX(Tabelle2[[#All],[Budgetlinie]],MATCH(Tabelle1[[#This Row],[Maßnahme]],Ausfüllhilfe!$C$1:$C$22,0))","v":{"$error":"#N/A"}},null,null,null,null,null,null,null,null,{"$f":"VLOOKUP(Tabelle1[[#This Row],[Budgetlinie]],Ausfüllhilfe!$A$1:$D$23,4,0)","v":{"$error":"#N/A"}}]
[{"$f":"INDEX(Tabelle2[[#All],[Budgetlinie]],MATCH(Tabelle1[[#This Row],[Maßnahme]],Ausfüllhilfe!$C$1:$C$22,0))","v":{"$error":"#N/A"}},null,null,null,null,null,null,null,null,{"$f":"VLOOKUP(Tabelle1[[#This Row],[Budgetlinie]],Ausfüllhilfe!$A$1:$D$23,4,0)","v":{"$error":"#N/A"}}]
[{"$f":"INDEX(Tabelle2[[#All],[Budgetlinie]],MATCH(Tabelle1[[#This Row],[Maßnahme]],Ausfüllhilfe!$C$1:$C$22,0))","v":{"$error":"#N/A"}},null,null,null,null,null,null,null,null,{"$f":"VLOOKUP(Tabelle1[[#This Row],[Budgetlinie]],Ausfüllhilfe!$A$1:$D$23,4,0)","v":{"$error":"#N/A"}}]
[{"$f":"INDEX(Tabelle2[[#All],[Budgetlinie]],MATCH(Tabelle1[[#This Row],[Maßnahme]],Ausfüllhilfe!$C$1:$C$22,0))","v":{"$error":"#N/A"}},null,null,null,null,null,null,null,null,{"$f":"VLOOKUP(Tabelle1[[#This Row],[Budgetlinie]],Ausfüllhilfe!$A$1:$D$23,4,0)","v":{"$error":"#N/A"}}]
[{"$f":"INDEX(Tabelle2[[#All],[Budgetlinie]],MATCH(Tabelle1[[#This Row],[Maßnahme]],Ausfüllhilfe!$C$1:$C$22,0))","v":{"$error":"#N/A"}},null,null,null,null,null,null,null,null,{"$f":"VLOOKUP(Tabelle1[[#This Row],[Budgetlinie]],Ausfüllhilfe!$A$1:$D$23,4,0)","v":{"$error":"#N/A"}}]
[{"$f":"INDEX(Tabelle2[[#All],[Budgetlinie]],MATCH(Tabelle1[[#This Row],[Maßnahme]],Ausfüllhilfe!$C$1:$C$22,0))","v":{"$error":"#N/A"}},null,null,null,null,null,null,null,null,{"$f":"VLOOKUP(Tabelle1[[#This Row],[Budgetlinie]],Ausfüllhilfe!$A$1:$D$23,4,0)","v":{"$error":"#N/A"}}]
[{"$f":"INDEX(Tabelle2[[#All],[Budgetlinie]],MATCH(Tabelle1[[#This Row],[Maßnahme]],Ausfüllhilfe!$C$1:$C$22,0))","v":{"$error":"#N/A"}},null,null,null,null,null,null,null,null,{"$f":"VLOOKUP(Tabelle1[[#This Row],[Budgetlinie]],Ausfüllhilfe!$A$1:$D$23,4,0)","v":{"$error":"#N/A"}}]
[{"$f":"INDEX(Tabelle2[[#All],[Budgetlinie]],MATCH(Tabelle1[[#This Row],[Maßnahme]],Ausfüllhilfe!$C$1:$C$22,0))","v":{"$error":"#N/A"}},null,null,null,null,null,null,null,null,{"$f":"VLOOKUP(Tabelle1[[#This Row],[Budgetlinie]],Ausfüllhilfe!$A$1:$D$23,4,0)","v":{"$error":"#N/A"}}]
[{"$f":"INDEX(Tabelle2[[#All],[Budgetlinie]],MATCH(Tabelle1[[#This Row],[Maßnahme]],Ausfüllhilfe!$C$1:$C$22,0))","v":{"$error":"#N/A"}},null,null,null,null,null,null,null,null,{"$f":"VLOOKUP(Tabelle1[[#This Row],[Budgetlinie]],Ausfüllhilfe!$A$1:$D$23,4,0)","v":{"$error":"#N/A"}}]
[{"$f":"INDEX(Tabelle2[[#All],[Budgetlinie]],MATCH(Tabelle1[[#This Row],[Maßnahme]],Ausfüllhilfe!$C$1:$C$22,0))","v":{"$error":"#N/A"}},null,null,null,null,null,null,null,null,{"$f":"VLOOKUP(Tabelle1[[#This Row],[Budgetlinie]],Ausfüllhilfe!$A$1:$D$23,4,0)","v":{"$error":"#N/A"}}]
[{"$f":"INDEX(Tabelle2[[#All],[Budgetlinie]],MATCH(Tabelle1[[#This Row],[Maßnahme]],Ausfüllhilfe!$C$1:$C$22,0))","v":{"$error":"#N/A"}},null,null,null,null,null,null,null,null,{"$f":"VLOOKUP(Tabelle1[[#This Row],[Budgetlinie]],Ausfüllhilfe!$A$1:$D$23,4,0)","v":{"$error":"#N/A"}}]
[{"$f":"INDEX(Tabelle2[[#All],[Budgetlinie]],MATCH(Tabelle1[[#This Row],[Maßnahme]],Ausfüllhilfe!$C$1:$C$22,0))","v":{"$error":"#N/A"}},null,null,null,null,null,null,null,null,{"$f":"VLOOKUP(Tabelle1[[#This Row],[Budgetlinie]],Ausfüllhilfe!$A$1:$D$23,4,0)","v":{"$error":"#N/A"}}]
[{"$f":"INDEX(Tabelle2[[#All],[Budgetlinie]],MATCH(Tabelle1[[#This Row],[Maßnahme]],Ausfüllhilfe!$C$1:$C$22,0))","v":{"$error":"#N/A"}},null,null,null,null,null,null,null,null,{"$f":"VLOOKUP(Tabelle1[[#This Row],[Budgetlinie]],Ausfüllhilfe!$A$1:$D$23,4,0)","v":{"$error":"#N/A"}}]
[{"$f":"INDEX(Tabelle2[[#All],[Budgetlinie]],MATCH(Tabelle1[[#This Row],[Maßnahme]],Ausfüllhilfe!$C$1:$C$22,0))","v":{"$error":"#N/A"}},null,null,null,null,null,null,null,null,{"$f":"VLOOKUP(Tabelle1[[#This Row],[Budgetlinie]],Ausfüllhilfe!$A$1:$D$23,4,0)","v":{"$error":"#N/A"}}]
[{"$f":"INDEX(Tabelle2[[#All],[Budgetlinie]],MATCH(Tabelle1[[#This Row],[Maßnahme]],Ausfüllhilfe!$C$1:$C$22,0))","v":{"$error":"#N/A"}},null,null,null,null,null,null,null,null,{"$f":"VLOOKUP(Tabelle1[[#This Row],[Budgetlinie]],Ausfüllhilfe!$A$1:$D$23,4,0)","v":{"$error":"#N/A"}}]
[{"$f":"INDEX(Tabelle2[[#All],[Budgetlinie]],MATCH(Tabelle1[[#This Row],[Maßnahme]],Ausfüllhilfe!$C$1:$C$22,0))","v":{"$error":"#N/A"}},null,null,null,null,null,null,null,null,{"$f":"VLOOKUP(Tabelle1[[#This Row],[Budgetlinie]],Ausfüllhilfe!$A$1:$D$23,4,0)","v":{"$error":"#N/A"}}]
[{"$f":"INDEX(Tabelle2[[#All],[Budgetlinie]],MATCH(Tabelle1[[#This Row],[Maßnahme]],Ausfüllhilfe!$C$1:$C$22,0))","v":{"$error":"#N/A"}},null,null,null,null,null,null,null,null,{"$f":"VLOOKUP(Tabelle1[[#This Row],[Budgetlinie]],Ausfüllhilfe!$A$1:$D$23,4,0)","v":{"$error":"#N/A"}}]
[{"$f":"INDEX(Tabelle2[[#All],[Budgetlinie]],MATCH(Tabelle1[[#This Row],[Maßnahme]],Ausfüllhilfe!$C$1:$C$22,0))","v":{"$error":"#N/A"}},null,null,null,null,null,null,null,null,{"$f":"VLOOKUP(Tabelle1[[#This Row],[Budgetlinie]],Ausfüllhilfe!$A$1:$D$23,4,0)","v":{"$error":"#N/A"}}]
[{"$f":"INDEX(Tabelle2[[#All],[Budgetlinie]],MATCH(Tabelle1[[#This Row],[Maßnahme]],Ausfüllhilfe!$C$1:$C$22,0))","v":{"$error":"#N/A"}},null,null,null,null,null,null,null,null,{"$f":"VLOOKUP(Tabelle1[[#This Row],[Budgetlinie]],Ausfüllhilfe!$A$1:$D$23,4,0)","v":{"$error":"#N/A"}}]
[{"$f":"INDEX(Tabelle2[[#All],[Budgetlinie]],MATCH(Tabelle1[[#This Row],[Maßnahme]],Ausfüllhilfe!$C$1:$C$22,0))","v":{"$error":"#N/A"}},null,null,null,null,null,null,null,null,{"$f":"VLOOKUP(Tabelle1[[#This Row],[Budgetlinie]],Ausfüllhilfe!$A$1:$D$23,4,0)","v":{"$error":"#N/A"}}]
[{"$f":"INDEX(Tabelle2[[#All],[Budgetlinie]],MATCH(Tabelle1[[#This Row],[Maßnahme]],Ausfüllhilfe!$C$1:$C$22,0))","v":{"$error":"#N/A"}},null,null,null,null,null,null,null,null,{"$f":"VLOOKUP(Tabelle1[[#This Row],[Budgetlinie]],Ausfüllhilfe!$A$1:$D$23,4,0)","v":{"$error":"#N/A"}}]
[{"$f":"INDEX(Tabelle2[[#All],[Budgetlinie]],MATCH(Tabelle1[[#This Row],[Maßnahme]],Ausfüllhilfe!$C$1:$C$22,0))","v":{"$error":"#N/A"}},null,null,null,null,null,null,null,null,{"$f":"VLOOKUP(Tabelle1[[#This Row],[Budgetlinie]],Ausfüllhilfe!$A$1:$D$23,4,0)","v":{"$error":"#N/A"}}]
[{"$f":"INDEX(Tabelle2[[#All],[Budgetlinie]],MATCH(Tabelle1[[#This Row],[Maßnahme]],Ausfüllhilfe!$C$1:$C$22,0))","v":{"$error":"#N/A"}},null,null,null,null,null,null,null,null,{"$f":"VLOOKUP(Tabelle1[[#This Row],[Budgetlinie]],Ausfüllhilfe!$A$1:$D$23,4,0)","v":{"$error":"#N/A"}}]
[{"$f":"INDEX(Tabelle2[[#All],[Budgetlinie]],MATCH(Tabelle1[[#This Row],[Maßnahme]],Ausfüllhilfe!$C$1:$C$22,0))","v":{"$error":"#N/A"}},null,null,null,null,null,null,null,null,{"$f":"VLOOKUP(Tabelle1[[#This Row],[Budgetlinie]],Ausfüllhilfe!$A$1:$D$23,4,0)","v":{"$error":"#N/A"}}]
[{"$f":"INDEX(Tabelle2[[#All],[Budgetlinie]],MATCH(Tabelle1[[#This Row],[Maßnahme]],Ausfüllhilfe!$C$1:$C$22,0))","v":{"$error":"#N/A"}},null,null,null,null,null,null,null,null,{"$f":"VLOOKUP(Tabelle1[[#This Row],[Budgetlinie]],Ausfüllhilfe!$A$1:$D$23,4,0)","v":{"$error":"#N/A"}}]
[{"$f":"INDEX(Tabelle2[[#All],[Budgetlinie]],MATCH(Tabelle1[[#This Row],[Maßnahme]],Ausfüllhilfe!$C$1:$C$22,0))","v":{"$error":"#N/A"}},null,null,null,null,null,null,null,null,{"$f":"VLOOKUP(Tabelle1[[#This Row],[Budgetlinie]],Ausfüllhilfe!$A$1:$D$23,4,0)","v":{"$error":"#N/A"}}]
[{"$f":"INDEX(Tabelle2[[#All],[Budgetlinie]],MATCH(Tabelle1[[#This Row],[Maßnahme]],Ausfüllhilfe!$C$1:$C$22,0))","v":{"$error":"#N/A"}},null,null,null,null,null,null,null,null,{"$f":"VLOOKUP(Tabelle1[[#This Row],[Budgetlinie]],Ausfüllhilfe!$A$1:$D$23,4,0)","v":{"$error":"#N/A"}}]
[{"$f":"INDEX(Tabelle2[[#All],[Budgetlinie]],MATCH(Tabelle1[[#This Row],[Maßnahme]],Ausfüllhilfe!$C$1:$C$22,0))","v":{"$error":"#N/A"}},null,null,null,null,null,null,null,null,{"$f":"VLOOKUP(Tabelle1[[#This Row],[Budgetlinie]],Ausfüllhilfe!$A$1:$D$23,4,0)","v":{"$error":"#N/A"}}]
[{"$f":"INDEX(Tabelle2[[#All],[Budgetlinie]],MATCH(Tabelle1[[#This Row],[Maßnahme]],Ausfüllhilfe!$C$1:$C$22,0))","v":{"$error":"#N/A"}},null,null,null,null,null,null,null,null,{"$f":"VLOOKUP(Tabelle1[[#This Row],[Budgetlinie]],Ausfüllhilfe!$A$1:$D$23,4,0)","v":{"$error":"#N/A"}}]
[{"$f":"INDEX(Tabelle2[[#All],[Budgetlinie]],MATCH(Tabelle1[[#This Row],[Maßnahme]],Ausfüllhilfe!$C$1:$C$22,0))","v":{"$error":"#N/A"}},null,null,null,null,null,null,null,null,{"$f":"VLOOKUP(Tabelle1[[#This Row],[Budgetlinie]],Ausfüllhilfe!$A$1:$D$23,4,0)","v":{"$error":"#N/A"}}]
[{"$f":"INDEX(Tabelle2[[#All],[Budgetlinie]],MATCH(Tabelle1[[#This Row],[Maßnahme]],Ausfüllhilfe!$C$1:$C$22,0))","v":{"$error":"#N/A"}},null,null,null,null,null,null,null,null,{"$f":"VLOOKUP(Tabelle1[[#This Row],[Budgetlinie]],Ausfüllhilfe!$A$1:$D$23,4,0)","v":{"$error":"#N/A"}}]
[{"$f":"INDEX(Tabelle2[[#All],[Budgetlinie]],MATCH(Tabelle1[[#This Row],[Maßnahme]],Ausfüllhilfe!$C$1:$C$22,0))","v":{"$error":"#N/A"}},null,null,null,null,null,null,null,null,{"$f":"VLOOKUP(Tabelle1[[#This Row],[Budgetlinie]],Ausfüllhilfe!$A$1:$D$23,4,0)","v":{"$error":"#N/A"}}]
[{"$f":"INDEX(Tabelle2[[#All],[Budgetlinie]],MATCH(Tabelle1[[#This Row],[Maßnahme]],Ausfüllhilfe!$C$1:$C$22,0))","v":{"$error":"#N/A"}},null,null,null,null,null,null,null,null,{"$f":"VLOOKUP(Tabelle1[[#This Row],[Budgetlinie]],Ausfüllhilfe!$A$1:$D$23,4,0)","v":{"$error":"#N/A"}}]
[{"$f":"INDEX(Tabelle2[[#All],[Budgetlinie]],MATCH(Tabelle1[[#This Row],[Maßnahme]],Ausfüllhilfe!$C$1:$C$22,0))","v":{"$error":"#N/A"}},null,null,null,null,null,null,null,null,{"$f":"VLOOKUP(Tabelle1[[#This Row],[Budgetlinie]],Ausfüllhilfe!$A$1:$D$23,4,0)","v":{"$error":"#N/A"}}]
[{"$f":"INDEX(Tabelle2[[#All],[Budgetlinie]],MATCH(Tabelle1[[#This Row],[Maßnahme]],Ausfüllhilfe!$C$1:$C$22,0))","v":{"$error":"#N/A"}},null,null,null,null,null,null,null,null,{"$f":"VLOOKUP(Tabelle1[[#This Row],[Budgetlinie]],Ausfüllhilfe!$A$1:$D$23,4,0)","v":{"$error":"#N/A"}}]
[{"$f":"INDEX(Tabelle2[[#All],[Budgetlinie]],MATCH(Tabelle1[[#This Row],[Maßnahme]],Ausfüllhilfe!$C$1:$C$22,0))","v":{"$error":"#N/A"}},null,null,null,null,null,null,null,null,{"$f":"VLOOKUP(Tabelle1[[#This Row],[Budgetlinie]],Ausfüllhilfe!$A$1:$D$23,4,0)","v":{"$error":"#N/A"}}]
[{"$f":"INDEX(Tabelle2[[#All],[Budgetlinie]],MATCH(Tabelle1[[#This Row],[Maßnahme]],Ausfüllhilfe!$C$1:$C$22,0))","v":{"$error":"#N/A"}},null,null,null,null,null,null,null,null,{"$f":"VLOOKUP(Tabelle1[[#This Row],[Budgetlinie]],Ausfüllhilfe!$A$1:$D$23,4,0)","v":{"$error":"#N/A"}}]
[{"$f":"INDEX(Tabelle2[[#All],[Budgetlinie]],MATCH(Tabelle1[[#This Row],[Maßnahme]],Ausfüllhilfe!$C$1:$C$22,0))","v":{"$error":"#N/A"}},null,null,null,null,null,null,null,null,{"$f":"VLOOKUP(Tabelle1[[#This Row],[Budgetlinie]],Ausfüllhilfe!$A$1:$D$23,4,0)","v":{"$error":"#N/A"}}]
[{"$f":"INDEX(Tabelle2[[#All],[Budgetlinie]],MATCH(Tabelle1[[#This Row],[Maßnahme]],Ausfüllhilfe!$C$1:$C$22,0))","v":{"$error":"#N/A"}},null,null,null,null,null,null,null,null,{"$f":"VLOOKUP(Tabelle1[[#This Row],[Budgetlinie]],Ausfüllhilfe!$A$1:$D$23,4,0)","v":{"$error":"#N/A"}}]
[{"$f":"INDEX(Tabelle2[[#All],[Budgetlinie]],MATCH(Tabelle1[[#This Row],[Maßnahme]],Ausfüllhilfe!$C$1:$C$22,0))","v":{"$error":"#N/A"}},null,null,null,null,null,null,null,null,{"$f":"VLOOKUP(Tabelle1[[#This Row],[Budgetlinie]],Ausfüllhilfe!$A$1:$D$23,4,0)","v":{"$error":"#N/A"}}]
[{"$f":"INDEX(Tabelle2[[#All],[Budgetlinie]],MATCH(Tabelle1[[#This Row],[Maßnahme]],Ausfüllhilfe!$C$1:$C$22,0))","v":{"$error":"#N/A"}},null,null,null,null,null,null,null,null,{"$f":"VLOOKUP(Tabelle1[[#This Row],[Budgetlinie]],Ausfüllhilfe!$A$1:$D$23,4,0)","v":{"$error":"#N/A"}}]
[{"$f":"INDEX(Tabelle2[[#All],[Budgetlinie]],MATCH(Tabelle1[[#This Row],[Maßnahme]],Ausfüllhilfe!$C$1:$C$22,0))","v":{"$error":"#N/A"}},null,null,null,null,null,null,null,null,{"$f":"VLOOKUP(Tabelle1[[#This Row],[Budgetlinie]],Ausfüllhilfe!$A$1:$D$23,4,0)","v":{"$error":"#N/A"}}]
[{"$f":"INDEX(Tabelle2[[#All],[Budgetlinie]],MATCH(Tabelle1[[#This Row],[Maßnahme]],Ausfüllhilfe!$C$1:$C$22,0))","v":{"$error":"#N/A"}},null,null,null,null,null,null,null,null,{"$f":"VLOOKUP(Tabelle1[[#This Row],[Budgetlinie]],Ausfüllhilfe!$A$1:$D$23,4,0)","v":{"$error":"#N/A"}}]
[{"$f":"INDEX(Tabelle2[[#All],[Budgetlinie]],MATCH(Tabelle1[[#This Row],[Maßnahme]],Ausfüllhilfe!$C$1:$C$22,0))","v":{"$error":"#N/A"}},null,null,null,null,null,null,null,null,{"$f":"VLOOKUP(Tabelle1[[#This Row],[Budgetlinie]],Ausfüllhilfe!$A$1:$D$23,4,0)","v":{"$error":"#N/A"}}]
[{"$f":"INDEX(Tabelle2[[#All],[Budgetlinie]],MATCH(Tabelle1[[#This Row],[Maßnahme]],Ausfüllhilfe!$C$1:$C$22,0))","v":{"$error":"#N/A"}},null,null,null,null,null,null,null,null,{"$f":"VLOOKUP(Tabelle1[[#This Row],[Budgetlinie]],Ausfüllhilfe!$A$1:$D$23,4,0)","v":{"$error":"#N/A"}}]
[{"$f":"INDEX(Tabelle2[[#All],[Budgetlinie]],MATCH(Tabelle1[[#This Row],[Maßnahme]],Ausfüllhilfe!$C$1:$C$22,0))","v":{"$error":"#N/A"}},null,null,null,null,null,null,null,null,{"$f":"VLOOKUP(Tabelle1[[#This Row],[Budgetlinie]],Ausfüllhilfe!$A$1:$D$23,4,0)","v":{"$error":"#N/A"}}]
[{"$f":"INDEX(Tabelle2[[#All],[Budgetlinie]],MATCH(Tabelle1[[#This Row],[Maßnahme]],Ausfüllhilfe!$C$1:$C$22,0))","v":{"$error":"#N/A"}},null,null,null,null,null,null,null,null,{"$f":"VLOOKUP(Tabelle1[[#This Row],[Budgetlinie]],Ausfüllhilfe!$A$1:$D$23,4,0)","v":{"$error":"#N/A"}}]
[{"$f":"INDEX(Tabelle2[[#All],[Budgetlinie]],MATCH(Tabelle1[[#This Row],[Maßnahme]],Ausfüllhilfe!$C$1:$C$22,0))","v":{"$error":"#N/A"}},null,null,null,null,null,null,null,null,{"$f":"VLOOKUP(Tabelle1[[#This Row],[Budgetlinie]],Ausfüllhilfe!$A$1:$D$23,4,0)","v":{"$error":"#N/A"}}]
[{"$f":"INDEX(Tabelle2[[#All],[Budgetlinie]],MATCH(Tabelle1[[#This Row],[Maßnahme]],Ausfüllhilfe!$C$1:$C$22,0))","v":{"$error":"#N/A"}},null,null,null,null,null,null,null,null,{"$f":"VLOOKUP(Tabelle1[[#This Row],[Budgetlinie]],Ausfüllhilfe!$A$1:$D$23,4,0)","v":{"$error":"#N/A"}}]
[{"$f":"INDEX(Tabelle2[[#All],[Budgetlinie]],MATCH(Tabelle1[[#This Row],[Maßnahme]],Ausfüllhilfe!$C$1:$C$22,0))","v":{"$error":"#N/A"}},null,null,null,null,null,null,null,null,{"$f":"VLOOKUP(Tabelle1[[#This Row],[Budgetlinie]],Ausfüllhilfe!$A$1:$D$23,4,0)","v":{"$error":"#N/A"}}]
[{"$f":"INDEX(Tabelle2[[#All],[Budgetlinie]],MATCH(Tabelle1[[#This Row],[Maßnahme]],Ausfüllhilfe!$C$1:$C$22,0))","v":{"$error":"#N/A"}},null,null,null,null,null,null,null,null,{"$f":"VLOOKUP(Tabelle1[[#This Row],[Budgetlinie]],Ausfüllhilfe!$A$1:$D$23,4,0)","v":{"$error":"#N/A"}}]
[{"$f":"INDEX(Tabelle2[[#All],[Budgetlinie]],MATCH(Tabelle1[[#This Row],[Maßnahme]],Ausfüllhilfe!$C$1:$C$22,0))","v":{"$error":"#N/A"}},null,null,null,null,null,null,null,null,{"$f":"VLOOKUP(Tabelle1[[#This Row],[Budgetlinie]],Ausfüllhilfe!$A$1:$D$23,4,0)","v":{"$error":"#N/A"}}]
[{"$f":"INDEX(Tabelle2[[#All],[Budgetlinie]],MATCH(Tabelle1[[#This Row],[Maßnahme]],Ausfüllhilfe!$C$1:$C$22,0))","v":{"$error":"#N/A"}},null,null,null,null,null,null,null,null,{"$f":"VLOOKUP(Tabelle1[[#This Row],[Budgetlinie]],Ausfüllhilfe!$A$1:$D$23,4,0)","v":{"$error":"#N/A"}}]
[{"$f":"INDEX(Tabelle2[[#All],[Budgetlinie]],MATCH(Tabelle1[[#This Row],[Maßnahme]],Ausfüllhilfe!$C$1:$C$22,0))","v":{"$error":"#N/A"}},null,null,null,null,null,null,null,null,{"$f":"VLOOKUP(Tabelle1[[#This Row],[Budgetlinie]],Ausfüllhilfe!$A$1:$D$23,4,0)","v":{"$error":"#N/A"}}]
[{"$f":"INDEX(Tabelle2[[#All],[Budgetlinie]],MATCH(Tabelle1[[#This Row],[Maßnahme]],Ausfüllhilfe!$C$1:$C$22,0))","v":{"$error":"#N/A"}},null,null,null,null,null,null,null,null,{"$f":"VLOOKUP(Tabelle1[[#This Row],[Budgetlinie]],Ausfüllhilfe!$A$1:$D$23,4,0)","v":{"$error":"#N/A"}}]
[{"$f":"INDEX(Tabelle2[[#All],[Budgetlinie]],MATCH(Tabelle1[[#This Row],[Maßnahme]],Ausfüllhilfe!$C$1:$C$22,0))","v":{"$error":"#N/A"}},null,null,null,null,null,null,null,null,{"$f":"VLOOKUP(Tabelle1[[#This Row],[Budgetlinie]],Ausfüllhilfe!$A$1:$D$23,4,0)","v":{"$error":"#N/A"}}]
[{"$f":"INDEX(Tabelle2[[#All],[Budgetlinie]],MATCH(Tabelle1[[#This Row],[Maßnahme]],Ausfüllhilfe!$C$1:$C$22,0))","v":{"$error":"#N/A"}},null,null,null,null,null,null,null,null,{"$f":"VLOOKUP(Tabelle1[[#This Row],[Budgetlinie]],Ausfüllhilfe!$A$1:$D$23,4,0)","v":{"$error":"#N/A"}}]
[{"$f":"INDEX(Tabelle2[[#All],[Budgetlinie]],MATCH(Tabelle1[[#This Row],[Maßnahme]],Ausfüllhilfe!$C$1:$C$22,0))","v":{"$error":"#N/A"}},null,null,null,null,null,null,null,null,{"$f":"VLOOKUP(Tabelle1[[#This Row],[Budgetlinie]],Ausfüllhilfe!$A$1:$D$23,4,0)","v":{"$error":"#N/A"}}]
[{"$f":"INDEX(Tabelle2[[#All],[Budgetlinie]],MATCH(Tabelle1[[#This Row],[Maßnahme]],Ausfüllhilfe!$C$1:$C$22,0))","v":{"$error":"#N/A"}},null,null,null,null,null,null,null,null,{"$f":"VLOOKUP(Tabelle1[[#This Row],[Budgetlinie]],Ausfüllhilfe!$A$1:$D$23,4,0)","v":{"$error":"#N/A"}}]
[{"$f":"INDEX(Tabelle2[[#All],[Budgetlinie]],MATCH(Tabelle1[[#This Row],[Maßnahme]],Ausfüllhilfe!$C$1:$C$22,0))","v":{"$error":"#N/A"}},null,null,null,null,null,null,null,null,{"$f":"VLOOKUP(Tabelle1[[#This Row],[Budgetlinie]],Ausfüllhilfe!$A$1:$D$23,4,0)","v":{"$error":"#N/A"}}]
[{"$f":"INDEX(Tabelle2[[#All],[Budgetlinie]],MATCH(Tabelle1[[#This Row],[Maßnahme]],Ausfüllhilfe!$C$1:$C$22,0))","v":{"$error":"#N/A"}},null,null,null,null,null,null,null,null,{"$f":"VLOOKUP(Tabelle1[[#This Row],[Budgetlinie]],Ausfüllhilfe!$A$1:$D$23,4,0)","v":{"$error":"#N/A"}}]
[{"$f":"INDEX(Tabelle2[[#All],[Budgetlinie]],MATCH(Tabelle1[[#This Row],[Maßnahme]],Ausfüllhilfe!$C$1:$C$22,0))","v":{"$error":"#N/A"}},null,null,null,null,null,null,null,null,{"$f":"VLOOKUP(Tabelle1[[#This Row],[Budgetlinie]],Ausfüllhilfe!$A$1:$D$23,4,0)","v":{"$error":"#N/A"}}]
[{"$f":"INDEX(Tabelle2[[#All],[Budgetlinie]],MATCH(Tabelle1[[#This Row],[Maßnahme]],Ausfüllhilfe!$C$1:$C$22,0))","v":{"$error":"#N/A"}},null,null,null,null,null,null,null,null,{"$f":"VLOOKUP(Tabelle1[[#This Row],[Budgetlinie]],Ausfüllhilfe!$A$1:$D$23,4,0)","v":{"$error":"#N/A"}}]
[{"$f":"INDEX(Tabelle2[[#All],[Budgetlinie]],MATCH(Tabelle1[[#This Row],[Maßnahme]],Ausfüllhilfe!$C$1:$C$22,0))","v":{"$error":"#N/A"}},null,null,null,null,null,null,null,null,{"$f":"VLOOKUP(Tabelle1[[#This Row],[Budgetlinie]],Ausfüllhilfe!$A$1:$D$23,4,0)","v":{"$error":"#N/A"}}]
[{"$f":"INDEX(Tabelle2[[#All],[Budgetlinie]],MATCH(Tabelle1[[#This Row],[Maßnahme]],Ausfüllhilfe!$C$1:$C$22,0))","v":{"$error":"#N/A"}},null,null,null,null,null,null,null,null,{"$f":"VLOOKUP(Tabelle1[[#This Row],[Budgetlinie]],Ausfüllhilfe!$A$1:$D$23,4,0)","v":{"$error":"#N/A"}}]
[{"$f":"INDEX(Tabelle2[[#All],[Budgetlinie]],MATCH(Tabelle1[[#This Row],[Maßnahme]],Ausfüllhilfe!$C$1:$C$22,0))","v":{"$error":"#N/A"}},null,null,null,null,null,null,null,null,{"$f":"VLOOKUP(Tabelle1[[#This Row],[Budgetlinie]],Ausfüllhilfe!$A$1:$D$23,4,0)","v":{"$error":"#N/A"}}]
[{"$f":"INDEX(Tabelle2[[#All],[Budgetlinie]],MATCH(Tabelle1[[#This Row],[Maßnahme]],Ausfüllhilfe!$C$1:$C$22,0))","v":{"$error":"#N/A"}},null,null,null,null,null,null,null,null,{"$f":"VLOOKUP(Tabelle1[[#This Row],[Budgetlinie]],Ausfüllhilfe!$A$1:$D$23,4,0)","v":{"$error":"#N/A"}}]
[{"$f":"INDEX(Tabelle2[[#All],[Budgetlinie]],MATCH(Tabelle1[[#This Row],[Maßnahme]],Ausfüllhilfe!$C$1:$C$22,0))","v":{"$error":"#N/A"}},null,null,null,null,null,null,null,null,{"$f":"VLOOKUP(Tabelle1[[#This Row],[Budgetlinie]],Ausfüllhilfe!$A$1:$D$23,4,0)","v":{"$error":"#N/A"}}]
[{"$f":"INDEX(Tabelle2[[#All],[Budgetlinie]],MATCH(Tabelle1[[#This Row],[Maßnahme]],Ausfüllhilfe!$C$1:$C$22,0))","v":{"$error":"#N/A"}},null,null,null,null,null,null,null,null,{"$f":"VLOOKUP(Tabelle1[[#This Row],[Budgetlinie]],Ausfüllhilfe!$A$1:$D$23,4,0)","v":{"$error":"#N/A"}}]
[{"$f":"INDEX(Tabelle2[[#All],[Budgetlinie]],MATCH(Tabelle1[[#This Row],[Maßnahme]],Ausfüllhilfe!$C$1:$C$22,0))","v":{"$error":"#N/A"}},null,null,null,null,null,null,null,null,{"$f":"VLOOKUP(Tabelle1[[#This Row],[Budgetlinie]],Ausfüllhilfe!$A$1:$D$23,4,0)","v":{"$error":"#N/A"}}]
[{"$f":"INDEX(Tabelle2[[#All],[Budgetlinie]],MATCH(Tabelle1[[#This Row],[Maßnahme]],Ausfüllhilfe!$C$1:$C$22,0))","v":{"$error":"#N/A"}},null,null,null,null,null,null,null,null,{"$f":"VLOOKUP(Tabelle1[[#This Row],[Budgetlinie]],Ausfüllhilfe!$A$1:$D$23,4,0)","v":{"$error":"#N/A"}}]
[{"$f":"INDEX(Tabelle2[[#All],[Budgetlinie]],MATCH(Tabelle1[[#This Row],[Maßnahme]],Ausfüllhilfe!$C$1:$C$22,0))","v":{"$error":"#N/A"}},null,null,null,null,null,null,null,null,{"$f":"VLOOKUP(Tabelle1[[#This Row],[Budgetlinie]],Ausfüllhilfe!$A$1:$D$23,4,0)","v":{"$error":"#N/A"}}]
[{"$f":"INDEX(Tabelle2[[#All],[Budgetlinie]],MATCH(Tabelle1[[#This Row],[Maßnahme]],Ausfüllhilfe!$C$1:$C$22,0))","v":{"$error":"#N/A"}},null,null,null,null,null,null,null,null,{"$f":"VLOOKUP(Tabelle1[[#This Row],[Budgetlinie]],Ausfüllhilfe!$A$1:$D$23,4,0)","v":{"$error":"#N/A"}}]
[{"$f":"INDEX(Tabelle2[[#All],[Budgetlinie]],MATCH(Tabelle1[[#This Row],[Maßnahme]],Ausfüllhilfe!$C$1:$C$22,0))","v":{"$error":"#N/A"}},null,null,null,null,null,null,null,null,{"$f":"VLOOKUP(Tabelle1[[#This Row],[Budgetlinie]],Ausfüllhilfe!$A$1:$D$23,4,0)","v":{"$error":"#N/A"}}]
[{"$f":"INDEX(Tabelle2[[#All],[Budgetlinie]],MATCH(Tabelle1[[#This Row],[Maßnahme]],Ausfüllhilfe!$C$1:$C$22,0))","v":{"$error":"#N/A"}},null,null,null,null,null,null,null,null,{"$f":"VLOOKUP(Tabelle1[[#This Row],[Budgetlinie]],Ausfüllhilfe!$A$1:$D$23,4,0)","v":{"$error":"#N/A"}}]
[{"$f":"INDEX(Tabelle2[[#All],[Budgetlinie]],MATCH(Tabelle1[[#This Row],[Maßnahme]],Ausfüllhilfe!$C$1:$C$22,0))","v":{"$error":"#N/A"}},null,null,null,null,null,null,null,null,{"$f":"VLOOKUP(Tabelle1[[#This Row],[Budgetlinie]],Ausfüllhilfe!$A$1:$D$23,4,0)","v":{"$error":"#N/A"}}]
[{"$f":"INDEX(Tabelle2[[#All],[Budgetlinie]],MATCH(Tabelle1[[#This Row],[Maßnahme]],Ausfüllhilfe!$C$1:$C$22,0))","v":{"$error":"#N/A"}},null,null,null,null,null,null,null,null,{"$f":"VLOOKUP(Tabelle1[[#This Row],[Budgetlinie]],Ausfüllhilfe!$A$1:$D$23,4,0)","v":{"$error":"#N/A"}}]
[{"$f":"INDEX(Tabelle2[[#All],[Budgetlinie]],MATCH(Tabelle1[[#This Row],[Maßnahme]],Ausfüllhilfe!$C$1:$C$22,0))","v":{"$error":"#N/A"}},null,null,null,null,null,null,null,null,{"$f":"VLOOKUP(Tabelle1[[#This Row],[Budgetlinie]],Ausfüllhilfe!$A$1:$D$23,4,0)","v":{"$error":"#N/A"}}]
[{"$f":"INDEX(Tabelle2[[#All],[Budgetlinie]],MATCH(Tabelle1[[#This Row],[Maßnahme]],Ausfüllhilfe!$C$1:$C$22,0))","v":{"$error":"#N/A"}},null,null,null,null,null,null,null,null,{"$f":"VLOOKUP(Tabelle1[[#This Row],[Budgetlinie]],Ausfüllhilfe!$A$1:$D$23,4,0)","v":{"$error":"#N/A"}}]
[{"$f":"INDEX(Tabelle2[[#All],[Budgetlinie]],MATCH(Tabelle1[[#This Row],[Maßnahme]],Ausfüllhilfe!$C$1:$C$22,0))","v":{"$error":"#N/A"}},null,null,null,null,null,null,null,null,{"$f":"VLOOKUP(Tabelle1[[#This Row],[Budgetlinie]],Ausfüllhilfe!$A$1:$D$23,4,0)","v":{"$error":"#N/A"}}]
[{"$f":"INDEX(Tabelle2[[#All],[Budgetlinie]],MATCH(Tabelle1[[#This Row],[Maßnahme]],Ausfüllhilfe!$C$1:$C$22,0))","v":{"$error":"#N/A"}},null,null,null,null,null,null,null,null,{"$f":"VLOOKUP(Tabelle1[[#This Row],[Budgetlinie]],Ausfüllhilfe!$A$1:$D$23,4,0)","v":{"$error":"#N/A"}}]
[{"$f":"INDEX(Tabelle2[[#All],[Budgetlinie]],MATCH(Tabelle1[[#This Row],[Maßnahme]],Ausfüllhilfe!$C$1:$C$22,0))","v":{"$error":"#N/A"}},null,null,null,null,null,null,null,null,{"$f":"VLOOKUP(Tabelle1[[#This Row],[Budgetlinie]],Ausfüllhilfe!$A$1:$D$23,4,0)","v":{"$error":"#N/A"}}]
[{"$f":"INDEX(Tabelle2[[#All],[Budgetlinie]],MATCH(Tabelle1[[#This Row],[Maßnahme]],Ausfüllhilfe!$C$1:$C$22,0))","v":{"$error":"#N/A"}},null,null,null,null,null,null,null,null,{"$f":"VLOOKUP(Tabelle1[[#This Row],[Budgetlinie]],Ausfüllhilfe!$A$1:$D$23,4,0)","v":{"$error":"#N/A"}}]
[{"$f":"INDEX(Tabelle2[[#All],[Budgetlinie]],MATCH(Tabelle1[[#This Row],[Maßnahme]],Ausfüllhilfe!$C$1:$C$22,0))","v":{"$error":"#N/A"}},null,null,null,null,null,null,null,null,{"$f":"VLOOKUP(Tabelle1[[#This Row],[Budgetlinie]],Ausfüllhilfe!$A$1:$D$23,4,0)","v":{"$error":"#N/A"}}]
[{"$f":"INDEX(Tabelle2[[#All],[Budgetlinie]],MATCH(Tabelle1[[#This Row],[Maßnahme]],Ausfüllhilfe!$C$1:$C$22,0))","v":{"$error":"#N/A"}},null,null,null,null,null,null,null,null,{"$f":"VLOOKUP(Tabelle1[[#This Row],[Budgetlinie]],Ausfüllhilfe!$A$1:$D$23,4,0)","v":{"$error":"#N/A"}}]
[{"$f":"INDEX(Tabelle2[[#All],[Budgetlinie]],MATCH(Tabelle1[[#This Row],[Maßnahme]],Ausfüllhilfe!$C$1:$C$22,0))","v":{"$error":"#N/A"}},null,null,null,null,null,null,null,null,{"$f":"VLOOKUP(Tabelle1[[#This Row],[Budgetlinie]],Ausfüllhilfe!$A$1:$D$23,4,0)","v":{"$error":"#N/A"}}]
[{"$f":"INDEX(Tabelle2[[#All],[Budgetlinie]],MATCH(Tabelle1[[#This Row],[Maßnahme]],Ausfüllhilfe!$C$1:$C$22,0))","v":{"$error":"#N/A"}},null,null,null,null,null,null,null,null,{"$f":"VLOOKUP(Tabelle1[[#This Row],[Budgetlinie]],Ausfüllhilfe!$A$1:$D$23,4,0)","v":{"$error":"#N/A"}}]
[{"$f":"INDEX(Tabelle2[[#All],[Budgetlinie]],MATCH(Tabelle1[[#This Row],[Maßnahme]],Ausfüllhilfe!$C$1:$C$22,0))","v":{"$error":"#N/A"}},null,null,null,null,null,null,null,null,{"$f":"VLOOKUP(Tabelle1[[#This Row],[Budgetlinie]],Ausfüllhilfe!$A$1:$D$23,4,0)","v":{"$error":"#N/A"}}]
[{"$f":"INDEX(Tabelle2[[#All],[Budgetlinie]],MATCH(Tabelle1[[#This Row],[Maßnahme]],Ausfüllhilfe!$C$1:$C$22,0))","v":{"$error":"#N/A"}},null,null,null,null,null,null,null,null,{"$f":"VLOOKUP(Tabelle1[[#This Row],[Budgetlinie]],Ausfüllhilfe!$A$1:$D$23,4,0)","v":{"$error":"#N/A"}}]
[{"$f":"INDEX(Tabelle2[[#All],[Budgetlinie]],MATCH(Tabelle1[[#This Row],[Maßnahme]],Ausfüllhilfe!$C$1:$C$22,0))","v":{"$error":"#N/A"}},null,null,null,null,null,null,null,null,{"$f":"VLOOKUP(Tabelle1[[#This Row],[Budgetlinie]],Ausfüllhilfe!$A$1:$D$23,4,0)","v":{"$error":"#N/A"}}]
[{"$f":"INDEX(Tabelle2[[#All],[Budgetlinie]],MATCH(Tabelle1[[#This Row],[Maßnahme]],Ausfüllhilfe!$C$1:$C$22,0))","v":{"$error":"#N/A"}},null,null,null,null,null,null,null,null,{"$f":"VLOOKUP(Tabelle1[[#This Row],[Budgetlinie]],Ausfüllhilfe!$A$1:$D$23,4,0)","v":{"$error":"#N/A"}}]
[{"$f":"INDEX(Tabelle2[[#All],[Budgetlinie]],MATCH(Tabelle1[[#This Row],[Maßnahme]],Ausfüllhilfe!$C$1:$C$22,0))","v":{"$error":"#N/A"}},null,null,null,null,null,null,null,null,{"$f":"VLOOKUP(Tabelle1[[#This Row],[Budgetlinie]],Ausfüllhilfe!$A$1:$D$23,4,0)","v":{"$error":"#N/A"}}]
[{"$f":"INDEX(Tabelle2[[#All],[Budgetlinie]],MATCH(Tabelle1[[#This Row],[Maßnahme]],Ausfüllhilfe!$C$1:$C$22,0))","v":{"$error":"#N/A"}},null,null,null,null,null,null,null,null,{"$f":"VLOOKUP(Tabelle1[[#This Row],[Budgetlinie]],Ausfüllhilfe!$A$1:$D$23,4,0)","v":{"$error":"#N/A"}}]
[{"$f":"INDEX(Tabelle2[[#All],[Budgetlinie]],MATCH(Tabelle1[[#This Row],[Maßnahme]],Ausfüllhilfe!$C$1:$C$22,0))","v":{"$error":"#N/A"}},null,null,null,null,null,null,null,null,{"$f":"VLOOKUP(Tabelle1[[#This Row],[Budgetlinie]],Ausfüllhilfe!$A$1:$D$23,4,0)","v":{"$error":"#N/A"}}]
[{"$f":"INDEX(Tabelle2[[#All],[Budgetlinie]],MATCH(Tabelle1[[#This Row],[Maßnahme]],Ausfüllhilfe!$C$1:$C$22,0))","v":{"$error":"#N/A"}},null,null,null,null,null,null,null,null,{"$f":"VLOOKUP(Tabelle1[[#This Row],[Budgetlinie]],Ausfüllhilfe!$A$1:$D$23,4,0)","v":{"$error":"#N/A"}}]
[{"$f":"INDEX(Tabelle2[[#All],[Budgetlinie]],MATCH(Tabelle1[[#This Row],[Maßnahme]],Ausfüllhilfe!$C$1:$C$22,0))","v":{"$error":"#N/A"}},null,null,null,null,null,null,null,null,{"$f":"VLOOKUP(Tabelle1[[#This Row],[Budgetlinie]],Ausfüllhilfe!$A$1:$D$23,4,0)","v":{"$error":"#N/A"}}]
[{"$f":"INDEX(Tabelle2[[#All],[Budgetlinie]],MATCH(Tabelle1[[#This Row],[Maßnahme]],Ausfüllhilfe!$C$1:$C$22,0))","v":{"$error":"#N/A"}},null,null,null,null,null,null,null,null,{"$f":"VLOOKUP(Tabelle1[[#This Row],[Budgetlinie]],Ausfüllhilfe!$A$1:$D$23,4,0)","v":{"$error":"#N/A"}}]
[{"$f":"INDEX(Tabelle2[[#All],[Budgetlinie]],MATCH(Tabelle1[[#This Row],[Maßnahme]],Ausfüllhilfe!$C$1:$C$22,0))","v":{"$error":"#N/A"}},null,null,null,null,null,null,null,null,{"$f":"VLOOKUP(Tabelle1[[#This Row],[Budgetlinie]],Ausfüllhilfe!$A$1:$D$23,4,0)","v":{"$error":"#N/A"}}]
[{"$f":"INDEX(Tabelle2[[#All],[Budgetlinie]],MATCH(Tabelle1[[#This Row],[Maßnahme]],Ausfüllhilfe!$C$1:$C$22,0))","v":{"$error":"#N/A"}},null,null,null,null,null,null,null,null,{"$f":"VLOOKUP(Tabelle1[[#This Row],[Budgetlinie]],Ausfüllhilfe!$A$1:$D$23,4,0)","v":{"$error":"#N/A"}}]
[{"$f":"INDEX(Tabelle2[[#All],[Budgetlinie]],MATCH(Tabelle1[[#This Row],[Maßnahme]],Ausfüllhilfe!$C$1:$C$22,0))","v":{"$error":"#N/A"}},null,null,null,null,null,null,null,null,{"$f":"VLOOKUP(Tabelle1[[#This Row],[Budgetlinie]],Ausfüllhilfe!$A$1:$D$23,4,0)","v":{"$error":"#N/A"}}]
[{"$f":"INDEX(Tabelle2[[#All],[Budgetlinie]],MATCH(Tabelle1[[#This Row],[Maßnahme]],Ausfüllhilfe!$C$1:$C$22,0))","v":{"$error":"#N/A"}},null,null,null,null,null,null,null,null,{"$f":"VLOOKUP(Tabelle1[[#This Row],[Budgetlinie]],Ausfüllhilfe!$A$1:$D$23,4,0)","v":{"$error":"#N/A"}}]
[{"$f":"INDEX(Tabelle2[[#All],[Budgetlinie]],MATCH(Tabelle1[[#This Row],[Maßnahme]],Ausfüllhilfe!$C$1:$C$22,0))","v":{"$error":"#N/A"}},null,null,null,null,null,null,null,null,{"$f":"VLOOKUP(Tabelle1[[#This Row],[Budgetlinie]],Ausfüllhilfe!$A$1:$D$23,4,0)","v":{"$error":"#N/A"}}]
[{"$f":"INDEX(Tabelle2[[#All],[Budgetlinie]],MATCH(Tabelle1[[#This Row],[Maßnahme]],Ausfüllhilfe!$C$1:$C$22,0))","v":{"$error":"#N/A"}},null,null,null,null,null,null,null,null,{"$f":"VLOOKUP(Tabelle1[[#This Row],[Budgetlinie]],Ausfüllhilfe!$A$1:$D$23,4,0)","v":{"$error":"#N/A"}}]
[{"$f":"INDEX(Tabelle2[[#All],[Budgetlinie]],MATCH(Tabelle1[[#This Row],[Maßnahme]],Ausfüllhilfe!$C$1:$C$22,0))","v":{"$error":"#N/A"}},null,null,null,null,null,null,null,null,{"$f":"VLOOKUP(Tabelle1[[#This Row],[Budgetlinie]],Ausfüllhilfe!$A$1:$D$23,4,0)","v":{"$error":"#N/A"}}]
[{"$f":"INDEX(Tabelle2[[#All],[Budgetlinie]],MATCH(Tabelle1[[#This Row],[Maßnahme]],Ausfüllhilfe!$C$1:$C$22,0))","v":{"$error":"#N/A"}},null,null,null,null,null,null,null,null,{"$f":"VLOOKUP(Tabelle1[[#This Row],[Budgetlinie]],Ausfüllhilfe!$A$1:$D$23,4,0)","v":{"$error":"#N/A"}}]
[{"$f":"INDEX(Tabelle2[[#All],[Budgetlinie]],MATCH(Tabelle1[[#This Row],[Maßnahme]],Ausfüllhilfe!$C$1:$C$22,0))","v":{"$error":"#N/A"}},null,null,null,null,null,null,null,null,{"$f":"VLOOKUP(Tabelle1[[#This Row],[Budgetlinie]],Ausfüllhilfe!$A$1:$D$23,4,0)","v":{"$error":"#N/A"}}]
[{"$f":"INDEX(Tabelle2[[#All],[Budgetlinie]],MATCH(Tabelle1[[#This Row],[Maßnahme]],Ausfüllhilfe!$C$1:$C$22,0))","v":{"$error":"#N/A"}},null,null,null,null,null,null,null,null,{"$f":"VLOOKUP(Tabelle1[[#This Row],[Budgetlinie]],Ausfüllhilfe!$A$1:$D$23,4,0)","v":{"$error":"#N/A"}}]
[{"$f":"INDEX(Tabelle2[[#All],[Budgetlinie]],MATCH(Tabelle1[[#This Row],[Maßnahme]],Ausfüllhilfe!$C$1:$C$22,0))","v":{"$error":"#N/A"}},null,null,null,null,null,null,null,null,{"$f":"VLOOKUP(Tabelle1[[#This Row],[Budgetlinie]],Ausfüllhilfe!$A$1:$D$23,4,0)","v":{"$error":"#N/A"}}]
[{"$f":"INDEX(Tabelle2[[#All],[Budgetlinie]],MATCH(Tabelle1[[#This Row],[Maßnahme]],Ausfüllhilfe!$C$1:$C$22,0))","v":{"$error":"#N/A"}},null,null,null,null,null,null,null,null,{"$f":"VLOOKUP(Tabelle1[[#This Row],[Budgetlinie]],Ausfüllhilfe!$A$1:$D$23,4,0)","v":{"$error":"#N/A"}}]
[{"$f":"INDEX(Tabelle2[[#All],[Budgetlinie]],MATCH(Tabelle1[[#This Row],[Maßnahme]],Ausfüllhilfe!$C$1:$C$22,0))","v":{"$error":"#N/A"}},null,null,null,null,null,null,null,null,{"$f":"VLOOKUP(Tabelle1[[#This Row],[Budgetlinie]],Ausfüllhilfe!$A$1:$D$23,4,0)","v":{"$error":"#N/A"}}]
[{"$f":"INDEX(Tabelle2[[#All],[Budgetlinie]],MATCH(Tabelle1[[#This Row],[Maßnahme]],Ausfüllhilfe!$C$1:$C$22,0))","v":{"$error":"#N/A"}},null,null,null,null,null,null,null,null,{"$f":"VLOOKUP(Tabelle1[[#This Row],[Budgetlinie]],Ausfüllhilfe!$A$1:$D$23,4,0)","v":{"$error":"#N/A"}}]
[{"$f":"INDEX(Tabelle2[[#All],[Budgetlinie]],MATCH(Tabelle1[[#This Row],[Maßnahme]],Ausfüllhilfe!$C$1:$C$22,0))","v":{"$error":"#N/A"}},null,null,null,null,null,null,null,null,{"$f":"VLOOKUP(Tabelle1[[#This Row],[Budgetlinie]],Ausfüllhilfe!$A$1:$D$23,4,0)","v":{"$error":"#N/A"}}]
[{"$f":"INDEX(Tabelle2[[#All],[Budgetlinie]],MATCH(Tabelle1[[#This Row],[Maßnahme]],Ausfüllhilfe!$C$1:$C$22,0))","v":{"$error":"#N/A"}},null,null,null,null,null,null,null,null,{"$f":"VLOOKUP(Tabelle1[[#This Row],[Budgetlinie]],Ausfüllhilfe!$A$1:$D$23,4,0)","v":{"$error":"#N/A"}}]
[{"$f":"INDEX(Tabelle2[[#All],[Budgetlinie]],MATCH(Tabelle1[[#This Row],[Maßnahme]],Ausfüllhilfe!$C$1:$C$22,0))","v":{"$error":"#N/A"}},null,null,null,null,null,null,null,null,{"$f":"VLOOKUP(Tabelle1[[#This Row],[Budgetlinie]],Ausfüllhilfe!$A$1:$D$23,4,0)","v":{"$error":"#N/A"}}]
[{"$f":"INDEX(Tabelle2[[#All],[Budgetlinie]],MATCH(Tabelle1[[#This Row],[Maßnahme]],Ausfüllhilfe!$C$1:$C$22,0))","v":{"$error":"#N/A"}},null,null,null,null,null,null,null,null,{"$f":"VLOOKUP(Tabelle1[[#This Row],[Budgetlinie]],Ausfüllhilfe!$A$1:$D$23,4,0)","v":{"$error":"#N/A"}}]
[{"$f":"INDEX(Tabelle2[[#All],[Budgetlinie]],MATCH(Tabelle1[[#This Row],[Maßnahme]],Ausfüllhilfe!$C$1:$C$22,0))","v":{"$error":"#N/A"}},null,null,null,null,null,null,null,null,{"$f":"VLOOKUP(Tabelle1[[#This Row],[Budgetlinie]],Ausfüllhilfe!$A$1:$D$23,4,0)","v":{"$error":"#N/A"}}]
[{"$f":"INDEX(Tabelle2[[#All],[Budgetlinie]],MATCH(Tabelle1[[#This Row],[Maßnahme]],Ausfüllhilfe!$C$1:$C$22,0))","v":{"$error":"#N/A"}},null,null,null,null,null,null,null,null,{"$f":"VLOOKUP(Tabelle1[[#This Row],[Budgetlinie]],Ausfüllhilfe!$A$1:$D$23,4,0)","v":{"$error":"#N/A"}}]
[{"$f":"INDEX(Tabelle2[[#All],[Budgetlinie]],MATCH(Tabelle1[[#This Row],[Maßnahme]],Ausfüllhilfe!$C$1:$C$22,0))","v":{"$error":"#N/A"}},null,null,null,null,null,null,null,null,{"$f":"VLOOKUP(Tabelle1[[#This Row],[Budgetlinie]],Ausfüllhilfe!$A$1:$D$23,4,0)","v":{"$error":"#N/A"}}]
[{"$f":"INDEX(Tabelle2[[#All],[Budgetlinie]],MATCH(Tabelle1[[#This Row],[Maßnahme]],Ausfüllhilfe!$C$1:$C$22,0))","v":{"$error":"#N/A"}},null,null,null,null,null,null,null,null,{"$f":"VLOOKUP(Tabelle1[[#This Row],[Budgetlinie]],Ausfüllhilfe!$A$1:$D$23,4,0)","v":{"$error":"#N/A"}}]
[{"$f":"INDEX(Tabelle2[[#All],[Budgetlinie]],MATCH(Tabelle1[[#This Row],[Maßnahme]],Ausfüllhilfe!$C$1:$C$22,0))","v":{"$error":"#N/A"}},null,null,null,null,null,null,null,null,{"$f":"VLOOKUP(Tabelle1[[#This Row],[Budgetlinie]],Ausfüllhilfe!$A$1:$D$23,4,0)","v":{"$error":"#N/A"}}]
[{"$f":"INDEX(Tabelle2[[#All],[Budgetlinie]],MATCH(Tabelle1[[#This Row],[Maßnahme]],Ausfüllhilfe!$C$1:$C$22,0))","v":{"$error":"#N/A"}},null,null,null,null,null,null,null,null,{"$f":"VLOOKUP(Tabelle1[[#This Row],[Budgetlinie]],Ausfüllhilfe!$A$1:$D$23,4,0)","v":{"$error":"#N/A"}}]
[{"$f":"INDEX(Tabelle2[[#All],[Budgetlinie]],MATCH(Tabelle1[[#This Row],[Maßnahme]],Ausfüllhilfe!$C$1:$C$22,0))","v":{"$error":"#N/A"}},null,null,null,null,null,null,null,null,{"$f":"VLOOKUP(Tabelle1[[#This Row],[Budgetlinie]],Ausfüllhilfe!$A$1:$D$23,4,0)","v":{"$error":"#N/A"}}]
[{"$f":"INDEX(Tabelle2[[#All],[Budgetlinie]],MATCH(Tabelle1[[#This Row],[Maßnahme]],Ausfüllhilfe!$C$1:$C$22,0))","v":{"$error":"#N/A"}},null,null,null,null,null,null,null,null,{"$f":"VLOOKUP(Tabelle1[[#This Row],[Budgetlinie]],Ausfüllhilfe!$A$1:$D$23,4,0)","v":{"$error":"#N/A"}}]
[{"$f":"INDEX(Tabelle2[[#All],[Budgetlinie]],MATCH(Tabelle1[[#This Row],[Maßnahme]],Ausfüllhilfe!$C$1:$C$22,0))","v":{"$error":"#N/A"}},null,null,null,null,null,null,null,null,{"$f":"VLOOKUP(Tabelle1[[#This Row],[Budgetlinie]],Ausfüllhilfe!$A$1:$D$23,4,0)","v":{"$error":"#N/A"}}]
[{"$f":"INDEX(Tabelle2[[#All],[Budgetlinie]],MATCH(Tabelle1[[#This Row],[Maßnahme]],Ausfüllhilfe!$C$1:$C$22,0))","v":{"$error":"#N/A"}},null,null,null,null,null,null,null,null,{"$f":"VLOOKUP(Tabelle1[[#This Row],[Budgetlinie]],Ausfüllhilfe!$A$1:$D$23,4,0)","v":{"$error":"#N/A"}}]
[{"$f":"INDEX(Tabelle2[[#All],[Budgetlinie]],MATCH(Tabelle1[[#This Row],[Maßnahme]],Ausfüllhilfe!$C$1:$C$22,0))","v":{"$error":"#N/A"}},null,null,null,null,null,null,null,null,{"$f":"VLOOKUP(Tabelle1[[#This Row],[Budgetlinie]],Ausfüllhilfe!$A$1:$D$23,4,0)","v":{"$error":"#N/A"}}]
[{"$f":"INDEX(Tabelle2[[#All],[Budgetlinie]],MATCH(Tabelle1[[#This Row],[Maßnahme]],Ausfüllhilfe!$C$1:$C$22,0))","v":{"$error":"#N/A"}},null,null,null,null,null,null,null,null,{"$f":"VLOOKUP(Tabelle1[[#This Row],[Budgetlinie]],Ausfüllhilfe!$A$1:$D$23,4,0)","v":{"$error":"#N/A"}}]
[{"$f":"INDEX(Tabelle2[[#All],[Budgetlinie]],MATCH(Tabelle1[[#This Row],[Maßnahme]],Ausfüllhilfe!$C$1:$C$22,0))","v":{"$error":"#N/A"}},null,null,null,null,null,null,null,null,{"$f":"VLOOKUP(Tabelle1[[#This Row],[Budgetlinie]],Ausfüllhilfe!$A$1:$D$23,4,0)","v":{"$error":"#N/A"}}]
[{"$f":"INDEX(Tabelle2[[#All],[Budgetlinie]],MATCH(Tabelle1[[#This Row],[Maßnahme]],Ausfüllhilfe!$C$1:$C$22,0))","v":{"$error":"#N/A"}},null,null,null,null,null,null,null,null,{"$f":"VLOOKUP(Tabelle1[[#This Row],[Budgetlinie]],Ausfüllhilfe!$A$1:$D$23,4,0)","v":{"$error":"#N/A"}}]
[{"$f":"INDEX(Tabelle2[[#All],[Budgetlinie]],MATCH(Tabelle1[[#This Row],[Maßnahme]],Ausfüllhilfe!$C$1:$C$22,0))","v":{"$error":"#N/A"}},null,null,null,null,null,null,null,null,{"$f":"VLOOKUP(Tabelle1[[#This Row],[Budgetlinie]],Ausfüllhilfe!$A$1:$D$23,4,0)","v":{"$error":"#N/A"}}]
[{"$f":"INDEX(Tabelle2[[#All],[Budgetlinie]],MATCH(Tabelle1[[#This Row],[Maßnahme]],Ausfüllhilfe!$C$1:$C$22,0))","v":{"$error":"#N/A"}},null,null,null,null,null,null,null,null,{"$f":"VLOOKUP(Tabelle1[[#This Row],[Budgetlinie]],Ausfüllhilfe!$A$1:$D$23,4,0)","v":{"$error":"#N/A"}}]
[{"$f":"INDEX(Tabelle2[[#All],[Budgetlinie]],MATCH(Tabelle1[[#This Row],[Maßnahme]],Ausfüllhilfe!$C$1:$C$22,0))","v":{"$error":"#N/A"}},null,null,null,null,null,null,null,null,{"$f":"VLOOKUP(Tabelle1[[#This Row],[Budgetlinie]],Ausfüllhilfe!$A$1:$D$23,4,0)","v":{"$error":"#N/A"}}]
[{"$f":"INDEX(Tabelle2[[#All],[Budgetlinie]],MATCH(Tabelle1[[#This Row],[Maßnahme]],Ausfüllhilfe!$C$1:$C$22,0))","v":{"$error":"#N/A"}},null,null,null,null,null,null,null,null,{"$f":"VLOOKUP(Tabelle1[[#This Row],[Budgetlinie]],Ausfüllhilfe!$A$1:$D$23,4,0)","v":{"$error":"#N/A"}}]
[{"$f":"INDEX(Tabelle2[[#All],[Budgetlinie]],MATCH(Tabelle1[[#This Row],[Maßnahme]],Ausfüllhilfe!$C$1:$C$22,0))","v":{"$error":"#N/A"}},null,null,null,null,null,null,null,null,{"$f":"VLOOKUP(Tabelle1[[#This Row],[Budgetlinie]],Ausfüllhilfe!$A$1:$D$23,4,0)","v":{"$error":"#N/A"}}]
[{"$f":"INDEX(Tabelle2[[#All],[Budgetlinie]],MATCH(Tabelle1[[#This Row],[Maßnahme]],Ausfüllhilfe!$C$1:$C$22,0))","v":{"$error":"#N/A"}},null,null,null,null,null,null,null,null,{"$f":"VLOOKUP(Tabelle1[[#This Row],[Budgetlinie]],Ausfüllhilfe!$A$1:$D$23,4,0)","v":{"$error":"#N/A"}}]
[{"$f":"INDEX(Tabelle2[[#All],[Budgetlinie]],MATCH(Tabelle1[[#This Row],[Maßnahme]],Ausfüllhilfe!$C$1:$C$22,0))","v":{"$error":"#N/A"}},null,null,null,null,null,null,null,null,{"$f":"VLOOKUP(Tabelle1[[#This Row],[Budgetlinie]],Ausfüllhilfe!$A$1:$D$23,4,0)","v":{"$error":"#N/A"}}]
[{"$f":"INDEX(Tabelle2[[#All],[Budgetlinie]],MATCH(Tabelle1[[#This Row],[Maßnahme]],Ausfüllhilfe!$C$1:$C$22,0))","v":{"$error":"#N/A"}},null,null,null,null,null,null,null,null,{"$f":"VLOOKUP(Tabelle1[[#This Row],[Budgetlinie]],Ausfüllhilfe!$A$1:$D$23,4,0)","v":{"$error":"#N/A"}}]
[{"$f":"INDEX(Tabelle2[[#All],[Budgetlinie]],MATCH(Tabelle1[[#This Row],[Maßnahme]],Ausfüllhilfe!$C$1:$C$22,0))","v":{"$error":"#N/A"}},null,null,null,null,null,null,null,null,{"$f":"VLOOKUP(Tabelle1[[#This Row],[Budgetlinie]],Ausfüllhilfe!$A$1:$D$23,4,0)","v":{"$error":"#N/A"}}]
[{"$f":"INDEX(Tabelle2[[#All],[Budgetlinie]],MATCH(Tabelle1[[#This Row],[Maßnahme]],Ausfüllhilfe!$C$1:$C$22,0))","v":{"$error":"#N/A"}},null,null,null,null,null,null,null,null,{"$f":"VLOOKUP(Tabelle1[[#This Row],[Budgetlinie]],Ausfüllhilfe!$A$1:$D$23,4,0)","v":{"$error":"#N/A"}}]
[{"$f":"INDEX(Tabelle2[[#All],[Budgetlinie]],MATCH(Tabelle1[[#This Row],[Maßnahme]],Ausfüllhilfe!$C$1:$C$22,0))","v":{"$error":"#N/A"}},null,null,null,null,null,null,null,null,{"$f":"VLOOKUP(Tabelle1[[#This Row],[Budgetlinie]],Ausfüllhilfe!$A$1:$D$23,4,0)","v":{"$error":"#N/A"}}]
[{"$f":"INDEX(Tabelle2[[#All],[Budgetlinie]],MATCH(Tabelle1[[#This Row],[Maßnahme]],Ausfüllhilfe!$C$1:$C$22,0))","v":{"$error":"#N/A"}},null,null,null,null,null,null,null,null,{"$f":"VLOOKUP(Tabelle1[[#This Row],[Budgetlinie]],Ausfüllhilfe!$A$1:$D$23,4,0)","v":{"$error":"#N/A"}}]
[{"$f":"INDEX(Tabelle2[[#All],[Budgetlinie]],MATCH(Tabelle1[[#This Row],[Maßnahme]],Ausfüllhilfe!$C$1:$C$22,0))","v":{"$error":"#N/A"}},null,null,null,null,null,null,null,null,{"$f":"VLOOKUP(Tabelle1[[#This Row],[Budgetlinie]],Ausfüllhilfe!$A$1:$D$23,4,0)","v":{"$error":"#N/A"}}]
[{"$f":"INDEX(Tabelle2[[#All],[Budgetlinie]],MATCH(Tabelle1[[#This Row],[Maßnahme]],Ausfüllhilfe!$C$1:$C$22,0))","v":{"$error":"#N/A"}},null,null,null,null,null,null,null,null,{"$f":"VLOOKUP(Tabelle1[[#This Row],[Budgetlinie]],Ausfüllhilfe!$A$1:$D$23,4,0)","v":{"$error":"#N/A"}}]
[{"$f":"INDEX(Tabelle2[[#All],[Budgetlinie]],MATCH(Tabelle1[[#This Row],[Maßnahme]],Ausfüllhilfe!$C$1:$C$22,0))","v":{"$error":"#N/A"}},null,null,null,null,null,null,null,null,{"$f":"VLOOKUP(Tabelle1[[#This Row],[Budgetlinie]],Ausfüllhilfe!$A$1:$D$23,4,0)","v":{"$error":"#N/A"}}]
[{"$f":"INDEX(Tabelle2[[#All],[Budgetlinie]],MATCH(Tabelle1[[#This Row],[Maßnahme]],Ausfüllhilfe!$C$1:$C$22,0))","v":{"$error":"#N/A"}},null,null,null,null,null,null,null,null,{"$f":"VLOOKUP(Tabelle1[[#This Row],[Budgetlinie]],Ausfüllhilfe!$A$1:$D$23,4,0)","v":{"$error":"#N/A"}}]
[{"$f":"INDEX(Tabelle2[[#All],[Budgetlinie]],MATCH(Tabelle1[[#This Row],[Maßnahme]],Ausfüllhilfe!$C$1:$C$22,0))","v":{"$error":"#N/A"}},null,null,null,null,null,null,null,null,{"$f":"VLOOKUP(Tabelle1[[#This Row],[Budgetlinie]],Ausfüllhilfe!$A$1:$D$23,4,0)","v":{"$error":"#N/A"}}]
[{"$f":"INDEX(Tabelle2[[#All],[Budgetlinie]],MATCH(Tabelle1[[#This Row],[Maßnahme]],Ausfüllhilfe!$C$1:$C$22,0))","v":{"$error":"#N/A"}},null,null,null,null,null,null,null,null,{"$f":"VLOOKUP(Tabelle1[[#This Row],[Budgetlinie]],Ausfüllhilfe!$A$1:$D$23,4,0)","v":{"$error":"#N/A"}}]
[{"$f":"INDEX(Tabelle2[[#All],[Budgetlinie]],MATCH(Tabelle1[[#This Row],[Maßnahme]],Ausfüllhilfe!$C$1:$C$22,0))","v":{"$error":"#N/A"}},null,null,null,null,null,null,null,null,{"$f":"VLOOKUP(Tabelle1[[#This Row],[Budgetlinie]],Ausfüllhilfe!$A$1:$D$23,4,0)","v":{"$error":"#N/A"}}]
[{"$f":"INDEX(Tabelle2[[#All],[Budgetlinie]],MATCH(Tabelle1[[#This Row],[Maßnahme]],Ausfüllhilfe!$C$1:$C$22,0))","v":{"$error":"#N/A"}},null,null,null,null,null,null,null,null,{"$f":"VLOOKUP(Tabelle1[[#This Row],[Budgetlinie]],Ausfüllhilfe!$A$1:$D$23,4,0)","v":{"$error":"#N/A"}}]
[{"$f":"INDEX(Tabelle2[[#All],[Budgetlinie]],MATCH(Tabelle1[[#This Row],[Maßnahme]],Ausfüllhilfe!$C$1:$C$22,0))","v":{"$error":"#N/A"}},null,null,null,null,null,null,null,null,{"$f":"VLOOKUP(Tabelle1[[#This Row],[Budgetlinie]],Ausfüllhilfe!$A$1:$D$23,4,0)","v":{"$error":"#N/A"}}]
[{"$f":"INDEX(Tabelle2[[#All],[Budgetlinie]],MATCH(Tabelle1[[#This Row],[Maßnahme]],Ausfüllhilfe!$C$1:$C$22,0))","v":{"$error":"#N/A"}},null,null,null,null,null,null,null,null,{"$f":"VLOOKUP(Tabelle1[[#This Row],[Budgetlinie]],Ausfüllhilfe!$A$1:$D$23,4,0)","v":{"$error":"#N/A"}}]
[{"$f":"INDEX(Tabelle2[[#All],[Budgetlinie]],MATCH(Tabelle1[[#This Row],[Maßnahme]],Ausfüllhilfe!$C$1:$C$22,0))","v":{"$error":"#N/A"}},null,null,null,null,null,null,null,null,{"$f":"VLOOKUP(Tabelle1[[#This Row],[Budgetlinie]],Ausfüllhilfe!$A$1:$D$23,4,0)","v":{"$error":"#N/A"}}]
[{"$f":"INDEX(Tabelle2[[#All],[Budgetlinie]],MATCH(Tabelle1[[#This Row],[Maßnahme]],Ausfüllhilfe!$C$1:$C$22,0))","v":{"$error":"#N/A"}},null,null,null,null,null,null,null,null,{"$f":"VLOOKUP(Tabelle1[[#This Row],[Budgetlinie]],Ausfüllhilfe!$A$1:$D$23,4,0)","v":{"$error":"#N/A"}}]
[{"$f":"INDEX(Tabelle2[[#All],[Budgetlinie]],MATCH(Tabelle1[[#This Row],[Maßnahme]],Ausfüllhilfe!$C$1:$C$22,0))","v":{"$error":"#N/A"}},null,null,null,null,null,null,null,null,{"$f":"VLOOKUP(Tabelle1[[#This Row],[Budgetlinie]],Ausfüllhilfe!$A$1:$D$23,4,0)","v":{"$error":"#N/A"}}]
[{"$f":"INDEX(Tabelle2[[#All],[Budgetlinie]],MATCH(Tabelle1[[#This Row],[Maßnahme]],Ausfüllhilfe!$C$1:$C$22,0))","v":{"$error":"#N/A"}},null,null,null,null,null,null,null,null,{"$f":"VLOOKUP(Tabelle1[[#This Row],[Budgetlinie]],Ausfüllhilfe!$A$1:$D$23,4,0)","v":{"$error":"#N/A"}}]
[{"$f":"INDEX(Tabelle2[[#All],[Budgetlinie]],MATCH(Tabelle1[[#This Row],[Maßnahme]],Ausfüllhilfe!$C$1:$C$22,0))","v":{"$error":"#N/A"}},null,null,null,null,null,null,null,null,{"$f":"VLOOKUP(Tabelle1[[#This Row],[Budgetlinie]],Ausfüllhilfe!$A$1:$D$23,4,0)","v":{"$error":"#N/A"}}]
[{"$f":"INDEX(Tabelle2[[#All],[Budgetlinie]],MATCH(Tabelle1[[#This Row],[Maßnahme]],Ausfüllhilfe!$C$1:$C$22,0))","v":{"$error":"#N/A"}},null,null,null,null,null,null,null,null,{"$f":"VLOOKUP(Tabelle1[[#This Row],[Budgetlinie]],Ausfüllhilfe!$A$1:$D$23,4,0)","v":{"$error":"#N/A"}}]
[{"$f":"INDEX(Tabelle2[[#All],[Budgetlinie]],MATCH(Tabelle1[[#This Row],[Maßnahme]],Ausfüllhilfe!$C$1:$C$22,0))","v":{"$error":"#N/A"}},null,null,null,null,null,null,null,null,{"$f":"VLOOKUP(Tabelle1[[#This Row],[Budgetlinie]],Ausfüllhilfe!$A$1:$D$23,4,0)","v":{"$error":"#N/A"}}]
[{"$f":"INDEX(Tabelle2[[#All],[Budgetlinie]],MATCH(Tabelle1[[#This Row],[Maßnahme]],Ausfüllhilfe!$C$1:$C$22,0))","v":{"$error":"#N/A"}},null,null,null,null,null,null,null,null,{"$f":"VLOOKUP(Tabelle1[[#This Row],[Budgetlinie]],Ausfüllhilfe!$A$1:$D$23,4,0)","v":{"$error":"#N/A"}}]
[{"$f":"INDEX(Tabelle2[[#All],[Budgetlinie]],MATCH(Tabelle1[[#This Row],[Maßnahme]],Ausfüllhilfe!$C$1:$C$22,0))","v":{"$error":"#N/A"}},null,null,null,null,null,null,null,null,{"$f":"VLOOKUP(Tabelle1[[#This Row],[Budgetlinie]],Ausfüllhilfe!$A$1:$D$23,4,0)","v":{"$error":"#N/A"}}]
[{"$f":"INDEX(Tabelle2[[#All],[Budgetlinie]],MATCH(Tabelle1[[#This Row],[Maßnahme]],Ausfüllhilfe!$C$1:$C$22,0))","v":{"$error":"#N/A"}},null,null,null,null,null,null,null,null,{"$f":"VLOOKUP(Tabelle1[[#This Row],[Budgetlinie]],Ausfüllhilfe!$A$1:$D$23,4,0)","v":{"$error":"#N/A"}}]
[{"$f":"INDEX(Tabelle2[[#All],[Budgetlinie]],MATCH(Tabelle1[[#This Row],[Maßnahme]],Ausfüllhilfe!$C$1:$C$22,0))","v":{"$error":"#N/A"}},null,null,null,null,null,null,null,null,{"$f":"VLOOKUP(Tabelle1[[#This Row],[Budgetlinie]],Ausfüllhilfe!$A$1:$D$23,4,0)","v":{"$error":"#N/A"}}]
[{"$f":"INDEX(Tabelle2[[#All],[Budgetlinie]],MATCH(Tabelle1[[#This Row],[Maßnahme]],Ausfüllhilfe!$C$1:$C$22,0))","v":{"$error":"#N/A"}},null,null,null,null,null,null,null,null,{"$f":"VLOOKUP(Tabelle1[[#This Row],[Budgetlinie]],Ausfüllhilfe!$A$1:$D$23,4,0)","v":{"$error":"#N/A"}}]
[{"$f":"INDEX(Tabelle2[[#All],[Budgetlinie]],MATCH(Tabelle1[[#This Row],[Maßnahme]],Ausfüllhilfe!$C$1:$C$22,0))","v":{"$error":"#N/A"}},null,null,null,null,null,null,null,null,{"$f":"VLOOKUP(Tabelle1[[#This Row],[Budgetlinie]],Ausfüllhilfe!$A$1:$D$23,4,0)","v":{"$error":"#N/A"}}]
[{"$f":"INDEX(Tabelle2[[#All],[Budgetlinie]],MATCH(Tabelle1[[#This Row],[Maßnahme]],Ausfüllhilfe!$C$1:$C$22,0))","v":{"$error":"#N/A"}},null,null,null,null,null,null,null,null,{"$f":"VLOOKUP(Tabelle1[[#This Row],[Budgetlinie]],Ausfüllhilfe!$A$1:$D$23,4,0)","v":{"$error":"#N/A"}}]
[{"$f":"INDEX(Tabelle2[[#All],[Budgetlinie]],MATCH(Tabelle1[[#This Row],[Maßnahme]],Ausfüllhilfe!$C$1:$C$22,0))","v":{"$error":"#N/A"}},null,null,null,null,null,null,null,null,{"$f":"VLOOKUP(Tabelle1[[#This Row],[Budgetlinie]],Ausfüllhilfe!$A$1:$D$23,4,0)","v":{"$error":"#N/A"}}]
[{"$f":"INDEX(Tabelle2[[#All],[Budgetlinie]],MATCH(Tabelle1[[#This Row],[Maßnahme]],Ausfüllhilfe!$C$1:$C$22,0))","v":{"$error":"#N/A"}},null,null,null,null,null,null,null,null,{"$f":"VLOOKUP(Tabelle1[[#This Row],[Budgetlinie]],Ausfüllhilfe!$A$1:$D$23,4,0)","v":{"$error":"#N/A"}}]
[{"$f":"INDEX(Tabelle2[[#All],[Budgetlinie]],MATCH(Tabelle1[[#This Row],[Maßnahme]],Ausfüllhilfe!$C$1:$C$22,0))","v":{"$error":"#N/A"}},null,null,null,null,null,null,null,null,{"$f":"VLOOKUP(Tabelle1[[#This Row],[Budgetlinie]],Ausfüllhilfe!$A$1:$D$23,4,0)","v":{"$error":"#N/A"}}]
[{"$f":"INDEX(Tabelle2[[#All],[Budgetlinie]],MATCH(Tabelle1[[#This Row],[Maßnahme]],Ausfüllhilfe!$C$1:$C$22,0))","v":{"$error":"#N/A"}},null,null,null,null,null,null,null,null,{"$f":"VLOOKUP(Tabelle1[[#This Row],[Budgetlinie]],Ausfüllhilfe!$A$1:$D$23,4,0)","v":{"$error":"#N/A"}}]
[{"$f":"INDEX(Tabelle2[[#All],[Budgetlinie]],MATCH(Tabelle1[[#This Row],[Maßnahme]],Ausfüllhilfe!$C$1:$C$22,0))","v":{"$error":"#N/A"}},null,null,null,null,null,null,null,null,{"$f":"VLOOKUP(Tabelle1[[#This Row],[Budgetlinie]],Ausfüllhilfe!$A$1:$D$23,4,0)","v":{"$error":"#N/A"}}]
[{"$f":"INDEX(Tabelle2[[#All],[Budgetlinie]],MATCH(Tabelle1[[#This Row],[Maßnahme]],Ausfüllhilfe!$C$1:$C$22,0))","v":{"$error":"#N/A"}},null,null,null,null,null,null,null,null,{"$f":"VLOOKUP(Tabelle1[[#This Row],[Budgetlinie]],Ausfüllhilfe!$A$1:$D$23,4,0)","v":{"$error":"#N/A"}}]
[{"$f":"INDEX(Tabelle2[[#All],[Budgetlinie]],MATCH(Tabelle1[[#This Row],[Maßnahme]],Ausfüllhilfe!$C$1:$C$22,0))","v":{"$error":"#N/A"}},null,null,null,null,null,null,null,null,{"$f":"VLOOKUP(Tabelle1[[#This Row],[Budgetlinie]],Ausfüllhilfe!$A$1:$D$23,4,0)","v":{"$error":"#N/A"}}]
[{"$f":"INDEX(Tabelle2[[#All],[Budgetlinie]],MATCH(Tabelle1[[#This Row],[Maßnahme]],Ausfüllhilfe!$C$1:$C$22,0))","v":{"$error":"#N/A"}},null,null,null,null,null,null,null,null,{"$f":"VLOOKUP(Tabelle1[[#This Row],[Budgetlinie]],Ausfüllhilfe!$A$1:$D$23,4,0)","v":{"$error":"#N/A"}}]
[{"$f":"INDEX(Tabelle2[[#All],[Budgetlinie]],MATCH(Tabelle1[[#This Row],[Maßnahme]],Ausfüllhilfe!$C$1:$C$22,0))","v":{"$error":"#N/A"}},null,null,null,null,null,null,null,null,{"$f":"VLOOKUP(Tabelle1[[#This Row],[Budgetlinie]],Ausfüllhilfe!$A$1:$D$23,4,0)","v":{"$error":"#N/A"}}]
[{"$f":"INDEX(Tabelle2[[#All],[Budgetlinie]],MATCH(Tabelle1[[#This Row],[Maßnahme]],Ausfüllhilfe!$C$1:$C$22,0))","v":{"$error":"#N/A"}},null,null,null,null,null,null,null,null,{"$f":"VLOOKUP(Tabelle1[[#This Row],[Budgetlinie]],Ausfüllhilfe!$A$1:$D$23,4,0)","v":{"$error":"#N/A"}}]
[{"$f":"INDEX(Tabelle2[[#All],[Budgetlinie]],MATCH(Tabelle1[[#This Row],[Maßnahme]],Ausfüllhilfe!$C$1:$C$22,0))","v":{"$error":"#N/A"}},null,null,null,null,null,null,null,null,{"$f":"VLOOKUP(Tabelle1[[#This Row],[Budgetlinie]],Ausfüllhilfe!$A$1:$D$23,4,0)","v":{"$error":"#N/A"}}]
[{"$f":"INDEX(Tabelle2[[#All],[Budgetlinie]],MATCH(Tabelle1[[#This Row],[Maßnahme]],Ausfüllhilfe!$C$1:$C$22,0))","v":{"$error":"#N/A"}},null,null,null,null,null,null,null,null,{"$f":"VLOOKUP(Tabelle1[[#This Row],[Budgetlinie]],Ausfüllhilfe!$A$1:$D$23,4,0)","v":{"$error":"#N/A"}}]
[{"$f":"INDEX(Tabelle2[[#All],[Budgetlinie]],MATCH(Tabelle1[[#This Row],[Maßnahme]],Ausfüllhilfe!$C$1:$C$22,0))","v":{"$error":"#N/A"}},null,null,null,null,null,null,null,null,{"$f":"VLOOKUP(Tabelle1[[#This Row],[Budgetlinie]],Ausfüllhilfe!$A$1:$D$23,4,0)","v":{"$error":"#N/A"}}]
[{"$f":"INDEX(Tabelle2[[#All],[Budgetlinie]],MATCH(Tabelle1[[#This Row],[Maßnahme]],Ausfüllhilfe!$C$1:$C$22,0))","v":{"$error":"#N/A"}},null,null,null,null,null,null,null,null,{"$f":"VLOOKUP(Tabelle1[[#This Row],[Budgetlinie]],Ausfüllhilfe!$A$1:$D$23,4,0)","v":{"$error":"#N/A"}}]
[{"$f":"INDEX(Tabelle2[[#All],[Budgetlinie]],MATCH(Tabelle1[[#This Row],[Maßnahme]],Ausfüllhilfe!$C$1:$C$22,0))","v":{"$error":"#N/A"}},null,null,null,null,null,null,null,null,{"$f":"VLOOKUP(Tabelle1[[#This Row],[Budgetlinie]],Ausfüllhilfe!$A$1:$D$23,4,0)","v":{"$error":"#N/A"}}]
[{"$f":"INDEX(Tabelle2[[#All],[Budgetlinie]],MATCH(Tabelle1[[#This Row],[Maßnahme]],Ausfüllhilfe!$C$1:$C$22,0))","v":{"$error":"#N/A"}},null,null,null,null,null,null,null,null,{"$f":"VLOOKUP(Tabelle1[[#This Row],[Budgetlinie]],Ausfüllhilfe!$A$1:$D$23,4,0)","v":{"$error":"#N/A"}}]
[{"$f":"INDEX(Tabelle2[[#All],[Budgetlinie]],MATCH(Tabelle1[[#This Row],[Maßnahme]],Ausfüllhilfe!$C$1:$C$22,0))","v":{"$error":"#N/A"}},null,null,null,null,null,null,null,null,{"$f":"VLOOKUP(Tabelle1[[#This Row],[Budgetlinie]],Ausfüllhilfe!$A$1:$D$23,4,0)","v":{"$error":"#N/A"}}]
[{"$f":"INDEX(Tabelle2[[#All],[Budgetlinie]],MATCH(Tabelle1[[#This Row],[Maßnahme]],Ausfüllhilfe!$C$1:$C$22,0))","v":{"$error":"#N/A"}},null,null,null,null,null,null,null,null,{"$f":"VLOOKUP(Tabelle1[[#This Row],[Budgetlinie]],Ausfüllhilfe!$A$1:$D$23,4,0)","v":{"$error":"#N/A"}}]
[{"$f":"INDEX(Tabelle2[[#All],[Budgetlinie]],MATCH(Tabelle1[[#This Row],[Maßnahme]],Ausfüllhilfe!$C$1:$C$22,0))","v":{"$error":"#N/A"}},null,null,null,null,null,null,null,null,{"$f":"VLOOKUP(Tabelle1[[#This Row],[Budgetlinie]],Ausfüllhilfe!$A$1:$D$23,4,0)","v":{"$error":"#N/A"}}]
[{"$f":"INDEX(Tabelle2[[#All],[Budgetlinie]],MATCH(Tabelle1[[#This Row],[Maßnahme]],Ausfüllhilfe!$C$1:$C$22,0))","v":{"$error":"#N/A"}},null,null,null,null,null,null,null,null,{"$f":"VLOOKUP(Tabelle1[[#This Row],[Budgetlinie]],Ausfüllhilfe!$A$1:$D$23,4,0)","v":{"$error":"#N/A"}}]
[{"$f":"INDEX(Tabelle2[[#All],[Budgetlinie]],MATCH(Tabelle1[[#This Row],[Maßnahme]],Ausfüllhilfe!$C$1:$C$22,0))","v":{"$error":"#N/A"}},null,null,null,null,null,null,null,null,{"$f":"VLOOKUP(Tabelle1[[#This Row],[Budgetlinie]],Ausfüllhilfe!$A$1:$D$23,4,0)","v":{"$error":"#N/A"}}]
[{"$f":"INDEX(Tabelle2[[#All],[Budgetlinie]],MATCH(Tabelle1[[#This Row],[Maßnahme]],Ausfüllhilfe!$C$1:$C$22,0))","v":{"$error":"#N/A"}},null,null,null,null,null,null,null,null,{"$f":"VLOOKUP(Tabelle1[[#This Row],[Budgetlinie]],Ausfüllhilfe!$A$1:$D$23,4,0)","v":{"$error":"#N/A"}}]
[{"$f":"INDEX(Tabelle2[[#All],[Budgetlinie]],MATCH(Tabelle1[[#This Row],[Maßnahme]],Ausfüllhilfe!$C$1:$C$22,0))","v":{"$error":"#N/A"}},null,null,null,null,null,null,null,null,{"$f":"VLOOKUP(Tabelle1[[#This Row],[Budgetlinie]],Ausfüllhilfe!$A$1:$D$23,4,0)","v":{"$error":"#N/A"}}]
[{"$f":"INDEX(Tabelle2[[#All],[Budgetlinie]],MATCH(Tabelle1[[#This Row],[Maßnahme]],Ausfüllhilfe!$C$1:$C$22,0))","v":{"$error":"#N/A"}},null,null,null,null,null,null,null,null,{"$f":"VLOOKUP(Tabelle1[[#This Row],[Budgetlinie]],Ausfüllhilfe!$A$1:$D$23,4,0)","v":{"$error":"#N/A"}}]
[{"$f":"INDEX(Tabelle2[[#All],[Budgetlinie]],MATCH(Tabelle1[[#This Row],[Maßnahme]],Ausfüllhilfe!$C$1:$C$22,0))","v":{"$error":"#N/A"}},null,null,null,null,null,null,null,null,{"$f":"VLOOKUP(Tabelle1[[#This Row],[Budgetlinie]],Ausfüllhilfe!$A$1:$D$23,4,0)","v":{"$error":"#N/A"}}]
[{"$f":"INDEX(Tabelle2[[#All],[Budgetlinie]],MATCH(Tabelle1[[#This Row],[Maßnahme]],Ausfüllhilfe!$C$1:$C$22,0))","v":{"$error":"#N/A"}},null,null,null,null,null,null,null,null,{"$f":"VLOOKUP(Tabelle1[[#This Row],[Budgetlinie]],Ausfüllhilfe!$A$1:$D$23,4,0)","v":{"$error":"#N/A"}}]
[{"$f":"INDEX(Tabelle2[[#All],[Budgetlinie]],MATCH(Tabelle1[[#This Row],[Maßnahme]],Ausfüllhilfe!$C$1:$C$22,0))","v":{"$error":"#N/A"}},null,null,null,null,null,null,null,null,{"$f":"VLOOKUP(Tabelle1[[#This Row],[Budgetlinie]],Ausfüllhilfe!$A$1:$D$23,4,0)","v":{"$error":"#N/A"}}]
[{"$f":"INDEX(Tabelle2[[#All],[Budgetlinie]],MATCH(Tabelle1[[#This Row],[Maßnahme]],Ausfüllhilfe!$C$1:$C$22,0))","v":{"$error":"#N/A"}},null,null,null,null,null,null,null,null,{"$f":"VLOOKUP(Tabelle1[[#This Row],[Budgetlinie]],Ausfüllhilfe!$A$1:$D$23,4,0)","v":{"$error":"#N/A"}}]
[{"$f":"INDEX(Tabelle2[[#All],[Budgetlinie]],MATCH(Tabelle1[[#This Row],[Maßnahme]],Ausfüllhilfe!$C$1:$C$22,0))","v":{"$error":"#N/A"}},null,null,null,null,null,null,null,null,{"$f":"VLOOKUP(Tabelle1[[#This Row],[Budgetlinie]],Ausfüllhilfe!$A$1:$D$23,4,0)","v":{"$error":"#N/A"}}]
[{"$f":"INDEX(Tabelle2[[#All],[Budgetlinie]],MATCH(Tabelle1[[#This Row],[Maßnahme]],Ausfüllhilfe!$C$1:$C$22,0))","v":{"$error":"#N/A"}},null,null,null,null,null,null,null,null,{"$f":"VLOOKUP(Tabelle1[[#This Row],[Budgetlinie]],Ausfüllhilfe!$A$1:$D$23,4,0)","v":{"$error":"#N/A"}}]
[{"$f":"INDEX(Tabelle2[[#All],[Budgetlinie]],MATCH(Tabelle1[[#This Row],[Maßnahme]],Ausfüllhilfe!$C$1:$C$22,0))","v":{"$error":"#N/A"}},null,null,null,null,null,null,null,null,{"$f":"VLOOKUP(Tabelle1[[#This Row],[Budgetlinie]],Ausfüllhilfe!$A$1:$D$23,4,0)","v":{"$error":"#N/A"}}]
[{"$f":"INDEX(Tabelle2[[#All],[Budgetlinie]],MATCH(Tabelle1[[#This Row],[Maßnahme]],Ausfüllhilfe!$C$1:$C$22,0))","v":{"$error":"#N/A"}},null,null,null,null,null,null,null,null,{"$f":"VLOOKUP(Tabelle1[[#This Row],[Budgetlinie]],Ausfüllhilfe!$A$1:$D$23,4,0)","v":{"$error":"#N/A"}}]
[{"$f":"INDEX(Tabelle2[[#All],[Budgetlinie]],MATCH(Tabelle1[[#This Row],[Maßnahme]],Ausfüllhilfe!$C$1:$C$22,0))","v":{"$error":"#N/A"}},null,null,null,null,null,null,null,null,{"$f":"VLOOKUP(Tabelle1[[#This Row],[Budgetlinie]],Ausfüllhilfe!$A$1:$D$23,4,0)","v":{"$error":"#N/A"}}]
[{"$f":"INDEX(Tabelle2[[#All],[Budgetlinie]],MATCH(Tabelle1[[#This Row],[Maßnahme]],Ausfüllhilfe!$C$1:$C$22,0))","v":{"$error":"#N/A"}},null,null,null,null,null,null,null,null,{"$f":"VLOOKUP(Tabelle1[[#This Row],[Budgetlinie]],Ausfüllhilfe!$A$1:$D$23,4,0)","v":{"$error":"#N/A"}}]
[{"$f":"INDEX(Tabelle2[[#All],[Budgetlinie]],MATCH(Tabelle1[[#This Row],[Maßnahme]],Ausfüllhilfe!$C$1:$C$22,0))","v":{"$error":"#N/A"}},null,null,null,null,null,null,null,null,{"$f":"VLOOKUP(Tabelle1[[#This Row],[Budgetlinie]],Ausfüllhilfe!$A$1:$D$23,4,0)","v":{"$error":"#N/A"}}]
[{"$f":"INDEX(Tabelle2[[#All],[Budgetlinie]],MATCH(Tabelle1[[#This Row],[Maßnahme]],Ausfüllhilfe!$C$1:$C$22,0))","v":{"$error":"#N/A"}},null,null,null,null,null,null,null,null,{"$f":"VLOOKUP(Tabelle1[[#This Row],[Budgetlinie]],Ausfüllhilfe!$A$1:$D$23,4,0)","v":{"$error":"#N/A"}}]
[{"$f":"INDEX(Tabelle2[[#All],[Budgetlinie]],MATCH(Tabelle1[[#This Row],[Maßnahme]],Ausfüllhilfe!$C$1:$C$22,0))","v":{"$error":"#N/A"}},null,null,null,null,null,null,null,null,{"$f":"VLOOKUP(Tabelle1[[#This Row],[Budgetlinie]],Ausfüllhilfe!$A$1:$D$23,4,0)","v":{"$error":"#N/A"}}]
[{"$f":"INDEX(Tabelle2[[#All],[Budgetlinie]],MATCH(Tabelle1[[#This Row],[Maßnahme]],Ausfüllhilfe!$C$1:$C$22,0))","v":{"$error":"#N/A"}},null,null,null,null,null,null,null,null,{"$f":"VLOOKUP(Tabelle1[[#This Row],[Budgetlinie]],Ausfüllhilfe!$A$1:$D$23,4,0)","v":{"$error":"#N/A"}}]
[{"$f":"INDEX(Tabelle2[[#All],[Budgetlinie]],MATCH(Tabelle1[[#This Row],[Maßnahme]],Ausfüllhilfe!$C$1:$C$22,0))","v":{"$error":"#N/A"}},null,null,null,null,null,null,null,null,{"$f":"VLOOKUP(Tabelle1[[#This Row],[Budgetlinie]],Ausfüllhilfe!$A$1:$D$23,4,0)","v":{"$error":"#N/A"}}]
[{"$f":"INDEX(Tabelle2[[#All],[Budgetlinie]],MATCH(Tabelle1[[#This Row],[Maßnahme]],Ausfüllhilfe!$C$1:$C$22,0))","v":{"$error":"#N/A"}},null,null,null,null,null,null,null,null,{"$f":"VLOOKUP(Tabelle1[[#This Row],[Budgetlinie]],Ausfüllhilfe!$A$1:$D$23,4,0)","v":{"$error":"#N/A"}}]
[{"$f":"INDEX(Tabelle2[[#All],[Budgetlinie]],MATCH(Tabelle1[[#This Row],[Maßnahme]],Ausfüllhilfe!$C$1:$C$22,0))","v":{"$error":"#N/A"}},null,null,null,null,null,null,null,null,{"$f":"VLOOKUP(Tabelle1[[#This Row],[Budgetlinie]],Ausfüllhilfe!$A$1:$D$23,4,0)","v":{"$error":"#N/A"}}]
[{"$f":"INDEX(Tabelle2[[#All],[Budgetlinie]],MATCH(Tabelle1[[#This Row],[Maßnahme]],Ausfüllhilfe!$C$1:$C$22,0))","v":{"$error":"#N/A"}},null,null,null,null,null,null,null,null,{"$f":"VLOOKUP(Tabelle1[[#This Row],[Budgetlinie]],Ausfüllhilfe!$A$1:$D$23,4,0)","v":{"$error":"#N/A"}}]
[{"$f":"INDEX(Tabelle2[[#All],[Budgetlinie]],MATCH(Tabelle1[[#This Row],[Maßnahme]],Ausfüllhilfe!$C$1:$C$22,0))","v":{"$error":"#N/A"}},null,null,null,null,null,null,null,null,{"$f":"VLOOKUP(Tabelle1[[#This Row],[Budgetlinie]],Ausfüllhilfe!$A$1:$D$23,4,0)","v":{"$error":"#N/A"}}]
[{"$f":"INDEX(Tabelle2[[#All],[Budgetlinie]],MATCH(Tabelle1[[#This Row],[Maßnahme]],Ausfüllhilfe!$C$1:$C$22,0))","v":{"$error":"#N/A"}},null,null,null,null,null,null,null,null,{"$f":"VLOOKUP(Tabelle1[[#This Row],[Budgetlinie]],Ausfüllhilfe!$A$1:$D$23,4,0)","v":{"$error":"#N/A"}}]
[{"$f":"INDEX(Tabelle2[[#All],[Budgetlinie]],MATCH(Tabelle1[[#This Row],[Maßnahme]],Ausfüllhilfe!$C$1:$C$22,0))","v":{"$error":"#N/A"}},null,null,null,null,null,null,null,null,{"$f":"VLOOKUP(Tabelle1[[#This Row],[Budgetlinie]],Ausfüllhilfe!$A$1:$D$23,4,0)","v":{"$error":"#N/A"}}]
[{"$f":"INDEX(Tabelle2[[#All],[Budgetlinie]],MATCH(Tabelle1[[#This Row],[Maßnahme]],Ausfüllhilfe!$C$1:$C$22,0))","v":{"$error":"#N/A"}},null,null,null,null,null,null,null,null,{"$f":"VLOOKUP(Tabelle1[[#This Row],[Budgetlinie]],Ausfüllhilfe!$A$1:$D$23,4,0)","v":{"$error":"#N/A"}}]
[{"$f":"INDEX(Tabelle2[[#All],[Budgetlinie]],MATCH(Tabelle1[[#This Row],[Maßnahme]],Ausfüllhilfe!$C$1:$C$22,0))","v":{"$error":"#N/A"}},null,null,null,null,null,null,null,null,{"$f":"VLOOKUP(Tabelle1[[#This Row],[Budgetlinie]],Ausfüllhilfe!$A$1:$D$23,4,0)","v":{"$error":"#N/A"}}]
[{"$f":"INDEX(Tabelle2[[#All],[Budgetlinie]],MATCH(Tabelle1[[#This Row],[Maßnahme]],Ausfüllhilfe!$C$1:$C$22,0))","v":{"$error":"#N/A"}},null,null,null,null,null,null,null,null,{"$f":"VLOOKUP(Tabelle1[[#This Row],[Budgetlinie]],Ausfüllhilfe!$A$1:$D$23,4,0)","v":{"$error":"#N/A"}}]
[{"$f":"INDEX(Tabelle2[[#All],[Budgetlinie]],MATCH(Tabelle1[[#This Row],[Maßnahme]],Ausfüllhilfe!$C$1:$C$22,0))","v":{"$error":"#N/A"}},null,null,null,null,null,null,null,null,{"$f":"VLOOKUP(Tabelle1[[#This Row],[Budgetlinie]],Ausfüllhilfe!$A$1:$D$23,4,0)","v":{"$error":"#N/A"}}]
[{"$f":"INDEX(Tabelle2[[#All],[Budgetlinie]],MATCH(Tabelle1[[#This Row],[Maßnahme]],Ausfüllhilfe!$C$1:$C$22,0))","v":{"$error":"#N/A"}},null,null,null,null,null,null,null,null,{"$f":"VLOOKUP(Tabelle1[[#This Row],[Budgetlinie]],Ausfüllhilfe!$A$1:$D$23,4,0)","v":{"$error":"#N/A"}}]
[{"$f":"INDEX(Tabelle2[[#All],[Budgetlinie]],MATCH(Tabelle1[[#This Row],[Maßnahme]],Ausfüllhilfe!$C$1:$C$22,0))","v":{"$error":"#N/A"}},null,null,null,null,null,null,null,null,{"$f":"VLOOKUP(Tabelle1[[#This Row],[Budgetlinie]],Ausfüllhilfe!$A$1:$D$23,4,0)","v":{"$error":"#N/A"}}]
[{"$f":"INDEX(Tabelle2[[#All],[Budgetlinie]],MATCH(Tabelle1[[#This Row],[Maßnahme]],Ausfüllhilfe!$C$1:$C$22,0))","v":{"$error":"#N/A"}},null,null,null,null,null,null,null,null,{"$f":"VLOOKUP(Tabelle1[[#This Row],[Budgetlinie]],Ausfüllhilfe!$A$1:$D$23,4,0)","v":{"$error":"#N/A"}}]
[{"$f":"INDEX(Tabelle2[[#All],[Budgetlinie]],MATCH(Tabelle1[[#This Row],[Maßnahme]],Ausfüllhilfe!$C$1:$C$22,0))","v":{"$error":"#N/A"}},null,null,null,null,null,null,null,null,{"$f":"VLOOKUP(Tabelle1[[#This Row],[Budgetlinie]],Ausfüllhilfe!$A$1:$D$23,4,0)","v":{"$error":"#N/A"}}]
[{"$f":"INDEX(Tabelle2[[#All],[Budgetlinie]],MATCH(Tabelle1[[#This Row],[Maßnahme]],Ausfüllhilfe!$C$1:$C$22,0))","v":{"$error":"#N/A"}},null,null,null,null,null,null,null,null,{"$f":"VLOOKUP(Tabelle1[[#This Row],[Budgetlinie]],Ausfüllhilfe!$A$1:$D$23,4,0)","v":{"$error":"#N/A"}}]
[{"$f":"INDEX(Tabelle2[[#All],[Budgetlinie]],MATCH(Tabelle1[[#This Row],[Maßnahme]],Ausfüllhilfe!$C$1:$C$22,0))","v":{"$error":"#N/A"}},null,null,null,null,null,null,null,null,{"$f":"VLOOKUP(Tabelle1[[#This Row],[Budgetlinie]],Ausfüllhilfe!$A$1:$D$23,4,0)","v":{"$error":"#N/A"}}]
[{"$f":"INDEX(Tabelle2[[#All],[Budgetlinie]],MATCH(Tabelle1[[#This Row],[Maßnahme]],Ausfüllhilfe!$C$1:$C$22,0))","v":{"$error":"#N/A"}},null,null,null,null,null,null,null,null,{"$f":"VLOOKUP(Tabelle1[[#This Row],[Budgetlinie]],Ausfüllhilfe!$A$1:$D$23,4,0)","v":{"$error":"#N/A"}}]
[{"$f":"INDEX(Tabelle2[[#All],[Budgetlinie]],MATCH(Tabelle1[[#This Row],[Maßnahme]],Ausfüllhilfe!$C$1:$C$22,0))","v":{"$error":"#N/A"}},null,null,null,null,null,null,null,null,{"$f":"VLOOKUP(Tabelle1[[#This Row],[Budgetlinie]],Ausfüllhilfe!$A$1:$D$23,4,0)","v":{"$error":"#N/A"}}]
[{"$f":"INDEX(Tabelle2[[#All],[Budgetlinie]],MATCH(Tabelle1[[#This Row],[Maßnahme]],Ausfüllhilfe!$C$1:$C$22,0))","v":{"$error":"#N/A"}},null,null,null,null,null,null,null,null,{"$f":"VLOOKUP(Tabelle1[[#This Row],[Budgetlinie]],Ausfüllhilfe!$A$1:$D$23,4,0)","v":{"$error":"#N/A"}}]
[{"$f":"INDEX(Tabelle2[[#All],[Budgetlinie]],MATCH(Tabelle1[[#This Row],[Maßnahme]],Ausfüllhilfe!$C$1:$C$22,0))","v":{"$error":"#N/A"}},null,null,null,null,null,null,null,null,{"$f":"VLOOKUP(Tabelle1[[#This Row],[Budgetlinie]],Ausfüllhilfe!$A$1:$D$23,4,0)","v":{"$error":"#N/A"}}]
[{"$f":"INDEX(Tabelle2[[#All],[Budgetlinie]],MATCH(Tabelle1[[#This Row],[Maßnahme]],Ausfüllhilfe!$C$1:$C$22,0))","v":{"$error":"#N/A"}},null,null,null,null,null,null,null,null,{"$f":"VLOOKUP(Tabelle1[[#This Row],[Budgetlinie]],Ausfüllhilfe!$A$1:$D$23,4,0)","v":{"$error":"#N/A"}}]
[{"$f":"INDEX(Tabelle2[[#All],[Budgetlinie]],MATCH(Tabelle1[[#This Row],[Maßnahme]],Ausfüllhilfe!$C$1:$C$22,0))","v":{"$error":"#N/A"}},null,null,null,null,null,null,null,null,{"$f":"VLOOKUP(Tabelle1[[#This Row],[Budgetlinie]],Ausfüllhilfe!$A$1:$D$23,4,0)","v":{"$error":"#N/A"}}]
[{"$f":"INDEX(Tabelle2[[#All],[Budgetlinie]],MATCH(Tabelle1[[#This Row],[Maßnahme]],Ausfüllhilfe!$C$1:$C$22,0))","v":{"$error":"#N/A"}},null,null,null,null,null,null,null,null,{"$f":"VLOOKUP(Tabelle1[[#This Row],[Budgetlinie]],Ausfüllhilfe!$A$1:$D$23,4,0)","v":{"$error":"#N/A"}}]
[{"$f":"INDEX(Tabelle2[[#All],[Budgetlinie]],MATCH(Tabelle1[[#This Row],[Maßnahme]],Ausfüllhilfe!$C$1:$C$22,0))","v":{"$error":"#N/A"}},null,null,null,null,null,null,null,null,{"$f":"VLOOKUP(Tabelle1[[#This Row],[Budgetlinie]],Ausfüllhilfe!$A$1:$D$23,4,0)","v":{"$error":"#N/A"}}]
[{"$f":"INDEX(Tabelle2[[#All],[Budgetlinie]],MATCH(Tabelle1[[#This Row],[Maßnahme]],Ausfüllhilfe!$C$1:$C$22,0))","v":{"$error":"#N/A"}},null,null,null,null,null,null,null,null,{"$f":"VLOOKUP(Tabelle1[[#This Row],[Budgetlinie]],Ausfüllhilfe!$A$1:$D$23,4,0)","v":{"$error":"#N/A"}}]
[{"$f":"INDEX(Tabelle2[[#All],[Budgetlinie]],MATCH(Tabelle1[[#This Row],[Maßnahme]],Ausfüllhilfe!$C$1:$C$22,0))","v":{"$error":"#N/A"}},null,null,null,null,null,null,null,null,{"$f":"VLOOKUP(Tabelle1[[#This Row],[Budgetlinie]],Ausfüllhilfe!$A$1:$D$23,4,0)","v":{"$error":"#N/A"}}]
[{"$f":"INDEX(Tabelle2[[#All],[Budgetlinie]],MATCH(Tabelle1[[#This Row],[Maßnahme]],Ausfüllhilfe!$C$1:$C$22,0))","v":{"$error":"#N/A"}},null,null,null,null,null,null,null,null,{"$f":"VLOOKUP(Tabelle1[[#This Row],[Budgetlinie]],Ausfüllhilfe!$A$1:$D$23,4,0)","v":{"$error":"#N/A"}}]
[{"$f":"INDEX(Tabelle2[[#All],[Budgetlinie]],MATCH(Tabelle1[[#This Row],[Maßnahme]],Ausfüllhilfe!$C$1:$C$22,0))","v":{"$error":"#N/A"}},null,null,null,null,null,null,null,null,{"$f":"VLOOKUP(Tabelle1[[#This Row],[Budgetlinie]],Ausfüllhilfe!$A$1:$D$23,4,0)","v":{"$error":"#N/A"}}]
[{"$f":"INDEX(Tabelle2[[#All],[Budgetlinie]],MATCH(Tabelle1[[#This Row],[Maßnahme]],Ausfüllhilfe!$C$1:$C$22,0))","v":{"$error":"#N/A"}},null,null,null,null,null,null,null,null,{"$f":"VLOOKUP(Tabelle1[[#This Row],[Budgetlinie]],Ausfüllhilfe!$A$1:$D$23,4,0)","v":{"$error":"#N/A"}}]
[{"$f":"INDEX(Tabelle2[[#All],[Budgetlinie]],MATCH(Tabelle1[[#This Row],[Maßnahme]],Ausfüllhilfe!$C$1:$C$22,0))","v":{"$error":"#N/A"}},null,null,null,null,null,null,null,null,{"$f":"VLOOKUP(Tabelle1[[#This Row],[Budgetlinie]],Ausfüllhilfe!$A$1:$D$23,4,0)","v":{"$error":"#N/A"}}]
[{"$f":"INDEX(Tabelle2[[#All],[Budgetlinie]],MATCH(Tabelle1[[#This Row],[Maßnahme]],Ausfüllhilfe!$C$1:$C$22,0))","v":{"$error":"#N/A"}},null,null,null,null,null,null,null,null,{"$f":"VLOOKUP(Tabelle1[[#This Row],[Budgetlinie]],Ausfüllhilfe!$A$1:$D$23,4,0)","v":{"$error":"#N/A"}}]
[{"$f":"INDEX(Tabelle2[[#All],[Budgetlinie]],MATCH(Tabelle1[[#This Row],[Maßnahme]],Ausfüllhilfe!$C$1:$C$22,0))","v":{"$error":"#N/A"}},null,null,null,null,null,null,null,null,{"$f":"VLOOKUP(Tabelle1[[#This Row],[Budgetlinie]],Ausfüllhilfe!$A$1:$D$23,4,0)","v":{"$error":"#N/A"}}]
[{"$f":"INDEX(Tabelle2[[#All],[Budgetlinie]],MATCH(Tabelle1[[#This Row],[Maßnahme]],Ausfüllhilfe!$C$1:$C$22,0))","v":{"$error":"#N/A"}},null,null,null,null,null,null,null,null,{"$f":"VLOOKUP(Tabelle1[[#This Row],[Budgetlinie]],Ausfüllhilfe!$A$1:$D$23,4,0)","v":{"$error":"#N/A"}}]
[{"$f":"INDEX(Tabelle2[[#All],[Budgetlinie]],MATCH(Tabelle1[[#This Row],[Maßnahme]],Ausfüllhilfe!$C$1:$C$22,0))","v":{"$error":"#N/A"}},null,null,null,null,null,null,null,null,{"$f":"VLOOKUP(Tabelle1[[#This Row],[Budgetlinie]],Ausfüllhilfe!$A$1:$D$23,4,0)","v":{"$error":"#N/A"}}]
[{"$f":"INDEX(Tabelle2[[#All],[Budgetlinie]],MATCH(Tabelle1[[#This Row],[Maßnahme]],Ausfüllhilfe!$C$1:$C$22,0))","v":{"$error":"#N/A"}},null,null,null,null,null,null,null,null,{"$f":"VLOOKUP(Tabelle1[[#This Row],[Budgetlinie]],Ausfüllhilfe!$A$1:$D$23,4,0)","v":{"$error":"#N/A"}}]
[{"$f":"INDEX(Tabelle2[[#All],[Budgetlinie]],MATCH(Tabelle1[[#This Row],[Maßnahme]],Ausfüllhilfe!$C$1:$C$22,0))","v":{"$error":"#N/A"}},null,null,null,null,null,null,null,null,{"$f":"VLOOKUP(Tabelle1[[#This Row],[Budgetlinie]],Ausfüllhilfe!$A$1:$D$23,4,0)","v":{"$error":"#N/A"}}]
[{"$f":"INDEX(Tabelle2[[#All],[Budgetlinie]],MATCH(Tabelle1[[#This Row],[Maßnahme]],Ausfüllhilfe!$C$1:$C$22,0))","v":{"$error":"#N/A"}},null,null,null,null,null,null,null,null,{"$f":"VLOOKUP(Tabelle1[[#This Row],[Budgetlinie]],Ausfüllhilfe!$A$1:$D$23,4,0)","v":{"$error":"#N/A"}}]
[{"$f":"INDEX(Tabelle2[[#All],[Budgetlinie]],MATCH(Tabelle1[[#This Row],[Maßnahme]],Ausfüllhilfe!$C$1:$C$22,0))","v":{"$error":"#N/A"}},null,null,null,null,null,null,null,null,{"$f":"VLOOKUP(Tabelle1[[#This Row],[Budgetlinie]],Ausfüllhilfe!$A$1:$D$23,4,0)","v":{"$error":"#N/A"}}]
[{"$f":"INDEX(Tabelle2[[#All],[Budgetlinie]],MATCH(Tabelle1[[#This Row],[Maßnahme]],Ausfüllhilfe!$C$1:$C$22,0))","v":{"$error":"#N/A"}},null,null,null,null,null,null,null,null,{"$f":"VLOOKUP(Tabelle1[[#This Row],[Budgetlinie]],Ausfüllhilfe!$A$1:$D$23,4,0)","v":{"$error":"#N/A"}}]
[{"$f":"INDEX(Tabelle2[[#All],[Budgetlinie]],MATCH(Tabelle1[[#This Row],[Maßnahme]],Ausfüllhilfe!$C$1:$C$22,0))","v":{"$error":"#N/A"}},null,null,null,null,null,null,null,null,{"$f":"VLOOKUP(Tabelle1[[#This Row],[Budgetlinie]],Ausfüllhilfe!$A$1:$D$23,4,0)","v":{"$error":"#N/A"}}]
[{"$f":"INDEX(Tabelle2[[#All],[Budgetlinie]],MATCH(Tabelle1[[#This Row],[Maßnahme]],Ausfüllhilfe!$C$1:$C$22,0))","v":{"$error":"#N/A"}},null,null,null,null,null,null,null,null,{"$f":"VLOOKUP(Tabelle1[[#This Row],[Budgetlinie]],Ausfüllhilfe!$A$1:$D$23,4,0)","v":{"$error":"#N/A"}}]
[{"$f":"INDEX(Tabelle2[[#All],[Budgetlinie]],MATCH(Tabelle1[[#This Row],[Maßnahme]],Ausfüllhilfe!$C$1:$C$22,0))","v":{"$error":"#N/A"}},null,null,null,null,null,null,null,null,{"$f":"VLOOKUP(Tabelle1[[#This Row],[Budgetlinie]],Ausfüllhilfe!$A$1:$D$23,4,0)","v":{"$error":"#N/A"}}]
[{"$f":"INDEX(Tabelle2[[#All],[Budgetlinie]],MATCH(Tabelle1[[#This Row],[Maßnahme]],Ausfüllhilfe!$C$1:$C$22,0))","v":{"$error":"#N/A"}},null,null,null,null,null,null,null,null,{"$f":"VLOOKUP(Tabelle1[[#This Row],[Budgetlinie]],Ausfüllhilfe!$A$1:$D$23,4,0)","v":{"$error":"#N/A"}}]
[{"$f":"INDEX(Tabelle2[[#All],[Budgetlinie]],MATCH(Tabelle1[[#This Row],[Maßnahme]],Ausfüllhilfe!$C$1:$C$22,0))","v":{"$error":"#N/A"}},null,null,null,null,null,null,null,null,{"$f":"VLOOKUP(Tabelle1[[#This Row],[Budgetlinie]],Ausfüllhilfe!$A$1:$D$23,4,0)","v":{"$error":"#N/A"}}]
[{"$f":"INDEX(Tabelle2[[#All],[Budgetlinie]],MATCH(Tabelle1[[#This Row],[Maßnahme]],Ausfüllhilfe!$C$1:$C$22,0))","v":{"$error":"#N/A"}},null,null,null,null,null,null,null,null,{"$f":"VLOOKUP(Tabelle1[[#This Row],[Budgetlinie]],Ausfüllhilfe!$A$1:$D$23,4,0)","v":{"$error":"#N/A"}}]
[{"$f":"INDEX(Tabelle2[[#All],[Budgetlinie]],MATCH(Tabelle1[[#This Row],[Maßnahme]],Ausfüllhilfe!$C$1:$C$22,0))","v":{"$error":"#N/A"}},null,null,null,null,null,null,null,null,{"$f":"VLOOKUP(Tabelle1[[#This Row],[Budgetlinie]],Ausfüllhilfe!$A$1:$D$23,4,0)","v":{"$error":"#N/A"}}]
[{"$f":"INDEX(Tabelle2[[#All],[Budgetlinie]],MATCH(Tabelle1[[#This Row],[Maßnahme]],Ausfüllhilfe!$C$1:$C$22,0))","v":{"$error":"#N/A"}},null,null,null,null,null,null,null,null,{"$f":"VLOOKUP(Tabelle1[[#This Row],[Budgetlinie]],Ausfüllhilfe!$A$1:$D$23,4,0)","v":{"$error":"#N/A"}}]
[{"$f":"INDEX(Tabelle2[[#All],[Budgetlinie]],MATCH(Tabelle1[[#This Row],[Maßnahme]],Ausfüllhilfe!$C$1:$C$22,0))","v":{"$error":"#N/A"}},null,null,null,null,null,null,null,null,{"$f":"VLOOKUP(Tabelle1[[#This Row],[Budgetlinie]],Ausfüllhilfe!$A$1:$D$23,4,0)","v":{"$error":"#N/A"}}]
[{"$f":"INDEX(Tabelle2[[#All],[Budgetlinie]],MATCH(Tabelle1[[#This Row],[Maßnahme]],Ausfüllhilfe!$C$1:$C$22,0))","v":{"$error":"#N/A"}},null,null,null,null,null,null,null,null,{"$f":"VLOOKUP(Tabelle1[[#This Row],[Budgetlinie]],Ausfüllhilfe!$A$1:$D$23,4,0)","v":{"$error":"#N/A"}}]
[{"$f":"INDEX(Tabelle2[[#All],[Budgetlinie]],MATCH(Tabelle1[[#This Row],[Maßnahme]],Ausfüllhilfe!$C$1:$C$22,0))","v":{"$error":"#N/A"}},null,null,null,null,null,null,null,null,{"$f":"VLOOKUP(Tabelle1[[#This Row],[Budgetlinie]],Ausfüllhilfe!$A$1:$D$23,4,0)","v":{"$error":"#N/A"}}]
[{"$f":"INDEX(Tabelle2[[#All],[Budgetlinie]],MATCH(Tabelle1[[#This Row],[Maßnahme]],Ausfüllhilfe!$C$1:$C$22,0))","v":{"$error":"#N/A"}},null,null,null,null,null,null,null,null,{"$f":"VLOOKUP(Tabelle1[[#This Row],[Budgetlinie]],Ausfüllhilfe!$A$1:$D$23,4,0)","v":{"$error":"#N/A"}}]
[{"$f":"INDEX(Tabelle2[[#All],[Budgetlinie]],MATCH(Tabelle1[[#This Row],[Maßnahme]],Ausfüllhilfe!$C$1:$C$22,0))","v":{"$error":"#N/A"}},null,null,null,null,null,null,null,null,{"$f":"VLOOKUP(Tabelle1[[#This Row],[Budgetlinie]],Ausfüllhilfe!$A$1:$D$23,4,0)","v":{"$error":"#N/A"}}]
[{"$f":"INDEX(Tabelle2[[#All],[Budgetlinie]],MATCH(Tabelle1[[#This Row],[Maßnahme]],Ausfüllhilfe!$C$1:$C$22,0))","v":{"$error":"#N/A"}},null,null,null,null,null,null,null,null,{"$f":"VLOOKUP(Tabelle1[[#This Row],[Budgetlinie]],Ausfüllhilfe!$A$1:$D$23,4,0)","v":{"$error":"#N/A"}}]
[{"$f":"INDEX(Tabelle2[[#All],[Budgetlinie]],MATCH(Tabelle1[[#This Row],[Maßnahme]],Ausfüllhilfe!$C$1:$C$22,0))","v":{"$error":"#N/A"}},null,null,null,null,null,null,null,null,{"$f":"VLOOKUP(Tabelle1[[#This Row],[Budgetlinie]],Ausfüllhilfe!$A$1:$D$23,4,0)","v":{"$error":"#N/A"}}]
[{"$f":"INDEX(Tabelle2[[#All],[Budgetlinie]],MATCH(Tabelle1[[#This Row],[Maßnahme]],Ausfüllhilfe!$C$1:$C$22,0))","v":{"$error":"#N/A"}},null,null,null,null,null,null,null,null,{"$f":"VLOOKUP(Tabelle1[[#This Row],[Budgetlinie]],Ausfüllhilfe!$A$1:$D$23,4,0)","v":{"$error":"#N/A"}}]
[{"$f":"INDEX(Tabelle2[[#All],[Budgetlinie]],MATCH(Tabelle1[[#This Row],[Maßnahme]],Ausfüllhilfe!$C$1:$C$22,0))","v":{"$error":"#N/A"}},null,null,null,null,null,null,null,null,{"$f":"VLOOKUP(Tabelle1[[#This Row],[Budgetlinie]],Ausfüllhilfe!$A$1:$D$23,4,0)","v":{"$error":"#N/A"}}]
[{"$f":"INDEX(Tabelle2[[#All],[Budgetlinie]],MATCH(Tabelle1[[#This Row],[Maßnahme]],Ausfüllhilfe!$C$1:$C$22,0))","v":{"$error":"#N/A"}},null,null,null,null,null,null,null,null,{"$f":"VLOOKUP(Tabelle1[[#This Row],[Budgetlinie]],Ausfüllhilfe!$A$1:$D$23,4,0)","v":{"$error":"#N/A"}}]
[{"$f":"INDEX(Tabelle2[[#All],[Budgetlinie]],MATCH(Tabelle1[[#This Row],[Maßnahme]],Ausfüllhilfe!$C$1:$C$22,0))","v":{"$error":"#N/A"}},null,null,null,null,null,null,null,null,{"$f":"VLOOKUP(Tabelle1[[#This Row],[Budgetlinie]],Ausfüllhilfe!$A$1:$D$23,4,0)","v":{"$error":"#N/A"}}]
[{"$f":"INDEX(Tabelle2[[#All],[Budgetlinie]],MATCH(Tabelle1[[#This Row],[Maßnahme]],Ausfüllhilfe!$C$1:$C$22,0))","v":{"$error":"#N/A"}},null,null,null,null,null,null,null,null,{"$f":"VLOOKUP(Tabelle1[[#This Row],[Budgetlinie]],Ausfüllhilfe!$A$1:$D$23,4,0)","v":{"$error":"#N/A"}}]
[{"$f":"INDEX(Tabelle2[[#All],[Budgetlinie]],MATCH(Tabelle1[[#This Row],[Maßnahme]],Ausfüllhilfe!$C$1:$C$22,0))","v":{"$error":"#N/A"}},null,null,null,null,null,null,null,null,{"$f":"VLOOKUP(Tabelle1[[#This Row],[Budgetlinie]],Ausfüllhilfe!$A$1:$D$23,4,0)","v":{"$error":"#N/A"}}]
[{"$f":"INDEX(Tabelle2[[#All],[Budgetlinie]],MATCH(Tabelle1[[#This Row],[Maßnahme]],Ausfüllhilfe!$C$1:$C$22,0))","v":{"$error":"#N/A"}},null,null,null,null,null,null,null,null,{"$f":"VLOOKUP(Tabelle1[[#This Row],[Budgetlinie]],Ausfüllhilfe!$A$1:$D$23,4,0)","v":{"$error":"#N/A"}}]
[{"$f":"INDEX(Tabelle2[[#All],[Budgetlinie]],MATCH(Tabelle1[[#This Row],[Maßnahme]],Ausfüllhilfe!$C$1:$C$22,0))","v":{"$error":"#N/A"}},null,null,null,null,null,null,null,null,{"$f":"VLOOKUP(Tabelle1[[#This Row],[Budgetlinie]],Ausfüllhilfe!$A$1:$D$23,4,0)","v":{"$error":"#N/A"}}]
[{"$f":"INDEX(Tabelle2[[#All],[Budgetlinie]],MATCH(Tabelle1[[#This Row],[Maßnahme]],Ausfüllhilfe!$C$1:$C$22,0))","v":{"$error":"#N/A"}},null,null,null,null,null,null,null,null,{"$f":"VLOOKUP(Tabelle1[[#This Row],[Budgetlinie]],Ausfüllhilfe!$A$1:$D$23,4,0)","v":{"$error":"#N/A"}}]
[{"$f":"INDEX(Tabelle2[[#All],[Budgetlinie]],MATCH(Tabelle1[[#This Row],[Maßnahme]],Ausfüllhilfe!$C$1:$C$22,0))","v":{"$error":"#N/A"}},null,null,null,null,null,null,null,null,{"$f":"VLOOKUP(Tabelle1[[#This Row],[Budgetlinie]],Ausfüllhilfe!$A$1:$D$23,4,0)","v":{"$error":"#N/A"}}]
[{"$f":"INDEX(Tabelle2[[#All],[Budgetlinie]],MATCH(Tabelle1[[#This Row],[Maßnahme]],Ausfüllhilfe!$C$1:$C$22,0))","v":{"$error":"#N/A"}},null,null,null,null,null,null,null,null,{"$f":"VLOOKUP(Tabelle1[[#This Row],[Budgetlinie]],Ausfüllhilfe!$A$1:$D$23,4,0)","v":{"$error":"#N/A"}}]
[{"$f":"INDEX(Tabelle2[[#All],[Budgetlinie]],MATCH(Tabelle1[[#This Row],[Maßnahme]],Ausfüllhilfe!$C$1:$C$22,0))","v":{"$error":"#N/A"}},null,null,null,null,null,null,null,null,{"$f":"VLOOKUP(Tabelle1[[#This Row],[Budgetlinie]],Ausfüllhilfe!$A$1:$D$23,4,0)","v":{"$error":"#N/A"}}]
[{"$f":"INDEX(Tabelle2[[#All],[Budgetlinie]],MATCH(Tabelle1[[#This Row],[Maßnahme]],Ausfüllhilfe!$C$1:$C$22,0))","v":{"$error":"#N/A"}},null,null,null,null,null,null,null,null,{"$f":"VLOOKUP(Tabelle1[[#This Row],[Budgetlinie]],Ausfüllhilfe!$A$1:$D$23,4,0)","v":{"$error":"#N/A"}}]
[{"$f":"INDEX(Tabelle2[[#All],[Budgetlinie]],MATCH(Tabelle1[[#This Row],[Maßnahme]],Ausfüllhilfe!$C$1:$C$22,0))","v":{"$error":"#N/A"}},null,null,null,null,null,null,null,null,{"$f":"VLOOKUP(Tabelle1[[#This Row],[Budgetlinie]],Ausfüllhilfe!$A$1:$D$23,4,0)","v":{"$error":"#N/A"}}]
[{"$f":"INDEX(Tabelle2[[#All],[Budgetlinie]],MATCH(Tabelle1[[#This Row],[Maßnahme]],Ausfüllhilfe!$C$1:$C$22,0))","v":{"$error":"#N/A"}},null,null,null,null,null,null,null,null,{"$f":"VLOOKUP(Tabelle1[[#This Row],[Budgetlinie]],Ausfüllhilfe!$A$1:$D$23,4,0)","v":{"$error":"#N/A"}}]
[{"$f":"INDEX(Tabelle2[[#All],[Budgetlinie]],MATCH(Tabelle1[[#This Row],[Maßnahme]],Ausfüllhilfe!$C$1:$C$22,0))","v":{"$error":"#N/A"}},null,null,null,null,null,null,null,null,{"$f":"VLOOKUP(Tabelle1[[#This Row],[Budgetlinie]],Ausfüllhilfe!$A$1:$D$23,4,0)","v":{"$error":"#N/A"}}]
[{"$f":"INDEX(Tabelle2[[#All],[Budgetlinie]],MATCH(Tabelle1[[#This Row],[Maßnahme]],Ausfüllhilfe!$C$1:$C$22,0))","v":{"$error":"#N/A"}},null,null,null,null,null,null,null,null,{"$f":"VLOOKUP(Tabelle1[[#This Row],[Budgetlinie]],Ausfüllhilfe!$A$1:$D$23,4,0)","v":{"$error":"#N/A"}}]
[{"$f":"INDEX(Tabelle2[[#All],[Budgetlinie]],MATCH(Tabelle1[[#This Row],[Maßnahme]],Ausfüllhilfe!$C$1:$C$22,0))","v":{"$error":"#N/A"}},null,null,null,null,null,null,null,null,{"$f":"VLOOKUP(Tabelle1[[#This Row],[Budgetlinie]],Ausfüllhilfe!$A$1:$D$23,4,0)","v":{"$error":"#N/A"}}]
[{"$f":"INDEX(Tabelle2[[#All],[Budgetlinie]],MATCH(Tabelle1[[#This Row],[Maßnahme]],Ausfüllhilfe!$C$1:$C$22,0))","v":{"$error":"#N/A"}},null,null,null,null,null,null,null,null,{"$f":"VLOOKUP(Tabelle1[[#This Row],[Budgetlinie]],Ausfüllhilfe!$A$1:$D$23,4,0)","v":{"$error":"#N/A"}}]
[{"$f":"INDEX(Tabelle2[[#All],[Budgetlinie]],MATCH(Tabelle1[[#This Row],[Maßnahme]],Ausfüllhilfe!$C$1:$C$22,0))","v":{"$error":"#N/A"}},null,null,null,null,null,null,null,null,{"$f":"VLOOKUP(Tabelle1[[#This Row],[Budgetlinie]],Ausfüllhilfe!$A$1:$D$23,4,0)","v":{"$error":"#N/A"}}]
[{"$f":"INDEX(Tabelle2[[#All],[Budgetlinie]],MATCH(Tabelle1[[#This Row],[Maßnahme]],Ausfüllhilfe!$C$1:$C$22,0))","v":{"$error":"#N/A"}},null,null,null,null,null,null,null,null,{"$f":"VLOOKUP(Tabelle1[[#This Row],[Budgetlinie]],Ausfüllhilfe!$A$1:$D$23,4,0)","v":{"$error":"#N/A"}}]
[{"$f":"INDEX(Tabelle2[[#All],[Budgetlinie]],MATCH(Tabelle1[[#This Row],[Maßnahme]],Ausfüllhilfe!$C$1:$C$22,0))","v":{"$error":"#N/A"}},null,null,null,null,null,null,null,null,{"$f":"VLOOKUP(Tabelle1[[#This Row],[Budgetlinie]],Ausfüllhilfe!$A$1:$D$23,4,0)","v":{"$error":"#N/A"}}]
[{"$f":"INDEX(Tabelle2[[#All],[Budgetlinie]],MATCH(Tabelle1[[#This Row],[Maßnahme]],Ausfüllhilfe!$C$1:$C$22,0))","v":{"$error":"#N/A"}},null,null,null,null,null,null,null,null,{"$f":"VLOOKUP(Tabelle1[[#This Row],[Budgetlinie]],Ausfüllhilfe!$A$1:$D$23,4,0)","v":{"$error":"#N/A"}}]
[{"$f":"INDEX(Tabelle2[[#All],[Budgetlinie]],MATCH(Tabelle1[[#This Row],[Maßnahme]],Ausfüllhilfe!$C$1:$C$22,0))","v":{"$error":"#N/A"}},null,null,null,null,null,null,null,null,{"$f":"VLOOKUP(Tabelle1[[#This Row],[Budgetlinie]],Ausfüllhilfe!$A$1:$D$23,4,0)","v":{"$error":"#N/A"}}]
[{"$f":"INDEX(Tabelle2[[#All],[Budgetlinie]],MATCH(Tabelle1[[#This Row],[Maßnahme]],Ausfüllhilfe!$C$1:$C$22,0))","v":{"$error":"#N/A"}},null,null,null,null,null,null,null,null,{"$f":"VLOOKUP(Tabelle1[[#This Row],[Budgetlinie]],Ausfüllhilfe!$A$1:$D$23,4,0)","v":{"$error":"#N/A"}}]
[{"$f":"INDEX(Tabelle2[[#All],[Budgetlinie]],MATCH(Tabelle1[[#This Row],[Maßnahme]],Ausfüllhilfe!$C$1:$C$22,0))","v":{"$error":"#N/A"}},null,null,null,null,null,null,null,null,{"$f":"VLOOKUP(Tabelle1[[#This Row],[Budgetlinie]],Ausfüllhilfe!$A$1:$D$23,4,0)","v":{"$error":"#N/A"}}]
[{"$f":"INDEX(Tabelle2[[#All],[Budgetlinie]],MATCH(Tabelle1[[#This Row],[Maßnahme]],Ausfüllhilfe!$C$1:$C$22,0))","v":{"$error":"#N/A"}},null,null,null,null,null,null,null,null,{"$f":"VLOOKUP(Tabelle1[[#This Row],[Budgetlinie]],Ausfüllhilfe!$A$1:$D$23,4,0)","v":{"$error":"#N/A"}}]
[{"$f":"INDEX(Tabelle2[[#All],[Budgetlinie]],MATCH(Tabelle1[[#This Row],[Maßnahme]],Ausfüllhilfe!$C$1:$C$22,0))","v":{"$error":"#N/A"}},null,null,null,null,null,null,null,null,{"$f":"VLOOKUP(Tabelle1[[#This Row],[Budgetlinie]],Ausfüllhilfe!$A$1:$D$23,4,0)","v":{"$error":"#N/A"}}]
[{"$f":"INDEX(Tabelle2[[#All],[Budgetlinie]],MATCH(Tabelle1[[#This Row],[Maßnahme]],Ausfüllhilfe!$C$1:$C$22,0))","v":{"$error":"#N/A"}},null,null,null,null,null,null,null,null,{"$f":"VLOOKUP(Tabelle1[[#This Row],[Budgetlinie]],Ausfüllhilfe!$A$1:$D$23,4,0)","v":{"$error":"#N/A"}}]
[{"$f":"INDEX(Tabelle2[[#All],[Budgetlinie]],MATCH(Tabelle1[[#This Row],[Maßnahme]],Ausfüllhilfe!$C$1:$C$22,0))","v":{"$error":"#N/A"}},null,null,null,null,null,null,null,null,{"$f":"VLOOKUP(Tabelle1[[#This Row],[Budgetlinie]],Ausfüllhilfe!$A$1:$D$23,4,0)","v":{"$error":"#N/A"}}]
[{"$f":"INDEX(Tabelle2[[#All],[Budgetlinie]],MATCH(Tabelle1[[#This Row],[Maßnahme]],Ausfüllhilfe!$C$1:$C$22,0))","v":{"$error":"#N/A"}},null,null,null,null,null,null,null,null,{"$f":"VLOOKUP(Tabelle1[[#This Row],[Budgetlinie]],Ausfüllhilfe!$A$1:$D$23,4,0)","v":{"$error":"#N/A"}}]
[{"$f":"INDEX(Tabelle2[[#All],[Budgetlinie]],MATCH(Tabelle1[[#This Row],[Maßnahme]],Ausfüllhilfe!$C$1:$C$22,0))","v":{"$error":"#N/A"}},null,null,null,null,null,null,null,null,{"$f":"VLOOKUP(Tabelle1[[#This Row],[Budgetlinie]],Ausfüllhilfe!$A$1:$D$23,4,0)","v":{"$error":"#N/A"}}]
[{"$f":"INDEX(Tabelle2[[#All],[Budgetlinie]],MATCH(Tabelle1[[#This Row],[Maßnahme]],Ausfüllhilfe!$C$1:$C$22,0))","v":{"$error":"#N/A"}},null,null,null,null,null,null,null,null,{"$f":"VLOOKUP(Tabelle1[[#This Row],[Budgetlinie]],Ausfüllhilfe!$A$1:$D$23,4,0)","v":{"$error":"#N/A"}}]
[{"$f":"INDEX(Tabelle2[[#All],[Budgetlinie]],MATCH(Tabelle1[[#This Row],[Maßnahme]],Ausfüllhilfe!$C$1:$C$22,0))","v":{"$error":"#N/A"}},null,null,null,null,null,null,null,null,{"$f":"VLOOKUP(Tabelle1[[#This Row],[Budgetlinie]],Ausfüllhilfe!$A$1:$D$23,4,0)","v":{"$error":"#N/A"}}]
[{"$f":"INDEX(Tabelle2[[#All],[Budgetlinie]],MATCH(Tabelle1[[#This Row],[Maßnahme]],Ausfüllhilfe!$C$1:$C$22,0))","v":{"$error":"#N/A"}},null,null,null,null,null,null,null,null,{"$f":"VLOOKUP(Tabelle1[[#This Row],[Budgetlinie]],Ausfüllhilfe!$A$1:$D$23,4,0)","v":{"$error":"#N/A"}}]
[{"$f":"INDEX(Tabelle2[[#All],[Budgetlinie]],MATCH(Tabelle1[[#This Row],[Maßnahme]],Ausfüllhilfe!$C$1:$C$22,0))","v":{"$error":"#N/A"}},null,null,null,null,null,null,null,null,{"$f":"VLOOKUP(Tabelle1[[#This Row],[Budgetlinie]],Ausfüllhilfe!$A$1:$D$23,4,0)","v":{"$error":"#N/A"}}]
[{"$f":"INDEX(Tabelle2[[#All],[Budgetlinie]],MATCH(Tabelle1[[#This Row],[Maßnahme]],Ausfüllhilfe!$C$1:$C$22,0))","v":{"$error":"#N/A"}},null,null,null,null,null,null,null,null,{"$f":"VLOOKUP(Tabelle1[[#This Row],[Budgetlinie]],Ausfüllhilfe!$A$1:$D$23,4,0)","v":{"$error":"#N/A"}}]
[{"$f":"INDEX(Tabelle2[[#All],[Budgetlinie]],MATCH(Tabelle1[[#This Row],[Maßnahme]],Ausfüllhilfe!$C$1:$C$22,0))","v":{"$error":"#N/A"}},null,null,null,null,null,null,null,null,{"$f":"VLOOKUP(Tabelle1[[#This Row],[Budgetlinie]],Ausfüllhilfe!$A$1:$D$23,4,0)","v":{"$error":"#N/A"}}]
[{"$f":"INDEX(Tabelle2[[#All],[Budgetlinie]],MATCH(Tabelle1[[#This Row],[Maßnahme]],Ausfüllhilfe!$C$1:$C$22,0))","v":{"$error":"#N/A"}},null,null,null,null,null,null,null,null,{"$f":"VLOOKUP(Tabelle1[[#This Row],[Budgetlinie]],Ausfüllhilfe!$A$1:$D$23,4,0)","v":{"$error":"#N/A"}}]
[{"$f":"INDEX(Tabelle2[[#All],[Budgetlinie]],MATCH(Tabelle1[[#This Row],[Maßnahme]],Ausfüllhilfe!$C$1:$C$22,0))","v":{"$error":"#N/A"}},null,null,null,null,null,null,null,null,{"$f":"VLOOKUP(Tabelle1[[#This Row],[Budgetlinie]],Ausfüllhilfe!$A$1:$D$23,4,0)","v":{"$error":"#N/A"}}]
[{"$f":"INDEX(Tabelle2[[#All],[Budgetlinie]],MATCH(Tabelle1[[#This Row],[Maßnahme]],Ausfüllhilfe!$C$1:$C$22,0))","v":{"$error":"#N/A"}},null,null,null,null,null,null,null,null,{"$f":"VLOOKUP(Tabelle1[[#This Row],[Budgetlinie]],Ausfüllhilfe!$A$1:$D$23,4,0)","v":{"$error":"#N/A"}}]
[{"$f":"INDEX(Tabelle2[[#All],[Budgetlinie]],MATCH(Tabelle1[[#This Row],[Maßnahme]],Ausfüllhilfe!$C$1:$C$22,0))","v":{"$error":"#N/A"}},null,null,null,null,null,null,null,null,{"$f":"VLOOKUP(Tabelle1[[#This Row],[Budgetlinie]],Ausfüllhilfe!$A$1:$D$23,4,0)","v":{"$error":"#N/A"}}]
[{"$f":"INDEX(Tabelle2[[#All],[Budgetlinie]],MATCH(Tabelle1[[#This Row],[Maßnahme]],Ausfüllhilfe!$C$1:$C$22,0))","v":{"$error":"#N/A"}},null,null,null,null,null,null,null,null,{"$f":"VLOOKUP(Tabelle1[[#This Row],[Budgetlinie]],Ausfüllhilfe!$A$1:$D$23,4,0)","v":{"$error":"#N/A"}}]
[{"$f":"INDEX(Tabelle2[[#All],[Budgetlinie]],MATCH(Tabelle1[[#This Row],[Maßnahme]],Ausfüllhilfe!$C$1:$C$22,0))","v":{"$error":"#N/A"}},null,null,null,null,null,null,null,null,{"$f":"VLOOKUP(Tabelle1[[#This Row],[Budgetlinie]],Ausfüllhilfe!$A$1:$D$23,4,0)","v":{"$error":"#N/A"}}]
[{"$f":"INDEX(Tabelle2[[#All],[Budgetlinie]],MATCH(Tabelle1[[#This Row],[Maßnahme]],Ausfüllhilfe!$C$1:$C$22,0))","v":{"$error":"#N/A"}},null,null,null,null,null,null,null,null,{"$f":"VLOOKUP(Tabelle1[[#This Row],[Budgetlinie]],Ausfüllhilfe!$A$1:$D$23,4,0)","v":{"$error":"#N/A"}}]
[{"$f":"INDEX(Tabelle2[[#All],[Budgetlinie]],MATCH(Tabelle1[[#This Row],[Maßnahme]],Ausfüllhilfe!$C$1:$C$22,0))","v":{"$error":"#N/A"}},null,null,null,null,null,null,null,null,{"$f":"VLOOKUP(Tabelle1[[#This Row],[Budgetlinie]],Ausfüllhilfe!$A$1:$D$23,4,0)","v":{"$error":"#N/A"}}]
[{"$f":"INDEX(Tabelle2[[#All],[Budgetlinie]],MATCH(Tabelle1[[#This Row],[Maßnahme]],Ausfüllhilfe!$C$1:$C$22,0))","v":{"$error":"#N/A"}},null,null,null,null,null,null,null,null,{"$f":"VLOOKUP(Tabelle1[[#This Row],[Budgetlinie]],Ausfüllhilfe!$A$1:$D$23,4,0)","v":{"$error":"#N/A"}}]
[{"$f":"INDEX(Tabelle2[[#All],[Budgetlinie]],MATCH(Tabelle1[[#This Row],[Maßnahme]],Ausfüllhilfe!$C$1:$C$22,0))","v":{"$error":"#N/A"}},null,null,null,null,null,null,null,null,{"$f":"VLOOKUP(Tabelle1[[#This Row],[Budgetlinie]],Ausfüllhilfe!$A$1:$D$23,4,0)","v":{"$error":"#N/A"}}]
[{"$f":"INDEX(Tabelle2[[#All],[Budgetlinie]],MATCH(Tabelle1[[#This Row],[Maßnahme]],Ausfüllhilfe!$C$1:$C$22,0))","v":{"$error":"#N/A"}},null,null,null,null,null,null,null,null,{"$f":"VLOOKUP(Tabelle1[[#This Row],[Budgetlinie]],Ausfüllhilfe!$A$1:$D$23,4,0)","v":{"$error":"#N/A"}}]
[{"$f":"INDEX(Tabelle2[[#All],[Budgetlinie]],MATCH(Tabelle1[[#This Row],[Maßnahme]],Ausfüllhilfe!$C$1:$C$22,0))","v":{"$error":"#N/A"}},null,null,null,null,null,null,null,null,{"$f":"VLOOKUP(Tabelle1[[#This Row],[Budgetlinie]],Ausfüllhilfe!$A$1:$D$23,4,0)","v":{"$error":"#N/A"}}]
[{"$f":"INDEX(Tabelle2[[#All],[Budgetlinie]],MATCH(Tabelle1[[#This Row],[Maßnahme]],Ausfüllhilfe!$C$1:$C$22,0))","v":{"$error":"#N/A"}},null,null,null,null,null,null,null,null,{"$f":"VLOOKUP(Tabelle1[[#This Row],[Budgetlinie]],Ausfüllhilfe!$A$1:$D$23,4,0)","v":{"$error":"#N/A"}}]
[{"$f":"INDEX(Tabelle2[[#All],[Budgetlinie]],MATCH(Tabelle1[[#This Row],[Maßnahme]],Ausfüllhilfe!$C$1:$C$22,0))","v":{"$error":"#N/A"}},null,null,null,null,null,null,null,null,{"$f":"VLOOKUP(Tabelle1[[#This Row],[Budgetlinie]],Ausfüllhilfe!$A$1:$D$23,4,0)","v":{"$error":"#N/A"}}]
[{"$f":"INDEX(Tabelle2[[#All],[Budgetlinie]],MATCH(Tabelle1[[#This Row],[Maßnahme]],Ausfüllhilfe!$C$1:$C$22,0))","v":{"$error":"#N/A"}},null,null,null,null,null,null,null,null,{"$f":"VLOOKUP(Tabelle1[[#This Row],[Budgetlinie]],Ausfüllhilfe!$A$1:$D$23,4,0)","v":{"$error":"#N/A"}}]
[{"$f":"INDEX(Tabelle2[[#All],[Budgetlinie]],MATCH(Tabelle1[[#This Row],[Maßnahme]],Ausfüllhilfe!$C$1:$C$22,0))","v":{"$error":"#N/A"}},null,null,null,null,null,null,null,null,{"$f":"VLOOKUP(Tabelle1[[#This Row],[Budgetlinie]],Ausfüllhilfe!$A$1:$D$23,4,0)","v":{"$error":"#N/A"}}]
[{"$f":"INDEX(Tabelle2[[#All],[Budgetlinie]],MATCH(Tabelle1[[#This Row],[Maßnahme]],Ausfüllhilfe!$C$1:$C$22,0))","v":{"$error":"#N/A"}},null,null,null,null,null,null,null,null,{"$f":"VLOOKUP(Tabelle1[[#This Row],[Budgetlinie]],Ausfüllhilfe!$A$1:$D$23,4,0)","v":{"$error":"#N/A"}}]
[{"$f":"INDEX(Tabelle2[[#All],[Budgetlinie]],MATCH(Tabelle1[[#This Row],[Maßnahme]],Ausfüllhilfe!$C$1:$C$22,0))","v":{"$error":"#N/A"}},null,null,null,null,null,null,null,null,{"$f":"VLOOKUP(Tabelle1[[#This Row],[Budgetlinie]],Ausfüllhilfe!$A$1:$D$23,4,0)","v":{"$error":"#N/A"}}]
[{"$f":"INDEX(Tabelle2[[#All],[Budgetlinie]],MATCH(Tabelle1[[#This Row],[Maßnahme]],Ausfüllhilfe!$C$1:$C$22,0))","v":{"$error":"#N/A"}},null,null,null,null,null,null,null,null,{"$f":"VLOOKUP(Tabelle1[[#This Row],[Budgetlinie]],Ausfüllhilfe!$A$1:$D$23,4,0)","v":{"$error":"#N/A"}}]
[{"$f":"INDEX(Tabelle2[[#All],[Budgetlinie]],MATCH(Tabelle1[[#This Row],[Maßnahme]],Ausfüllhilfe!$C$1:$C$22,0))","v":{"$error":"#N/A"}},null,null,null,null,null,null,null,null,{"$f":"VLOOKUP(Tabelle1[[#This Row],[Budgetlinie]],Ausfüllhilfe!$A$1:$D$23,4,0)","v":{"$error":"#N/A"}}]
[{"$f":"INDEX(Tabelle2[[#All],[Budgetlinie]],MATCH(Tabelle1[[#This Row],[Maßnahme]],Ausfüllhilfe!$C$1:$C$22,0))","v":{"$error":"#N/A"}},null,null,null,null,null,null,null,null,{"$f":"VLOOKUP(Tabelle1[[#This Row],[Budgetlinie]],Ausfüllhilfe!$A$1:$D$23,4,0)","v":{"$error":"#N/A"}}]
[{"$f":"INDEX(Tabelle2[[#All],[Budgetlinie]],MATCH(Tabelle1[[#This Row],[Maßnahme]],Ausfüllhilfe!$C$1:$C$22,0))","v":{"$error":"#N/A"}},null,null,null,null,null,null,null,null,{"$f":"VLOOKUP(Tabelle1[[#This Row],[Budgetlinie]],Ausfüllhilfe!$A$1:$D$23,4,0)","v":{"$error":"#N/A"}}]
[{"$f":"INDEX(Tabelle2[[#All],[Budgetlinie]],MATCH(Tabelle1[[#This Row],[Maßnahme]],Ausfüllhilfe!$C$1:$C$22,0))","v":{"$error":"#N/A"}},null,null,null,null,null,null,null,null,{"$f":"VLOOKUP(Tabelle1[[#This Row],[Budgetlinie]],Ausfüllhilfe!$A$1:$D$23,4,0)","v":{"$error":"#N/A"}}]
[{"$f":"INDEX(Tabelle2[[#All],[Budgetlinie]],MATCH(Tabelle1[[#This Row],[Maßnahme]],Ausfüllhilfe!$C$1:$C$22,0))","v":{"$error":"#N/A"}},null,null,null,null,null,null,null,null,{"$f":"VLOOKUP(Tabelle1[[#This Row],[Budgetlinie]],Ausfüllhilfe!$A$1:$D$23,4,0)","v":{"$error":"#N/A"}}]
[{"$f":"INDEX(Tabelle2[[#All],[Budgetlinie]],MATCH(Tabelle1[[#This Row],[Maßnahme]],Ausfüllhilfe!$C$1:$C$22,0))","v":{"$error":"#N/A"}},null,null,null,null,null,null,null,null,{"$f":"VLOOKUP(Tabelle1[[#This Row],[Budgetlinie]],Ausfüllhilfe!$A$1:$D$23,4,0)","v":{"$error":"#N/A"}}]
[{"$f":"INDEX(Tabelle2[[#All],[Budgetlinie]],MATCH(Tabelle1[[#This Row],[Maßnahme]],Ausfüllhilfe!$C$1:$C$22,0))","v":{"$error":"#N/A"}},null,null,null,null,null,null,null,null,{"$f":"VLOOKUP(Tabelle1[[#This Row],[Budgetlinie]],Ausfüllhilfe!$A$1:$D$23,4,0)","v":{"$error":"#N/A"}}]
[{"$f":"INDEX(Tabelle2[[#All],[Budgetlinie]],MATCH(Tabelle1[[#This Row],[Maßnahme]],Ausfüllhilfe!$C$1:$C$22,0))","v":{"$error":"#N/A"}},null,null,null,null,null,null,null,null,{"$f":"VLOOKUP(Tabelle1[[#This Row],[Budgetlinie]],Ausfüllhilfe!$A$1:$D$23,4,0)","v":{"$error":"#N/A"}}]
[{"$f":"INDEX(Tabelle2[[#All],[Budgetlinie]],MATCH(Tabelle1[[#This Row],[Maßnahme]],Ausfüllhilfe!$C$1:$C$22,0))","v":{"$error":"#N/A"}},null,null,null,null,null,null,null,null,{"$f":"VLOOKUP(Tabelle1[[#This Row],[Budgetlinie]],Ausfüllhilfe!$A$1:$D$23,4,0)","v":{"$error":"#N/A"}}]
[{"$f":"INDEX(Tabelle2[[#All],[Budgetlinie]],MATCH(Tabelle1[[#This Row],[Maßnahme]],Ausfüllhilfe!$C$1:$C$22,0))","v":{"$error":"#N/A"}},null,null,null,null,null,null,null,null,{"$f":"VLOOKUP(Tabelle1[[#This Row],[Budgetlinie]],Ausfüllhilfe!$A$1:$D$23,4,0)","v":{"$error":"#N/A"}}]
[{"$f":"INDEX(Tabelle2[[#All],[Budgetlinie]],MATCH(Tabelle1[[#This Row],[Maßnahme]],Ausfüllhilfe!$C$1:$C$22,0))","v":{"$error":"#N/A"}},null,null,null,null,null,null,null,null,{"$f":"VLOOKUP(Tabelle1[[#This Row],[Budgetlinie]],Ausfüllhilfe!$A$1:$D$23,4,0)","v":{"$error":"#N/A"}}]
[{"$f":"INDEX(Tabelle2[[#All],[Budgetlinie]],MATCH(Tabelle1[[#This Row],[Maßnahme]],Ausfüllhilfe!$C$1:$C$22,0))","v":{"$error":"#N/A"}},null,null,null,null,null,null,null,null,{"$f":"VLOOKUP(Tabelle1[[#This Row],[Budgetlinie]],Ausfüllhilfe!$A$1:$D$23,4,0)","v":{"$error":"#N/A"}}]
[{"$f":"INDEX(Tabelle2[[#All],[Budgetlinie]],MATCH(Tabelle1[[#This Row],[Maßnahme]],Ausfüllhilfe!$C$1:$C$22,0))","v":{"$error":"#N/A"}},null,null,null,null,null,null,null,null,{"$f":"VLOOKUP(Tabelle1[[#This Row],[Budgetlinie]],Ausfüllhilfe!$A$1:$D$23,4,0)","v":{"$error":"#N/A"}}]
[{"$f":"INDEX(Tabelle2[[#All],[Budgetlinie]],MATCH(Tabelle1[[#This Row],[Maßnahme]],Ausfüllhilfe!$C$1:$C$22,0))","v":{"$error":"#N/A"}},null,null,null,null,null,null,null,null,{"$f":"VLOOKUP(Tabelle1[[#This Row],[Budgetlinie]],Ausfüllhilfe!$A$1:$D$23,4,0)","v":{"$error":"#N/A"}}]
[{"$f":"INDEX(Tabelle2[[#All],[Budgetlinie]],MATCH(Tabelle1[[#This Row],[Maßnahme]],Ausfüllhilfe!$C$1:$C$22,0))","v":{"$error":"#N/A"}},null,null,null,null,null,null,null,null,{"$f":"VLOOKUP(Tabelle1[[#This Row],[Budgetlinie]],Ausfüllhilfe!$A$1:$D$23,4,0)","v":{"$error":"#N/A"}}]
[{"$f":"INDEX(Tabelle2[[#All],[Budgetlinie]],MATCH(Tabelle1[[#This Row],[Maßnahme]],Ausfüllhilfe!$C$1:$C$22,0))","v":{"$error":"#N/A"}},null,null,null,null,null,null,null,null,{"$f":"VLOOKUP(Tabelle1[[#This Row],[Budgetlinie]],Ausfüllhilfe!$A$1:$D$23,4,0)","v":{"$error":"#N/A"}}]
[{"$f":"INDEX(Tabelle2[[#All],[Budgetlinie]],MATCH(Tabelle1[[#This Row],[Maßnahme]],Ausfüllhilfe!$C$1:$C$22,0))","v":{"$error":"#N/A"}},null,null,null,null,null,null,null,null,{"$f":"VLOOKUP(Tabelle1[[#This Row],[Budgetlinie]],Ausfüllhilfe!$A$1:$D$23,4,0)","v":{"$error":"#N/A"}}]
[{"$f":"INDEX(Tabelle2[[#All],[Budgetlinie]],MATCH(Tabelle1[[#This Row],[Maßnahme]],Ausfüllhilfe!$C$1:$C$22,0))","v":{"$error":"#N/A"}},null,null,null,null,null,null,null,null,{"$f":"VLOOKUP(Tabelle1[[#This Row],[Budgetlinie]],Ausfüllhilfe!$A$1:$D$23,4,0)","v":{"$error":"#N/A"}}]
[{"$f":"INDEX(Tabelle2[[#All],[Budgetlinie]],MATCH(Tabelle1[[#This Row],[Maßnahme]],Ausfüllhilfe!$C$1:$C$22,0))","v":{"$error":"#N/A"}},null,null,null,null,null,null,null,null,{"$f":"VLOOKUP(Tabelle1[[#This Row],[Budgetlinie]],Ausfüllhilfe!$A$1:$D$23,4,0)","v":{"$error":"#N/A"}}]
[{"$f":"INDEX(Tabelle2[[#All],[Budgetlinie]],MATCH(Tabelle1[[#This Row],[Maßnahme]],Ausfüllhilfe!$C$1:$C$22,0))","v":{"$error":"#N/A"}},null,null,null,null,null,null,null,null,{"$f":"VLOOKUP(Tabelle1[[#This Row],[Budgetlinie]],Ausfüllhilfe!$A$1:$D$23,4,0)","v":{"$error":"#N/A"}}]
[{"$f":"INDEX(Tabelle2[[#All],[Budgetlinie]],MATCH(Tabelle1[[#This Row],[Maßnahme]],Ausfüllhilfe!$C$1:$C$22,0))","v":{"$error":"#N/A"}},null,null,null,null,null,null,null,null,{"$f":"VLOOKUP(Tabelle1[[#This Row],[Budgetlinie]],Ausfüllhilfe!$A$1:$D$23,4,0)","v":{"$error":"#N/A"}}]
[{"$f":"INDEX(Tabelle2[[#All],[Budgetlinie]],MATCH(Tabelle1[[#This Row],[Maßnahme]],Ausfüllhilfe!$C$1:$C$22,0))","v":{"$error":"#N/A"}},null,null,null,null,null,null,null,null,{"$f":"VLOOKUP(Tabelle1[[#This Row],[Budgetlinie]],Ausfüllhilfe!$A$1:$D$23,4,0)","v":{"$error":"#N/A"}}]
[{"$f":"INDEX(Tabelle2[[#All],[Budgetlinie]],MATCH(Tabelle1[[#This Row],[Maßnahme]],Ausfüllhilfe!$C$1:$C$22,0))","v":{"$error":"#N/A"}},null,null,null,null,null,null,null,null,{"$f":"VLOOKUP(Tabelle1[[#This Row],[Budgetlinie]],Ausfüllhilfe!$A$1:$D$23,4,0)","v":{"$error":"#N/A"}}]
[{"$f":"INDEX(Tabelle2[[#All],[Budgetlinie]],MATCH(Tabelle1[[#This Row],[Maßnahme]],Ausfüllhilfe!$C$1:$C$22,0))","v":{"$error":"#N/A"}},null,null,null,null,null,null,null,null,{"$f":"VLOOKUP(Tabelle1[[#This Row],[Budgetlinie]],Ausfüllhilfe!$A$1:$D$23,4,0)","v":{"$error":"#N/A"}}]
[{"$f":"INDEX(Tabelle2[[#All],[Budgetlinie]],MATCH(Tabelle1[[#This Row],[Maßnahme]],Ausfüllhilfe!$C$1:$C$22,0))","v":{"$error":"#N/A"}},null,null,null,null,null,null,null,null,{"$f":"VLOOKUP(Tabelle1[[#This Row],[Budgetlinie]],Ausfüllhilfe!$A$1:$D$23,4,0)","v":{"$error":"#N/A"}}]
[{"$f":"INDEX(Tabelle2[[#All],[Budgetlinie]],MATCH(Tabelle1[[#This Row],[Maßnahme]],Ausfüllhilfe!$C$1:$C$22,0))","v":{"$error":"#N/A"}},null,null,null,null,null,null,null,null,{"$f":"VLOOKUP(Tabelle1[[#This Row],[Budgetlinie]],Ausfüllhilfe!$A$1:$D$23,4,0)","v":{"$error":"#N/A"}}]
[{"$f":"INDEX(Tabelle2[[#All],[Budgetlinie]],MATCH(Tabelle1[[#This Row],[Maßnahme]],Ausfüllhilfe!$C$1:$C$22,0))","v":{"$error":"#N/A"}},null,null,null,null,null,null,null,null,{"$f":"VLOOKUP(Tabelle1[[#This Row],[Budgetlinie]],Ausfüllhilfe!$A$1:$D$23,4,0)","v":{"$error":"#N/A"}}]
[{"$f":"INDEX(Tabelle2[[#All],[Budgetlinie]],MATCH(Tabelle1[[#This Row],[Maßnahme]],Ausfüllhilfe!$C$1:$C$22,0))","v":{"$error":"#N/A"}},null,null,null,null,null,null,null,null,{"$f":"VLOOKUP(Tabelle1[[#This Row],[Budgetlinie]],Ausfüllhilfe!$A$1:$D$23,4,0)","v":{"$error":"#N/A"}}]
[{"$f":"INDEX(Tabelle2[[#All],[Budgetlinie]],MATCH(Tabelle1[[#This Row],[Maßnahme]],Ausfüllhilfe!$C$1:$C$22,0))","v":{"$error":"#N/A"}},null,null,null,null,null,null,null,null,{"$f":"VLOOKUP(Tabelle1[[#This Row],[Budgetlinie]],Ausfüllhilfe!$A$1:$D$23,4,0)","v":{"$error":"#N/A"}}]
[{"$f":"INDEX(Tabelle2[[#All],[Budgetlinie]],MATCH(Tabelle1[[#This Row],[Maßnahme]],Ausfüllhilfe!$C$1:$C$22,0))","v":{"$error":"#N/A"}},null,null,null,null,null,null,null,null,{"$f":"VLOOKUP(Tabelle1[[#This Row],[Budgetlinie]],Ausfüllhilfe!$A$1:$D$23,4,0)","v":{"$error":"#N/A"}}]
[{"$f":"INDEX(Tabelle2[[#All],[Budgetlinie]],MATCH(Tabelle1[[#This Row],[Maßnahme]],Ausfüllhilfe!$C$1:$C$22,0))","v":{"$error":"#N/A"}},null,null,null,null,null,null,null,null,{"$f":"VLOOKUP(Tabelle1[[#This Row],[Budgetlinie]],Ausfüllhilfe!$A$1:$D$23,4,0)","v":{"$error":"#N/A"}}]
[{"$f":"INDEX(Tabelle2[[#All],[Budgetlinie]],MATCH(Tabelle1[[#This Row],[Maßnahme]],Ausfüllhilfe!$C$1:$C$22,0))","v":{"$error":"#N/A"}},null,null,null,null,null,null,null,null,{"$f":"VLOOKUP(Tabelle1[[#This Row],[Budgetlinie]],Ausfüllhilfe!$A$1:$D$23,4,0)","v":{"$error":"#N/A"}}]
[{"$f":"INDEX(Tabelle2[[#All],[Budgetlinie]],MATCH(Tabelle1[[#This Row],[Maßnahme]],Ausfüllhilfe!$C$1:$C$22,0))","v":{"$error":"#N/A"}},null,null,null,null,null,null,null,null,{"$f":"VLOOKUP(Tabelle1[[#This Row],[Budgetlinie]],Ausfüllhilfe!$A$1:$D$23,4,0)","v":{"$error":"#N/A"}}]
[{"$f":"INDEX(Tabelle2[[#All],[Budgetlinie]],MATCH(Tabelle1[[#This Row],[Maßnahme]],Ausfüllhilfe!$C$1:$C$22,0))","v":{"$error":"#N/A"}},null,null,null,null,null,null,null,null,{"$f":"VLOOKUP(Tabelle1[[#This Row],[Budgetlinie]],Ausfüllhilfe!$A$1:$D$23,4,0)","v":{"$error":"#N/A"}}]
[{"$f":"INDEX(Tabelle2[[#All],[Budgetlinie]],MATCH(Tabelle1[[#This Row],[Maßnahme]],Ausfüllhilfe!$C$1:$C$22,0))","v":{"$error":"#N/A"}},null,null,null,null,null,null,null,null,{"$f":"VLOOKUP(Tabelle1[[#This Row],[Budgetlinie]],Ausfüllhilfe!$A$1:$D$23,4,0)","v":{"$error":"#N/A"}}]
[{"$f":"INDEX(Tabelle2[[#All],[Budgetlinie]],MATCH(Tabelle1[[#This Row],[Maßnahme]],Ausfüllhilfe!$C$1:$C$22,0))","v":{"$error":"#N/A"}},null,null,null,null,null,null,null,null,{"$f":"VLOOKUP(Tabelle1[[#This Row],[Budgetlinie]],Ausfüllhilfe!$A$1:$D$23,4,0)","v":{"$error":"#N/A"}}]
[{"$f":"INDEX(Tabelle2[[#All],[Budgetlinie]],MATCH(Tabelle1[[#This Row],[Maßnahme]],Ausfüllhilfe!$C$1:$C$22,0))","v":{"$error":"#N/A"}},null,null,null,null,null,null,null,null,{"$f":"VLOOKUP(Tabelle1[[#This Row],[Budgetlinie]],Ausfüllhilfe!$A$1:$D$23,4,0)","v":{"$error":"#N/A"}}]
[{"$f":"INDEX(Tabelle2[[#All],[Budgetlinie]],MATCH(Tabelle1[[#This Row],[Maßnahme]],Ausfüllhilfe!$C$1:$C$22,0))","v":{"$error":"#N/A"}},null,null,null,null,null,null,null,null,{"$f":"VLOOKUP(Tabelle1[[#This Row],[Budgetlinie]],Ausfüllhilfe!$A$1:$D$23,4,0)","v":{"$error":"#N/A"}}]
[{"$f":"INDEX(Tabelle2[[#All],[Budgetlinie]],MATCH(Tabelle1[[#This Row],[Maßnahme]],Ausfüllhilfe!$C$1:$C$22,0))","v":{"$error":"#N/A"}},null,null,null,null,null,null,null,null,{"$f":"VLOOKUP(Tabelle1[[#This Row],[Budgetlinie]],Ausfüllhilfe!$A$1:$D$23,4,0)","v":{"$error":"#N/A"}}]
[{"$f":"INDEX(Tabelle2[[#All],[Budgetlinie]],MATCH(Tabelle1[[#This Row],[Maßnahme]],Ausfüllhilfe!$C$1:$C$22,0))","v":{"$error":"#N/A"}},null,null,null,null,null,null,null,null,{"$f":"VLOOKUP(Tabelle1[[#This Row],[Budgetlinie]],Ausfüllhilfe!$A$1:$D$23,4,0)","v":{"$error":"#N/A"}}]
[{"$f":"INDEX(Tabelle2[[#All],[Budgetlinie]],MATCH(Tabelle1[[#This Row],[Maßnahme]],Ausfüllhilfe!$C$1:$C$22,0))","v":{"$error":"#N/A"}},null,null,null,null,null,null,null,null,{"$f":"VLOOKUP(Tabelle1[[#This Row],[Budgetlinie]],Ausfüllhilfe!$A$1:$D$23,4,0)","v":{"$error":"#N/A"}}]
[{"$f":"INDEX(Tabelle2[[#All],[Budgetlinie]],MATCH(Tabelle1[[#This Row],[Maßnahme]],Ausfüllhilfe!$C$1:$C$22,0))","v":{"$error":"#N/A"}},null,null,null,null,null,null,null,null,{"$f":"VLOOKUP(Tabelle1[[#This Row],[Budgetlinie]],Ausfüllhilfe!$A$1:$D$23,4,0)","v":{"$error":"#N/A"}}]
[{"$f":"INDEX(Tabelle2[[#All],[Budgetlinie]],MATCH(Tabelle1[[#This Row],[Maßnahme]],Ausfüllhilfe!$C$1:$C$22,0))","v":{"$error":"#N/A"}},null,null,null,null,null,null,null,null,{"$f":"VLOOKUP(Tabelle1[[#This Row],[Budgetlinie]],Ausfüllhilfe!$A$1:$D$23,4,0)","v":{"$error":"#N/A"}}]
[{"$f":"INDEX(Tabelle2[[#All],[Budgetlinie]],MATCH(Tabelle1[[#This Row],[Maßnahme]],Ausfüllhilfe!$C$1:$C$22,0))","v":{"$error":"#N/A"}},null,null,null,null,null,null,null,null,{"$f":"VLOOKUP(Tabelle1[[#This Row],[Budgetlinie]],Ausfüllhilfe!$A$1:$D$23,4,0)","v":{"$error":"#N/A"}}]
[{"$f":"INDEX(Tabelle2[[#All],[Budgetlinie]],MATCH(Tabelle1[[#This Row],[Maßnahme]],Ausfüllhilfe!$C$1:$C$22,0))","v":{"$error":"#N/A"}},null,null,null,null,null,null,null,null,{"$f":"VLOOKUP(Tabelle1[[#This Row],[Budgetlinie]],Ausfüllhilfe!$A$1:$D$23,4,0)","v":{"$error":"#N/A"}}]
[{"$f":"INDEX(Tabelle2[[#All],[Budgetlinie]],MATCH(Tabelle1[[#This Row],[Maßnahme]],Ausfüllhilfe!$C$1:$C$22,0))","v":{"$error":"#N/A"}},null,null,null,null,null,null,null,null,{"$f":"VLOOKUP(Tabelle1[[#This Row],[Budgetlinie]],Ausfüllhilfe!$A$1:$D$23,4,0)","v":{"$error":"#N/A"}}]
[{"$f":"INDEX(Tabelle2[[#All],[Budgetlinie]],MATCH(Tabelle1[[#This Row],[Maßnahme]],Ausfüllhilfe!$C$1:$C$22,0))","v":{"$error":"#N/A"}},null,null,null,null,null,null,null,null,{"$f":"VLOOKUP(Tabelle1[[#This Row],[Budgetlinie]],Ausfüllhilfe!$A$1:$D$23,4,0)","v":{"$error":"#N/A"}}]
[{"$f":"INDEX(Tabelle2[[#All],[Budgetlinie]],MATCH(Tabelle1[[#This Row],[Maßnahme]],Ausfüllhilfe!$C$1:$C$22,0))","v":{"$error":"#N/A"}},null,null,null,null,null,null,null,null,{"$f":"VLOOKUP(Tabelle1[[#This Row],[Budgetlinie]],Ausfüllhilfe!$A$1:$D$23,4,0)","v":{"$error":"#N/A"}}]
[{"$f":"INDEX(Tabelle2[[#All],[Budgetlinie]],MATCH(Tabelle1[[#This Row],[Maßnahme]],Ausfüllhilfe!$C$1:$C$22,0))","v":{"$error":"#N/A"}},null,null,null,null,null,null,null,null,{"$f":"VLOOKUP(Tabelle1[[#This Row],[Budgetlinie]],Ausfüllhilfe!$A$1:$D$23,4,0)","v":{"$error":"#N/A"}}]
[{"$f":"INDEX(Tabelle2[[#All],[Budgetlinie]],MATCH(Tabelle1[[#This Row],[Maßnahme]],Ausfüllhilfe!$C$1:$C$22,0))","v":{"$error":"#N/A"}},null,null,null,null,null,null,null,null,{"$f":"VLOOKUP(Tabelle1[[#This Row],[Budgetlinie]],Ausfüllhilfe!$A$1:$D$23,4,0)","v":{"$error":"#N/A"}}]
[{"$f":"INDEX(Tabelle2[[#All],[Budgetlinie]],MATCH(Tabelle1[[#This Row],[Maßnahme]],Ausfüllhilfe!$C$1:$C$22,0))","v":{"$error":"#N/A"}},null,null,null,null,null,null,null,null,{"$f":"VLOOKUP(Tabelle1[[#This Row],[Budgetlinie]],Ausfüllhilfe!$A$1:$D$23,4,0)","v":{"$error":"#N/A"}}]
[{"$f":"INDEX(Tabelle2[[#All],[Budgetlinie]],MATCH(Tabelle1[[#This Row],[Maßnahme]],Ausfüllhilfe!$C$1:$C$22,0))","v":{"$error":"#N/A"}},null,null,null,null,null,null,null,null,{"$f":"VLOOKUP(Tabelle1[[#This Row],[Budgetlinie]],Ausfüllhilfe!$A$1:$D$23,4,0)","v":{"$error":"#N/A"}}]
[{"$f":"INDEX(Tabelle2[[#All],[Budgetlinie]],MATCH(Tabelle1[[#This Row],[Maßnahme]],Ausfüllhilfe!$C$1:$C$22,0))","v":{"$error":"#N/A"}},null,null,null,null,null,null,null,null,{"$f":"VLOOKUP(Tabelle1[[#This Row],[Budgetlinie]],Ausfüllhilfe!$A$1:$D$23,4,0)","v":{"$error":"#N/A"}}]
[{"$f":"INDEX(Tabelle2[[#All],[Budgetlinie]],MATCH(Tabelle1[[#This Row],[Maßnahme]],Ausfüllhilfe!$C$1:$C$22,0))","v":{"$error":"#N/A"}},null,null,null,null,null,null,null,null,{"$f":"VLOOKUP(Tabelle1[[#This Row],[Budgetlinie]],Ausfüllhilfe!$A$1:$D$23,4,0)","v":{"$error":"#N/A"}}]
[{"$f":"INDEX(Tabelle2[[#All],[Budgetlinie]],MATCH(Tabelle1[[#This Row],[Maßnahme]],Ausfüllhilfe!$C$1:$C$22,0))","v":{"$error":"#N/A"}},null,null,null,null,null,null,null,null,{"$f":"VLOOKUP(Tabelle1[[#This Row],[Budgetlinie]],Ausfüllhilfe!$A$1:$D$23,4,0)","v":{"$error":"#N/A"}}]
[{"$f":"INDEX(Tabelle2[[#All],[Budgetlinie]],MATCH(Tabelle1[[#This Row],[Maßnahme]],Ausfüllhilfe!$C$1:$C$22,0))","v":{"$error":"#N/A"}},null,null,null,null,null,null,null,null,{"$f":"VLOOKUP(Tabelle1[[#This Row],[Budgetlinie]],Ausfüllhilfe!$A$1:$D$23,4,0)","v":{"$error":"#N/A"}}]
[{"$f":"INDEX(Tabelle2[[#All],[Budgetlinie]],MATCH(Tabelle1[[#This Row],[Maßnahme]],Ausfüllhilfe!$C$1:$C$22,0))","v":{"$error":"#N/A"}},null,null,null,null,null,null,null,null,{"$f":"VLOOKUP(Tabelle1[[#This Row],[Budgetlinie]],Ausfüllhilfe!$A$1:$D$23,4,0)","v":{"$error":"#N/A"}}]
[{"$f":"INDEX(Tabelle2[[#All],[Budgetlinie]],MATCH(Tabelle1[[#This Row],[Maßnahme]],Ausfüllhilfe!$C$1:$C$22,0))","v":{"$error":"#N/A"}},null,null,null,null,null,null,null,null,{"$f":"VLOOKUP(Tabelle1[[#This Row],[Budgetlinie]],Ausfüllhilfe!$A$1:$D$23,4,0)","v":{"$error":"#N/A"}}]
[{"$f":"INDEX(Tabelle2[[#All],[Budgetlinie]],MATCH(Tabelle1[[#This Row],[Maßnahme]],Ausfüllhilfe!$C$1:$C$22,0))","v":{"$error":"#N/A"}},null,null,null,null,null,null,null,null,{"$f":"VLOOKUP(Tabelle1[[#This Row],[Budgetlinie]],Ausfüllhilfe!$A$1:$D$23,4,0)","v":{"$error":"#N/A"}}]
[{"$f":"INDEX(Tabelle2[[#All],[Budgetlinie]],MATCH(Tabelle1[[#This Row],[Maßnahme]],Ausfüllhilfe!$C$1:$C$22,0))","v":{"$error":"#N/A"}},null,null,null,null,null,null,null,null,{"$f":"VLOOKUP(Tabelle1[[#This Row],[Budgetlinie]],Ausfüllhilfe!$A$1:$D$23,4,0)","v":{"$error":"#N/A"}}]
[{"$f":"INDEX(Tabelle2[[#All],[Budgetlinie]],MATCH(Tabelle1[[#This Row],[Maßnahme]],Ausfüllhilfe!$C$1:$C$22,0))","v":{"$error":"#N/A"}},null,null,null,null,null,null,null,null,{"$f":"VLOOKUP(Tabelle1[[#This Row],[Budgetlinie]],Ausfüllhilfe!$A$1:$D$23,4,0)","v":{"$error":"#N/A"}}]
[{"$f":"INDEX(Tabelle2[[#All],[Budgetlinie]],MATCH(Tabelle1[[#This Row],[Maßnahme]],Ausfüllhilfe!$C$1:$C$22,0))","v":{"$error":"#N/A"}},null,null,null,null,null,null,null,null,{"$f":"VLOOKUP(Tabelle1[[#This Row],[Budgetlinie]],Ausfüllhilfe!$A$1:$D$23,4,0)","v":{"$error":"#N/A"}}]
[{"$f":"INDEX(Tabelle2[[#All],[Budgetlinie]],MATCH(Tabelle1[[#This Row],[Maßnahme]],Ausfüllhilfe!$C$1:$C$22,0))","v":{"$error":"#N/A"}},null,null,null,null,null,null,null,null,{"$f":"VLOOKUP(Tabelle1[[#This Row],[Budgetlinie]],Ausfüllhilfe!$A$1:$D$23,4,0)","v":{"$error":"#N/A"}}]
[{"$f":"INDEX(Tabelle2[[#All],[Budgetlinie]],MATCH(Tabelle1[[#This Row],[Maßnahme]],Ausfüllhilfe!$C$1:$C$22,0))","v":{"$error":"#N/A"}},null,null,null,null,null,null,null,null,{"$f":"VLOOKUP(Tabelle1[[#This Row],[Budgetlinie]],Ausfüllhilfe!$A$1:$D$23,4,0)","v":{"$error":"#N/A"}}]
[{"$f":"INDEX(Tabelle2[[#All],[Budgetlinie]],MATCH(Tabelle1[[#This Row],[Maßnahme]],Ausfüllhilfe!$C$1:$C$22,0))","v":{"$error":"#N/A"}},null,null,null,null,null,null,null,null,{"$f":"VLOOKUP(Tabelle1[[#This Row],[Budgetlinie]],Ausfüllhilfe!$A$1:$D$23,4,0)","v":{"$error":"#N/A"}}]
[{"$f":"INDEX(Tabelle2[[#All],[Budgetlinie]],MATCH(Tabelle1[[#This Row],[Maßnahme]],Ausfüllhilfe!$C$1:$C$22,0))","v":{"$error":"#N/A"}},null,null,null,null,null,null,null,null,{"$f":"VLOOKUP(Tabelle1[[#This Row],[Budgetlinie]],Ausfüllhilfe!$A$1:$D$23,4,0)","v":{"$error":"#N/A"}}]
[{"$f":"INDEX(Tabelle2[[#All],[Budgetlinie]],MATCH(Tabelle1[[#This Row],[Maßnahme]],Ausfüllhilfe!$C$1:$C$22,0))","v":{"$error":"#N/A"}},null,null,null,null,null,null,null,null,{"$f":"VLOOKUP(Tabelle1[[#This Row],[Budgetlinie]],Ausfüllhilfe!$A$1:$D$23,4,0)","v":{"$error":"#N/A"}}]
[{"$f":"INDEX(Tabelle2[[#All],[Budgetlinie]],MATCH(Tabelle1[[#This Row],[Maßnahme]],Ausfüllhilfe!$C$1:$C$22,0))","v":{"$error":"#N/A"}},null,null,null,null,null,null,null,null,{"$f":"VLOOKUP(Tabelle1[[#This Row],[Budgetlinie]],Ausfüllhilfe!$A$1:$D$23,4,0)","v":{"$error":"#N/A"}}]
[{"$f":"INDEX(Tabelle2[[#All],[Budgetlinie]],MATCH(Tabelle1[[#This Row],[Maßnahme]],Ausfüllhilfe!$C$1:$C$22,0))","v":{"$error":"#N/A"}},null,null,null,null,null,null,null,null,{"$f":"VLOOKUP(Tabelle1[[#This Row],[Budgetlinie]],Ausfüllhilfe!$A$1:$D$23,4,0)","v":{"$error":"#N/A"}}]
[{"$f":"INDEX(Tabelle2[[#All],[Budgetlinie]],MATCH(Tabelle1[[#This Row],[Maßnahme]],Ausfüllhilfe!$C$1:$C$22,0))","v":{"$error":"#N/A"}},null,null,null,null,null,null,null,null,{"$f":"VLOOKUP(Tabelle1[[#This Row],[Budgetlinie]],Ausfüllhilfe!$A$1:$D$23,4,0)","v":{"$error":"#N/A"}}]
[{"$f":"INDEX(Tabelle2[[#All],[Budgetlinie]],MATCH(Tabelle1[[#This Row],[Maßnahme]],Ausfüllhilfe!$C$1:$C$22,0))","v":{"$error":"#N/A"}},null,null,null,null,null,null,null,null,{"$f":"VLOOKUP(Tabelle1[[#This Row],[Budgetlinie]],Ausfüllhilfe!$A$1:$D$23,4,0)","v":{"$error":"#N/A"}}]
[{"$f":"INDEX(Tabelle2[[#All],[Budgetlinie]],MATCH(Tabelle1[[#This Row],[Maßnahme]],Ausfüllhilfe!$C$1:$C$22,0))","v":{"$error":"#N/A"}},null,null,null,null,null,null,null,null,{"$f":"VLOOKUP(Tabelle1[[#This Row],[Budgetlinie]],Ausfüllhilfe!$A$1:$D$23,4,0)","v":{"$error":"#N/A"}}]
[{"$f":"INDEX(Tabelle2[[#All],[Budgetlinie]],MATCH(Tabelle1[[#This Row],[Maßnahme]],Ausfüllhilfe!$C$1:$C$22,0))","v":{"$error":"#N/A"}},null,null,null,null,null,null,null,null,{"$f":"VLOOKUP(Tabelle1[[#This Row],[Budgetlinie]],Ausfüllhilfe!$A$1:$D$23,4,0)","v":{"$error":"#N/A"}}]
[{"$f":"INDEX(Tabelle2[[#All],[Budgetlinie]],MATCH(Tabelle1[[#This Row],[Maßnahme]],Ausfüllhilfe!$C$1:$C$22,0))","v":{"$error":"#N/A"}},null,null,null,null,null,null,null,null,{"$f":"VLOOKUP(Tabelle1[[#This Row],[Budgetlinie]],Ausfüllhilfe!$A$1:$D$23,4,0)","v":{"$error":"#N/A"}}]
[{"$f":"INDEX(Tabelle2[[#All],[Budgetlinie]],MATCH(Tabelle1[[#This Row],[Maßnahme]],Ausfüllhilfe!$C$1:$C$22,0))","v":{"$error":"#N/A"}},null,null,null,null,null,null,null,null,{"$f":"VLOOKUP(Tabelle1[[#This Row],[Budgetlinie]],Ausfüllhilfe!$A$1:$D$23,4,0)","v":{"$error":"#N/A"}}]
[{"$f":"INDEX(Tabelle2[[#All],[Budgetlinie]],MATCH(Tabelle1[[#This Row],[Maßnahme]],Ausfüllhilfe!$C$1:$C$22,0))","v":{"$error":"#N/A"}},null,null,null,null,null,null,null,null,{"$f":"VLOOKUP(Tabelle1[[#This Row],[Budgetlinie]],Ausfüllhilfe!$A$1:$D$23,4,0)","v":{"$error":"#N/A"}}]
[{"$f":"INDEX(Tabelle2[[#All],[Budgetlinie]],MATCH(Tabelle1[[#This Row],[Maßnahme]],Ausfüllhilfe!$C$1:$C$22,0))","v":{"$error":"#N/A"}},null,null,null,null,null,null,null,null,{"$f":"VLOOKUP(Tabelle1[[#This Row],[Budgetlinie]],Ausfüllhilfe!$A$1:$D$23,4,0)","v":{"$error":"#N/A"}}]
[{"$f":"INDEX(Tabelle2[[#All],[Budgetlinie]],MATCH(Tabelle1[[#This Row],[Maßnahme]],Ausfüllhilfe!$C$1:$C$22,0))","v":{"$error":"#N/A"}},null,null,null,null,null,null,null,null,{"$f":"VLOOKUP(Tabelle1[[#This Row],[Budgetlinie]],Ausfüllhilfe!$A$1:$D$23,4,0)","v":{"$error":"#N/A"}}]
[{"$f":"INDEX(Tabelle2[[#All],[Budgetlinie]],MATCH(Tabelle1[[#This Row],[Maßnahme]],Ausfüllhilfe!$C$1:$C$22,0))","v":{"$error":"#N/A"}},null,null,null,null,null,null,null,null,{"$f":"VLOOKUP(Tabelle1[[#This Row],[Budgetlinie]],Ausfüllhilfe!$A$1:$D$23,4,0)","v":{"$error":"#N/A"}}]
[{"$f":"INDEX(Tabelle2[[#All],[Budgetlinie]],MATCH(Tabelle1[[#This Row],[Maßnahme]],Ausfüllhilfe!$C$1:$C$22,0))","v":{"$error":"#N/A"}},null,null,null,null,null,null,null,null,{"$f":"VLOOKUP(Tabelle1[[#This Row],[Budgetlinie]],Ausfüllhilfe!$A$1:$D$23,4,0)","v":{"$error":"#N/A"}}]
[{"$f":"INDEX(Tabelle2[[#All],[Budgetlinie]],MATCH(Tabelle1[[#This Row],[Maßnahme]],Ausfüllhilfe!$C$1:$C$22,0))","v":{"$error":"#N/A"}},null,null,null,null,null,null,null,null,{"$f":"VLOOKUP(Tabelle1[[#This Row],[Budgetlinie]],Ausfüllhilfe!$A$1:$D$23,4,0)","v":{"$error":"#N/A"}}]
[{"$f":"INDEX(Tabelle2[[#All],[Budgetlinie]],MATCH(Tabelle1[[#This Row],[Maßnahme]],Ausfüllhilfe!$C$1:$C$22,0))","v":{"$error":"#N/A"}},null,null,null,null,null,null,null,null,{"$f":"VLOOKUP(Tabelle1[[#This Row],[Budgetlinie]],Ausfüllhilfe!$A$1:$D$23,4,0)","v":{"$error":"#N/A"}}]
[{"$f":"INDEX(Tabelle2[[#All],[Budgetlinie]],MATCH(Tabelle1[[#This Row],[Maßnahme]],Ausfüllhilfe!$C$1:$C$22,0))","v":{"$error":"#N/A"}},null,null,null,null,null,null,null,null,{"$f":"VLOOKUP(Tabelle1[[#This Row],[Budgetlinie]],Ausfüllhilfe!$A$1:$D$23,4,0)","v":{"$error":"#N/A"}}]
[{"$f":"INDEX(Tabelle2[[#All],[Budgetlinie]],MATCH(Tabelle1[[#This Row],[Maßnahme]],Ausfüllhilfe!$C$1:$C$22,0))","v":{"$error":"#N/A"}},null,null,null,null,null,null,null,null,{"$f":"VLOOKUP(Tabelle1[[#This Row],[Budgetlinie]],Ausfüllhilfe!$A$1:$D$23,4,0)","v":{"$error":"#N/A"}}]
[{"$f":"INDEX(Tabelle2[[#All],[Budgetlinie]],MATCH(Tabelle1[[#This Row],[Maßnahme]],Ausfüllhilfe!$C$1:$C$22,0))","v":{"$error":"#N/A"}},null,null,null,null,null,null,null,null,{"$f":"VLOOKUP(Tabelle1[[#This Row],[Budgetlinie]],Ausfüllhilfe!$A$1:$D$23,4,0)","v":{"$error":"#N/A"}}]
[{"$f":"INDEX(Tabelle2[[#All],[Budgetlinie]],MATCH(Tabelle1[[#This Row],[Maßnahme]],Ausfüllhilfe!$C$1:$C$22,0))","v":{"$error":"#N/A"}},null,null,null,null,null,null,null,null,{"$f":"VLOOKUP(Tabelle1[[#This Row],[Budgetlinie]],Ausfüllhilfe!$A$1:$D$23,4,0)","v":{"$error":"#N/A"}}]
[{"$f":"INDEX(Tabelle2[[#All],[Budgetlinie]],MATCH(Tabelle1[[#This Row],[Maßnahme]],Ausfüllhilfe!$C$1:$C$22,0))","v":{"$error":"#N/A"}},null,null,null,null,null,null,null,null,{"$f":"VLOOKUP(Tabelle1[[#This Row],[Budgetlinie]],Ausfüllhilfe!$A$1:$D$23,4,0)","v":{"$error":"#N/A"}}]
[{"$f":"INDEX(Tabelle2[[#All],[Budgetlinie]],MATCH(Tabelle1[[#This Row],[Maßnahme]],Ausfüllhilfe!$C$1:$C$22,0))","v":{"$error":"#N/A"}},null,null,null,null,null,null,null,null,{"$f":"VLOOKUP(Tabelle1[[#This Row],[Budgetlinie]],Ausfüllhilfe!$A$1:$D$23,4,0)","v":{"$error":"#N/A"}}]
[{"$f":"INDEX(Tabelle2[[#All],[Budgetlinie]],MATCH(Tabelle1[[#This Row],[Maßnahme]],Ausfüllhilfe!$C$1:$C$22,0))","v":{"$error":"#N/A"}},null,null,null,null,null,null,null,null,{"$f":"VLOOKUP(Tabelle1[[#This Row],[Budgetlinie]],Ausfüllhilfe!$A$1:$D$23,4,0)","v":{"$error":"#N/A"}}]
[{"$f":"INDEX(Tabelle2[[#All],[Budgetlinie]],MATCH(Tabelle1[[#This Row],[Maßnahme]],Ausfüllhilfe!$C$1:$C$22,0))","v":{"$error":"#N/A"}},null,null,null,null,null,null,null,null,{"$f":"VLOOKUP(Tabelle1[[#This Row],[Budgetlinie]],Ausfüllhilfe!$A$1:$D$23,4,0)","v":{"$error":"#N/A"}}]
[{"$f":"INDEX(Tabelle2[[#All],[Budgetlinie]],MATCH(Tabelle1[[#This Row],[Maßnahme]],Ausfüllhilfe!$C$1:$C$22,0))","v":{"$error":"#N/A"}},null,null,null,null,null,null,null,null,{"$f":"VLOOKUP(Tabelle1[[#This Row],[Budgetlinie]],Ausfüllhilfe!$A$1:$D$23,4,0)","v":{"$error":"#N/A"}}]
[{"$f":"INDEX(Tabelle2[[#All],[Budgetlinie]],MATCH(Tabelle1[[#This Row],[Maßnahme]],Ausfüllhilfe!$C$1:$C$22,0))","v":{"$error":"#N/A"}},null,null,null,null,null,null,null,null,{"$f":"VLOOKUP(Tabelle1[[#This Row],[Budgetlinie]],Ausfüllhilfe!$A$1:$D$23,4,0)","v":{"$error":"#N/A"}}]
[{"$f":"INDEX(Tabelle2[[#All],[Budgetlinie]],MATCH(Tabelle1[[#This Row],[Maßnahme]],Ausfüllhilfe!$C$1:$C$22,0))","v":{"$error":"#N/A"}},null,null,null,null,null,null,null,null,{"$f":"VLOOKUP(Tabelle1[[#This Row],[Budgetlinie]],Ausfüllhilfe!$A$1:$D$23,4,0)","v":{"$error":"#N/A"}}]
[{"$f":"INDEX(Tabelle2[[#All],[Budgetlinie]],MATCH(Tabelle1[[#This Row],[Maßnahme]],Ausfüllhilfe!$C$1:$C$22,0))","v":{"$error":"#N/A"}},null,null,null,null,null,null,null,null,{"$f":"VLOOKUP(Tabelle1[[#This Row],[Budgetlinie]],Ausfüllhilfe!$A$1:$D$23,4,0)","v":{"$error":"#N/A"}}]
[{"$f":"INDEX(Tabelle2[[#All],[Budgetlinie]],MATCH(Tabelle1[[#This Row],[Maßnahme]],Ausfüllhilfe!$C$1:$C$22,0))","v":{"$error":"#N/A"}},null,null,null,null,null,null,null,null,{"$f":"VLOOKUP(Tabelle1[[#This Row],[Budgetlinie]],Ausfüllhilfe!$A$1:$D$23,4,0)","v":{"$error":"#N/A"}}]
[{"$f":"INDEX(Tabelle2[[#All],[Budgetlinie]],MATCH(Tabelle1[[#This Row],[Maßnahme]],Ausfüllhilfe!$C$1:$C$22,0))","v":{"$error":"#N/A"}},null,null,null,null,null,null,null,null,{"$f":"VLOOKUP(Tabelle1[[#This Row],[Budgetlinie]],Ausfüllhilfe!$A$1:$D$23,4,0)","v":{"$error":"#N/A"}}]
[{"$f":"INDEX(Tabelle2[[#All],[Budgetlinie]],MATCH(Tabelle1[[#This Row],[Maßnahme]],Ausfüllhilfe!$C$1:$C$22,0))","v":{"$error":"#N/A"}},null,null,null,null,null,null,null,null,{"$f":"VLOOKUP(Tabelle1[[#This Row],[Budgetlinie]],Ausfüllhilfe!$A$1:$D$23,4,0)","v":{"$error":"#N/A"}}]
[{"$f":"INDEX(Tabelle2[[#All],[Budgetlinie]],MATCH(Tabelle1[[#This Row],[Maßnahme]],Ausfüllhilfe!$C$1:$C$22,0))","v":{"$error":"#N/A"}},null,null,null,null,null,null,null,null,{"$f":"VLOOKUP(Tabelle1[[#This Row],[Budgetlinie]],Ausfüllhilfe!$A$1:$D$23,4,0)","v":{"$error":"#N/A"}}]
[{"$f":"INDEX(Tabelle2[[#All],[Budgetlinie]],MATCH(Tabelle1[[#This Row],[Maßnahme]],Ausfüllhilfe!$C$1:$C$22,0))","v":{"$error":"#N/A"}},null,null,null,null,null,null,null,null,{"$f":"VLOOKUP(Tabelle1[[#This Row],[Budgetlinie]],Ausfüllhilfe!$A$1:$D$23,4,0)","v":{"$error":"#N/A"}}]
[{"$f":"INDEX(Tabelle2[[#All],[Budgetlinie]],MATCH(Tabelle1[[#This Row],[Maßnahme]],Ausfüllhilfe!$C$1:$C$22,0))","v":{"$error":"#N/A"}},null,null,null,null,null,null,null,null,{"$f":"VLOOKUP(Tabelle1[[#This Row],[Budgetlinie]],Ausfüllhilfe!$A$1:$D$23,4,0)","v":{"$error":"#N/A"}}]
[{"$f":"INDEX(Tabelle2[[#All],[Budgetlinie]],MATCH(Tabelle1[[#This Row],[Maßnahme]],Ausfüllhilfe!$C$1:$C$22,0))","v":{"$error":"#N/A"}},null,null,null,null,null,null,null,null,{"$f":"VLOOKUP(Tabelle1[[#This Row],[Budgetlinie]],Ausfüllhilfe!$A$1:$D$23,4,0)","v":{"$error":"#N/A"}}]
[{"$f":"INDEX(Tabelle2[[#All],[Budgetlinie]],MATCH(Tabelle1[[#This Row],[Maßnahme]],Ausfüllhilfe!$C$1:$C$22,0))","v":{"$error":"#N/A"}},null,null,null,null,null,null,null,null,{"$f":"VLOOKUP(Tabelle1[[#This Row],[Budgetlinie]],Ausfüllhilfe!$A$1:$D$23,4,0)","v":{"$error":"#N/A"}}]
[{"$f":"INDEX(Tabelle2[[#All],[Budgetlinie]],MATCH(Tabelle1[[#This Row],[Maßnahme]],Ausfüllhilfe!$C$1:$C$22,0))","v":{"$error":"#N/A"}},null,null,null,null,null,null,null,null,{"$f":"VLOOKUP(Tabelle1[[#This Row],[Budgetlinie]],Ausfüllhilfe!$A$1:$D$23,4,0)","v":{"$error":"#N/A"}}]
[{"$f":"INDEX(Tabelle2[[#All],[Budgetlinie]],MATCH(Tabelle1[[#This Row],[Maßnahme]],Ausfüllhilfe!$C$1:$C$22,0))","v":{"$error":"#N/A"}},null,null,null,null,null,null,null,null,{"$f":"VLOOKUP(Tabelle1[[#This Row],[Budgetlinie]],Ausfüllhilfe!$A$1:$D$23,4,0)","v":{"$error":"#N/A"}}]
[{"$f":"INDEX(Tabelle2[[#All],[Budgetlinie]],MATCH(Tabelle1[[#This Row],[Maßnahme]],Ausfüllhilfe!$C$1:$C$22,0))","v":{"$error":"#N/A"}},null,null,null,null,null,null,null,null,{"$f":"VLOOKUP(Tabelle1[[#This Row],[Budgetlinie]],Ausfüllhilfe!$A$1:$D$23,4,0)","v":{"$error":"#N/A"}}]
[{"$f":"INDEX(Tabelle2[[#All],[Budgetlinie]],MATCH(Tabelle1[[#This Row],[Maßnahme]],Ausfüllhilfe!$C$1:$C$22,0))","v":{"$error":"#N/A"}},null,null,null,null,null,null,null,null,{"$f":"VLOOKUP(Tabelle1[[#This Row],[Budgetlinie]],Ausfüllhilfe!$A$1:$D$23,4,0)","v":{"$error":"#N/A"}}]
[{"$f":"INDEX(Tabelle2[[#All],[Budgetlinie]],MATCH(Tabelle1[[#This Row],[Maßnahme]],Ausfüllhilfe!$C$1:$C$22,0))","v":{"$error":"#N/A"}},null,null,null,null,null,null,null,null,{"$f":"VLOOKUP(Tabelle1[[#This Row],[Budgetlinie]],Ausfüllhilfe!$A$1:$D$23,4,0)","v":{"$error":"#N/A"}}]
[{"$f":"INDEX(Tabelle2[[#All],[Budgetlinie]],MATCH(Tabelle1[[#This Row],[Maßnahme]],Ausfüllhilfe!$C$1:$C$22,0))","v":{"$error":"#N/A"}},null,null,null,null,null,null,null,null,{"$f":"VLOOKUP(Tabelle1[[#This Row],[Budgetlinie]],Ausfüllhilfe!$A$1:$D$23,4,0)","v":{"$error":"#N/A"}}]
[{"$f":"INDEX(Tabelle2[[#All],[Budgetlinie]],MATCH(Tabelle1[[#This Row],[Maßnahme]],Ausfüllhilfe!$C$1:$C$22,0))","v":{"$error":"#N/A"}},null,null,null,null,null,null,null,null,{"$f":"VLOOKUP(Tabelle1[[#This Row],[Budgetlinie]],Ausfüllhilfe!$A$1:$D$23,4,0)","v":{"$error":"#N/A"}}]
[{"$f":"INDEX(Tabelle2[[#All],[Budgetlinie]],MATCH(Tabelle1[[#This Row],[Maßnahme]],Ausfüllhilfe!$C$1:$C$22,0))","v":{"$error":"#N/A"}},null,null,null,null,null,null,null,null,{"$f":"VLOOKUP(Tabelle1[[#This Row],[Budgetlinie]],Ausfüllhilfe!$A$1:$D$23,4,0)","v":{"$error":"#N/A"}}]
[{"$f":"INDEX(Tabelle2[[#All],[Budgetlinie]],MATCH(Tabelle1[[#This Row],[Maßnahme]],Ausfüllhilfe!$C$1:$C$22,0))","v":{"$error":"#N/A"}},null,null,null,null,null,null,null,null,{"$f":"VLOOKUP(Tabelle1[[#This Row],[Budgetlinie]],Ausfüllhilfe!$A$1:$D$23,4,0)","v":{"$error":"#N/A"}}]
[{"$f":"INDEX(Tabelle2[[#All],[Budgetlinie]],MATCH(Tabelle1[[#This Row],[Maßnahme]],Ausfüllhilfe!$C$1:$C$22,0))","v":{"$error":"#N/A"}},null,null,null,null,null,null,null,null,{"$f":"VLOOKUP(Tabelle1[[#This Row],[Budgetlinie]],Ausfüllhilfe!$A$1:$D$23,4,0)","v":{"$error":"#N/A"}}]
[{"$f":"INDEX(Tabelle2[[#All],[Budgetlinie]],MATCH(Tabelle1[[#This Row],[Maßnahme]],Ausfüllhilfe!$C$1:$C$22,0))","v":{"$error":"#N/A"}},null,null,null,null,null,null,null,null,{"$f":"VLOOKUP(Tabelle1[[#This Row],[Budgetlinie]],Ausfüllhilfe!$A$1:$D$23,4,0)","v":{"$error":"#N/A"}}]
[{"$f":"INDEX(Tabelle2[[#All],[Budgetlinie]],MATCH(Tabelle1[[#This Row],[Maßnahme]],Ausfüllhilfe!$C$1:$C$22,0))","v":{"$error":"#N/A"}},null,null,null,null,null,null,null,null,{"$f":"VLOOKUP(Tabelle1[[#This Row],[Budgetlinie]],Ausfüllhilfe!$A$1:$D$23,4,0)","v":{"$error":"#N/A"}}]
[{"$f":"INDEX(Tabelle2[[#All],[Budgetlinie]],MATCH(Tabelle1[[#This Row],[Maßnahme]],Ausfüllhilfe!$C$1:$C$22,0))","v":{"$error":"#N/A"}},null,null,null,null,null,null,null,null,{"$f":"VLOOKUP(Tabelle1[[#This Row],[Budgetlinie]],Ausfüllhilfe!$A$1:$D$23,4,0)","v":{"$error":"#N/A"}}]
[{"$f":"INDEX(Tabelle2[[#All],[Budgetlinie]],MATCH(Tabelle1[[#This Row],[Maßnahme]],Ausfüllhilfe!$C$1:$C$22,0))","v":{"$error":"#N/A"}},null,null,null,null,null,null,null,null,{"$f":"VLOOKUP(Tabelle1[[#This Row],[Budgetlinie]],Ausfüllhilfe!$A$1:$D$23,4,0)","v":{"$error":"#N/A"}}]
[{"$f":"INDEX(Tabelle2[[#All],[Budgetlinie]],MATCH(Tabelle1[[#This Row],[Maßnahme]],Ausfüllhilfe!$C$1:$C$22,0))","v":{"$error":"#N/A"}},null,null,null,null,null,null,null,null,{"$f":"VLOOKUP(Tabelle1[[#This Row],[Budgetlinie]],Ausfüllhilfe!$A$1:$D$23,4,0)","v":{"$error":"#N/A"}}]
[{"$f":"INDEX(Tabelle2[[#All],[Budgetlinie]],MATCH(Tabelle1[[#This Row],[Maßnahme]],Ausfüllhilfe!$C$1:$C$22,0))","v":{"$error":"#N/A"}},null,null,null,null,null,null,null,null,{"$f":"VLOOKUP(Tabelle1[[#This Row],[Budgetlinie]],Ausfüllhilfe!$A$1:$D$23,4,0)","v":{"$error":"#N/A"}}]
[{"$f":"INDEX(Tabelle2[[#All],[Budgetlinie]],MATCH(Tabelle1[[#This Row],[Maßnahme]],Ausfüllhilfe!$C$1:$C$22,0))","v":{"$error":"#N/A"}},null,null,null,null,null,null,null,null,{"$f":"VLOOKUP(Tabelle1[[#This Row],[Budgetlinie]],Ausfüllhilfe!$A$1:$D$23,4,0)","v":{"$error":"#N/A"}}]
[{"$f":"INDEX(Tabelle2[[#All],[Budgetlinie]],MATCH(Tabelle1[[#This Row],[Maßnahme]],Ausfüllhilfe!$C$1:$C$22,0))","v":{"$error":"#N/A"}},null,null,null,null,null,null,null,null,{"$f":"VLOOKUP(Tabelle1[[#This Row],[Budgetlinie]],Ausfüllhilfe!$A$1:$D$23,4,0)","v":{"$error":"#N/A"}}]
[{"$f":"INDEX(Tabelle2[[#All],[Budgetlinie]],MATCH(Tabelle1[[#This Row],[Maßnahme]],Ausfüllhilfe!$C$1:$C$22,0))","v":{"$error":"#N/A"}},null,null,null,null,null,null,null,null,{"$f":"VLOOKUP(Tabelle1[[#This Row],[Budgetlinie]],Ausfüllhilfe!$A$1:$D$23,4,0)","v":{"$error":"#N/A"}}]
[{"$f":"INDEX(Tabelle2[[#All],[Budgetlinie]],MATCH(Tabelle1[[#This Row],[Maßnahme]],Ausfüllhilfe!$C$1:$C$22,0))","v":{"$error":"#N/A"}},null,null,null,null,null,null,null,null,{"$f":"VLOOKUP(Tabelle1[[#This Row],[Budgetlinie]],Ausfüllhilfe!$A$1:$D$23,4,0)","v":{"$error":"#N/A"}}]
[{"$f":"INDEX(Tabelle2[[#All],[Budgetlinie]],MATCH(Tabelle1[[#This Row],[Maßnahme]],Ausfüllhilfe!$C$1:$C$22,0))","v":{"$error":"#N/A"}},null,null,null,null,null,null,null,null,{"$f":"VLOOKUP(Tabelle1[[#This Row],[Budgetlinie]],Ausfüllhilfe!$A$1:$D$23,4,0)","v":{"$error":"#N/A"}}]
[{"$f":"INDEX(Tabelle2[[#All],[Budgetlinie]],MATCH(Tabelle1[[#This Row],[Maßnahme]],Ausfüllhilfe!$C$1:$C$22,0))","v":{"$error":"#N/A"}},null,null,null,null,null,null,null,null,{"$f":"VLOOKUP(Tabelle1[[#This Row],[Budgetlinie]],Ausfüllhilfe!$A$1:$D$23,4,0)","v":{"$error":"#N/A"}}]
[{"$f":"INDEX(Tabelle2[[#All],[Budgetlinie]],MATCH(Tabelle1[[#This Row],[Maßnahme]],Ausfüllhilfe!$C$1:$C$22,0))","v":{"$error":"#N/A"}},null,null,null,null,null,null,null,null,{"$f":"VLOOKUP(Tabelle1[[#This Row],[Budgetlinie]],Ausfüllhilfe!$A$1:$D$23,4,0)","v":{"$error":"#N/A"}}]
[{"$f":"INDEX(Tabelle2[[#All],[Budgetlinie]],MATCH(Tabelle1[[#This Row],[Maßnahme]],Ausfüllhilfe!$C$1:$C$22,0))","v":{"$error":"#N/A"}},null,null,null,null,null,null,null,null,{"$f":"VLOOKUP(Tabelle1[[#This Row],[Budgetlinie]],Ausfüllhilfe!$A$1:$D$23,4,0)","v":{"$error":"#N/A"}}]
[{"$f":"INDEX(Tabelle2[[#All],[Budgetlinie]],MATCH(Tabelle1[[#This Row],[Maßnahme]],Ausfüllhilfe!$C$1:$C$22,0))","v":{"$error":"#N/A"}},null,null,null,null,null,null,null,null,{"$f":"VLOOKUP(Tabelle1[[#This Row],[Budgetlinie]],Ausfüllhilfe!$A$1:$D$23,4,0)","v":{"$error":"#N/A"}}]
[{"$f":"INDEX(Tabelle2[[#All],[Budgetlinie]],MATCH(Tabelle1[[#This Row],[Maßnahme]],Ausfüllhilfe!$C$1:$C$22,0))","v":{"$error":"#N/A"}},null,null,null,null,null,null,null,null,{"$f":"VLOOKUP(Tabelle1[[#This Row],[Budgetlinie]],Ausfüllhilfe!$A$1:$D$23,4,0)","v":{"$error":"#N/A"}}]
[{"$f":"INDEX(Tabelle2[[#All],[Budgetlinie]],MATCH(Tabelle1[[#This Row],[Maßnahme]],Ausfüllhilfe!$C$1:$C$22,0))","v":{"$error":"#N/A"}},null,null,null,null,null,null,null,null,{"$f":"VLOOKUP(Tabelle1[[#This Row],[Budgetlinie]],Ausfüllhilfe!$A$1:$D$23,4,0)","v":{"$error":"#N/A"}}]
[{"$f":"INDEX(Tabelle2[[#All],[Budgetlinie]],MATCH(Tabelle1[[#This Row],[Maßnahme]],Ausfüllhilfe!$C$1:$C$22,0))","v":{"$error":"#N/A"}},null,null,null,null,null,null,null,null,{"$f":"VLOOKUP(Tabelle1[[#This Row],[Budgetlinie]],Ausfüllhilfe!$A$1:$D$23,4,0)","v":{"$error":"#N/A"}}]
[{"$f":"INDEX(Tabelle2[[#All],[Budgetlinie]],MATCH(Tabelle1[[#This Row],[Maßnahme]],Ausfüllhilfe!$C$1:$C$22,0))","v":{"$error":"#N/A"}},null,null,null,null,null,null,null,null,{"$f":"VLOOKUP(Tabelle1[[#This Row],[Budgetlinie]],Ausfüllhilfe!$A$1:$D$23,4,0)","v":{"$error":"#N/A"}}]
[{"$f":"INDEX(Tabelle2[[#All],[Budgetlinie]],MATCH(Tabelle1[[#This Row],[Maßnahme]],Ausfüllhilfe!$C$1:$C$22,0))","v":{"$error":"#N/A"}},null,null,null,null,null,null,null,null,{"$f":"VLOOKUP(Tabelle1[[#This Row],[Budgetlinie]],Ausfüllhilfe!$A$1:$D$23,4,0)","v":{"$error":"#N/A"}}]
[{"$f":"INDEX(Tabelle2[[#All],[Budgetlinie]],MATCH(Tabelle1[[#This Row],[Maßnahme]],Ausfüllhilfe!$C$1:$C$22,0))","v":{"$error":"#N/A"}},null,null,null,null,null,null,null,null,{"$f":"VLOOKUP(Tabelle1[[#This Row],[Budgetlinie]],Ausfüllhilfe!$A$1:$D$23,4,0)","v":{"$error":"#N/A"}}]
[{"$f":"INDEX(Tabelle2[[#All],[Budgetlinie]],MATCH(Tabelle1[[#This Row],[Maßnahme]],Ausfüllhilfe!$C$1:$C$22,0))","v":{"$error":"#N/A"}},null,null,null,null,null,null,null,null,{"$f":"VLOOKUP(Tabelle1[[#This Row],[Budgetlinie]],Ausfüllhilfe!$A$1:$D$23,4,0)","v":{"$error":"#N/A"}}]
[{"$f":"INDEX(Tabelle2[[#All],[Budgetlinie]],MATCH(Tabelle1[[#This Row],[Maßnahme]],Ausfüllhilfe!$C$1:$C$22,0))","v":{"$error":"#N/A"}},null,null,null,null,null,null,null,null,{"$f":"VLOOKUP(Tabelle1[[#This Row],[Budgetlinie]],Ausfüllhilfe!$A$1:$D$23,4,0)","v":{"$error":"#N/A"}}]
[{"$f":"INDEX(Tabelle2[[#All],[Budgetlinie]],MATCH(Tabelle1[[#This Row],[Maßnahme]],Ausfüllhilfe!$C$1:$C$22,0))","v":{"$error":"#N/A"}},null,null,null,null,null,null,null,null,{"$f":"VLOOKUP(Tabelle1[[#This Row],[Budgetlinie]],Ausfüllhilfe!$A$1:$D$23,4,0)","v":{"$error":"#N/A"}}]
[{"$f":"INDEX(Tabelle2[[#All],[Budgetlinie]],MATCH(Tabelle1[[#This Row],[Maßnahme]],Ausfüllhilfe!$C$1:$C$22,0))","v":{"$error":"#N/A"}},null,null,null,null,null,null,null,null,{"$f":"VLOOKUP(Tabelle1[[#This Row],[Budgetlinie]],Ausfüllhilfe!$A$1:$D$23,4,0)","v":{"$error":"#N/A"}}]
[{"$f":"INDEX(Tabelle2[[#All],[Budgetlinie]],MATCH(Tabelle1[[#This Row],[Maßnahme]],Ausfüllhilfe!$C$1:$C$22,0))","v":{"$error":"#N/A"}},null,null,null,null,null,null,null,null,{"$f":"VLOOKUP(Tabelle1[[#This Row],[Budgetlinie]],Ausfüllhilfe!$A$1:$D$23,4,0)","v":{"$error":"#N/A"}}]
[{"$f":"INDEX(Tabelle2[[#All],[Budgetlinie]],MATCH(Tabelle1[[#This Row],[Maßnahme]],Ausfüllhilfe!$C$1:$C$22,0))","v":{"$error":"#N/A"}},null,null,null,null,null,null,null,null,{"$f":"VLOOKUP(Tabelle1[[#This Row],[Budgetlinie]],Ausfüllhilfe!$A$1:$D$23,4,0)","v":{"$error":"#N/A"}}]
[{"$f":"INDEX(Tabelle2[[#All],[Budgetlinie]],MATCH(Tabelle1[[#This Row],[Maßnahme]],Ausfüllhilfe!$C$1:$C$22,0))","v":{"$error":"#N/A"}},null,null,null,null,null,null,null,null,{"$f":"VLOOKUP(Tabelle1[[#This Row],[Budgetlinie]],Ausfüllhilfe!$A$1:$D$23,4,0)","v":{"$error":"#N/A"}}]
[{"$f":"INDEX(Tabelle2[[#All],[Budgetlinie]],MATCH(Tabelle1[[#This Row],[Maßnahme]],Ausfüllhilfe!$C$1:$C$22,0))","v":{"$error":"#N/A"}},null,null,null,null,null,null,null,null,{"$f":"VLOOKUP(Tabelle1[[#This Row],[Budgetlinie]],Ausfüllhilfe!$A$1:$D$23,4,0)","v":{"$error":"#N/A"}}]
[{"$f":"INDEX(Tabelle2[[#All],[Budgetlinie]],MATCH(Tabelle1[[#This Row],[Maßnahme]],Ausfüllhilfe!$C$1:$C$22,0))","v":{"$error":"#N/A"}},null,null,null,null,null,null,null,null,{"$f":"VLOOKUP(Tabelle1[[#This Row],[Budgetlinie]],Ausfüllhilfe!$A$1:$D$23,4,0)","v":{"$error":"#N/A"}}]
[{"$f":"INDEX(Tabelle2[[#All],[Budgetlinie]],MATCH(Tabelle1[[#This Row],[Maßnahme]],Ausfüllhilfe!$C$1:$C$22,0))","v":{"$error":"#N/A"}},null,null,null,null,null,null,null,null,{"$f":"VLOOKUP(Tabelle1[[#This Row],[Budgetlinie]],Ausfüllhilfe!$A$1:$D$23,4,0)","v":{"$error":"#N/A"}}]
[{"$f":"INDEX(Tabelle2[[#All],[Budgetlinie]],MATCH(Tabelle1[[#This Row],[Maßnahme]],Ausfüllhilfe!$C$1:$C$22,0))","v":{"$error":"#N/A"}},null,null,null,null,null,null,null,null,{"$f":"VLOOKUP(Tabelle1[[#This Row],[Budgetlinie]],Ausfüllhilfe!$A$1:$D$23,4,0)","v":{"$error":"#N/A"}}]
[{"$f":"INDEX(Tabelle2[[#All],[Budgetlinie]],MATCH(Tabelle1[[#This Row],[Maßnahme]],Ausfüllhilfe!$C$1:$C$22,0))","v":{"$error":"#N/A"}},null,null,null,null,null,null,null,null,{"$f":"VLOOKUP(Tabelle1[[#This Row],[Budgetlinie]],Ausfüllhilfe!$A$1:$D$23,4,0)","v":{"$error":"#N/A"}}]
[{"$f":"INDEX(Tabelle2[[#All],[Budgetlinie]],MATCH(Tabelle1[[#This Row],[Maßnahme]],Ausfüllhilfe!$C$1:$C$22,0))","v":{"$error":"#N/A"}},null,null,null,null,null,null,null,null,{"$f":"VLOOKUP(Tabelle1[[#This Row],[Budgetlinie]],Ausfüllhilfe!$A$1:$D$23,4,0)","v":{"$error":"#N/A"}}]
[{"$f":"INDEX(Tabelle2[[#All],[Budgetlinie]],MATCH(Tabelle1[[#This Row],[Maßnahme]],Ausfüllhilfe!$C$1:$C$22,0))","v":{"$error":"#N/A"}},null,null,null,null,null,null,null,null,{"$f":"VLOOKUP(Tabelle1[[#This Row],[Budgetlinie]],Ausfüllhilfe!$A$1:$D$23,4,0)","v":{"$error":"#N/A"}}]
[{"$f":"INDEX(Tabelle2[[#All],[Budgetlinie]],MATCH(Tabelle1[[#This Row],[Maßnahme]],Ausfüllhilfe!$C$1:$C$22,0))","v":{"$error":"#N/A"}},null,null,null,null,null,null,null,null,{"$f":"VLOOKUP(Tabelle1[[#This Row],[Budgetlinie]],Ausfüllhilfe!$A$1:$D$23,4,0)","v":{"$error":"#N/A"}}]
[{"$f":"INDEX(Tabelle2[[#All],[Budgetlinie]],MATCH(Tabelle1[[#This Row],[Maßnahme]],Ausfüllhilfe!$C$1:$C$22,0))","v":{"$error":"#N/A"}},null,null,null,null,null,null,null,null,{"$f":"VLOOKUP(Tabelle1[[#This Row],[Budgetlinie]],Ausfüllhilfe!$A$1:$D$23,4,0)","v":{"$error":"#N/A"}}]
[{"$f":"INDEX(Tabelle2[[#All],[Budgetlinie]],MATCH(Tabelle1[[#This Row],[Maßnahme]],Ausfüllhilfe!$C$1:$C$22,0))","v":{"$error":"#N/A"}},null,null,null,null,null,null,null,null,{"$f":"VLOOKUP(Tabelle1[[#This Row],[Budgetlinie]],Ausfüllhilfe!$A$1:$D$23,4,0)","v":{"$error":"#N/A"}}]
[{"$f":"INDEX(Tabelle2[[#All],[Budgetlinie]],MATCH(Tabelle1[[#This Row],[Maßnahme]],Ausfüllhilfe!$C$1:$C$22,0))","v":{"$error":"#N/A"}},null,null,null,null,null,null,null,null,{"$f":"VLOOKUP(Tabelle1[[#This Row],[Budgetlinie]],Ausfüllhilfe!$A$1:$D$23,4,0)","v":{"$error":"#N/A"}}]
[{"$f":"INDEX(Tabelle2[[#All],[Budgetlinie]],MATCH(Tabelle1[[#This Row],[Maßnahme]],Ausfüllhilfe!$C$1:$C$22,0))","v":{"$error":"#N/A"}},null,null,null,null,null,null,null,null,{"$f":"VLOOKUP(Tabelle1[[#This Row],[Budgetlinie]],Ausfüllhilfe!$A$1:$D$23,4,0)","v":{"$error":"#N/A"}}]
[{"$f":"INDEX(Tabelle2[[#All],[Budgetlinie]],MATCH(Tabelle1[[#This Row],[Maßnahme]],Ausfüllhilfe!$C$1:$C$22,0))","v":{"$error":"#N/A"}},null,null,null,null,null,null,null,null,{"$f":"VLOOKUP(Tabelle1[[#This Row],[Budgetlinie]],Ausfüllhilfe!$A$1:$D$23,4,0)","v":{"$error":"#N/A"}}]
[{"$f":"INDEX(Tabelle2[[#All],[Budgetlinie]],MATCH(Tabelle1[[#This Row],[Maßnahme]],Ausfüllhilfe!$C$1:$C$22,0))","v":{"$error":"#N/A"}},null,null,null,null,null,null,null,null,{"$f":"VLOOKUP(Tabelle1[[#This Row],[Budgetlinie]],Ausfüllhilfe!$A$1:$D$23,4,0)","v":{"$error":"#N/A"}}]
[{"$f":"INDEX(Tabelle2[[#All],[Budgetlinie]],MATCH(Tabelle1[[#This Row],[Maßnahme]],Ausfüllhilfe!$C$1:$C$22,0))","v":{"$error":"#N/A"}},null,null,null,null,null,null,null,null,{"$f":"VLOOKUP(Tabelle1[[#This Row],[Budgetlinie]],Ausfüllhilfe!$A$1:$D$23,4,0)","v":{"$error":"#N/A"}}]
[{"$f":"INDEX(Tabelle2[[#All],[Budgetlinie]],MATCH(Tabelle1[[#This Row],[Maßnahme]],Ausfüllhilfe!$C$1:$C$22,0))","v":{"$error":"#N/A"}},null,null,null,null,null,null,null,null,{"$f":"VLOOKUP(Tabelle1[[#This Row],[Budgetlinie]],Ausfüllhilfe!$A$1:$D$23,4,0)","v":{"$error":"#N/A"}}]
[{"$f":"INDEX(Tabelle2[[#All],[Budgetlinie]],MATCH(Tabelle1[[#This Row],[Maßnahme]],Ausfüllhilfe!$C$1:$C$22,0))","v":{"$error":"#N/A"}},null,null,null,null,null,null,null,null,{"$f":"VLOOKUP(Tabelle1[[#This Row],[Budgetlinie]],Ausfüllhilfe!$A$1:$D$23,4,0)","v":{"$error":"#N/A"}}]
[{"$f":"INDEX(Tabelle2[[#All],[Budgetlinie]],MATCH(Tabelle1[[#This Row],[Maßnahme]],Ausfüllhilfe!$C$1:$C$22,0))","v":{"$error":"#N/A"}},null,null,null,null,null,null,null,null,{"$f":"VLOOKUP(Tabelle1[[#This Row],[Budgetlinie]],Ausfüllhilfe!$A$1:$D$23,4,0)","v":{"$error":"#N/A"}}]
[{"$f":"INDEX(Tabelle2[[#All],[Budgetlinie]],MATCH(Tabelle1[[#This Row],[Maßnahme]],Ausfüllhilfe!$C$1:$C$22,0))","v":{"$error":"#N/A"}},null,null,null,null,null,null,null,null,{"$f":"VLOOKUP(Tabelle1[[#This Row],[Budgetlinie]],Ausfüllhilfe!$A$1:$D$23,4,0)","v":{"$error":"#N/A"}}]
[{"$f":"INDEX(Tabelle2[[#All],[Budgetlinie]],MATCH(Tabelle1[[#This Row],[Maßnahme]],Ausfüllhilfe!$C$1:$C$22,0))","v":{"$error":"#N/A"}},null,null,null,null,null,null,null,null,{"$f":"VLOOKUP(Tabelle1[[#This Row],[Budgetlinie]],Ausfüllhilfe!$A$1:$D$23,4,0)","v":{"$error":"#N/A"}}]
[{"$f":"INDEX(Tabelle2[[#All],[Budgetlinie]],MATCH(Tabelle1[[#This Row],[Maßnahme]],Ausfüllhilfe!$C$1:$C$22,0))","v":{"$error":"#N/A"}},null,null,null,null,null,null,null,null,{"$f":"VLOOKUP(Tabelle1[[#This Row],[Budgetlinie]],Ausfüllhilfe!$A$1:$D$23,4,0)","v":{"$error":"#N/A"}}]
[{"$f":"INDEX(Tabelle2[[#All],[Budgetlinie]],MATCH(Tabelle1[[#This Row],[Maßnahme]],Ausfüllhilfe!$C$1:$C$22,0))","v":{"$error":"#N/A"}},null,null,null,null,null,null,null,null,{"$f":"VLOOKUP(Tabelle1[[#This Row],[Budgetlinie]],Ausfüllhilfe!$A$1:$D$23,4,0)","v":{"$error":"#N/A"}}]
[{"$f":"INDEX(Tabelle2[[#All],[Budgetlinie]],MATCH(Tabelle1[[#This Row],[Maßnahme]],Ausfüllhilfe!$C$1:$C$22,0))","v":{"$error":"#N/A"}},null,null,null,null,null,null,null,null,{"$f":"VLOOKUP(Tabelle1[[#This Row],[Budgetlinie]],Ausfüllhilfe!$A$1:$D$23,4,0)","v":{"$error":"#N/A"}}]
[{"$f":"INDEX(Tabelle2[[#All],[Budgetlinie]],MATCH(Tabelle1[[#This Row],[Maßnahme]],Ausfüllhilfe!$C$1:$C$22,0))","v":{"$error":"#N/A"}},null,null,null,null,null,null,null,null,{"$f":"VLOOKUP(Tabelle1[[#This Row],[Budgetlinie]],Ausfüllhilfe!$A$1:$D$23,4,0)","v":{"$error":"#N/A"}}]
[{"$f":"INDEX(Tabelle2[[#All],[Budgetlinie]],MATCH(Tabelle1[[#This Row],[Maßnahme]],Ausfüllhilfe!$C$1:$C$22,0))","v":{"$error":"#N/A"}},null,null,null,null,null,null,null,null,{"$f":"VLOOKUP(Tabelle1[[#This Row],[Budgetlinie]],Ausfüllhilfe!$A$1:$D$23,4,0)","v":{"$error":"#N/A"}}]
[{"$f":"INDEX(Tabelle2[[#All],[Budgetlinie]],MATCH(Tabelle1[[#This Row],[Maßnahme]],Ausfüllhilfe!$C$1:$C$22,0))","v":{"$error":"#N/A"}},null,null,null,null,null,null,null,null,{"$f":"VLOOKUP(Tabelle1[[#This Row],[Budgetlinie]],Ausfüllhilfe!$A$1:$D$23,4,0)","v":{"$error":"#N/A"}}]
[{"$f":"INDEX(Tabelle2[[#All],[Budgetlinie]],MATCH(Tabelle1[[#This Row],[Maßnahme]],Ausfüllhilfe!$C$1:$C$22,0))","v":{"$error":"#N/A"}},null,null,null,null,null,null,null,null,{"$f":"VLOOKUP(Tabelle1[[#This Row],[Budgetlinie]],Ausfüllhilfe!$A$1:$D$23,4,0)","v":{"$error":"#N/A"}}]
[{"$f":"INDEX(Tabelle2[[#All],[Budgetlinie]],MATCH(Tabelle1[[#This Row],[Maßnahme]],Ausfüllhilfe!$C$1:$C$22,0))","v":{"$error":"#N/A"}},null,null,null,null,null,null,null,null,{"$f":"VLOOKUP(Tabelle1[[#This Row],[Budgetlinie]],Ausfüllhilfe!$A$1:$D$23,4,0)","v":{"$error":"#N/A"}}]
[{"$f":"INDEX(Tabelle2[[#All],[Budgetlinie]],MATCH(Tabelle1[[#This Row],[Maßnahme]],Ausfüllhilfe!$C$1:$C$22,0))","v":{"$error":"#N/A"}},null,null,null,null,null,null,null,null,{"$f":"VLOOKUP(Tabelle1[[#This Row],[Budgetlinie]],Ausfüllhilfe!$A$1:$D$23,4,0)","v":{"$error":"#N/A"}}]
[{"$f":"INDEX(Tabelle2[[#All],[Budgetlinie]],MATCH(Tabelle1[[#This Row],[Maßnahme]],Ausfüllhilfe!$C$1:$C$22,0))","v":{"$error":"#N/A"}},null,null,null,null,null,null,null,null,{"$f":"VLOOKUP(Tabelle1[[#This Row],[Budgetlinie]],Ausfüllhilfe!$A$1:$D$23,4,0)","v":{"$error":"#N/A"}}]
[{"$f":"INDEX(Tabelle2[[#All],[Budgetlinie]],MATCH(Tabelle1[[#This Row],[Maßnahme]],Ausfüllhilfe!$C$1:$C$22,0))","v":{"$error":"#N/A"}},null,null,null,null,null,null,null,null,{"$f":"VLOOKUP(Tabelle1[[#This Row],[Budgetlinie]],Ausfüllhilfe!$A$1:$D$23,4,0)","v":{"$error":"#N/A"}}]
[{"$f":"INDEX(Tabelle2[[#All],[Budgetlinie]],MATCH(Tabelle1[[#This Row],[Maßnahme]],Ausfüllhilfe!$C$1:$C$22,0))","v":{"$error":"#N/A"}},null,null,null,null,null,null,null,null,{"$f":"VLOOKUP(Tabelle1[[#This Row],[Budgetlinie]],Ausfüllhilfe!$A$1:$D$23,4,0)","v":{"$error":"#N/A"}}]
[{"$f":"INDEX(Tabelle2[[#All],[Budgetlinie]],MATCH(Tabelle1[[#This Row],[Maßnahme]],Ausfüllhilfe!$C$1:$C$22,0))","v":{"$error":"#N/A"}},null,null,null,null,null,null,null,null,{"$f":"VLOOKUP(Tabelle1[[#This Row],[Budgetlinie]],Ausfüllhilfe!$A$1:$D$23,4,0)","v":{"$error":"#N/A"}}]
[{"$f":"INDEX(Tabelle2[[#All],[Budgetlinie]],MATCH(Tabelle1[[#This Row],[Maßnahme]],Ausfüllhilfe!$C$1:$C$22,0))","v":{"$error":"#N/A"}},null,null,null,null,null,null,null,null,{"$f":"VLOOKUP(Tabelle1[[#This Row],[Budgetlinie]],Ausfüllhilfe!$A$1:$D$23,4,0)","v":{"$error":"#N/A"}}]
[{"$f":"INDEX(Tabelle2[[#All],[Budgetlinie]],MATCH(Tabelle1[[#This Row],[Maßnahme]],Ausfüllhilfe!$C$1:$C$22,0))","v":{"$error":"#N/A"}},null,null,null,null,null,null,null,null,{"$f":"VLOOKUP(Tabelle1[[#This Row],[Budgetlinie]],Ausfüllhilfe!$A$1:$D$23,4,0)","v":{"$error":"#N/A"}}]
[{"$f":"INDEX(Tabelle2[[#All],[Budgetlinie]],MATCH(Tabelle1[[#This Row],[Maßnahme]],Ausfüllhilfe!$C$1:$C$22,0))","v":{"$error":"#N/A"}},null,null,null,null,null,null,null,null,{"$f":"VLOOKUP(Tabelle1[[#This Row],[Budgetlinie]],Ausfüllhilfe!$A$1:$D$23,4,0)","v":{"$error":"#N/A"}}]
[{"$f":"INDEX(Tabelle2[[#All],[Budgetlinie]],MATCH(Tabelle1[[#This Row],[Maßnahme]],Ausfüllhilfe!$C$1:$C$22,0))","v":{"$error":"#N/A"}},null,null,null,null,null,null,null,null,{"$f":"VLOOKUP(Tabelle1[[#This Row],[Budgetlinie]],Ausfüllhilfe!$A$1:$D$23,4,0)","v":{"$error":"#N/A"}}]
[{"$f":"INDEX(Tabelle2[[#All],[Budgetlinie]],MATCH(Tabelle1[[#This Row],[Maßnahme]],Ausfüllhilfe!$C$1:$C$22,0))","v":{"$error":"#N/A"}},null,null,null,null,null,null,null,null,{"$f":"VLOOKUP(Tabelle1[[#This Row],[Budgetlinie]],Ausfüllhilfe!$A$1:$D$23,4,0)","v":{"$error":"#N/A"}}]
[{"$f":"INDEX(Tabelle2[[#All],[Budgetlinie]],MATCH(Tabelle1[[#This Row],[Maßnahme]],Ausfüllhilfe!$C$1:$C$22,0))","v":{"$error":"#N/A"}},null,null,null,null,null,null,null,null,{"$f":"VLOOKUP(Tabelle1[[#This Row],[Budgetlinie]],Ausfüllhilfe!$A$1:$D$23,4,0)","v":{"$error":"#N/A"}}]
[{"$f":"INDEX(Tabelle2[[#All],[Budgetlinie]],MATCH(Tabelle1[[#This Row],[Maßnahme]],Ausfüllhilfe!$C$1:$C$22,0))","v":{"$error":"#N/A"}},null,null,null,null,null,null,null,null,{"$f":"VLOOKUP(Tabelle1[[#This Row],[Budgetlinie]],Ausfüllhilfe!$A$1:$D$23,4,0)","v":{"$error":"#N/A"}}]
[{"$f":"INDEX(Tabelle2[[#All],[Budgetlinie]],MATCH(Tabelle1[[#This Row],[Maßnahme]],Ausfüllhilfe!$C$1:$C$22,0))","v":{"$error":"#N/A"}},null,null,null,null,null,null,null,null,{"$f":"VLOOKUP(Tabelle1[[#This Row],[Budgetlinie]],Ausfüllhilfe!$A$1:$D$23,4,0)","v":{"$error":"#N/A"}}]
[{"$f":"INDEX(Tabelle2[[#All],[Budgetlinie]],MATCH(Tabelle1[[#This Row],[Maßnahme]],Ausfüllhilfe!$C$1:$C$22,0))","v":{"$error":"#N/A"}},null,null,null,null,null,null,null,null,{"$f":"VLOOKUP(Tabelle1[[#This Row],[Budgetlinie]],Ausfüllhilfe!$A$1:$D$23,4,0)","v":{"$error":"#N/A"}}]
[{"$f":"INDEX(Tabelle2[[#All],[Budgetlinie]],MATCH(Tabelle1[[#This Row],[Maßnahme]],Ausfüllhilfe!$C$1:$C$22,0))","v":{"$error":"#N/A"}},null,null,null,null,null,null,null,null,{"$f":"VLOOKUP(Tabelle1[[#This Row],[Budgetlinie]],Ausfüllhilfe!$A$1:$D$23,4,0)","v":{"$error":"#N/A"}}]
[{"$f":"INDEX(Tabelle2[[#All],[Budgetlinie]],MATCH(Tabelle1[[#This Row],[Maßnahme]],Ausfüllhilfe!$C$1:$C$22,0))","v":{"$error":"#N/A"}},null,null,null,null,null,null,null,null,{"$f":"VLOOKUP(Tabelle1[[#This Row],[Budgetlinie]],Ausfüllhilfe!$A$1:$D$23,4,0)","v":{"$error":"#N/A"}}]
[{"$f":"INDEX(Tabelle2[[#All],[Budgetlinie]],MATCH(Tabelle1[[#This Row],[Maßnahme]],Ausfüllhilfe!$C$1:$C$22,0))","v":{"$error":"#N/A"}},null,null,null,null,null,null,null,null,{"$f":"VLOOKUP(Tabelle1[[#This Row],[Budgetlinie]],Ausfüllhilfe!$A$1:$D$23,4,0)","v":{"$error":"#N/A"}}]
[{"$f":"INDEX(Tabelle2[[#All],[Budgetlinie]],MATCH(Tabelle1[[#This Row],[Maßnahme]],Ausfüllhilfe!$C$1:$C$22,0))","v":{"$error":"#N/A"}},null,null,null,null,null,null,null,null,{"$f":"VLOOKUP(Tabelle1[[#This Row],[Budgetlinie]],Ausfüllhilfe!$A$1:$D$23,4,0)","v":{"$error":"#N/A"}}]
[{"$f":"INDEX(Tabelle2[[#All],[Budgetlinie]],MATCH(Tabelle1[[#This Row],[Maßnahme]],Ausfüllhilfe!$C$1:$C$22,0))","v":{"$error":"#N/A"}},null,null,null,null,null,null,null,null,{"$f":"VLOOKUP(Tabelle1[[#This Row],[Budgetlinie]],Ausfüllhilfe!$A$1:$D$23,4,0)","v":{"$error":"#N/A"}}]
[{"$f":"INDEX(Tabelle2[[#All],[Budgetlinie]],MATCH(Tabelle1[[#This Row],[Maßnahme]],Ausfüllhilfe!$C$1:$C$22,0))","v":{"$error":"#N/A"}},null,null,null,null,null,null,null,null,{"$f":"VLOOKUP(Tabelle1[[#This Row],[Budgetlinie]],Ausfüllhilfe!$A$1:$D$23,4,0)","v":{"$error":"#N/A"}}]
[{"$f":"INDEX(Tabelle2[[#All],[Budgetlinie]],MATCH(Tabelle1[[#This Row],[Maßnahme]],Ausfüllhilfe!$C$1:$C$22,0))","v":{"$error":"#N/A"}},null,null,null,null,null,null,null,null,{"$f":"VLOOKUP(Tabelle1[[#This Row],[Budgetlinie]],Ausfüllhilfe!$A$1:$D$23,4,0)","v":{"$error":"#N/A"}}]
[{"$f":"INDEX(Tabelle2[[#All],[Budgetlinie]],MATCH(Tabelle1[[#This Row],[Maßnahme]],Ausfüllhilfe!$C$1:$C$22,0))","v":{"$error":"#N/A"}},null,null,null,null,null,null,null,null,{"$f":"VLOOKUP(Tabelle1[[#This Row],[Budgetlinie]],Ausfüllhilfe!$A$1:$D$23,4,0)","v":{"$error":"#N/A"}}]
[{"$f":"INDEX(Tabelle2[[#All],[Budgetlinie]],MATCH(Tabelle1[[#This Row],[Maßnahme]],Ausfüllhilfe!$C$1:$C$22,0))","v":{"$error":"#N/A"}},null,null,null,null,null,null,null,null,{"$f":"VLOOKUP(Tabelle1[[#This Row],[Budgetlinie]],Ausfüllhilfe!$A$1:$D$23,4,0)","v":{"$error":"#N/A"}}]
[{"$f":"INDEX(Tabelle2[[#All],[Budgetlinie]],MATCH(Tabelle1[[#This Row],[Maßnahme]],Ausfüllhilfe!$C$1:$C$22,0))","v":{"$error":"#N/A"}},null,null,null,null,null,null,null,null,{"$f":"VLOOKUP(Tabelle1[[#This Row],[Budgetlinie]],Ausfüllhilfe!$A$1:$D$23,4,0)","v":{"$error":"#N/A"}}]
[{"$f":"INDEX(Tabelle2[[#All],[Budgetlinie]],MATCH(Tabelle1[[#This Row],[Maßnahme]],Ausfüllhilfe!$C$1:$C$22,0))","v":{"$error":"#N/A"}},null,null,null,null,null,null,null,null,{"$f":"VLOOKUP(Tabelle1[[#This Row],[Budgetlinie]],Ausfüllhilfe!$A$1:$D$23,4,0)","v":{"$error":"#N/A"}}]
[{"$f":"INDEX(Tabelle2[[#All],[Budgetlinie]],MATCH(Tabelle1[[#This Row],[Maßnahme]],Ausfüllhilfe!$C$1:$C$22,0))","v":{"$error":"#N/A"}},null,null,null,null,null,null,null,null,{"$f":"VLOOKUP(Tabelle1[[#This Row],[Budgetlinie]],Ausfüllhilfe!$A$1:$D$23,4,0)","v":{"$error":"#N/A"}}]
[{"$f":"INDEX(Tabelle2[[#All],[Budgetlinie]],MATCH(Tabelle1[[#This Row],[Maßnahme]],Ausfüllhilfe!$C$1:$C$22,0))","v":{"$error":"#N/A"}},null,null,null,null,null,null,null,null,{"$f":"VLOOKUP(Tabelle1[[#This Row],[Budgetlinie]],Ausfüllhilfe!$A$1:$D$23,4,0)","v":{"$error":"#N/A"}}]
[{"$f":"INDEX(Tabelle2[[#All],[Budgetlinie]],MATCH(Tabelle1[[#This Row],[Maßnahme]],Ausfüllhilfe!$C$1:$C$22,0))","v":{"$error":"#N/A"}},null,null,null,null,null,null,null,null,{"$f":"VLOOKUP(Tabelle1[[#This Row],[Budgetlinie]],Ausfüllhilfe!$A$1:$D$23,4,0)","v":{"$error":"#N/A"}}]
[{"$f":"INDEX(Tabelle2[[#All],[Budgetlinie]],MATCH(Tabelle1[[#This Row],[Maßnahme]],Ausfüllhilfe!$C$1:$C$22,0))","v":{"$error":"#N/A"}},null,null,null,null,null,null,null,null,{"$f":"VLOOKUP(Tabelle1[[#This Row],[Budgetlinie]],Ausfüllhilfe!$A$1:$D$23,4,0)","v":{"$error":"#N/A"}}]
[{"$f":"INDEX(Tabelle2[[#All],[Budgetlinie]],MATCH(Tabelle1[[#This Row],[Maßnahme]],Ausfüllhilfe!$C$1:$C$22,0))","v":{"$error":"#N/A"}},null,null,null,null,null,null,null,null,{"$f":"VLOOKUP(Tabelle1[[#This Row],[Budgetlinie]],Ausfüllhilfe!$A$1:$D$23,4,0)","v":{"$error":"#N/A"}}]
[{"$f":"INDEX(Tabelle2[[#All],[Budgetlinie]],MATCH(Tabelle1[[#This Row],[Maßnahme]],Ausfüllhilfe!$C$1:$C$22,0))","v":{"$error":"#N/A"}},null,null,null,null,null,null,null,null,{"$f":"VLOOKUP(Tabelle1[[#This Row],[Budgetlinie]],Ausfüllhilfe!$A$1:$D$23,4,0)","v":{"$error":"#N/A"}}]
[{"$f":"INDEX(Tabelle2[[#All],[Budgetlinie]],MATCH(Tabelle1[[#This Row],[Maßnahme]],Ausfüllhilfe!$C$1:$C$22,0))","v":{"$error":"#N/A"}},null,null,null,null,null,null,null,null,{"$f":"VLOOKUP(Tabelle1[[#This Row],[Budgetlinie]],Ausfüllhilfe!$A$1:$D$23,4,0)","v":{"$error":"#N/A"}}]
[{"$f":"INDEX(Tabelle2[[#All],[Budgetlinie]],MATCH(Tabelle1[[#This Row],[Maßnahme]],Ausfüllhilfe!$C$1:$C$22,0))","v":{"$error":"#N/A"}},null,null,null,null,null,null,null,null,{"$f":"VLOOKUP(Tabelle1[[#This Row],[Budgetlinie]],Ausfüllhilfe!$A$1:$D$23,4,0)","v":{"$error":"#N/A"}}]
[{"$f":"INDEX(Tabelle2[[#All],[Budgetlinie]],MATCH(Tabelle1[[#This Row],[Maßnahme]],Ausfüllhilfe!$C$1:$C$22,0))","v":{"$error":"#N/A"}},null,null,null,null,null,null,null,null,{"$f":"VLOOKUP(Tabelle1[[#This Row],[Budgetlinie]],Ausfüllhilfe!$A$1:$D$23,4,0)","v":{"$error":"#N/A"}}]
[{"$f":"INDEX(Tabelle2[[#All],[Budgetlinie]],MATCH(Tabelle1[[#This Row],[Maßnahme]],Ausfüllhilfe!$C$1:$C$22,0))","v":{"$error":"#N/A"}},null,null,null,null,null,null,null,null,{"$f":"VLOOKUP(Tabelle1[[#This Row],[Budgetlinie]],Ausfüllhilfe!$A$1:$D$23,4,0)","v":{"$error":"#N/A"}}]
[{"$f":"INDEX(Tabelle2[[#All],[Budgetlinie]],MATCH(Tabelle1[[#This Row],[Maßnahme]],Ausfüllhilfe!$C$1:$C$22,0))","v":{"$error":"#N/A"}},null,null,null,null,null,null,null,null,{"$f":"VLOOKUP(Tabelle1[[#This Row],[Budgetlinie]],Ausfüllhilfe!$A$1:$D$23,4,0)","v":{"$error":"#N/A"}}]
[{"$f":"INDEX(Tabelle2[[#All],[Budgetlinie]],MATCH(Tabelle1[[#This Row],[Maßnahme]],Ausfüllhilfe!$C$1:$C$22,0))","v":{"$error":"#N/A"}},null,null,null,null,null,null,null,null,{"$f":"VLOOKUP(Tabelle1[[#This Row],[Budgetlinie]],Ausfüllhilfe!$A$1:$D$23,4,0)","v":{"$error":"#N/A"}}]
[{"$f":"INDEX(Tabelle2[[#All],[Budgetlinie]],MATCH(Tabelle1[[#This Row],[Maßnahme]],Ausfüllhilfe!$C$1:$C$22,0))","v":{"$error":"#N/A"}},null,null,null,null,null,null,null,null,{"$f":"VLOOKUP(Tabelle1[[#This Row],[Budgetlinie]],Ausfüllhilfe!$A$1:$D$23,4,0)","v":{"$error":"#N/A"}}]
[{"$f":"INDEX(Tabelle2[[#All],[Budgetlinie]],MATCH(Tabelle1[[#This Row],[Maßnahme]],Ausfüllhilfe!$C$1:$C$22,0))","v":{"$error":"#N/A"}},null,null,null,null,null,null,null,null,{"$f":"VLOOKUP(Tabelle1[[#This Row],[Budgetlinie]],Ausfüllhilfe!$A$1:$D$23,4,0)","v":{"$error":"#N/A"}}]
[{"$f":"INDEX(Tabelle2[[#All],[Budgetlinie]],MATCH(Tabelle1[[#This Row],[Maßnahme]],Ausfüllhilfe!$C$1:$C$22,0))","v":{"$error":"#N/A"}},null,null,null,null,null,null,null,null,{"$f":"VLOOKUP(Tabelle1[[#This Row],[Budgetlinie]],Ausfüllhilfe!$A$1:$D$23,4,0)","v":{"$error":"#N/A"}}]
[{"$f":"INDEX(Tabelle2[[#All],[Budgetlinie]],MATCH(Tabelle1[[#This Row],[Maßnahme]],Ausfüllhilfe!$C$1:$C$22,0))","v":{"$error":"#N/A"}},null,null,null,null,null,null,null,null,{"$f":"VLOOKUP(Tabelle1[[#This Row],[Budgetlinie]],Ausfüllhilfe!$A$1:$D$23,4,0)","v":{"$error":"#N/A"}}]
[{"$f":"INDEX(Tabelle2[[#All],[Budgetlinie]],MATCH(Tabelle1[[#This Row],[Maßnahme]],Ausfüllhilfe!$C$1:$C$22,0))","v":{"$error":"#N/A"}},null,null,null,null,null,null,null,null,{"$f":"VLOOKUP(Tabelle1[[#This Row],[Budgetlinie]],Ausfüllhilfe!$A$1:$D$23,4,0)","v":{"$error":"#N/A"}}]
[{"$f":"INDEX(Tabelle2[[#All],[Budgetlinie]],MATCH(Tabelle1[[#This Row],[Maßnahme]],Ausfüllhilfe!$C$1:$C$22,0))","v":{"$error":"#N/A"}},null,null,null,null,null,null,null,null,{"$f":"VLOOKUP(Tabelle1[[#This Row],[Budgetlinie]],Ausfüllhilfe!$A$1:$D$23,4,0)","v":{"$error":"#N/A"}}]
[{"$f":"INDEX(Tabelle2[[#All],[Budgetlinie]],MATCH(Tabelle1[[#This Row],[Maßnahme]],Ausfüllhilfe!$C$1:$C$22,0))","v":{"$error":"#N/A"}},null,null,null,null,null,null,null,null,{"$f":"VLOOKUP(Tabelle1[[#This Row],[Budgetlinie]],Ausfüllhilfe!$A$1:$D$23,4,0)","v":{"$error":"#N/A"}}]
[{"$f":"INDEX(Tabelle2[[#All],[Budgetlinie]],MATCH(Tabelle1[[#This Row],[Maßnahme]],Ausfüllhilfe!$C$1:$C$22,0))","v":{"$error":"#N/A"}},null,null,null,null,null,null,null,null,{"$f":"VLOOKUP(Tabelle1[[#This Row],[Budgetlinie]],Ausfüllhilfe!$A$1:$D$23,4,0)","v":{"$error":"#N/A"}}]
[{"$f":"INDEX(Tabelle2[[#All],[Budgetlinie]],MATCH(Tabelle1[[#This Row],[Maßnahme]],Ausfüllhilfe!$C$1:$C$22,0))","v":{"$error":"#N/A"}},null,null,null,null,null,null,null,null,{"$f":"VLOOKUP(Tabelle1[[#This Row],[Budgetlinie]],Ausfüllhilfe!$A$1:$D$23,4,0)","v":{"$error":"#N/A"}}]
[{"$f":"INDEX(Tabelle2[[#All],[Budgetlinie]],MATCH(Tabelle1[[#This Row],[Maßnahme]],Ausfüllhilfe!$C$1:$C$22,0))","v":{"$error":"#N/A"}},null,null,null,null,null,null,null,null,{"$f":"VLOOKUP(Tabelle1[[#This Row],[Budgetlinie]],Ausfüllhilfe!$A$1:$D$23,4,0)","v":{"$error":"#N/A"}}]
[{"$f":"INDEX(Tabelle2[[#All],[Budgetlinie]],MATCH(Tabelle1[[#This Row],[Maßnahme]],Ausfüllhilfe!$C$1:$C$22,0))","v":{"$error":"#N/A"}},null,null,null,null,null,null,null,null,{"$f":"VLOOKUP(Tabelle1[[#This Row],[Budgetlinie]],Ausfüllhilfe!$A$1:$D$23,4,0)","v":{"$error":"#N/A"}}]
[{"$f":"INDEX(Tabelle2[[#All],[Budgetlinie]],MATCH(Tabelle1[[#This Row],[Maßnahme]],Ausfüllhilfe!$C$1:$C$22,0))","v":{"$error":"#N/A"}},null,null,null,null,null,null,null,null,{"$f":"VLOOKUP(Tabelle1[[#This Row],[Budgetlinie]],Ausfüllhilfe!$A$1:$D$23,4,0)","v":{"$error":"#N/A"}}]
[{"$f":"INDEX(Tabelle2[[#All],[Budgetlinie]],MATCH(Tabelle1[[#This Row],[Maßnahme]],Ausfüllhilfe!$C$1:$C$22,0))","v":{"$error":"#N/A"}},null,null,null,null,null,null,null,null,{"$f":"VLOOKUP(Tabelle1[[#This Row],[Budgetlinie]],Ausfüllhilfe!$A$1:$D$23,4,0)","v":{"$error":"#N/A"}}]
[{"$f":"INDEX(Tabelle2[[#All],[Budgetlinie]],MATCH(Tabelle1[[#This Row],[Maßnahme]],Ausfüllhilfe!$C$1:$C$22,0))","v":{"$error":"#N/A"}},null,null,null,null,null,null,null,null,{"$f":"VLOOKUP(Tabelle1[[#This Row],[Budgetlinie]],Ausfüllhilfe!$A$1:$D$23,4,0)","v":{"$error":"#N/A"}}]
[{"$f":"INDEX(Tabelle2[[#All],[Budgetlinie]],MATCH(Tabelle1[[#This Row],[Maßnahme]],Ausfüllhilfe!$C$1:$C$22,0))","v":{"$error":"#N/A"}},null,null,null,null,null,null,null,null,{"$f":"VLOOKUP(Tabelle1[[#This Row],[Budgetlinie]],Ausfüllhilfe!$A$1:$D$23,4,0)","v":{"$error":"#N/A"}}]
[{"$f":"INDEX(Tabelle2[[#All],[Budgetlinie]],MATCH(Tabelle1[[#This Row],[Maßnahme]],Ausfüllhilfe!$C$1:$C$22,0))","v":{"$error":"#N/A"}},null,null,null,null,null,null,null,null,{"$f":"VLOOKUP(Tabelle1[[#This Row],[Budgetlinie]],Ausfüllhilfe!$A$1:$D$23,4,0)","v":{"$error":"#N/A"}}]
[{"$f":"INDEX(Tabelle2[[#All],[Budgetlinie]],MATCH(Tabelle1[[#This Row],[Maßnahme]],Ausfüllhilfe!$C$1:$C$22,0))","v":{"$error":"#N/A"}},null,null,null,null,null,null,null,null,{"$f":"VLOOKUP(Tabelle1[[#This Row],[Budgetlinie]],Ausfüllhilfe!$A$1:$D$23,4,0)","v":{"$error":"#N/A"}}]
[{"$f":"INDEX(Tabelle2[[#All],[Budgetlinie]],MATCH(Tabelle1[[#This Row],[Maßnahme]],Ausfüllhilfe!$C$1:$C$22,0))","v":{"$error":"#N/A"}},null,null,null,null,null,null,null,null,{"$f":"VLOOKUP(Tabelle1[[#This Row],[Budgetlinie]],Ausfüllhilfe!$A$1:$D$23,4,0)","v":{"$error":"#N/A"}}]
[{"$f":"INDEX(Tabelle2[[#All],[Budgetlinie]],MATCH(Tabelle1[[#This Row],[Maßnahme]],Ausfüllhilfe!$C$1:$C$22,0))","v":{"$error":"#N/A"}},null,null,null,null,null,null,null,null,{"$f":"VLOOKUP(Tabelle1[[#This Row],[Budgetlinie]],Ausfüllhilfe!$A$1:$D$23,4,0)","v":{"$error":"#N/A"}}]
[{"$f":"INDEX(Tabelle2[[#All],[Budgetlinie]],MATCH(Tabelle1[[#This Row],[Maßnahme]],Ausfüllhilfe!$C$1:$C$22,0))","v":{"$error":"#N/A"}},null,null,null,null,null,null,null,null,{"$f":"VLOOKUP(Tabelle1[[#This Row],[Budgetlinie]],Ausfüllhilfe!$A$1:$D$23,4,0)","v":{"$error":"#N/A"}}]
[{"$f":"INDEX(Tabelle2[[#All],[Budgetlinie]],MATCH(Tabelle1[[#This Row],[Maßnahme]],Ausfüllhilfe!$C$1:$C$22,0))","v":{"$error":"#N/A"}},null,null,null,null,null,null,null,null,{"$f":"VLOOKUP(Tabelle1[[#This Row],[Budgetlinie]],Ausfüllhilfe!$A$1:$D$23,4,0)","v":{"$error":"#N/A"}}]
[{"$f":"INDEX(Tabelle2[[#All],[Budgetlinie]],MATCH(Tabelle1[[#This Row],[Maßnahme]],Ausfüllhilfe!$C$1:$C$22,0))","v":{"$error":"#N/A"}},null,null,null,null,null,null,null,null,{"$f":"VLOOKUP(Tabelle1[[#This Row],[Budgetlinie]],Ausfüllhilfe!$A$1:$D$23,4,0)","v":{"$error":"#N/A"}}]
[{"$f":"INDEX(Tabelle2[[#All],[Budgetlinie]],MATCH(Tabelle1[[#This Row],[Maßnahme]],Ausfüllhilfe!$C$1:$C$22,0))","v":{"$error":"#N/A"}},null,null,null,null,null,null,null,null,{"$f":"VLOOKUP(Tabelle1[[#This Row],[Budgetlinie]],Ausfüllhilfe!$A$1:$D$23,4,0)","v":{"$error":"#N/A"}}]
[{"$f":"INDEX(Tabelle2[[#All],[Budgetlinie]],MATCH(Tabelle1[[#This Row],[Maßnahme]],Ausfüllhilfe!$C$1:$C$22,0))","v":{"$error":"#N/A"}},null,null,null,null,null,null,null,null,{"$f":"VLOOKUP(Tabelle1[[#This Row],[Budgetlinie]],Ausfüllhilfe!$A$1:$D$23,4,0)","v":{"$error":"#N/A"}}]
[{"$f":"INDEX(Tabelle2[[#All],[Budgetlinie]],MATCH(Tabelle1[[#This Row],[Maßnahme]],Ausfüllhilfe!$C$1:$C$22,0))","v":{"$error":"#N/A"}},null,null,null,null,null,null,null,null,{"$f":"VLOOKUP(Tabelle1[[#This Row],[Budgetlinie]],Ausfüllhilfe!$A$1:$D$23,4,0)","v":{"$error":"#N/A"}}]
[{"$f":"INDEX(Tabelle2[[#All],[Budgetlinie]],MATCH(Tabelle1[[#This Row],[Maßnahme]],Ausfüllhilfe!$C$1:$C$22,0))","v":{"$error":"#N/A"}},null,null,null,null,null,null,null,null,{"$f":"VLOOKUP(Tabelle1[[#This Row],[Budgetlinie]],Ausfüllhilfe!$A$1:$D$23,4,0)","v":{"$error":"#N/A"}}]
[{"$f":"INDEX(Tabelle2[[#All],[Budgetlinie]],MATCH(Tabelle1[[#This Row],[Maßnahme]],Ausfüllhilfe!$C$1:$C$22,0))","v":{"$error":"#N/A"}},null,null,null,null,null,null,null,null,{"$f":"VLOOKUP(Tabelle1[[#This Row],[Budgetlinie]],Ausfüllhilfe!$A$1:$D$23,4,0)","v":{"$error":"#N/A"}}]
[{"$f":"INDEX(Tabelle2[[#All],[Budgetlinie]],MATCH(Tabelle1[[#This Row],[Maßnahme]],Ausfüllhilfe!$C$1:$C$22,0))","v":{"$error":"#N/A"}},null,null,null,null,null,null,null,null,{"$f":"VLOOKUP(Tabelle1[[#This Row],[Budgetlinie]],Ausfüllhilfe!$A$1:$D$23,4,0)","v":{"$error":"#N/A"}}]
[{"$f":"INDEX(Tabelle2[[#All],[Budgetlinie]],MATCH(Tabelle1[[#This Row],[Maßnahme]],Ausfüllhilfe!$C$1:$C$22,0))","v":{"$error":"#N/A"}},null,null,null,null,null,null,null,null,{"$f":"VLOOKUP(Tabelle1[[#This Row],[Budgetlinie]],Ausfüllhilfe!$A$1:$D$23,4,0)","v":{"$error":"#N/A"}}]
[{"$f":"INDEX(Tabelle2[[#All],[Budgetlinie]],MATCH(Tabelle1[[#This Row],[Maßnahme]],Ausfüllhilfe!$C$1:$C$22,0))","v":{"$error":"#N/A"}},null,null,null,null,null,null,null,null,{"$f":"VLOOKUP(Tabelle1[[#This Row],[Budgetlinie]],Ausfüllhilfe!$A$1:$D$23,4,0)","v":{"$error":"#N/A"}}]
[{"$f":"INDEX(Tabelle2[[#All],[Budgetlinie]],MATCH(Tabelle1[[#This Row],[Maßnahme]],Ausfüllhilfe!$C$1:$C$22,0))","v":{"$error":"#N/A"}},null,null,null,null,null,null,null,null,{"$f":"VLOOKUP(Tabelle1[[#This Row],[Budgetlinie]],Ausfüllhilfe!$A$1:$D$23,4,0)","v":{"$error":"#N/A"}}]
[{"$f":"INDEX(Tabelle2[[#All],[Budgetlinie]],MATCH(Tabelle1[[#This Row],[Maßnahme]],Ausfüllhilfe!$C$1:$C$22,0))","v":{"$error":"#N/A"}},null,null,null,null,null,null,null,null,{"$f":"VLOOKUP(Tabelle1[[#This Row],[Budgetlinie]],Ausfüllhilfe!$A$1:$D$23,4,0)","v":{"$error":"#N/A"}}]
[{"$f":"INDEX(Tabelle2[[#All],[Budgetlinie]],MATCH(Tabelle1[[#This Row],[Maßnahme]],Ausfüllhilfe!$C$1:$C$22,0))","v":{"$error":"#N/A"}},null,null,null,null,null,null,null,null,{"$f":"VLOOKUP(Tabelle1[[#This Row],[Budgetlinie]],Ausfüllhilfe!$A$1:$D$23,4,0)","v":{"$error":"#N/A"}}]
[{"$f":"INDEX(Tabelle2[[#All],[Budgetlinie]],MATCH(Tabelle1[[#This Row],[Maßnahme]],Ausfüllhilfe!$C$1:$C$22,0))","v":{"$error":"#N/A"}},null,null,null,null,null,null,null,null,{"$f":"VLOOKUP(Tabelle1[[#This Row],[Budgetlinie]],Ausfüllhilfe!$A$1:$D$23,4,0)","v":{"$error":"#N/A"}}]
[{"$f":"INDEX(Tabelle2[[#All],[Budgetlinie]],MATCH(Tabelle1[[#This Row],[Maßnahme]],Ausfüllhilfe!$C$1:$C$22,0))","v":{"$error":"#N/A"}},null,null,null,null,null,null,null,null,{"$f":"VLOOKUP(Tabelle1[[#This Row],[Budgetlinie]],Ausfüllhilfe!$A$1:$D$23,4,0)","v":{"$error":"#N/A"}}]
[{"$f":"INDEX(Tabelle2[[#All],[Budgetlinie]],MATCH(Tabelle1[[#This Row],[Maßnahme]],Ausfüllhilfe!$C$1:$C$22,0))","v":{"$error":"#N/A"}},null,null,null,null,null,null,null,null,{"$f":"VLOOKUP(Tabelle1[[#This Row],[Budgetlinie]],Ausfüllhilfe!$A$1:$D$23,4,0)","v":{"$error":"#N/A"}}]
[{"$f":"INDEX(Tabelle2[[#All],[Budgetlinie]],MATCH(Tabelle1[[#This Row],[Maßnahme]],Ausfüllhilfe!$C$1:$C$22,0))","v":{"$error":"#N/A"}},null,null,null,null,null,null,null,null,{"$f":"VLOOKUP(Tabelle1[[#This Row],[Budgetlinie]],Ausfüllhilfe!$A$1:$D$23,4,0)","v":{"$error":"#N/A"}}]
[{"$f":"INDEX(Tabelle2[[#All],[Budgetlinie]],MATCH(Tabelle1[[#This Row],[Maßnahme]],Ausfüllhilfe!$C$1:$C$22,0))","v":{"$error":"#N/A"}},null,null,null,null,null,null,null,null,{"$f":"VLOOKUP(Tabelle1[[#This Row],[Budgetlinie]],Ausfüllhilfe!$A$1:$D$23,4,0)","v":{"$error":"#N/A"}}]
[{"$f":"INDEX(Tabelle2[[#All],[Budgetlinie]],MATCH(Tabelle1[[#This Row],[Maßnahme]],Ausfüllhilfe!$C$1:$C$22,0))","v":{"$error":"#N/A"}},null,null,null,null,null,null,null,null,{"$f":"VLOOKUP(Tabelle1[[#This Row],[Budgetlinie]],Ausfüllhilfe!$A$1:$D$23,4,0)","v":{"$error":"#N/A"}}]
[{"$f":"INDEX(Tabelle2[[#All],[Budgetlinie]],MATCH(Tabelle1[[#This Row],[Maßnahme]],Ausfüllhilfe!$C$1:$C$22,0))","v":{"$error":"#N/A"}},null,null,null,null,null,null,null,null,{"$f":"VLOOKUP(Tabelle1[[#This Row],[Budgetlinie]],Ausfüllhilfe!$A$1:$D$23,4,0)","v":{"$error":"#N/A"}}]
[{"$f":"INDEX(Tabelle2[[#All],[Budgetlinie]],MATCH(Tabelle1[[#This Row],[Maßnahme]],Ausfüllhilfe!$C$1:$C$22,0))","v":{"$error":"#N/A"}},null,null,null,null,null,null,null,null,{"$f":"VLOOKUP(Tabelle1[[#This Row],[Budgetlinie]],Ausfüllhilfe!$A$1:$D$23,4,0)","v":{"$error":"#N/A"}}]
[{"$f":"INDEX(Tabelle2[[#All],[Budgetlinie]],MATCH(Tabelle1[[#This Row],[Maßnahme]],Ausfüllhilfe!$C$1:$C$22,0))","v":{"$error":"#N/A"}},null,null,null,null,null,null,null,null,{"$f":"VLOOKUP(Tabelle1[[#This Row],[Budgetlinie]],Ausfüllhilfe!$A$1:$D$23,4,0)","v":{"$error":"#N/A"}}]
[{"$f":"INDEX(Tabelle2[[#All],[Budgetlinie]],MATCH(Tabelle1[[#This Row],[Maßnahme]],Ausfüllhilfe!$C$1:$C$22,0))","v":{"$error":"#N/A"}},null,null,null,null,null,null,null,null,{"$f":"VLOOKUP(Tabelle1[[#This Row],[Budgetlinie]],Ausfüllhilfe!$A$1:$D$23,4,0)","v":{"$error":"#N/A"}}]
[{"$f":"INDEX(Tabelle2[[#All],[Budgetlinie]],MATCH(Tabelle1[[#This Row],[Maßnahme]],Ausfüllhilfe!$C$1:$C$22,0))","v":{"$error":"#N/A"}},null,null,null,null,null,null,null,null,{"$f":"VLOOKUP(Tabelle1[[#This Row],[Budgetlinie]],Ausfüllhilfe!$A$1:$D$23,4,0)","v":{"$error":"#N/A"}}]
[{"$f":"INDEX(Tabelle2[[#All],[Budgetlinie]],MATCH(Tabelle1[[#This Row],[Maßnahme]],Ausfüllhilfe!$C$1:$C$22,0))","v":{"$error":"#N/A"}},null,null,null,null,null,null,null,null,{"$f":"VLOOKUP(Tabelle1[[#This Row],[Budgetlinie]],Ausfüllhilfe!$A$1:$D$23,4,0)","v":{"$error":"#N/A"}}]
[{"$f":"INDEX(Tabelle2[[#All],[Budgetlinie]],MATCH(Tabelle1[[#This Row],[Maßnahme]],Ausfüllhilfe!$C$1:$C$22,0))","v":{"$error":"#N/A"}},null,null,null,null,null,null,null,null,{"$f":"VLOOKUP(Tabelle1[[#This Row],[Budgetlinie]],Ausfüllhilfe!$A$1:$D$23,4,0)","v":{"$error":"#N/A"}}]
[{"$f":"INDEX(Tabelle2[[#All],[Budgetlinie]],MATCH(Tabelle1[[#This Row],[Maßnahme]],Ausfüllhilfe!$C$1:$C$22,0))","v":{"$error":"#N/A"}},null,null,null,null,null,null,null,null,{"$f":"VLOOKUP(Tabelle1[[#This Row],[Budgetlinie]],Ausfüllhilfe!$A$1:$D$23,4,0)","v":{"$error":"#N/A"}}]
[{"$f":"INDEX(Tabelle2[[#All],[Budgetlinie]],MATCH(Tabelle1[[#This Row],[Maßnahme]],Ausfüllhilfe!$C$1:$C$22,0))","v":{"$error":"#N/A"}},null,null,null,null,null,null,null,null,{"$f":"VLOOKUP(Tabelle1[[#This Row],[Budgetlinie]],Ausfüllhilfe!$A$1:$D$23,4,0)","v":{"$error":"#N/A"}}]
[{"$f":"INDEX(Tabelle2[[#All],[Budgetlinie]],MATCH(Tabelle1[[#This Row],[Maßnahme]],Ausfüllhilfe!$C$1:$C$22,0))","v":{"$error":"#N/A"}},null,null,null,null,null,null,null,null,{"$f":"VLOOKUP(Tabelle1[[#This Row],[Budgetlinie]],Ausfüllhilfe!$A$1:$D$23,4,0)","v":{"$error":"#N/A"}}]
[{"$f":"INDEX(Tabelle2[[#All],[Budgetlinie]],MATCH(Tabelle1[[#This Row],[Maßnahme]],Ausfüllhilfe!$C$1:$C$22,0))","v":{"$error":"#N/A"}},null,null,null,null,null,null,null,null,{"$f":"VLOOKUP(Tabelle1[[#This Row],[Budgetlinie]],Ausfüllhilfe!$A$1:$D$23,4,0)","v":{"$error":"#N/A"}}]
[{"$f":"INDEX(Tabelle2[[#All],[Budgetlinie]],MATCH(Tabelle1[[#This Row],[Maßnahme]],Ausfüllhilfe!$C$1:$C$22,0))","v":{"$error":"#N/A"}},null,null,null,null,null,null,null,null,{"$f":"VLOOKUP(Tabelle1[[#This Row],[Budgetlinie]],Ausfüllhilfe!$A$1:$D$23,4,0)","v":{"$error":"#N/A"}}]
[{"$f":"INDEX(Tabelle2[[#All],[Budgetlinie]],MATCH(Tabelle1[[#This Row],[Maßnahme]],Ausfüllhilfe!$C$1:$C$22,0))","v":{"$error":"#N/A"}},null,null,null,null,null,null,null,null,{"$f":"VLOOKUP(Tabelle1[[#This Row],[Budgetlinie]],Ausfüllhilfe!$A$1:$D$23,4,0)","v":{"$error":"#N/A"}}]
[{"$f":"INDEX(Tabelle2[[#All],[Budgetlinie]],MATCH(Tabelle1[[#This Row],[Maßnahme]],Ausfüllhilfe!$C$1:$C$22,0))","v":{"$error":"#N/A"}},null,null,null,null,null,null,null,null,{"$f":"VLOOKUP(Tabelle1[[#This Row],[Budgetlinie]],Ausfüllhilfe!$A$1:$D$23,4,0)","v":{"$error":"#N/A"}}]
[{"$f":"INDEX(Tabelle2[[#All],[Budgetlinie]],MATCH(Tabelle1[[#This Row],[Maßnahme]],Ausfüllhilfe!$C$1:$C$22,0))","v":{"$error":"#N/A"}},null,null,null,null,null,null,null,null,{"$f":"VLOOKUP(Tabelle1[[#This Row],[Budgetlinie]],Ausfüllhilfe!$A$1:$D$23,4,0)","v":{"$error":"#N/A"}}]
[{"$f":"INDEX(Tabelle2[[#All],[Budgetlinie]],MATCH(Tabelle1[[#This Row],[Maßnahme]],Ausfüllhilfe!$C$1:$C$22,0))","v":{"$error":"#N/A"}},null,null,null,null,null,null,null,null,{"$f":"VLOOKUP(Tabelle1[[#This Row],[Budgetlinie]],Ausfüllhilfe!$A$1:$D$23,4,0)","v":{"$error":"#N/A"}}]
[{"$f":"INDEX(Tabelle2[[#All],[Budgetlinie]],MATCH(Tabelle1[[#This Row],[Maßnahme]],Ausfüllhilfe!$C$1:$C$22,0))","v":{"$error":"#N/A"}},null,null,null,null,null,null,null,null,{"$f":"VLOOKUP(Tabelle1[[#This Row],[Budgetlinie]],Ausfüllhilfe!$A$1:$D$23,4,0)","v":{"$error":"#N/A"}}]
[{"$f":"INDEX(Tabelle2[[#All],[Budgetlinie]],MATCH(Tabelle1[[#This Row],[Maßnahme]],Ausfüllhilfe!$C$1:$C$22,0))","v":{"$error":"#N/A"}},null,null,null,null,null,null,null,null,{"$f":"VLOOKUP(Tabelle1[[#This Row],[Budgetlinie]],Ausfüllhilfe!$A$1:$D$23,4,0)","v":{"$error":"#N/A"}}]
[{"$f":"INDEX(Tabelle2[[#All],[Budgetlinie]],MATCH(Tabelle1[[#This Row],[Maßnahme]],Ausfüllhilfe!$C$1:$C$22,0))","v":{"$error":"#N/A"}},null,null,null,null,null,null,null,null,{"$f":"VLOOKUP(Tabelle1[[#This Row],[Budgetlinie]],Ausfüllhilfe!$A$1:$D$23,4,0)","v":{"$error":"#N/A"}}]
[{"$f":"INDEX(Tabelle2[[#All],[Budgetlinie]],MATCH(Tabelle1[[#This Row],[Maßnahme]],Ausfüllhilfe!$C$1:$C$22,0))","v":{"$error":"#N/A"}},null,null,null,null,null,null,null,null,{"$f":"VLOOKUP(Tabelle1[[#This Row],[Budgetlinie]],Ausfüllhilfe!$A$1:$D$23,4,0)","v":{"$error":"#N/A"}}]
[{"$f":"INDEX(Tabelle2[[#All],[Budgetlinie]],MATCH(Tabelle1[[#This Row],[Maßnahme]],Ausfüllhilfe!$C$1:$C$22,0))","v":{"$error":"#N/A"}},null,null,null,null,null,null,null,null,{"$f":"VLOOKUP(Tabelle1[[#This Row],[Budgetlinie]],Ausfüllhilfe!$A$1:$D$23,4,0)","v":{"$error":"#N/A"}}]
[{"$f":"INDEX(Tabelle2[[#All],[Budgetlinie]],MATCH(Tabelle1[[#This Row],[Maßnahme]],Ausfüllhilfe!$C$1:$C$22,0))","v":{"$error":"#N/A"}},null,null,null,null,null,null,null,null,{"$f":"VLOOKUP(Tabelle1[[#This Row],[Budgetlinie]],Ausfüllhilfe!$A$1:$D$23,4,0)","v":{"$error":"#N/A"}}]
[{"$f":"INDEX(Tabelle2[[#All],[Budgetlinie]],MATCH(Tabelle1[[#This Row],[Maßnahme]],Ausfüllhilfe!$C$1:$C$22,0))","v":{"$error":"#N/A"}},null,null,null,null,null,null,null,null,{"$f":"VLOOKUP(Tabelle1[[#This Row],[Budgetlinie]],Ausfüllhilfe!$A$1:$D$23,4,0)","v":{"$error":"#N/A"}}]
[{"$f":"INDEX(Tabelle2[[#All],[Budgetlinie]],MATCH(Tabelle1[[#This Row],[Maßnahme]],Ausfüllhilfe!$C$1:$C$22,0))","v":{"$error":"#N/A"}},null,null,null,null,null,null,null,null,{"$f":"VLOOKUP(Tabelle1[[#This Row],[Budgetlinie]],Ausfüllhilfe!$A$1:$D$23,4,0)","v":{"$error":"#N/A"}}]
[{"$f":"INDEX(Tabelle2[[#All],[Budgetlinie]],MATCH(Tabelle1[[#This Row],[Maßnahme]],Ausfüllhilfe!$C$1:$C$22,0))","v":{"$error":"#N/A"}},null,null,null,null,null,null,null,null,{"$f":"VLOOKUP(Tabelle1[[#This Row],[Budgetlinie]],Ausfüllhilfe!$A$1:$D$23,4,0)","v":{"$error":"#N/A"}}]
[{"$f":"INDEX(Tabelle2[[#All],[Budgetlinie]],MATCH(Tabelle1[[#This Row],[Maßnahme]],Ausfüllhilfe!$C$1:$C$22,0))","v":{"$error":"#N/A"}},null,null,null,null,null,null,null,null,{"$f":"VLOOKUP(Tabelle1[[#This Row],[Budgetlinie]],Ausfüllhilfe!$A$1:$D$23,4,0)","v":{"$error":"#N/A"}}]
[{"$f":"INDEX(Tabelle2[[#All],[Budgetlinie]],MATCH(Tabelle1[[#This Row],[Maßnahme]],Ausfüllhilfe!$C$1:$C$22,0))","v":{"$error":"#N/A"}},null,null,null,null,null,null,null,null,{"$f":"VLOOKUP(Tabelle1[[#This Row],[Budgetlinie]],Ausfüllhilfe!$A$1:$D$23,4,0)","v":{"$error":"#N/A"}}]
[{"$f":"INDEX(Tabelle2[[#All],[Budgetlinie]],MATCH(Tabelle1[[#This Row],[Maßnahme]],Ausfüllhilfe!$C$1:$C$22,0))","v":{"$error":"#N/A"}},null,null,null,null,null,null,null,null,{"$f":"VLOOKUP(Tabelle1[[#This Row],[Budgetlinie]],Ausfüllhilfe!$A$1:$D$23,4,0)","v":{"$error":"#N/A"}}]
[{"$f":"INDEX(Tabelle2[[#All],[Budgetlinie]],MATCH(Tabelle1[[#This Row],[Maßnahme]],Ausfüllhilfe!$C$1:$C$22,0))","v":{"$error":"#N/A"}},null,null,null,null,null,null,null,null,{"$f":"VLOOKUP(Tabelle1[[#This Row],[Budgetlinie]],Ausfüllhilfe!$A$1:$D$23,4,0)","v":{"$error":"#N/A"}}]
[{"$f":"INDEX(Tabelle2[[#All],[Budgetlinie]],MATCH(Tabelle1[[#This Row],[Maßnahme]],Ausfüllhilfe!$C$1:$C$22,0))","v":{"$error":"#N/A"}},null,null,null,null,null,null,null,null,{"$f":"VLOOKUP(Tabelle1[[#This Row],[Budgetlinie]],Ausfüllhilfe!$A$1:$D$23,4,0)","v":{"$error":"#N/A"}}]
[{"$f":"INDEX(Tabelle2[[#All],[Budgetlinie]],MATCH(Tabelle1[[#This Row],[Maßnahme]],Ausfüllhilfe!$C$1:$C$22,0))","v":{"$error":"#N/A"}},null,null,null,null,null,null,null,null,{"$f":"VLOOKUP(Tabelle1[[#This Row],[Budgetlinie]],Ausfüllhilfe!$A$1:$D$23,4,0)","v":{"$error":"#N/A"}}]
[{"$f":"INDEX(Tabelle2[[#All],[Budgetlinie]],MATCH(Tabelle1[[#This Row],[Maßnahme]],Ausfüllhilfe!$C$1:$C$22,0))","v":{"$error":"#N/A"}},null,null,null,null,null,null,null,null,{"$f":"VLOOKUP(Tabelle1[[#This Row],[Budgetlinie]],Ausfüllhilfe!$A$1:$D$23,4,0)","v":{"$error":"#N/A"}}]
[{"$f":"INDEX(Tabelle2[[#All],[Budgetlinie]],MATCH(Tabelle1[[#This Row],[Maßnahme]],Ausfüllhilfe!$C$1:$C$22,0))","v":{"$error":"#N/A"}},null,null,null,null,null,null,null,null,{"$f":"VLOOKUP(Tabelle1[[#This Row],[Budgetlinie]],Ausfüllhilfe!$A$1:$D$23,4,0)","v":{"$error":"#N/A"}}]
[{"$f":"INDEX(Tabelle2[[#All],[Budgetlinie]],MATCH(Tabelle1[[#This Row],[Maßnahme]],Ausfüllhilfe!$C$1:$C$22,0))","v":{"$error":"#N/A"}},null,null,null,null,null,null,null,null,{"$f":"VLOOKUP(Tabelle1[[#This Row],[Budgetlinie]],Ausfüllhilfe!$A$1:$D$23,4,0)","v":{"$error":"#N/A"}}]
[{"$f":"INDEX(Tabelle2[[#All],[Budgetlinie]],MATCH(Tabelle1[[#This Row],[Maßnahme]],Ausfüllhilfe!$C$1:$C$22,0))","v":{"$error":"#N/A"}},null,null,null,null,null,null,null,null,{"$f":"VLOOKUP(Tabelle1[[#This Row],[Budgetlinie]],Ausfüllhilfe!$A$1:$D$23,4,0)","v":{"$error":"#N/A"}}]
[{"$f":"INDEX(Tabelle2[[#All],[Budgetlinie]],MATCH(Tabelle1[[#This Row],[Maßnahme]],Ausfüllhilfe!$C$1:$C$22,0))","v":{"$error":"#N/A"}},null,null,null,null,null,null,null,null,{"$f":"VLOOKUP(Tabelle1[[#This Row],[Budgetlinie]],Ausfüllhilfe!$A$1:$D$23,4,0)","v":{"$error":"#N/A"}}]
[{"$f":"INDEX(Tabelle2[[#All],[Budgetlinie]],MATCH(Tabelle1[[#This Row],[Maßnahme]],Ausfüllhilfe!$C$1:$C$22,0))","v":{"$error":"#N/A"}},null,null,null,null,null,null,null,null,{"$f":"VLOOKUP(Tabelle1[[#This Row],[Budgetlinie]],Ausfüllhilfe!$A$1:$D$23,4,0)","v":{"$error":"#N/A"}}]
[{"$f":"INDEX(Tabelle2[[#All],[Budgetlinie]],MATCH(Tabelle1[[#This Row],[Maßnahme]],Ausfüllhilfe!$C$1:$C$22,0))","v":{"$error":"#N/A"}},null,null,null,null,null,null,null,null,{"$f":"VLOOKUP(Tabelle1[[#This Row],[Budgetlinie]],Ausfüllhilfe!$A$1:$D$23,4,0)","v":{"$error":"#N/A"}}]
[{"$f":"INDEX(Tabelle2[[#All],[Budgetlinie]],MATCH(Tabelle1[[#This Row],[Maßnahme]],Ausfüllhilfe!$C$1:$C$22,0))","v":{"$error":"#N/A"}},null,null,null,null,null,null,null,null,{"$f":"VLOOKUP(Tabelle1[[#This Row],[Budgetlinie]],Ausfüllhilfe!$A$1:$D$23,4,0)","v":{"$error":"#N/A"}}]
[{"$f":"INDEX(Tabelle2[[#All],[Budgetlinie]],MATCH(Tabelle1[[#This Row],[Maßnahme]],Ausfüllhilfe!$C$1:$C$22,0))","v":{"$error":"#N/A"}},null,null,null,null,null,null,null,null,{"$f":"VLOOKUP(Tabelle1[[#This Row],[Budgetlinie]],Ausfüllhilfe!$A$1:$D$23,4,0)","v":{"$error":"#N/A"}}]
[{"$f":"INDEX(Tabelle2[[#All],[Budgetlinie]],MATCH(Tabelle1[[#This Row],[Maßnahme]],Ausfüllhilfe!$C$1:$C$22,0))","v":{"$error":"#N/A"}},null,null,null,null,null,null,null,null,{"$f":"VLOOKUP(Tabelle1[[#This Row],[Budgetlinie]],Ausfüllhilfe!$A$1:$D$23,4,0)","v":{"$error":"#N/A"}}]
[{"$f":"INDEX(Tabelle2[[#All],[Budgetlinie]],MATCH(Tabelle1[[#This Row],[Maßnahme]],Ausfüllhilfe!$C$1:$C$22,0))","v":{"$error":"#N/A"}},null,null,null,null,null,null,null,null,{"$f":"VLOOKUP(Tabelle1[[#This Row],[Budgetlinie]],Ausfüllhilfe!$A$1:$D$23,4,0)","v":{"$error":"#N/A"}}]
[{"$f":"INDEX(Tabelle2[[#All],[Budgetlinie]],MATCH(Tabelle1[[#This Row],[Maßnahme]],Ausfüllhilfe!$C$1:$C$22,0))","v":{"$error":"#N/A"}},null,null,null,null,null,null,null,null,{"$f":"VLOOKUP(Tabelle1[[#This Row],[Budgetlinie]],Ausfüllhilfe!$A$1:$D$23,4,0)","v":{"$error":"#N/A"}}]
[{"$f":"INDEX(Tabelle2[[#All],[Budgetlinie]],MATCH(Tabelle1[[#This Row],[Maßnahme]],Ausfüllhilfe!$C$1:$C$22,0))","v":{"$error":"#N/A"}},null,null,null,null,null,null,null,null,{"$f":"VLOOKUP(Tabelle1[[#This Row],[Budgetlinie]],Ausfüllhilfe!$A$1:$D$23,4,0)","v":{"$error":"#N/A"}}]
[{"$f":"INDEX(Tabelle2[[#All],[Budgetlinie]],MATCH(Tabelle1[[#This Row],[Maßnahme]],Ausfüllhilfe!$C$1:$C$22,0))","v":{"$error":"#N/A"}},null,null,null,null,null,null,null,null,{"$f":"VLOOKUP(Tabelle1[[#This Row],[Budgetlinie]],Ausfüllhilfe!$A$1:$D$23,4,0)","v":{"$error":"#N/A"}}]
[{"$f":"INDEX(Tabelle2[[#All],[Budgetlinie]],MATCH(Tabelle1[[#This Row],[Maßnahme]],Ausfüllhilfe!$C$1:$C$22,0))","v":{"$error":"#N/A"}},null,null,null,null,null,null,null,null,{"$f":"VLOOKUP(Tabelle1[[#This Row],[Budgetlinie]],Ausfüllhilfe!$A$1:$D$23,4,0)","v":{"$error":"#N/A"}}]
[{"$f":"INDEX(Tabelle2[[#All],[Budgetlinie]],MATCH(Tabelle1[[#This Row],[Maßnahme]],Ausfüllhilfe!$C$1:$C$22,0))","v":{"$error":"#N/A"}},null,null,null,null,null,null,null,null,{"$f":"VLOOKUP(Tabelle1[[#This Row],[Budgetlinie]],Ausfüllhilfe!$A$1:$D$23,4,0)","v":{"$error":"#N/A"}}]
[{"$f":"INDEX(Tabelle2[[#All],[Budgetlinie]],MATCH(Tabelle1[[#This Row],[Maßnahme]],Ausfüllhilfe!$C$1:$C$22,0))","v":{"$error":"#N/A"}},null,null,null,null,null,null,null,null,{"$f":"VLOOKUP(Tabelle1[[#This Row],[Budgetlinie]],Ausfüllhilfe!$A$1:$D$23,4,0)","v":{"$error":"#N/A"}}]
[{"$f":"INDEX(Tabelle2[[#All],[Budgetlinie]],MATCH(Tabelle1[[#This Row],[Maßnahme]],Ausfüllhilfe!$C$1:$C$22,0))","v":{"$error":"#N/A"}},null,null,null,null,null,null,null,null,{"$f":"VLOOKUP(Tabelle1[[#This Row],[Budgetlinie]],Ausfüllhilfe!$A$1:$D$23,4,0)","v":{"$error":"#N/A"}}]
[{"$f":"INDEX(Tabelle2[[#All],[Budgetlinie]],MATCH(Tabelle1[[#This Row],[Maßnahme]],Ausfüllhilfe!$C$1:$C$22,0))","v":{"$error":"#N/A"}},null,null,null,null,null,null,null,null,{"$f":"VLOOKUP(Tabelle1[[#This Row],[Budgetlinie]],Ausfüllhilfe!$A$1:$D$23,4,0)","v":{"$error":"#N/A"}}]
[{"$f":"INDEX(Tabelle2[[#All],[Budgetlinie]],MATCH(Tabelle1[[#This Row],[Maßnahme]],Ausfüllhilfe!$C$1:$C$22,0))","v":{"$error":"#N/A"}},null,null,null,null,null,null,null,null,{"$f":"VLOOKUP(Tabelle1[[#This Row],[Budgetlinie]],Ausfüllhilfe!$A$1:$D$23,4,0)","v":{"$error":"#N/A"}}]
[{"$f":"INDEX(Tabelle2[[#All],[Budgetlinie]],MATCH(Tabelle1[[#This Row],[Maßnahme]],Ausfüllhilfe!$C$1:$C$22,0))","v":{"$error":"#N/A"}},null,null,null,null,null,null,null,null,{"$f":"VLOOKUP(Tabelle1[[#This Row],[Budgetlinie]],Ausfüllhilfe!$A$1:$D$23,4,0)","v":{"$error":"#N/A"}}]
[{"$f":"INDEX(Tabelle2[[#All],[Budgetlinie]],MATCH(Tabelle1[[#This Row],[Maßnahme]],Ausfüllhilfe!$C$1:$C$22,0))","v":{"$error":"#N/A"}},null,null,null,null,null,null,null,null,{"$f":"VLOOKUP(Tabelle1[[#This Row],[Budgetlinie]],Ausfüllhilfe!$A$1:$D$23,4,0)","v":{"$error":"#N/A"}}]
[{"$f":"INDEX(Tabelle2[[#All],[Budgetlinie]],MATCH(Tabelle1[[#This Row],[Maßnahme]],Ausfüllhilfe!$C$1:$C$22,0))","v":{"$error":"#N/A"}},null,null,null,null,null,null,null,null,{"$f":"VLOOKUP(Tabelle1[[#This Row],[Budgetlinie]],Ausfüllhilfe!$A$1:$D$23,4,0)","v":{"$error":"#N/A"}}]
[{"$f":"INDEX(Tabelle2[[#All],[Budgetlinie]],MATCH(Tabelle1[[#This Row],[Maßnahme]],Ausfüllhilfe!$C$1:$C$22,0))","v":{"$error":"#N/A"}},null,null,null,null,null,null,null,null,{"$f":"VLOOKUP(Tabelle1[[#This Row],[Budgetlinie]],Ausfüllhilfe!$A$1:$D$23,4,0)","v":{"$error":"#N/A"}}]
[{"$f":"INDEX(Tabelle2[[#All],[Budgetlinie]],MATCH(Tabelle1[[#This Row],[Maßnahme]],Ausfüllhilfe!$C$1:$C$22,0))","v":{"$error":"#N/A"}},null,null,null,null,null,null,null,null,{"$f":"VLOOKUP(Tabelle1[[#This Row],[Budgetlinie]],Ausfüllhilfe!$A$1:$D$23,4,0)","v":{"$error":"#N/A"}}]
[{"$f":"INDEX(Tabelle2[[#All],[Budgetlinie]],MATCH(Tabelle1[[#This Row],[Maßnahme]],Ausfüllhilfe!$C$1:$C$22,0))","v":{"$error":"#N/A"}},null,null,null,null,null,null,null,null,{"$f":"VLOOKUP(Tabelle1[[#This Row],[Budgetlinie]],Ausfüllhilfe!$A$1:$D$23,4,0)","v":{"$error":"#N/A"}}]
[{"$f":"INDEX(Tabelle2[[#All],[Budgetlinie]],MATCH(Tabelle1[[#This Row],[Maßnahme]],Ausfüllhilfe!$C$1:$C$22,0))","v":{"$error":"#N/A"}},null,null,null,null,null,null,null,null,{"$f":"VLOOKUP(Tabelle1[[#This Row],[Budgetlinie]],Ausfüllhilfe!$A$1:$D$23,4,0)","v":{"$error":"#N/A"}}]
[{"$f":"INDEX(Tabelle2[[#All],[Budgetlinie]],MATCH(Tabelle1[[#This Row],[Maßnahme]],Ausfüllhilfe!$C$1:$C$22,0))","v":{"$error":"#N/A"}},null,null,null,null,null,null,null,null,{"$f":"VLOOKUP(Tabelle1[[#This Row],[Budgetlinie]],Ausfüllhilfe!$A$1:$D$23,4,0)","v":{"$error":"#N/A"}}]
[{"$f":"INDEX(Tabelle2[[#All],[Budgetlinie]],MATCH(Tabelle1[[#This Row],[Maßnahme]],Ausfüllhilfe!$C$1:$C$22,0))","v":{"$error":"#N/A"}},null,null,null,null,null,null,null,null,{"$f":"VLOOKUP(Tabelle1[[#This Row],[Budgetlinie]],Ausfüllhilfe!$A$1:$D$23,4,0)","v":{"$error":"#N/A"}}]
[{"$f":"INDEX(Tabelle2[[#All],[Budgetlinie]],MATCH(Tabelle1[[#This Row],[Maßnahme]],Ausfüllhilfe!$C$1:$C$22,0))","v":{"$error":"#N/A"}},null,null,null,null,null,null,null,null,{"$f":"VLOOKUP(Tabelle1[[#This Row],[Budgetlinie]],Ausfüllhilfe!$A$1:$D$23,4,0)","v":{"$error":"#N/A"}}]
[{"$f":"INDEX(Tabelle2[[#All],[Budgetlinie]],MATCH(Tabelle1[[#This Row],[Maßnahme]],Ausfüllhilfe!$C$1:$C$22,0))","v":{"$error":"#N/A"}},null,null,null,null,null,null,null,null,{"$f":"VLOOKUP(Tabelle1[[#This Row],[Budgetlinie]],Ausfüllhilfe!$A$1:$D$23,4,0)","v":{"$error":"#N/A"}}]
[{"$f":"INDEX(Tabelle2[[#All],[Budgetlinie]],MATCH(Tabelle1[[#This Row],[Maßnahme]],Ausfüllhilfe!$C$1:$C$22,0))","v":{"$error":"#N/A"}},null,null,null,null,null,null,null,null,{"$f":"VLOOKUP(Tabelle1[[#This Row],[Budgetlinie]],Ausfüllhilfe!$A$1:$D$23,4,0)","v":{"$error":"#N/A"}}]
[{"$f":"INDEX(Tabelle2[[#All],[Budgetlinie]],MATCH(Tabelle1[[#This Row],[Maßnahme]],Ausfüllhilfe!$C$1:$C$22,0))","v":{"$error":"#N/A"}},null,null,null,null,null,null,null,null,{"$f":"VLOOKUP(Tabelle1[[#This Row],[Budgetlinie]],Ausfüllhilfe!$A$1:$D$23,4,0)","v":{"$error":"#N/A"}}]
[{"$f":"INDEX(Tabelle2[[#All],[Budgetlinie]],MATCH(Tabelle1[[#This Row],[Maßnahme]],Ausfüllhilfe!$C$1:$C$22,0))","v":{"$error":"#N/A"}},null,null,null,null,null,null,null,null,{"$f":"VLOOKUP(Tabelle1[[#This Row],[Budgetlinie]],Ausfüllhilfe!$A$1:$D$23,4,0)","v":{"$error":"#N/A"}}]
[{"$f":"INDEX(Tabelle2[[#All],[Budgetlinie]],MATCH(Tabelle1[[#This Row],[Maßnahme]],Ausfüllhilfe!$C$1:$C$22,0))","v":{"$error":"#N/A"}},null,null,null,null,null,null,null,null,{"$f":"VLOOKUP(Tabelle1[[#This Row],[Budgetlinie]],Ausfüllhilfe!$A$1:$D$23,4,0)","v":{"$error":"#N/A"}}]
[{"$f":"INDEX(Tabelle2[[#All],[Budgetlinie]],MATCH(Tabelle1[[#This Row],[Maßnahme]],Ausfüllhilfe!$C$1:$C$22,0))","v":{"$error":"#N/A"}},null,null,null,null,null,null,null,null,{"$f":"VLOOKUP(Tabelle1[[#This Row],[Budgetlinie]],Ausfüllhilfe!$A$1:$D$23,4,0)","v":{"$error":"#N/A"}}]
[{"$f":"INDEX(Tabelle2[[#All],[Budgetlinie]],MATCH(Tabelle1[[#This Row],[Maßnahme]],Ausfüllhilfe!$C$1:$C$22,0))","v":{"$error":"#N/A"}},null,null,null,null,null,null,null,null,{"$f":"VLOOKUP(Tabelle1[[#This Row],[Budgetlinie]],Ausfüllhilfe!$A$1:$D$23,4,0)","v":{"$error":"#N/A"}}]
[{"$f":"INDEX(Tabelle2[[#All],[Budgetlinie]],MATCH(Tabelle1[[#This Row],[Maßnahme]],Ausfüllhilfe!$C$1:$C$22,0))","v":{"$error":"#N/A"}},null,null,null,null,null,null,null,null,{"$f":"VLOOKUP(Tabelle1[[#This Row],[Budgetlinie]],Ausfüllhilfe!$A$1:$D$23,4,0)","v":{"$error":"#N/A"}}]
[{"$f":"INDEX(Tabelle2[[#All],[Budgetlinie]],MATCH(Tabelle1[[#This Row],[Maßnahme]],Ausfüllhilfe!$C$1:$C$22,0))","v":{"$error":"#N/A"}},null,null,null,null,null,null,null,null,{"$f":"VLOOKUP(Tabelle1[[#This Row],[Budgetlinie]],Ausfüllhilfe!$A$1:$D$23,4,0)","v":{"$error":"#N/A"}}]
[{"$f":"INDEX(Tabelle2[[#All],[Budgetlinie]],MATCH(Tabelle1[[#This Row],[Maßnahme]],Ausfüllhilfe!$C$1:$C$22,0))","v":{"$error":"#N/A"}},null,null,null,null,null,null,null,null,{"$f":"VLOOKUP(Tabelle1[[#This Row],[Budgetlinie]],Ausfüllhilfe!$A$1:$D$23,4,0)","v":{"$error":"#N/A"}}]
[{"$f":"INDEX(Tabelle2[[#All],[Budgetlinie]],MATCH(Tabelle1[[#This Row],[Maßnahme]],Ausfüllhilfe!$C$1:$C$22,0))","v":{"$error":"#N/A"}},null,null,null,null,null,null,null,null,{"$f":"VLOOKUP(Tabelle1[[#This Row],[Budgetlinie]],Ausfüllhilfe!$A$1:$D$23,4,0)","v":{"$error":"#N/A"}}]
[{"$f":"INDEX(Tabelle2[[#All],[Budgetlinie]],MATCH(Tabelle1[[#This Row],[Maßnahme]],Ausfüllhilfe!$C$1:$C$22,0))","v":{"$error":"#N/A"}},null,null,null,null,null,null,null,null,{"$f":"VLOOKUP(Tabelle1[[#This Row],[Budgetlinie]],Ausfüllhilfe!$A$1:$D$23,4,0)","v":{"$error":"#N/A"}}]
[{"$f":"INDEX(Tabelle2[[#All],[Budgetlinie]],MATCH(Tabelle1[[#This Row],[Maßnahme]],Ausfüllhilfe!$C$1:$C$22,0))","v":{"$error":"#N/A"}},null,null,null,null,null,null,null,null,{"$f":"VLOOKUP(Tabelle1[[#This Row],[Budgetlinie]],Ausfüllhilfe!$A$1:$D$23,4,0)","v":{"$error":"#N/A"}}]
[{"$f":"INDEX(Tabelle2[[#All],[Budgetlinie]],MATCH(Tabelle1[[#This Row],[Maßnahme]],Ausfüllhilfe!$C$1:$C$22,0))","v":{"$error":"#N/A"}},null,null,null,null,null,null,null,null,{"$f":"VLOOKUP(Tabelle1[[#This Row],[Budgetlinie]],Ausfüllhilfe!$A$1:$D$23,4,0)","v":{"$error":"#N/A"}}]
[{"$f":"INDEX(Tabelle2[[#All],[Budgetlinie]],MATCH(Tabelle1[[#This Row],[Maßnahme]],Ausfüllhilfe!$C$1:$C$22,0))","v":{"$error":"#N/A"}},null,null,null,null,null,null,null,null,{"$f":"VLOOKUP(Tabelle1[[#This Row],[Budgetlinie]],Ausfüllhilfe!$A$1:$D$23,4,0)","v":{"$error":"#N/A"}}]
[{"$f":"INDEX(Tabelle2[[#All],[Budgetlinie]],MATCH(Tabelle1[[#This Row],[Maßnahme]],Ausfüllhilfe!$C$1:$C$22,0))","v":{"$error":"#N/A"}},null,null,null,null,null,null,null,null,{"$f":"VLOOKUP(Tabelle1[[#This Row],[Budgetlinie]],Ausfüllhilfe!$A$1:$D$23,4,0)","v":{"$error":"#N/A"}}]
[{"$f":"INDEX(Tabelle2[[#All],[Budgetlinie]],MATCH(Tabelle1[[#This Row],[Maßnahme]],Ausfüllhilfe!$C$1:$C$22,0))","v":{"$error":"#N/A"}},null,null,null,null,null,null,null,null,{"$f":"VLOOKUP(Tabelle1[[#This Row],[Budgetlinie]],Ausfüllhilfe!$A$1:$D$23,4,0)","v":{"$error":"#N/A"}}]
[{"$f":"INDEX(Tabelle2[[#All],[Budgetlinie]],MATCH(Tabelle1[[#This Row],[Maßnahme]],Ausfüllhilfe!$C$1:$C$22,0))","v":{"$error":"#N/A"}},null,null,null,null,null,null,null,null,{"$f":"VLOOKUP(Tabelle1[[#This Row],[Budgetlinie]],Ausfüllhilfe!$A$1:$D$23,4,0)","v":{"$error":"#N/A"}}]
[{"$f":"INDEX(Tabelle2[[#All],[Budgetlinie]],MATCH(Tabelle1[[#This Row],[Maßnahme]],Ausfüllhilfe!$C$1:$C$22,0))","v":{"$error":"#N/A"}},null,null,null,null,null,null,null,null,{"$f":"VLOOKUP(Tabelle1[[#This Row],[Budgetlinie]],Ausfüllhilfe!$A$1:$D$23,4,0)","v":{"$error":"#N/A"}}]
[{"$f":"INDEX(Tabelle2[[#All],[Budgetlinie]],MATCH(Tabelle1[[#This Row],[Maßnahme]],Ausfüllhilfe!$C$1:$C$22,0))","v":{"$error":"#N/A"}},null,null,null,null,null,null,null,null,{"$f":"VLOOKUP(Tabelle1[[#This Row],[Budgetlinie]],Ausfüllhilfe!$A$1:$D$23,4,0)","v":{"$error":"#N/A"}}]
[{"$f":"INDEX(Tabelle2[[#All],[Budgetlinie]],MATCH(Tabelle1[[#This Row],[Maßnahme]],Ausfüllhilfe!$C$1:$C$22,0))","v":{"$error":"#N/A"}},null,null,null,null,null,null,null,null,{"$f":"VLOOKUP(Tabelle1[[#This Row],[Budgetlinie]],Ausfüllhilfe!$A$1:$D$23,4,0)","v":{"$error":"#N/A"}}]
[{"$f":"INDEX(Tabelle2[[#All],[Budgetlinie]],MATCH(Tabelle1[[#This Row],[Maßnahme]],Ausfüllhilfe!$C$1:$C$22,0))","v":{"$error":"#N/A"}},null,null,null,null,null,null,null,null,{"$f":"VLOOKUP(Tabelle1[[#This Row],[Budgetlinie]],Ausfüllhilfe!$A$1:$D$23,4,0)","v":{"$error":"#N/A"}}]
[{"$f":"INDEX(Tabelle2[[#All],[Budgetlinie]],MATCH(Tabelle1[[#This Row],[Maßnahme]],Ausfüllhilfe!$C$1:$C$22,0))","v":{"$error":"#N/A"}},null,null,null,null,null,null,null,null,{"$f":"VLOOKUP(Tabelle1[[#This Row],[Budgetlinie]],Ausfüllhilfe!$A$1:$D$23,4,0)","v":{"$error":"#N/A"}}]
[{"$f":"INDEX(Tabelle2[[#All],[Budgetlinie]],MATCH(Tabelle1[[#This Row],[Maßnahme]],Ausfüllhilfe!$C$1:$C$22,0))","v":{"$error":"#N/A"}},null,null,null,null,null,null,null,null,{"$f":"VLOOKUP(Tabelle1[[#This Row],[Budgetlinie]],Ausfüllhilfe!$A$1:$D$23,4,0)","v":{"$error":"#N/A"}}]
[{"$f":"INDEX(Tabelle2[[#All],[Budgetlinie]],MATCH(Tabelle1[[#This Row],[Maßnahme]],Ausfüllhilfe!$C$1:$C$22,0))","v":{"$error":"#N/A"}},null,null,null,null,null,null,null,null,{"$f":"VLOOKUP(Tabelle1[[#This Row],[Budgetlinie]],Ausfüllhilfe!$A$1:$D$23,4,0)","v":{"$error":"#N/A"}}]
[{"$f":"INDEX(Tabelle2[[#All],[Budgetlinie]],MATCH(Tabelle1[[#This Row],[Maßnahme]],Ausfüllhilfe!$C$1:$C$22,0))","v":{"$error":"#N/A"}},null,null,null,null,null,null,null,null,{"$f":"VLOOKUP(Tabelle1[[#This Row],[Budgetlinie]],Ausfüllhilfe!$A$1:$D$23,4,0)","v":{"$error":"#N/A"}}]
[{"$f":"INDEX(Tabelle2[[#All],[Budgetlinie]],MATCH(Tabelle1[[#This Row],[Maßnahme]],Ausfüllhilfe!$C$1:$C$22,0))","v":{"$error":"#N/A"}},null,null,null,null,null,null,null,null,{"$f":"VLOOKUP(Tabelle1[[#This Row],[Budgetlinie]],Ausfüllhilfe!$A$1:$D$23,4,0)","v":{"$error":"#N/A"}}]
[{"$f":"INDEX(Tabelle2[[#All],[Budgetlinie]],MATCH(Tabelle1[[#This Row],[Maßnahme]],Ausfüllhilfe!$C$1:$C$22,0))","v":{"$error":"#N/A"}},null,null,null,null,null,null,null,null,{"$f":"VLOOKUP(Tabelle1[[#This Row],[Budgetlinie]],Ausfüllhilfe!$A$1:$D$23,4,0)","v":{"$error":"#N/A"}}]
[{"$f":"INDEX(Tabelle2[[#All],[Budgetlinie]],MATCH(Tabelle1[[#This Row],[Maßnahme]],Ausfüllhilfe!$C$1:$C$22,0))","v":{"$error":"#N/A"}},null,null,null,null,null,null,null,null,{"$f":"VLOOKUP(Tabelle1[[#This Row],[Budgetlinie]],Ausfüllhilfe!$A$1:$D$23,4,0)","v":{"$error":"#N/A"}}]
[{"$f":"INDEX(Tabelle2[[#All],[Budgetlinie]],MATCH(Tabelle1[[#This Row],[Maßnahme]],Ausfüllhilfe!$C$1:$C$22,0))","v":{"$error":"#N/A"}},null,null,null,null,null,null,null,null,{"$f":"VLOOKUP(Tabelle1[[#This Row],[Budgetlinie]],Ausfüllhilfe!$A$1:$D$23,4,0)","v":{"$error":"#N/A"}}]
[{"$f":"INDEX(Tabelle2[[#All],[Budgetlinie]],MATCH(Tabelle1[[#This Row],[Maßnahme]],Ausfüllhilfe!$C$1:$C$22,0))","v":{"$error":"#N/A"}},null,null,null,null,null,null,null,null,{"$f":"VLOOKUP(Tabelle1[[#This Row],[Budgetlinie]],Ausfüllhilfe!$A$1:$D$23,4,0)","v":{"$error":"#N/A"}}]
[{"$f":"INDEX(Tabelle2[[#All],[Budgetlinie]],MATCH(Tabelle1[[#This Row],[Maßnahme]],Ausfüllhilfe!$C$1:$C$22,0))","v":{"$error":"#N/A"}},null,null,null,null,null,null,null,null,{"$f":"VLOOKUP(Tabelle1[[#This Row],[Budgetlinie]],Ausfüllhilfe!$A$1:$D$23,4,0)","v":{"$error":"#N/A"}}]
[{"$f":"INDEX(Tabelle2[[#All],[Budgetlinie]],MATCH(Tabelle1[[#This Row],[Maßnahme]],Ausfüllhilfe!$C$1:$C$22,0))","v":{"$error":"#N/A"}},null,null,null,null,null,null,null,null,{"$f":"VLOOKUP(Tabelle1[[#This Row],[Budgetlinie]],Ausfüllhilfe!$A$1:$D$23,4,0)","v":{"$error":"#N/A"}}]
[{"$f":"INDEX(Tabelle2[[#All],[Budgetlinie]],MATCH(Tabelle1[[#This Row],[Maßnahme]],Ausfüllhilfe!$C$1:$C$22,0))","v":{"$error":"#N/A"}},null,null,null,null,null,null,null,null,{"$f":"VLOOKUP(Tabelle1[[#This Row],[Budgetlinie]],Ausfüllhilfe!$A$1:$D$23,4,0)","v":{"$error":"#N/A"}}]
[{"$f":"INDEX(Tabelle2[[#All],[Budgetlinie]],MATCH(Tabelle1[[#This Row],[Maßnahme]],Ausfüllhilfe!$C$1:$C$22,0))","v":{"$error":"#N/A"}},null,null,null,null,null,null,null,null,{"$f":"VLOOKUP(Tabelle1[[#This Row],[Budgetlinie]],Ausfüllhilfe!$A$1:$D$23,4,0)","v":{"$error":"#N/A"}}]
[{"$f":"INDEX(Tabelle2[[#All],[Budgetlinie]],MATCH(Tabelle1[[#This Row],[Maßnahme]],Ausfüllhilfe!$C$1:$C$22,0))","v":{"$error":"#N/A"}},null,null,null,null,null,null,null,null,{"$f":"VLOOKUP(Tabelle1[[#This Row],[Budgetlinie]],Ausfüllhilfe!$A$1:$D$23,4,0)","v":{"$error":"#N/A"}}]
[{"$f":"INDEX(Tabelle2[[#All],[Budgetlinie]],MATCH(Tabelle1[[#This Row],[Maßnahme]],Ausfüllhilfe!$C$1:$C$22,0))","v":{"$error":"#N/A"}},null,null,null,null,null,null,null,null,{"$f":"VLOOKUP(Tabelle1[[#This Row],[Budgetlinie]],Ausfüllhilfe!$A$1:$D$23,4,0)","v":{"$error":"#N/A"}}]
[{"$f":"INDEX(Tabelle2[[#All],[Budgetlinie]],MATCH(Tabelle1[[#This Row],[Maßnahme]],Ausfüllhilfe!$C$1:$C$22,0))","v":{"$error":"#N/A"}},null,null,null,null,null,null,null,null,{"$f":"VLOOKUP(Tabelle1[[#This Row],[Budgetlinie]],Ausfüllhilfe!$A$1:$D$23,4,0)","v":{"$error":"#N/A"}}]
[{"$f":"INDEX(Tabelle2[[#All],[Budgetlinie]],MATCH(Tabelle1[[#This Row],[Maßnahme]],Ausfüllhilfe!$C$1:$C$22,0))","v":{"$error":"#N/A"}},null,null,null,null,null,null,null,null,{"$f":"VLOOKUP(Tabelle1[[#This Row],[Budgetlinie]],Ausfüllhilfe!$A$1:$D$23,4,0)","v":{"$error":"#N/A"}}]
[{"$f":"INDEX(Tabelle2[[#All],[Budgetlinie]],MATCH(Tabelle1[[#This Row],[Maßnahme]],Ausfüllhilfe!$C$1:$C$22,0))","v":{"$error":"#N/A"}},null,null,null,null,null,null,null,null,{"$f":"VLOOKUP(Tabelle1[[#This Row],[Budgetlinie]],Ausfüllhilfe!$A$1:$D$23,4,0)","v":{"$error":"#N/A"}}]
[{"$f":"INDEX(Tabelle2[[#All],[Budgetlinie]],MATCH(Tabelle1[[#This Row],[Maßnahme]],Ausfüllhilfe!$C$1:$C$22,0))","v":{"$error":"#N/A"}},null,null,null,null,null,null,null,null,{"$f":"VLOOKUP(Tabelle1[[#This Row],[Budgetlinie]],Ausfüllhilfe!$A$1:$D$23,4,0)","v":{"$error":"#N/A"}}]
[{"$f":"INDEX(Tabelle2[[#All],[Budgetlinie]],MATCH(Tabelle1[[#This Row],[Maßnahme]],Ausfüllhilfe!$C$1:$C$22,0))","v":{"$error":"#N/A"}},null,null,null,null,null,null,null,null,{"$f":"VLOOKUP(Tabelle1[[#This Row],[Budgetlinie]],Ausfüllhilfe!$A$1:$D$23,4,0)","v":{"$error":"#N/A"}}]
[{"$f":"INDEX(Tabelle2[[#All],[Budgetlinie]],MATCH(Tabelle1[[#This Row],[Maßnahme]],Ausfüllhilfe!$C$1:$C$22,0))","v":{"$error":"#N/A"}},null,null,null,null,null,null,null,null,{"$f":"VLOOKUP(Tabelle1[[#This Row],[Budgetlinie]],Ausfüllhilfe!$A$1:$D$23,4,0)","v":{"$error":"#N/A"}}]
[{"$f":"INDEX(Tabelle2[[#All],[Budgetlinie]],MATCH(Tabelle1[[#This Row],[Maßnahme]],Ausfüllhilfe!$C$1:$C$22,0))","v":{"$error":"#N/A"}},null,null,null,null,null,null,null,null,{"$f":"VLOOKUP(Tabelle1[[#This Row],[Budgetlinie]],Ausfüllhilfe!$A$1:$D$23,4,0)","v":{"$error":"#N/A"}}]
[{"$f":"INDEX(Tabelle2[[#All],[Budgetlinie]],MATCH(Tabelle1[[#This Row],[Maßnahme]],Ausfüllhilfe!$C$1:$C$22,0))","v":{"$error":"#N/A"}},null,null,null,null,null,null,null,null,{"$f":"VLOOKUP(Tabelle1[[#This Row],[Budgetlinie]],Ausfüllhilfe!$A$1:$D$23,4,0)","v":{"$error":"#N/A"}}]
[{"$f":"INDEX(Tabelle2[[#All],[Budgetlinie]],MATCH(Tabelle1[[#This Row],[Maßnahme]],Ausfüllhilfe!$C$1:$C$22,0))","v":{"$error":"#N/A"}},null,null,null,null,null,null,null,null,{"$f":"VLOOKUP(Tabelle1[[#This Row],[Budgetlinie]],Ausfüllhilfe!$A$1:$D$23,4,0)","v":{"$error":"#N/A"}}]
[{"$f":"INDEX(Tabelle2[[#All],[Budgetlinie]],MATCH(Tabelle1[[#This Row],[Maßnahme]],Ausfüllhilfe!$C$1:$C$22,0))","v":{"$error":"#N/A"}},null,null,null,null,null,null,null,null,{"$f":"VLOOKUP(Tabelle1[[#This Row],[Budgetlinie]],Ausfüllhilfe!$A$1:$D$23,4,0)","v":{"$error":"#N/A"}}]
[{"$f":"INDEX(Tabelle2[[#All],[Budgetlinie]],MATCH(Tabelle1[[#This Row],[Maßnahme]],Ausfüllhilfe!$C$1:$C$22,0))","v":{"$error":"#N/A"}},null,null,null,null,null,null,null,null,{"$f":"VLOOKUP(Tabelle1[[#This Row],[Budgetlinie]],Ausfüllhilfe!$A$1:$D$23,4,0)","v":{"$error":"#N/A"}}]
[{"$f":"INDEX(Tabelle2[[#All],[Budgetlinie]],MATCH(Tabelle1[[#This Row],[Maßnahme]],Ausfüllhilfe!$C$1:$C$22,0))","v":{"$error":"#N/A"}},null,null,null,null,null,null,null,null,{"$f":"VLOOKUP(Tabelle1[[#This Row],[Budgetlinie]],Ausfüllhilfe!$A$1:$D$23,4,0)","v":{"$error":"#N/A"}}]
[{"$f":"INDEX(Tabelle2[[#All],[Budgetlinie]],MATCH(Tabelle1[[#This Row],[Maßnahme]],Ausfüllhilfe!$C$1:$C$22,0))","v":{"$error":"#N/A"}},null,null,null,null,null,null,null,null,{"$f":"VLOOKUP(Tabelle1[[#This Row],[Budgetlinie]],Ausfüllhilfe!$A$1:$D$23,4,0)","v":{"$error":"#N/A"}}]
[{"$f":"INDEX(Tabelle2[[#All],[Budgetlinie]],MATCH(Tabelle1[[#This Row],[Maßnahme]],Ausfüllhilfe!$C$1:$C$22,0))","v":{"$error":"#N/A"}},null,null,null,null,null,null,null,null,{"$f":"VLOOKUP(Tabelle1[[#This Row],[Budgetlinie]],Ausfüllhilfe!$A$1:$D$23,4,0)","v":{"$error":"#N/A"}}]
[{"$f":"INDEX(Tabelle2[[#All],[Budgetlinie]],MATCH(Tabelle1[[#This Row],[Maßnahme]],Ausfüllhilfe!$C$1:$C$22,0))","v":{"$error":"#N/A"}},null,null,null,null,null,null,null,null,{"$f":"VLOOKUP(Tabelle1[[#This Row],[Budgetlinie]],Ausfüllhilfe!$A$1:$D$23,4,0)","v":{"$error":"#N/A"}}]
[{"$f":"INDEX(Tabelle2[[#All],[Budgetlinie]],MATCH(Tabelle1[[#This Row],[Maßnahme]],Ausfüllhilfe!$C$1:$C$22,0))","v":{"$error":"#N/A"}},null,null,null,null,null,null,null,null,{"$f":"VLOOKUP(Tabelle1[[#This Row],[Budgetlinie]],Ausfüllhilfe!$A$1:$D$23,4,0)","v":{"$error":"#N/A"}}]
[{"$f":"INDEX(Tabelle2[[#All],[Budgetlinie]],MATCH(Tabelle1[[#This Row],[Maßnahme]],Ausfüllhilfe!$C$1:$C$22,0))","v":{"$error":"#N/A"}},null,null,null,null,null,null,null,null,{"$f":"VLOOKUP(Tabelle1[[#This Row],[Budgetlinie]],Ausfüllhilfe!$A$1:$D$23,4,0)","v":{"$error":"#N/A"}}]
[{"$f":"INDEX(Tabelle2[[#All],[Budgetlinie]],MATCH(Tabelle1[[#This Row],[Maßnahme]],Ausfüllhilfe!$C$1:$C$22,0))","v":{"$error":"#N/A"}},null,null,null,null,null,null,null,null,{"$f":"VLOOKUP(Tabelle1[[#This Row],[Budgetlinie]],Ausfüllhilfe!$A$1:$D$23,4,0)","v":{"$error":"#N/A"}}]
[{"$f":"INDEX(Tabelle2[[#All],[Budgetlinie]],MATCH(Tabelle1[[#This Row],[Maßnahme]],Ausfüllhilfe!$C$1:$C$22,0))","v":{"$error":"#N/A"}},null,null,null,null,null,null,null,null,{"$f":"VLOOKUP(Tabelle1[[#This Row],[Budgetlinie]],Ausfüllhilfe!$A$1:$D$23,4,0)","v":{"$error":"#N/A"}}]
[{"$f":"INDEX(Tabelle2[[#All],[Budgetlinie]],MATCH(Tabelle1[[#This Row],[Maßnahme]],Ausfüllhilfe!$C$1:$C$22,0))","v":{"$error":"#N/A"}},null,null,null,null,null,null,null,null,{"$f":"VLOOKUP(Tabelle1[[#This Row],[Budgetlinie]],Ausfüllhilfe!$A$1:$D$23,4,0)","v":{"$error":"#N/A"}}]
[{"$f":"INDEX(Tabelle2[[#All],[Budgetlinie]],MATCH(Tabelle1[[#This Row],[Maßnahme]],Ausfüllhilfe!$C$1:$C$22,0))","v":{"$error":"#N/A"}},null,null,null,null,null,null,null,null,{"$f":"VLOOKUP(Tabelle1[[#This Row],[Budgetlinie]],Ausfüllhilfe!$A$1:$D$23,4,0)","v":{"$error":"#N/A"}}]
[{"$f":"INDEX(Tabelle2[[#All],[Budgetlinie]],MATCH(Tabelle1[[#This Row],[Maßnahme]],Ausfüllhilfe!$C$1:$C$22,0))","v":{"$error":"#N/A"}},null,null,null,null,null,null,null,null,{"$f":"VLOOKUP(Tabelle1[[#This Row],[Budgetlinie]],Ausfüllhilfe!$A$1:$D$23,4,0)","v":{"$error":"#N/A"}}]
[{"$f":"INDEX(Tabelle2[[#All],[Budgetlinie]],MATCH(Tabelle1[[#This Row],[Maßnahme]],Ausfüllhilfe!$C$1:$C$22,0))","v":{"$error":"#N/A"}},null,null,null,null,null,null,null,null,{"$f":"VLOOKUP(Tabelle1[[#This Row],[Budgetlinie]],Ausfüllhilfe!$A$1:$D$23,4,0)","v":{"$error":"#N/A"}}]
[{"$f":"INDEX(Tabelle2[[#All],[Budgetlinie]],MATCH(Tabelle1[[#This Row],[Maßnahme]],Ausfüllhilfe!$C$1:$C$22,0))","v":{"$error":"#N/A"}},null,null,null,null,null,null,null,null,{"$f":"VLOOKUP(Tabelle1[[#This Row],[Budgetlinie]],Ausfüllhilfe!$A$1:$D$23,4,0)","v":{"$error":"#N/A"}}]
[{"$f":"INDEX(Tabelle2[[#All],[Budgetlinie]],MATCH(Tabelle1[[#This Row],[Maßnahme]],Ausfüllhilfe!$C$1:$C$22,0))","v":{"$error":"#N/A"}},null,null,null,null,null,null,null,null,{"$f":"VLOOKUP(Tabelle1[[#This Row],[Budgetlinie]],Ausfüllhilfe!$A$1:$D$23,4,0)","v":{"$error":"#N/A"}}]
[{"$f":"INDEX(Tabelle2[[#All],[Budgetlinie]],MATCH(Tabelle1[[#This Row],[Maßnahme]],Ausfüllhilfe!$C$1:$C$22,0))","v":{"$error":"#N/A"}},null,null,null,null,null,null,null,null,{"$f":"VLOOKUP(Tabelle1[[#This Row],[Budgetlinie]],Ausfüllhilfe!$A$1:$D$23,4,0)","v":{"$error":"#N/A"}}]
[{"$f":"INDEX(Tabelle2[[#All],[Budgetlinie]],MATCH(Tabelle1[[#This Row],[Maßnahme]],Ausfüllhilfe!$C$1:$C$22,0))","v":{"$error":"#N/A"}},null,null,null,null,null,null,null,null,{"$f":"VLOOKUP(Tabelle1[[#This Row],[Budgetlinie]],Ausfüllhilfe!$A$1:$D$23,4,0)","v":{"$error":"#N/A"}}]
[{"$f":"INDEX(Tabelle2[[#All],[Budgetlinie]],MATCH(Tabelle1[[#This Row],[Maßnahme]],Ausfüllhilfe!$C$1:$C$22,0))","v":{"$error":"#N/A"}},null,null,null,null,null,null,null,null,{"$f":"VLOOKUP(Tabelle1[[#This Row],[Budgetlinie]],Ausfüllhilfe!$A$1:$D$23,4,0)","v":{"$error":"#N/A"}}]
[{"$f":"INDEX(Tabelle2[[#All],[Budgetlinie]],MATCH(Tabelle1[[#This Row],[Maßnahme]],Ausfüllhilfe!$C$1:$C$22,0))","v":{"$error":"#N/A"}},null,null,null,null,null,null,null,null,{"$f":"VLOOKUP(Tabelle1[[#This Row],[Budgetlinie]],Ausfüllhilfe!$A$1:$D$23,4,0)","v":{"$error":"#N/A"}}]
[{"$f":"INDEX(Tabelle2[[#All],[Budgetlinie]],MATCH(Tabelle1[[#This Row],[Maßnahme]],Ausfüllhilfe!$C$1:$C$22,0))","v":{"$error":"#N/A"}},null,null,null,null,null,null,null,null,{"$f":"VLOOKUP(Tabelle1[[#This Row],[Budgetlinie]],Ausfüllhilfe!$A$1:$D$23,4,0)","v":{"$error":"#N/A"}}]
[{"$f":"INDEX(Tabelle2[[#All],[Budgetlinie]],MATCH(Tabelle1[[#This Row],[Maßnahme]],Ausfüllhilfe!$C$1:$C$22,0))","v":{"$error":"#N/A"}},null,null,null,null,null,null,null,null,{"$f":"VLOOKUP(Tabelle1[[#This Row],[Budgetlinie]],Ausfüllhilfe!$A$1:$D$23,4,0)","v":{"$error":"#N/A"}}]
[{"$f":"INDEX(Tabelle2[[#All],[Budgetlinie]],MATCH(Tabelle1[[#This Row],[Maßnahme]],Ausfüllhilfe!$C$1:$C$22,0))","v":{"$error":"#N/A"}},null,null,null,null,null,null,null,null,{"$f":"VLOOKUP(Tabelle1[[#This Row],[Budgetlinie]],Ausfüllhilfe!$A$1:$D$23,4,0)","v":{"$error":"#N/A"}}]
[{"$f":"INDEX(Tabelle2[[#All],[Budgetlinie]],MATCH(Tabelle1[[#This Row],[Maßnahme]],Ausfüllhilfe!$C$1:$C$22,0))","v":{"$error":"#N/A"}},null,null,null,null,null,null,null,null,{"$f":"VLOOKUP(Tabelle1[[#This Row],[Budgetlinie]],Ausfüllhilfe!$A$1:$D$23,4,0)","v":{"$error":"#N/A"}}]
[{"$f":"INDEX(Tabelle2[[#All],[Budgetlinie]],MATCH(Tabelle1[[#This Row],[Maßnahme]],Ausfüllhilfe!$C$1:$C$22,0))","v":{"$error":"#N/A"}},null,null,null,null,null,null,null,null,{"$f":"VLOOKUP(Tabelle1[[#This Row],[Budgetlinie]],Ausfüllhilfe!$A$1:$D$23,4,0)","v":{"$error":"#N/A"}}]
[{"$f":"INDEX(Tabelle2[[#All],[Budgetlinie]],MATCH(Tabelle1[[#This Row],[Maßnahme]],Ausfüllhilfe!$C$1:$C$22,0))","v":{"$error":"#N/A"}},null,null,null,null,null,null,null,null,{"$f":"VLOOKUP(Tabelle1[[#This Row],[Budgetlinie]],Ausfüllhilfe!$A$1:$D$23,4,0)","v":{"$error":"#N/A"}}]
[{"$f":"INDEX(Tabelle2[[#All],[Budgetlinie]],MATCH(Tabelle1[[#This Row],[Maßnahme]],Ausfüllhilfe!$C$1:$C$22,0))","v":{"$error":"#N/A"}},null,null,null,null,null,null,null,null,{"$f":"VLOOKUP(Tabelle1[[#This Row],[Budgetlinie]],Ausfüllhilfe!$A$1:$D$23,4,0)","v":{"$error":"#N/A"}}]
[{"$f":"INDEX(Tabelle2[[#All],[Budgetlinie]],MATCH(Tabelle1[[#This Row],[Maßnahme]],Ausfüllhilfe!$C$1:$C$22,0))","v":{"$error":"#N/A"}},null,null,null,null,null,null,null,null,{"$f":"VLOOKUP(Tabelle1[[#This Row],[Budgetlinie]],Ausfüllhilfe!$A$1:$D$23,4,0)","v":{"$error":"#N/A"}}]
[{"$f":"INDEX(Tabelle2[[#All],[Budgetlinie]],MATCH(Tabelle1[[#This Row],[Maßnahme]],Ausfüllhilfe!$C$1:$C$22,0))","v":{"$error":"#N/A"}},null,null,null,null,null,null,null,null,{"$f":"VLOOKUP(Tabelle1[[#This Row],[Budgetlinie]],Ausfüllhilfe!$A$1:$D$23,4,0)","v":{"$error":"#N/A"}}]
[{"$f":"INDEX(Tabelle2[[#All],[Budgetlinie]],MATCH(Tabelle1[[#This Row],[Maßnahme]],Ausfüllhilfe!$C$1:$C$22,0))","v":{"$error":"#N/A"}},null,null,null,null,null,null,null,null,{"$f":"VLOOKUP(Tabelle1[[#This Row],[Budgetlinie]],Ausfüllhilfe!$A$1:$D$23,4,0)","v":{"$error":"#N/A"}}]
[{"$f":"INDEX(Tabelle2[[#All],[Budgetlinie]],MATCH(Tabelle1[[#This Row],[Maßnahme]],Ausfüllhilfe!$C$1:$C$22,0))","v":{"$error":"#N/A"}},null,null,null,null,null,null,null,null,{"$f":"VLOOKUP(Tabelle1[[#This Row],[Budgetlinie]],Ausfüllhilfe!$A$1:$D$23,4,0)","v":{"$error":"#N/A"}}]
[{"$f":"INDEX(Tabelle2[[#All],[Budgetlinie]],MATCH(Tabelle1[[#This Row],[Maßnahme]],Ausfüllhilfe!$C$1:$C$22,0))","v":{"$error":"#N/A"}},null,null,null,null,null,null,null,null,{"$f":"VLOOKUP(Tabelle1[[#This Row],[Budgetlinie]],Ausfüllhilfe!$A$1:$D$23,4,0)","v":{"$error":"#N/A"}}]
[{"$f":"INDEX(Tabelle2[[#All],[Budgetlinie]],MATCH(Tabelle1[[#This Row],[Maßnahme]],Ausfüllhilfe!$C$1:$C$22,0))","v":{"$error":"#N/A"}},null,null,null,null,null,null,null,null,{"$f":"VLOOKUP(Tabelle1[[#This Row],[Budgetlinie]],Ausfüllhilfe!$A$1:$D$23,4,0)","v":{"$error":"#N/A"}}]
[{"$f":"INDEX(Tabelle2[[#All],[Budgetlinie]],MATCH(Tabelle1[[#This Row],[Maßnahme]],Ausfüllhilfe!$C$1:$C$22,0))","v":{"$error":"#N/A"}},null,null,null,null,null,null,null,null,{"$f":"VLOOKUP(Tabelle1[[#This Row],[Budgetlinie]],Ausfüllhilfe!$A$1:$D$23,4,0)","v":{"$error":"#N/A"}}]
[{"$f":"INDEX(Tabelle2[[#All],[Budgetlinie]],MATCH(Tabelle1[[#This Row],[Maßnahme]],Ausfüllhilfe!$C$1:$C$22,0))","v":{"$error":"#N/A"}},null,null,null,null,null,null,null,null,{"$f":"VLOOKUP(Tabelle1[[#This Row],[Budgetlinie]],Ausfüllhilfe!$A$1:$D$23,4,0)","v":{"$error":"#N/A"}}]
[{"$f":"INDEX(Tabelle2[[#All],[Budgetlinie]],MATCH(Tabelle1[[#This Row],[Maßnahme]],Ausfüllhilfe!$C$1:$C$22,0))","v":{"$error":"#N/A"}},null,null,null,null,null,null,null,null,{"$f":"VLOOKUP(Tabelle1[[#This Row],[Budgetlinie]],Ausfüllhilfe!$A$1:$D$23,4,0)","v":{"$error":"#N/A"}}]
[{"$f":"INDEX(Tabelle2[[#All],[Budgetlinie]],MATCH(Tabelle1[[#This Row],[Maßnahme]],Ausfüllhilfe!$C$1:$C$22,0))","v":{"$error":"#N/A"}},null,null,null,null,null,null,null,null,{"$f":"VLOOKUP(Tabelle1[[#This Row],[Budgetlinie]],Ausfüllhilfe!$A$1:$D$23,4,0)","v":{"$error":"#N/A"}}]
[{"$f":"INDEX(Tabelle2[[#All],[Budgetlinie]],MATCH(Tabelle1[[#This Row],[Maßnahme]],Ausfüllhilfe!$C$1:$C$22,0))","v":{"$error":"#N/A"}},null,null,null,null,null,null,null,null,{"$f":"VLOOKUP(Tabelle1[[#This Row],[Budgetlinie]],Ausfüllhilfe!$A$1:$D$23,4,0)","v":{"$error":"#N/A"}}]
[{"$f":"INDEX(Tabelle2[[#All],[Budgetlinie]],MATCH(Tabelle1[[#This Row],[Maßnahme]],Ausfüllhilfe!$C$1:$C$22,0))","v":{"$error":"#N/A"}},null,null,null,null,null,null,null,null,{"$f":"VLOOKUP(Tabelle1[[#This Row],[Budgetlinie]],Ausfüllhilfe!$A$1:$D$23,4,0)","v":{"$error":"#N/A"}}]
[{"$f":"INDEX(Tabelle2[[#All],[Budgetlinie]],MATCH(Tabelle1[[#This Row],[Maßnahme]],Ausfüllhilfe!$C$1:$C$22,0))","v":{"$error":"#N/A"}},null,null,null,null,null,null,null,null,{"$f":"VLOOKUP(Tabelle1[[#This Row],[Budgetlinie]],Ausfüllhilfe!$A$1:$D$23,4,0)","v":{"$error":"#N/A"}}]
[{"$f":"INDEX(Tabelle2[[#All],[Budgetlinie]],MATCH(Tabelle1[[#This Row],[Maßnahme]],Ausfüllhilfe!$C$1:$C$22,0))","v":{"$error":"#N/A"}},null,null,null,null,null,null,null,null,{"$f":"VLOOKUP(Tabelle1[[#This Row],[Budgetlinie]],Ausfüllhilfe!$A$1:$D$23,4,0)","v":{"$error":"#N/A"}}]
[{"$f":"INDEX(Tabelle2[[#All],[Budgetlinie]],MATCH(Tabelle1[[#This Row],[Maßnahme]],Ausfüllhilfe!$C$1:$C$22,0))","v":{"$error":"#N/A"}},null,null,null,null,null,null,null,null,{"$f":"VLOOKUP(Tabelle1[[#This Row],[Budgetlinie]],Ausfüllhilfe!$A$1:$D$23,4,0)","v":{"$error":"#N/A"}}]
[{"$f":"INDEX(Tabelle2[[#All],[Budgetlinie]],MATCH(Tabelle1[[#This Row],[Maßnahme]],Ausfüllhilfe!$C$1:$C$22,0))","v":{"$error":"#N/A"}},null,null,null,null,null,null,null,null,{"$f":"VLOOKUP(Tabelle1[[#This Row],[Budgetlinie]],Ausfüllhilfe!$A$1:$D$23,4,0)","v":{"$error":"#N/A"}}]
[{"$f":"INDEX(Tabelle2[[#All],[Budgetlinie]],MATCH(Tabelle1[[#This Row],[Maßnahme]],Ausfüllhilfe!$C$1:$C$22,0))","v":{"$error":"#N/A"}},null,null,null,null,null,null,null,null,{"$f":"VLOOKUP(Tabelle1[[#This Row],[Budgetlinie]],Ausfüllhilfe!$A$1:$D$23,4,0)","v":{"$error":"#N/A"}}]
[{"$f":"INDEX(Tabelle2[[#All],[Budgetlinie]],MATCH(Tabelle1[[#This Row],[Maßnahme]],Ausfüllhilfe!$C$1:$C$22,0))","v":{"$error":"#N/A"}},null,null,null,null,null,null,null,null,{"$f":"VLOOKUP(Tabelle1[[#This Row],[Budgetlinie]],Ausfüllhilfe!$A$1:$D$23,4,0)","v":{"$error":"#N/A"}}]
[{"$f":"INDEX(Tabelle2[[#All],[Budgetlinie]],MATCH(Tabelle1[[#This Row],[Maßnahme]],Ausfüllhilfe!$C$1:$C$22,0))","v":{"$error":"#N/A"}},null,null,null,null,null,null,null,null,{"$f":"VLOOKUP(Tabelle1[[#This Row],[Budgetlinie]],Ausfüllhilfe!$A$1:$D$23,4,0)","v":{"$error":"#N/A"}}]
[{"$f":"INDEX(Tabelle2[[#All],[Budgetlinie]],MATCH(Tabelle1[[#This Row],[Maßnahme]],Ausfüllhilfe!$C$1:$C$22,0))","v":{"$error":"#N/A"}},null,null,null,null,null,null,null,null,{"$f":"VLOOKUP(Tabelle1[[#This Row],[Budgetlinie]],Ausfüllhilfe!$A$1:$D$23,4,0)","v":{"$error":"#N/A"}}]
[{"$f":"INDEX(Tabelle2[[#All],[Budgetlinie]],MATCH(Tabelle1[[#This Row],[Maßnahme]],Ausfüllhilfe!$C$1:$C$22,0))","v":{"$error":"#N/A"}},null,null,null,null,null,null,null,null,{"$f":"VLOOKUP(Tabelle1[[#This Row],[Budgetlinie]],Ausfüllhilfe!$A$1:$D$23,4,0)","v":{"$error":"#N/A"}}]
[{"$f":"INDEX(Tabelle2[[#All],[Budgetlinie]],MATCH(Tabelle1[[#This Row],[Maßnahme]],Ausfüllhilfe!$C$1:$C$22,0))","v":{"$error":"#N/A"}},null,null,null,null,null,null,null,null,{"$f":"VLOOKUP(Tabelle1[[#This Row],[Budgetlinie]],Ausfüllhilfe!$A$1:$D$23,4,0)","v":{"$error":"#N/A"}}]
[{"$f":"INDEX(Tabelle2[[#All],[Budgetlinie]],MATCH(Tabelle1[[#This Row],[Maßnahme]],Ausfüllhilfe!$C$1:$C$22,0))","v":{"$error":"#N/A"}},null,null,null,null,null,null,null,null,{"$f":"VLOOKUP(Tabelle1[[#This Row],[Budgetlinie]],Ausfüllhilfe!$A$1:$D$23,4,0)","v":{"$error":"#N/A"}}]
[{"$f":"INDEX(Tabelle2[[#All],[Budgetlinie]],MATCH(Tabelle1[[#This Row],[Maßnahme]],Ausfüllhilfe!$C$1:$C$22,0))","v":{"$error":"#N/A"}},null,null,null,null,null,null,null,null,{"$f":"VLOOKUP(Tabelle1[[#This Row],[Budgetlinie]],Ausfüllhilfe!$A$1:$D$23,4,0)","v":{"$error":"#N/A"}}]
[{"$f":"INDEX(Tabelle2[[#All],[Budgetlinie]],MATCH(Tabelle1[[#This Row],[Maßnahme]],Ausfüllhilfe!$C$1:$C$22,0))","v":{"$error":"#N/A"}},null,null,null,null,null,null,null,null,{"$f":"VLOOKUP(Tabelle1[[#This Row],[Budgetlinie]],Ausfüllhilfe!$A$1:$D$23,4,0)","v":{"$error":"#N/A"}}]
[{"$f":"INDEX(Tabelle2[[#All],[Budgetlinie]],MATCH(Tabelle1[[#This Row],[Maßnahme]],Ausfüllhilfe!$C$1:$C$22,0))","v":{"$error":"#N/A"}},null,null,null,null,null,null,null,null,{"$f":"VLOOKUP(Tabelle1[[#This Row],[Budgetlinie]],Ausfüllhilfe!$A$1:$D$23,4,0)","v":{"$error":"#N/A"}}]
[{"$f":"INDEX(Tabelle2[[#All],[Budgetlinie]],MATCH(Tabelle1[[#This Row],[Maßnahme]],Ausfüllhilfe!$C$1:$C$22,0))","v":{"$error":"#N/A"}},null,null,null,null,null,null,null,null,{"$f":"VLOOKUP(Tabelle1[[#This Row],[Budgetlinie]],Ausfüllhilfe!$A$1:$D$23,4,0)","v":{"$error":"#N/A"}}]
[{"$f":"INDEX(Tabelle2[[#All],[Budgetlinie]],MATCH(Tabelle1[[#This Row],[Maßnahme]],Ausfüllhilfe!$C$1:$C$22,0))","v":{"$error":"#N/A"}},null,null,null,null,null,null,null,null,{"$f":"VLOOKUP(Tabelle1[[#This Row],[Budgetlinie]],Ausfüllhilfe!$A$1:$D$23,4,0)","v":{"$error":"#N/A"}}]
[{"$f":"INDEX(Tabelle2[[#All],[Budgetlinie]],MATCH(Tabelle1[[#This Row],[Maßnahme]],Ausfüllhilfe!$C$1:$C$22,0))","v":{"$error":"#N/A"}},null,null,null,null,null,null,null,null,{"$f":"VLOOKUP(Tabelle1[[#This Row],[Budgetlinie]],Ausfüllhilfe!$A$1:$D$23,4,0)","v":{"$error":"#N/A"}}]
[{"$f":"INDEX(Tabelle2[[#All],[Budgetlinie]],MATCH(Tabelle1[[#This Row],[Maßnahme]],Ausfüllhilfe!$C$1:$C$22,0))","v":{"$error":"#N/A"}},null,null,null,null,null,null,null,null,{"$f":"VLOOKUP(Tabelle1[[#This Row],[Budgetlinie]],Ausfüllhilfe!$A$1:$D$23,4,0)","v":{"$error":"#N/A"}}]
[{"$f":"INDEX(Tabelle2[[#All],[Budgetlinie]],MATCH(Tabelle1[[#This Row],[Maßnahme]],Ausfüllhilfe!$C$1:$C$22,0))","v":{"$error":"#N/A"}},null,null,null,null,null,null,null,null,{"$f":"VLOOKUP(Tabelle1[[#This Row],[Budgetlinie]],Ausfüllhilfe!$A$1:$D$23,4,0)","v":{"$error":"#N/A"}}]
[{"$f":"INDEX(Tabelle2[[#All],[Budgetlinie]],MATCH(Tabelle1[[#This Row],[Maßnahme]],Ausfüllhilfe!$C$1:$C$22,0))","v":{"$error":"#N/A"}},null,null,null,null,null,null,null,null,{"$f":"VLOOKUP(Tabelle1[[#This Row],[Budgetlinie]],Ausfüllhilfe!$A$1:$D$23,4,0)","v":{"$error":"#N/A"}}]
[{"$f":"INDEX(Tabelle2[[#All],[Budgetlinie]],MATCH(Tabelle1[[#This Row],[Maßnahme]],Ausfüllhilfe!$C$1:$C$22,0))","v":{"$error":"#N/A"}},null,null,null,null,null,null,null,null,{"$f":"VLOOKUP(Tabelle1[[#This Row],[Budgetlinie]],Ausfüllhilfe!$A$1:$D$23,4,0)","v":{"$error":"#N/A"}}]
[{"$f":"INDEX(Tabelle2[[#All],[Budgetlinie]],MATCH(Tabelle1[[#This Row],[Maßnahme]],Ausfüllhilfe!$C$1:$C$22,0))","v":{"$error":"#N/A"}},null,null,null,null,null,null,null,null,{"$f":"VLOOKUP(Tabelle1[[#This Row],[Budgetlinie]],Ausfüllhilfe!$A$1:$D$23,4,0)","v":{"$error":"#N/A"}}]
[{"$f":"INDEX(Tabelle2[[#All],[Budgetlinie]],MATCH(Tabelle1[[#This Row],[Maßnahme]],Ausfüllhilfe!$C$1:$C$22,0))","v":{"$error":"#N/A"}},null,null,null,null,null,null,null,null,{"$f":"VLOOKUP(Tabelle1[[#This Row],[Budgetlinie]],Ausfüllhilfe!$A$1:$D$23,4,0)","v":{"$error":"#N/A"}}]
[{"$f":"INDEX(Tabelle2[[#All],[Budgetlinie]],MATCH(Tabelle1[[#This Row],[Maßnahme]],Ausfüllhilfe!$C$1:$C$22,0))","v":{"$error":"#N/A"}},null,null,null,null,null,null,null,null,{"$f":"VLOOKUP(Tabelle1[[#This Row],[Budgetlinie]],Ausfüllhilfe!$A$1:$D$23,4,0)","v":{"$error":"#N/A"}}]
[{"$f":"INDEX(Tabelle2[[#All],[Budgetlinie]],MATCH(Tabelle1[[#This Row],[Maßnahme]],Ausfüllhilfe!$C$1:$C$22,0))","v":{"$error":"#N/A"}},null,null,null,null,null,null,null,null,{"$f":"VLOOKUP(Tabelle1[[#This Row],[Budgetlinie]],Ausfüllhilfe!$A$1:$D$23,4,0)","v":{"$error":"#N/A"}}]
[{"$f":"INDEX(Tabelle2[[#All],[Budgetlinie]],MATCH(Tabelle1[[#This Row],[Maßnahme]],Ausfüllhilfe!$C$1:$C$22,0))","v":{"$error":"#N/A"}},null,null,null,null,null,null,null,null,{"$f":"VLOOKUP(Tabelle1[[#This Row],[Budgetlinie]],Ausfüllhilfe!$A$1:$D$23,4,0)","v":{"$error":"#N/A"}}]
[{"$f":"INDEX(Tabelle2[[#All],[Budgetlinie]],MATCH(Tabelle1[[#This Row],[Maßnahme]],Ausfüllhilfe!$C$1:$C$22,0))","v":{"$error":"#N/A"}},null,null,null,null,null,null,null,null,{"$f":"VLOOKUP(Tabelle1[[#This Row],[Budgetlinie]],Ausfüllhilfe!$A$1:$D$23,4,0)","v":{"$error":"#N/A"}}]
[{"$f":"INDEX(Tabelle2[[#All],[Budgetlinie]],MATCH(Tabelle1[[#This Row],[Maßnahme]],Ausfüllhilfe!$C$1:$C$22,0))","v":{"$error":"#N/A"}},null,null,null,null,null,null,null,null,{"$f":"VLOOKUP(Tabelle1[[#This Row],[Budgetlinie]],Ausfüllhilfe!$A$1:$D$23,4,0)","v":{"$error":"#N/A"}}]
[{"$f":"INDEX(Tabelle2[[#All],[Budgetlinie]],MATCH(Tabelle1[[#This Row],[Maßnahme]],Ausfüllhilfe!$C$1:$C$22,0))","v":{"$error":"#N/A"}},null,null,null,null,null,null,null,null,{"$f":"VLOOKUP(Tabelle1[[#This Row],[Budgetlinie]],Ausfüllhilfe!$A$1:$D$23,4,0)","v":{"$error":"#N/A"}}]
[{"$f":"INDEX(Tabelle2[[#All],[Budgetlinie]],MATCH(Tabelle1[[#This Row],[Maßnahme]],Ausfüllhilfe!$C$1:$C$22,0))","v":{"$error":"#N/A"}},null,null,null,null,null,null,null,null,{"$f":"VLOOKUP(Tabelle1[[#This Row],[Budgetlinie]],Ausfüllhilfe!$A$1:$D$23,4,0)","v":{"$error":"#N/A"}}]
[{"$f":"INDEX(Tabelle2[[#All],[Budgetlinie]],MATCH(Tabelle1[[#This Row],[Maßnahme]],Ausfüllhilfe!$C$1:$C$22,0))","v":{"$error":"#N/A"}},null,null,null,null,null,null,null,null,{"$f":"VLOOKUP(Tabelle1[[#This Row],[Budgetlinie]],Ausfüllhilfe!$A$1:$D$23,4,0)","v":{"$error":"#N/A"}}]
[{"$f":"INDEX(Tabelle2[[#All],[Budgetlinie]],MATCH(Tabelle1[[#This Row],[Maßnahme]],Ausfüllhilfe!$C$1:$C$22,0))","v":{"$error":"#N/A"}},null,null,null,null,null,null,null,null,{"$f":"VLOOKUP(Tabelle1[[#This Row],[Budgetlinie]],Ausfüllhilfe!$A$1:$D$23,4,0)","v":{"$error":"#N/A"}}]
[{"$f":"INDEX(Tabelle2[[#All],[Budgetlinie]],MATCH(Tabelle1[[#This Row],[Maßnahme]],Ausfüllhilfe!$C$1:$C$22,0))","v":{"$error":"#N/A"}},null,null,null,null,null,null,null,null,{"$f":"VLOOKUP(Tabelle1[[#This Row],[Budgetlinie]],Ausfüllhilfe!$A$1:$D$23,4,0)","v":{"$error":"#N/A"}}]
[{"$f":"INDEX(Tabelle2[[#All],[Budgetlinie]],MATCH(Tabelle1[[#This Row],[Maßnahme]],Ausfüllhilfe!$C$1:$C$22,0))","v":{"$error":"#N/A"}},null,null,null,null,null,null,null,null,{"$f":"VLOOKUP(Tabelle1[[#This Row],[Budgetlinie]],Ausfüllhilfe!$A$1:$D$23,4,0)","v":{"$error":"#N/A"}}]
[{"$f":"INDEX(Tabelle2[[#All],[Budgetlinie]],MATCH(Tabelle1[[#This Row],[Maßnahme]],Ausfüllhilfe!$C$1:$C$22,0))","v":{"$error":"#N/A"}},null,null,null,null,null,null,null,null,{"$f":"VLOOKUP(Tabelle1[[#This Row],[Budgetlinie]],Ausfüllhilfe!$A$1:$D$23,4,0)","v":{"$error":"#N/A"}}]
[{"$f":"INDEX(Tabelle2[[#All],[Budgetlinie]],MATCH(Tabelle1[[#This Row],[Maßnahme]],Ausfüllhilfe!$C$1:$C$22,0))","v":{"$error":"#N/A"}},null,null,null,null,null,null,null,null,{"$f":"VLOOKUP(Tabelle1[[#This Row],[Budgetlinie]],Ausfüllhilfe!$A$1:$D$23,4,0)","v":{"$error":"#N/A"}}]
[{"$f":"INDEX(Tabelle2[[#All],[Budgetlinie]],MATCH(Tabelle1[[#This Row],[Maßnahme]],Ausfüllhilfe!$C$1:$C$22,0))","v":{"$error":"#N/A"}},null,null,null,null,null,null,null,null,{"$f":"VLOOKUP(Tabelle1[[#This Row],[Budgetlinie]],Ausfüllhilfe!$A$1:$D$23,4,0)","v":{"$error":"#N/A"}}]
[{"$f":"INDEX(Tabelle2[[#All],[Budgetlinie]],MATCH(Tabelle1[[#This Row],[Maßnahme]],Ausfüllhilfe!$C$1:$C$22,0))","v":{"$error":"#N/A"}},null,null,null,null,null,null,null,null,{"$f":"VLOOKUP(Tabelle1[[#This Row],[Budgetlinie]],Ausfüllhilfe!$A$1:$D$23,4,0)","v":{"$error":"#N/A"}}]
[{"$f":"INDEX(Tabelle2[[#All],[Budgetlinie]],MATCH(Tabelle1[[#This Row],[Maßnahme]],Ausfüllhilfe!$C$1:$C$22,0))","v":{"$error":"#N/A"}},null,null,null,null,null,null,null,null,{"$f":"VLOOKUP(Tabelle1[[#This Row],[Budgetlinie]],Ausfüllhilfe!$A$1:$D$23,4,0)","v":{"$error":"#N/A"}}]
[{"$f":"INDEX(Tabelle2[[#All],[Budgetlinie]],MATCH(Tabelle1[[#This Row],[Maßnahme]],Ausfüllhilfe!$C$1:$C$22,0))","v":{"$error":"#N/A"}},null,null,null,null,null,null,null,null,{"$f":"VLOOKUP(Tabelle1[[#This Row],[Budgetlinie]],Ausfüllhilfe!$A$1:$D$23,4,0)","v":{"$error":"#N/A"}}]
[{"$f":"INDEX(Tabelle2[[#All],[Budgetlinie]],MATCH(Tabelle1[[#This Row],[Maßnahme]],Ausfüllhilfe!$C$1:$C$22,0))","v":{"$error":"#N/A"}},null,null,null,null,null,null,null,null,{"$f":"VLOOKUP(Tabelle1[[#This Row],[Budgetlinie]],Ausfüllhilfe!$A$1:$D$23,4,0)","v":{"$error":"#N/A"}}]
[{"$f":"INDEX(Tabelle2[[#All],[Budgetlinie]],MATCH(Tabelle1[[#This Row],[Maßnahme]],Ausfüllhilfe!$C$1:$C$22,0))","v":{"$error":"#N/A"}},null,null,null,null,null,null,null,null,{"$f":"VLOOKUP(Tabelle1[[#This Row],[Budgetlinie]],Ausfüllhilfe!$A$1:$D$23,4,0)","v":{"$error":"#N/A"}}]
[{"$f":"INDEX(Tabelle2[[#All],[Budgetlinie]],MATCH(Tabelle1[[#This Row],[Maßnahme]],Ausfüllhilfe!$C$1:$C$22,0))","v":{"$error":"#N/A"}},null,null,null,null,null,null,null,null,{"$f":"VLOOKUP(Tabelle1[[#This Row],[Budgetlinie]],Ausfüllhilfe!$A$1:$D$23,4,0)","v":{"$error":"#N/A"}}]
[{"$f":"INDEX(Tabelle2[[#All],[Budgetlinie]],MATCH(Tabelle1[[#This Row],[Maßnahme]],Ausfüllhilfe!$C$1:$C$22,0))","v":{"$error":"#N/A"}},null,null,null,null,null,null,null,null,{"$f":"VLOOKUP(Tabelle1[[#This Row],[Budgetlinie]],Ausfüllhilfe!$A$1:$D$23,4,0)","v":{"$error":"#N/A"}}]
[{"$f":"INDEX(Tabelle2[[#All],[Budgetlinie]],MATCH(Tabelle1[[#This Row],[Maßnahme]],Ausfüllhilfe!$C$1:$C$22,0))","v":{"$error":"#N/A"}},null,null,null,null,null,null,null,null,{"$f":"VLOOKUP(Tabelle1[[#This Row],[Budgetlinie]],Ausfüllhilfe!$A$1:$D$23,4,0)","v":{"$error":"#N/A"}}]
[{"$f":"INDEX(Tabelle2[[#All],[Budgetlinie]],MATCH(Tabelle1[[#This Row],[Maßnahme]],Ausfüllhilfe!$C$1:$C$22,0))","v":{"$error":"#N/A"}},null,null,null,null,null,null,null,null,{"$f":"VLOOKUP(Tabelle1[[#This Row],[Budgetlinie]],Ausfüllhilfe!$A$1:$D$23,4,0)","v":{"$error":"#N/A"}}]
[{"$f":"INDEX(Tabelle2[[#All],[Budgetlinie]],MATCH(Tabelle1[[#This Row],[Maßnahme]],Ausfüllhilfe!$C$1:$C$22,0))","v":{"$error":"#N/A"}},null,null,null,null,null,null,null,null,{"$f":"VLOOKUP(Tabelle1[[#This Row],[Budgetlinie]],Ausfüllhilfe!$A$1:$D$23,4,0)","v":{"$error":"#N/A"}}]
[{"$f":"INDEX(Tabelle2[[#All],[Budgetlinie]],MATCH(Tabelle1[[#This Row],[Maßnahme]],Ausfüllhilfe!$C$1:$C$22,0))","v":{"$error":"#N/A"}},null,null,null,null,null,null,null,null,{"$f":"VLOOKUP(Tabelle1[[#This Row],[Budgetlinie]],Ausfüllhilfe!$A$1:$D$23,4,0)","v":{"$error":"#N/A"}}]
[{"$f":"INDEX(Tabelle2[[#All],[Budgetlinie]],MATCH(Tabelle1[[#This Row],[Maßnahme]],Ausfüllhilfe!$C$1:$C$22,0))","v":{"$error":"#N/A"}},null,null,null,null,null,null,null,null,{"$f":"VLOOKUP(Tabelle1[[#This Row],[Budgetlinie]],Ausfüllhilfe!$A$1:$D$23,4,0)","v":{"$error":"#N/A"}}]
[{"$f":"INDEX(Tabelle2[[#All],[Budgetlinie]],MATCH(Tabelle1[[#This Row],[Maßnahme]],Ausfüllhilfe!$C$1:$C$22,0))","v":{"$error":"#N/A"}},null,null,null,null,null,null,null,null,{"$f":"VLOOKUP(Tabelle1[[#This Row],[Budgetlinie]],Ausfüllhilfe!$A$1:$D$23,4,0)","v":{"$error":"#N/A"}}]
[{"$f":"INDEX(Tabelle2[[#All],[Budgetlinie]],MATCH(Tabelle1[[#This Row],[Maßnahme]],Ausfüllhilfe!$C$1:$C$22,0))","v":{"$error":"#N/A"}},null,null,null,null,null,null,null,null,{"$f":"VLOOKUP(Tabelle1[[#This Row],[Budgetlinie]],Ausfüllhilfe!$A$1:$D$23,4,0)","v":{"$error":"#N/A"}}]
[{"$f":"INDEX(Tabelle2[[#All],[Budgetlinie]],MATCH(Tabelle1[[#This Row],[Maßnahme]],Ausfüllhilfe!$C$1:$C$22,0))","v":{"$error":"#N/A"}},null,null,null,null,null,null,null,null,{"$f":"VLOOKUP(Tabelle1[[#This Row],[Budgetlinie]],Ausfüllhilfe!$A$1:$D$23,4,0)","v":{"$error":"#N/A"}}]
[{"$f":"INDEX(Tabelle2[[#All],[Budgetlinie]],MATCH(Tabelle1[[#This Row],[Maßnahme]],Ausfüllhilfe!$C$1:$C$22,0))","v":{"$error":"#N/A"}},null,null,null,null,null,null,null,null,{"$f":"VLOOKUP(Tabelle1[[#This Row],[Budgetlinie]],Ausfüllhilfe!$A$1:$D$23,4,0)","v":{"$error":"#N/A"}}]
[{"$f":"INDEX(Tabelle2[[#All],[Budgetlinie]],MATCH(Tabelle1[[#This Row],[Maßnahme]],Ausfüllhilfe!$C$1:$C$22,0))","v":{"$error":"#N/A"}},null,null,null,null,null,null,null,null,{"$f":"VLOOKUP(Tabelle1[[#This Row],[Budgetlinie]],Ausfüllhilfe!$A$1:$D$23,4,0)","v":{"$error":"#N/A"}}]
[{"$f":"INDEX(Tabelle2[[#All],[Budgetlinie]],MATCH(Tabelle1[[#This Row],[Maßnahme]],Ausfüllhilfe!$C$1:$C$22,0))","v":{"$error":"#N/A"}},null,null,null,null,null,null,null,null,{"$f":"VLOOKUP(Tabelle1[[#This Row],[Budgetlinie]],Ausfüllhilfe!$A$1:$D$23,4,0)","v":{"$error":"#N/A"}}]
[{"$f":"INDEX(Tabelle2[[#All],[Budgetlinie]],MATCH(Tabelle1[[#This Row],[Maßnahme]],Ausfüllhilfe!$C$1:$C$22,0))","v":{"$error":"#N/A"}},null,null,null,null,null,null,null,null,{"$f":"VLOOKUP(Tabelle1[[#This Row],[Budgetlinie]],Ausfüllhilfe!$A$1:$D$23,4,0)","v":{"$error":"#N/A"}}]
[{"$f":"INDEX(Tabelle2[[#All],[Budgetlinie]],MATCH(Tabelle1[[#This Row],[Maßnahme]],Ausfüllhilfe!$C$1:$C$22,0))","v":{"$error":"#N/A"}},null,null,null,null,null,null,null,null,{"$f":"VLOOKUP(Tabelle1[[#This Row],[Budgetlinie]],Ausfüllhilfe!$A$1:$D$23,4,0)","v":{"$error":"#N/A"}}]
[{"$f":"INDEX(Tabelle2[[#All],[Budgetlinie]],MATCH(Tabelle1[[#This Row],[Maßnahme]],Ausfüllhilfe!$C$1:$C$22,0))","v":{"$error":"#N/A"}},null,null,null,null,null,null,null,null,{"$f":"VLOOKUP(Tabelle1[[#This Row],[Budgetlinie]],Ausfüllhilfe!$A$1:$D$23,4,0)","v":{"$error":"#N/A"}}]
[{"$f":"INDEX(Tabelle2[[#All],[Budgetlinie]],MATCH(Tabelle1[[#This Row],[Maßnahme]],Ausfüllhilfe!$C$1:$C$22,0))","v":{"$error":"#N/A"}},null,null,null,null,null,null,null,null,{"$f":"VLOOKUP(Tabelle1[[#This Row],[Budgetlinie]],Ausfüllhilfe!$A$1:$D$23,4,0)","v":{"$error":"#N/A"}}]
[{"$f":"INDEX(Tabelle2[[#All],[Budgetlinie]],MATCH(Tabelle1[[#This Row],[Maßnahme]],Ausfüllhilfe!$C$1:$C$22,0))","v":{"$error":"#N/A"}},null,null,null,null,null,null,null,null,{"$f":"VLOOKUP(Tabelle1[[#This Row],[Budgetlinie]],Ausfüllhilfe!$A$1:$D$23,4,0)","v":{"$error":"#N/A"}}]
[{"$f":"INDEX(Tabelle2[[#All],[Budgetlinie]],MATCH(Tabelle1[[#This Row],[Maßnahme]],Ausfüllhilfe!$C$1:$C$22,0))","v":{"$error":"#N/A"}},null,null,null,null,null,null,null,null,{"$f":"VLOOKUP(Tabelle1[[#This Row],[Budgetlinie]],Ausfüllhilfe!$A$1:$D$23,4,0)","v":{"$error":"#N/A"}}]
[{"$f":"INDEX(Tabelle2[[#All],[Budgetlinie]],MATCH(Tabelle1[[#This Row],[Maßnahme]],Ausfüllhilfe!$C$1:$C$22,0))","v":{"$error":"#N/A"}},null,null,null,null,null,null,null,null,{"$f":"VLOOKUP(Tabelle1[[#This Row],[Budgetlinie]],Ausfüllhilfe!$A$1:$D$23,4,0)","v":{"$error":"#N/A"}}]
[{"$f":"INDEX(Tabelle2[[#All],[Budgetlinie]],MATCH(Tabelle1[[#This Row],[Maßnahme]],Ausfüllhilfe!$C$1:$C$22,0))","v":{"$error":"#N/A"}},null,null,null,null,null,null,null,null,{"$f":"VLOOKUP(Tabelle1[[#This Row],[Budgetlinie]],Ausfüllhilfe!$A$1:$D$23,4,0)","v":{"$error":"#N/A"}}]
[{"$f":"INDEX(Tabelle2[[#All],[Budgetlinie]],MATCH(Tabelle1[[#This Row],[Maßnahme]],Ausfüllhilfe!$C$1:$C$22,0))","v":{"$error":"#N/A"}},null,null,null,null,null,null,null,null,{"$f":"VLOOKUP(Tabelle1[[#This Row],[Budgetlinie]],Ausfüllhilfe!$A$1:$D$23,4,0)","v":{"$error":"#N/A"}}]
[{"$f":"INDEX(Tabelle2[[#All],[Budgetlinie]],MATCH(Tabelle1[[#This Row],[Maßnahme]],Ausfüllhilfe!$C$1:$C$22,0))","v":{"$error":"#N/A"}},null,null,null,null,null,null,null,null,{"$f":"VLOOKUP(Tabelle1[[#This Row],[Budgetlinie]],Ausfüllhilfe!$A$1:$D$23,4,0)","v":{"$error":"#N/A"}}]
[{"$f":"INDEX(Tabelle2[[#All],[Budgetlinie]],MATCH(Tabelle1[[#This Row],[Maßnahme]],Ausfüllhilfe!$C$1:$C$22,0))","v":{"$error":"#N/A"}},null,null,null,null,null,null,null,null,{"$f":"VLOOKUP(Tabelle1[[#This Row],[Budgetlinie]],Ausfüllhilfe!$A$1:$D$23,4,0)","v":{"$error":"#N/A"}}]
[{"$f":"INDEX(Tabelle2[[#All],[Budgetlinie]],MATCH(Tabelle1[[#This Row],[Maßnahme]],Ausfüllhilfe!$C$1:$C$22,0))","v":{"$error":"#N/A"}},null,null,null,null,null,null,null,null,{"$f":"VLOOKUP(Tabelle1[[#This Row],[Budgetlinie]],Ausfüllhilfe!$A$1:$D$23,4,0)","v":{"$error":"#N/A"}}]
[{"$f":"INDEX(Tabelle2[[#All],[Budgetlinie]],MATCH(Tabelle1[[#This Row],[Maßnahme]],Ausfüllhilfe!$C$1:$C$22,0))","v":{"$error":"#N/A"}},null,null,null,null,null,null,null,null,{"$f":"VLOOKUP(Tabelle1[[#This Row],[Budgetlinie]],Ausfüllhilfe!$A$1:$D$23,4,0)","v":{"$error":"#N/A"}}]
[{"$f":"INDEX(Tabelle2[[#All],[Budgetlinie]],MATCH(Tabelle1[[#This Row],[Maßnahme]],Ausfüllhilfe!$C$1:$C$22,0))","v":{"$error":"#N/A"}},null,null,null,null,null,null,null,null,{"$f":"VLOOKUP(Tabelle1[[#This Row],[Budgetlinie]],Ausfüllhilfe!$A$1:$D$23,4,0)","v":{"$error":"#N/A"}}]
[{"$f":"INDEX(Tabelle2[[#All],[Budgetlinie]],MATCH(Tabelle1[[#This Row],[Maßnahme]],Ausfüllhilfe!$C$1:$C$22,0))","v":{"$error":"#N/A"}},null,null,null,null,null,null,null,null,{"$f":"VLOOKUP(Tabelle1[[#This Row],[Budgetlinie]],Ausfüllhilfe!$A$1:$D$23,4,0)","v":{"$error":"#N/A"}}]
[{"$f":"INDEX(Tabelle2[[#All],[Budgetlinie]],MATCH(Tabelle1[[#This Row],[Maßnahme]],Ausfüllhilfe!$C$1:$C$22,0))","v":{"$error":"#N/A"}},null,null,null,null,null,null,null,null,{"$f":"VLOOKUP(Tabelle1[[#This Row],[Budgetlinie]],Ausfüllhilfe!$A$1:$D$23,4,0)","v":{"$error":"#N/A"}}]
[{"$f":"INDEX(Tabelle2[[#All],[Budgetlinie]],MATCH(Tabelle1[[#This Row],[Maßnahme]],Ausfüllhilfe!$C$1:$C$22,0))","v":{"$error":"#N/A"}},null,null,null,null,null,null,null,null,{"$f":"VLOOKUP(Tabelle1[[#This Row],[Budgetlinie]],Ausfüllhilfe!$A$1:$D$23,4,0)","v":{"$error":"#N/A"}}]
[{"$f":"INDEX(Tabelle2[[#All],[Budgetlinie]],MATCH(Tabelle1[[#This Row],[Maßnahme]],Ausfüllhilfe!$C$1:$C$22,0))","v":{"$error":"#N/A"}},null,null,null,null,null,null,null,null,{"$f":"VLOOKUP(Tabelle1[[#This Row],[Budgetlinie]],Ausfüllhilfe!$A$1:$D$23,4,0)","v":{"$error":"#N/A"}}]
[{"$f":"INDEX(Tabelle2[[#All],[Budgetlinie]],MATCH(Tabelle1[[#This Row],[Maßnahme]],Ausfüllhilfe!$C$1:$C$22,0))","v":{"$error":"#N/A"}},null,null,null,null,null,null,null,null,{"$f":"VLOOKUP(Tabelle1[[#This Row],[Budgetlinie]],Ausfüllhilfe!$A$1:$D$23,4,0)","v":{"$error":"#N/A"}}]
[{"$f":"INDEX(Tabelle2[[#All],[Budgetlinie]],MATCH(Tabelle1[[#This Row],[Maßnahme]],Ausfüllhilfe!$C$1:$C$22,0))","v":{"$error":"#N/A"}},null,null,null,null,null,null,null,null,{"$f":"VLOOKUP(Tabelle1[[#This Row],[Budgetlinie]],Ausfüllhilfe!$A$1:$D$23,4,0)","v":{"$error":"#N/A"}}]
[{"$f":"INDEX(Tabelle2[[#All],[Budgetlinie]],MATCH(Tabelle1[[#This Row],[Maßnahme]],Ausfüllhilfe!$C$1:$C$22,0))","v":{"$error":"#N/A"}},null,null,null,null,null,null,null,null,{"$f":"VLOOKUP(Tabelle1[[#This Row],[Budgetlinie]],Ausfüllhilfe!$A$1:$D$23,4,0)","v":{"$error":"#N/A"}}]
[{"$f":"INDEX(Tabelle2[[#All],[Budgetlinie]],MATCH(Tabelle1[[#This Row],[Maßnahme]],Ausfüllhilfe!$C$1:$C$22,0))","v":{"$error":"#N/A"}},null,null,null,null,null,null,null,null,{"$f":"VLOOKUP(Tabelle1[[#This Row],[Budgetlinie]],Ausfüllhilfe!$A$1:$D$23,4,0)","v":{"$error":"#N/A"}}]
[{"$f":"INDEX(Tabelle2[[#All],[Budgetlinie]],MATCH(Tabelle1[[#This Row],[Maßnahme]],Ausfüllhilfe!$C$1:$C$22,0))","v":{"$error":"#N/A"}},null,null,null,null,null,null,null,null,{"$f":"VLOOKUP(Tabelle1[[#This Row],[Budgetlinie]],Ausfüllhilfe!$A$1:$D$23,4,0)","v":{"$error":"#N/A"}}]
[{"$f":"INDEX(Tabelle2[[#All],[Budgetlinie]],MATCH(Tabelle1[[#This Row],[Maßnahme]],Ausfüllhilfe!$C$1:$C$22,0))","v":{"$error":"#N/A"}},null,null,null,null,null,null,null,null,{"$f":"VLOOKUP(Tabelle1[[#This Row],[Budgetlinie]],Ausfüllhilfe!$A$1:$D$23,4,0)","v":{"$error":"#N/A"}}]
[{"$f":"INDEX(Tabelle2[[#All],[Budgetlinie]],MATCH(Tabelle1[[#This Row],[Maßnahme]],Ausfüllhilfe!$C$1:$C$22,0))","v":{"$error":"#N/A"}},null,null,null,null,null,null,null,null,{"$f":"VLOOKUP(Tabelle1[[#This Row],[Budgetlinie]],Ausfüllhilfe!$A$1:$D$23,4,0)","v":{"$error":"#N/A"}}]
[{"$f":"INDEX(Tabelle2[[#All],[Budgetlinie]],MATCH(Tabelle1[[#This Row],[Maßnahme]],Ausfüllhilfe!$C$1:$C$22,0))","v":{"$error":"#N/A"}},null,null,null,null,null,null,null,null,{"$f":"VLOOKUP(Tabelle1[[#This Row],[Budgetlinie]],Ausfüllhilfe!$A$1:$D$23,4,0)","v":{"$error":"#N/A"}}]
[{"$f":"INDEX(Tabelle2[[#All],[Budgetlinie]],MATCH(Tabelle1[[#This Row],[Maßnahme]],Ausfüllhilfe!$C$1:$C$22,0))","v":{"$error":"#N/A"}},null,null,null,null,null,null,null,null,{"$f":"VLOOKUP(Tabelle1[[#This Row],[Budgetlinie]],Ausfüllhilfe!$A$1:$D$23,4,0)","v":{"$error":"#N/A"}}]
[{"$f":"INDEX(Tabelle2[[#All],[Budgetlinie]],MATCH(Tabelle1[[#This Row],[Maßnahme]],Ausfüllhilfe!$C$1:$C$22,0))","v":{"$error":"#N/A"}},null,null,null,null,null,null,null,null,{"$f":"VLOOKUP(Tabelle1[[#This Row],[Budgetlinie]],Ausfüllhilfe!$A$1:$D$23,4,0)","v":{"$error":"#N/A"}}]
[{"$f":"INDEX(Tabelle2[[#All],[Budgetlinie]],MATCH(Tabelle1[[#This Row],[Maßnahme]],Ausfüllhilfe!$C$1:$C$22,0))","v":{"$error":"#N/A"}},null,null,null,null,null,null,null,null,{"$f":"VLOOKUP(Tabelle1[[#This Row],[Budgetlinie]],Ausfüllhilfe!$A$1:$D$23,4,0)","v":{"$error":"#N/A"}}]
[{"$f":"INDEX(Tabelle2[[#All],[Budgetlinie]],MATCH(Tabelle1[[#This Row],[Maßnahme]],Ausfüllhilfe!$C$1:$C$22,0))","v":{"$error":"#N/A"}},null,null,null,null,null,null,null,null,{"$f":"VLOOKUP(Tabelle1[[#This Row],[Budgetlinie]],Ausfüllhilfe!$A$1:$D$23,4,0)","v":{"$error":"#N/A"}}]
[{"$f":"INDEX(Tabelle2[[#All],[Budgetlinie]],MATCH(Tabelle1[[#This Row],[Maßnahme]],Ausfüllhilfe!$C$1:$C$22,0))","v":{"$error":"#N/A"}},null,null,null,null,null,null,null,null,{"$f":"VLOOKUP(Tabelle1[[#This Row],[Budgetlinie]],Ausfüllhilfe!$A$1:$D$23,4,0)","v":{"$error":"#N/A"}}]
[{"$f":"INDEX(Tabelle2[[#All],[Budgetlinie]],MATCH(Tabelle1[[#This Row],[Maßnahme]],Ausfüllhilfe!$C$1:$C$22,0))","v":{"$error":"#N/A"}},null,null,null,null,null,null,null,null,{"$f":"VLOOKUP(Tabelle1[[#This Row],[Budgetlinie]],Ausfüllhilfe!$A$1:$D$23,4,0)","v":{"$error":"#N/A"}}]
[{"$f":"INDEX(Tabelle2[[#All],[Budgetlinie]],MATCH(Tabelle1[[#This Row],[Maßnahme]],Ausfüllhilfe!$C$1:$C$22,0))","v":{"$error":"#N/A"}},null,null,null,null,null,null,null,null,{"$f":"VLOOKUP(Tabelle1[[#This Row],[Budgetlinie]],Ausfüllhilfe!$A$1:$D$23,4,0)","v":{"$error":"#N/A"}}]
[{"$f":"INDEX(Tabelle2[[#All],[Budgetlinie]],MATCH(Tabelle1[[#This Row],[Maßnahme]],Ausfüllhilfe!$C$1:$C$22,0))","v":{"$error":"#N/A"}},null,null,null,null,null,null,null,null,{"$f":"VLOOKUP(Tabelle1[[#This Row],[Budgetlinie]],Ausfüllhilfe!$A$1:$D$23,4,0)","v":{"$error":"#N/A"}}]
[{"$f":"INDEX(Tabelle2[[#All],[Budgetlinie]],MATCH(Tabelle1[[#This Row],[Maßnahme]],Ausfüllhilfe!$C$1:$C$22,0))","v":{"$error":"#N/A"}},null,null,null,null,null,null,null,null,{"$f":"VLOOKUP(Tabelle1[[#This Row],[Budgetlinie]],Ausfüllhilfe!$A$1:$D$23,4,0)","v":{"$error":"#N/A"}}]
[{"$f":"INDEX(Tabelle2[[#All],[Budgetlinie]],MATCH(Tabelle1[[#This Row],[Maßnahme]],Ausfüllhilfe!$C$1:$C$22,0))","v":{"$error":"#N/A"}},null,null,null,null,null,null,null,null,{"$f":"VLOOKUP(Tabelle1[[#This Row],[Budgetlinie]],Ausfüllhilfe!$A$1:$D$23,4,0)","v":{"$error":"#N/A"}}]
[{"$f":"INDEX(Tabelle2[[#All],[Budgetlinie]],MATCH(Tabelle1[[#This Row],[Maßnahme]],Ausfüllhilfe!$C$1:$C$22,0))","v":{"$error":"#N/A"}},null,null,null,null,null,null,null,null,{"$f":"VLOOKUP(Tabelle1[[#This Row],[Budgetlinie]],Ausfüllhilfe!$A$1:$D$23,4,0)","v":{"$error":"#N/A"}}]
[{"$f":"INDEX(Tabelle2[[#All],[Budgetlinie]],MATCH(Tabelle1[[#This Row],[Maßnahme]],Ausfüllhilfe!$C$1:$C$22,0))","v":{"$error":"#N/A"}},null,null,null,null,null,null,null,null,{"$f":"VLOOKUP(Tabelle1[[#This Row],[Budgetlinie]],Ausfüllhilfe!$A$1:$D$23,4,0)","v":{"$error":"#N/A"}}]
[{"$f":"INDEX(Tabelle2[[#All],[Budgetlinie]],MATCH(Tabelle1[[#This Row],[Maßnahme]],Ausfüllhilfe!$C$1:$C$22,0))","v":{"$error":"#N/A"}},null,null,null,null,null,null,null,null,{"$f":"VLOOKUP(Tabelle1[[#This Row],[Budgetlinie]],Ausfüllhilfe!$A$1:$D$23,4,0)","v":{"$error":"#N/A"}}]
[{"$f":"INDEX(Tabelle2[[#All],[Budgetlinie]],MATCH(Tabelle1[[#This Row],[Maßnahme]],Ausfüllhilfe!$C$1:$C$22,0))","v":{"$error":"#N/A"}},null,null,null,null,null,null,null,null,{"$f":"VLOOKUP(Tabelle1[[#This Row],[Budgetlinie]],Ausfüllhilfe!$A$1:$D$23,4,0)","v":{"$error":"#N/A"}}]
[{"$f":"INDEX(Tabelle2[[#All],[Budgetlinie]],MATCH(Tabelle1[[#This Row],[Maßnahme]],Ausfüllhilfe!$C$1:$C$22,0))","v":{"$error":"#N/A"}},null,null,null,null,null,null,null,null,{"$f":"VLOOKUP(Tabelle1[[#This Row],[Budgetlinie]],Ausfüllhilfe!$A$1:$D$23,4,0)","v":{"$error":"#N/A"}}]
[{"$f":"INDEX(Tabelle2[[#All],[Budgetlinie]],MATCH(Tabelle1[[#This Row],[Maßnahme]],Ausfüllhilfe!$C$1:$C$22,0))","v":{"$error":"#N/A"}},null,null,null,null,null,null,null,null,{"$f":"VLOOKUP(Tabelle1[[#This Row],[Budgetlinie]],Ausfüllhilfe!$A$1:$D$23,4,0)","v":{"$error":"#N/A"}}]
[{"$f":"INDEX(Tabelle2[[#All],[Budgetlinie]],MATCH(Tabelle1[[#This Row],[Maßnahme]],Ausfüllhilfe!$C$1:$C$22,0))","v":{"$error":"#N/A"}},null,null,null,null,null,null,null,null,{"$f":"VLOOKUP(Tabelle1[[#This Row],[Budgetlinie]],Ausfüllhilfe!$A$1:$D$23,4,0)","v":{"$error":"#N/A"}}]
[{"$f":"INDEX(Tabelle2[[#All],[Budgetlinie]],MATCH(Tabelle1[[#This Row],[Maßnahme]],Ausfüllhilfe!$C$1:$C$22,0))","v":{"$error":"#N/A"}},null,null,null,null,null,null,null,null,{"$f":"VLOOKUP(Tabelle1[[#This Row],[Budgetlinie]],Ausfüllhilfe!$A$1:$D$23,4,0)","v":{"$error":"#N/A"}}]
[{"$f":"INDEX(Tabelle2[[#All],[Budgetlinie]],MATCH(Tabelle1[[#This Row],[Maßnahme]],Ausfüllhilfe!$C$1:$C$22,0))","v":{"$error":"#N/A"}},null,null,null,null,null,null,null,null,{"$f":"VLOOKUP(Tabelle1[[#This Row],[Budgetlinie]],Ausfüllhilfe!$A$1:$D$23,4,0)","v":{"$error":"#N/A"}}]
[{"$f":"INDEX(Tabelle2[[#All],[Budgetlinie]],MATCH(Tabelle1[[#This Row],[Maßnahme]],Ausfüllhilfe!$C$1:$C$22,0))","v":{"$error":"#N/A"}},null,null,null,null,null,null,null,null,{"$f":"VLOOKUP(Tabelle1[[#This Row],[Budgetlinie]],Ausfüllhilfe!$A$1:$D$23,4,0)","v":{"$error":"#N/A"}}]
[{"$f":"INDEX(Tabelle2[[#All],[Budgetlinie]],MATCH(Tabelle1[[#This Row],[Maßnahme]],Ausfüllhilfe!$C$1:$C$22,0))","v":{"$error":"#N/A"}},null,null,null,null,null,null,null,null,{"$f":"VLOOKUP(Tabelle1[[#This Row],[Budgetlinie]],Ausfüllhilfe!$A$1:$D$23,4,0)","v":{"$error":"#N/A"}}]
[{"$f":"INDEX(Tabelle2[[#All],[Budgetlinie]],MATCH(Tabelle1[[#This Row],[Maßnahme]],Ausfüllhilfe!$C$1:$C$22,0))","v":{"$error":"#N/A"}},null,null,null,null,null,null,null,null,{"$f":"VLOOKUP(Tabelle1[[#This Row],[Budgetlinie]],Ausfüllhilfe!$A$1:$D$23,4,0)","v":{"$error":"#N/A"}}]
[{"$f":"INDEX(Tabelle2[[#All],[Budgetlinie]],MATCH(Tabelle1[[#This Row],[Maßnahme]],Ausfüllhilfe!$C$1:$C$22,0))","v":{"$error":"#N/A"}},null,null,null,null,null,null,null,null,{"$f":"VLOOKUP(Tabelle1[[#This Row],[Budgetlinie]],Ausfüllhilfe!$A$1:$D$23,4,0)","v":{"$error":"#N/A"}}]
[{"$f":"INDEX(Tabelle2[[#All],[Budgetlinie]],MATCH(Tabelle1[[#This Row],[Maßnahme]],Ausfüllhilfe!$C$1:$C$22,0))","v":{"$error":"#N/A"}},null,null,null,null,null,null,null,null,{"$f":"VLOOKUP(Tabelle1[[#This Row],[Budgetlinie]],Ausfüllhilfe!$A$1:$D$23,4,0)","v":{"$error":"#N/A"}}]
[{"$f":"INDEX(Tabelle2[[#All],[Budgetlinie]],MATCH(Tabelle1[[#This Row],[Maßnahme]],Ausfüllhilfe!$C$1:$C$22,0))","v":{"$error":"#N/A"}},null,null,null,null,null,null,null,null,{"$f":"VLOOKUP(Tabelle1[[#This Row],[Budgetlinie]],Ausfüllhilfe!$A$1:$D$23,4,0)","v":{"$error":"#N/A"}}]
[{"$f":"INDEX(Tabelle2[[#All],[Budgetlinie]],MATCH(Tabelle1[[#This Row],[Maßnahme]],Ausfüllhilfe!$C$1:$C$22,0))","v":{"$error":"#N/A"}},null,null,null,null,null,null,null,null,{"$f":"VLOOKUP(Tabelle1[[#This Row],[Budgetlinie]],Ausfüllhilfe!$A$1:$D$23,4,0)","v":{"$error":"#N/A"}}]
[{"$f":"INDEX(Tabelle2[[#All],[Budgetlinie]],MATCH(Tabelle1[[#This Row],[Maßnahme]],Ausfüllhilfe!$C$1:$C$22,0))","v":{"$error":"#N/A"}},null,null,null,null,null,null,null,null,{"$f":"VLOOKUP(Tabelle1[[#This Row],[Budgetlinie]],Ausfüllhilfe!$A$1:$D$23,4,0)","v":{"$error":"#N/A"}}]
[{"$f":"INDEX(Tabelle2[[#All],[Budgetlinie]],MATCH(Tabelle1[[#This Row],[Maßnahme]],Ausfüllhilfe!$C$1:$C$22,0))","v":{"$error":"#N/A"}},null,null,null,null,null,null,null,null,{"$f":"VLOOKUP(Tabelle1[[#This Row],[Budgetlinie]],Ausfüllhilfe!$A$1:$D$23,4,0)","v":{"$error":"#N/A"}}]
[{"$f":"INDEX(Tabelle2[[#All],[Budgetlinie]],MATCH(Tabelle1[[#This Row],[Maßnahme]],Ausfüllhilfe!$C$1:$C$22,0))","v":{"$error":"#N/A"}},null,null,null,null,null,null,null,null,{"$f":"VLOOKUP(Tabelle1[[#This Row],[Budgetlinie]],Ausfüllhilfe!$A$1:$D$23,4,0)","v":{"$error":"#N/A"}}]
[{"$f":"INDEX(Tabelle2[[#All],[Budgetlinie]],MATCH(Tabelle1[[#This Row],[Maßnahme]],Ausfüllhilfe!$C$1:$C$22,0))","v":{"$error":"#N/A"}},null,null,null,null,null,null,null,null,{"$f":"VLOOKUP(Tabelle1[[#This Row],[Budgetlinie]],Ausfüllhilfe!$A$1:$D$23,4,0)","v":{"$error":"#N/A"}}]
[{"$f":"INDEX(Tabelle2[[#All],[Budgetlinie]],MATCH(Tabelle1[[#This Row],[Maßnahme]],Ausfüllhilfe!$C$1:$C$22,0))","v":{"$error":"#N/A"}},null,null,null,null,null,null,null,null,{"$f":"VLOOKUP(Tabelle1[[#This Row],[Budgetlinie]],Ausfüllhilfe!$A$1:$D$23,4,0)","v":{"$error":"#N/A"}}]
[{"$f":"INDEX(Tabelle2[[#All],[Budgetlinie]],MATCH(Tabelle1[[#This Row],[Maßnahme]],Ausfüllhilfe!$C$1:$C$22,0))","v":{"$error":"#N/A"}},null,null,null,null,null,null,null,null,{"$f":"VLOOKUP(Tabelle1[[#This Row],[Budgetlinie]],Ausfüllhilfe!$A$1:$D$23,4,0)","v":{"$error":"#N/A"}}]
[{"$f":"INDEX(Tabelle2[[#All],[Budgetlinie]],MATCH(Tabelle1[[#This Row],[Maßnahme]],Ausfüllhilfe!$C$1:$C$22,0))","v":{"$error":"#N/A"}},null,null,null,null,null,null,null,null,{"$f":"VLOOKUP(Tabelle1[[#This Row],[Budgetlinie]],Ausfüllhilfe!$A$1:$D$23,4,0)","v":{"$error":"#N/A"}}]
[{"$f":"INDEX(Tabelle2[[#All],[Budgetlinie]],MATCH(Tabelle1[[#This Row],[Maßnahme]],Ausfüllhilfe!$C$1:$C$22,0))","v":{"$error":"#N/A"}},null,null,null,null,null,null,null,null,{"$f":"VLOOKUP(Tabelle1[[#This Row],[Budgetlinie]],Ausfüllhilfe!$A$1:$D$23,4,0)","v":{"$error":"#N/A"}}]
[{"$f":"INDEX(Tabelle2[[#All],[Budgetlinie]],MATCH(Tabelle1[[#This Row],[Maßnahme]],Ausfüllhilfe!$C$1:$C$22,0))","v":{"$error":"#N/A"}},null,null,null,null,null,null,null,null,{"$f":"VLOOKUP(Tabelle1[[#This Row],[Budgetlinie]],Ausfüllhilfe!$A$1:$D$23,4,0)","v":{"$error":"#N/A"}}]
[{"$f":"INDEX(Tabelle2[[#All],[Budgetlinie]],MATCH(Tabelle1[[#This Row],[Maßnahme]],Ausfüllhilfe!$C$1:$C$22,0))","v":{"$error":"#N/A"}},null,null,null,null,null,null,null,null,{"$f":"VLOOKUP(Tabelle1[[#This Row],[Budgetlinie]],Ausfüllhilfe!$A$1:$D$23,4,0)","v":{"$error":"#N/A"}}]
[{"$f":"INDEX(Tabelle2[[#All],[Budgetlinie]],MATCH(Tabelle1[[#This Row],[Maßnahme]],Ausfüllhilfe!$C$1:$C$22,0))","v":{"$error":"#N/A"}},null,null,null,null,null,null,null,null,{"$f":"VLOOKUP(Tabelle1[[#This Row],[Budgetlinie]],Ausfüllhilfe!$A$1:$D$23,4,0)","v":{"$error":"#N/A"}}]
[{"$f":"INDEX(Tabelle2[[#All],[Budgetlinie]],MATCH(Tabelle1[[#This Row],[Maßnahme]],Ausfüllhilfe!$C$1:$C$22,0))","v":{"$error":"#N/A"}},null,null,null,null,null,null,null,null,{"$f":"VLOOKUP(Tabelle1[[#This Row],[Budgetlinie]],Ausfüllhilfe!$A$1:$D$23,4,0)","v":{"$error":"#N/A"}}]
[{"$f":"INDEX(Tabelle2[[#All],[Budgetlinie]],MATCH(Tabelle1[[#This Row],[Maßnahme]],Ausfüllhilfe!$C$1:$C$22,0))","v":{"$error":"#N/A"}},null,null,null,null,null,null,null,null,{"$f":"VLOOKUP(Tabelle1[[#This Row],[Budgetlinie]],Ausfüllhilfe!$A$1:$D$23,4,0)","v":{"$error":"#N/A"}}]
[{"$f":"INDEX(Tabelle2[[#All],[Budgetlinie]],MATCH(Tabelle1[[#This Row],[Maßnahme]],Ausfüllhilfe!$C$1:$C$22,0))","v":{"$error":"#N/A"}},null,null,null,null,null,null,null,null,{"$f":"VLOOKUP(Tabelle1[[#This Row],[Budgetlinie]],Ausfüllhilfe!$A$1:$D$23,4,0)","v":{"$error":"#N/A"}}]
[{"$f":"INDEX(Tabelle2[[#All],[Budgetlinie]],MATCH(Tabelle1[[#This Row],[Maßnahme]],Ausfüllhilfe!$C$1:$C$22,0))","v":{"$error":"#N/A"}},null,null,null,null,null,null,null,null,{"$f":"VLOOKUP(Tabelle1[[#This Row],[Budgetlinie]],Ausfüllhilfe!$A$1:$D$23,4,0)","v":{"$error":"#N/A"}}]
[{"$f":"INDEX(Tabelle2[[#All],[Budgetlinie]],MATCH(Tabelle1[[#This Row],[Maßnahme]],Ausfüllhilfe!$C$1:$C$22,0))","v":{"$error":"#N/A"}},null,null,null,null,null,null,null,null,{"$f":"VLOOKUP(Tabelle1[[#This Row],[Budgetlinie]],Ausfüllhilfe!$A$1:$D$23,4,0)","v":{"$error":"#N/A"}}]
[{"$f":"INDEX(Tabelle2[[#All],[Budgetlinie]],MATCH(Tabelle1[[#This Row],[Maßnahme]],Ausfüllhilfe!$C$1:$C$22,0))","v":{"$error":"#N/A"}},null,null,null,null,null,null,null,null,{"$f":"VLOOKUP(Tabelle1[[#This Row],[Budgetlinie]],Ausfüllhilfe!$A$1:$D$23,4,0)","v":{"$error":"#N/A"}}]
[{"$f":"INDEX(Tabelle2[[#All],[Budgetlinie]],MATCH(Tabelle1[[#This Row],[Maßnahme]],Ausfüllhilfe!$C$1:$C$22,0))","v":{"$error":"#N/A"}},null,null,null,null,null,null,null,null,{"$f":"VLOOKUP(Tabelle1[[#This Row],[Budgetlinie]],Ausfüllhilfe!$A$1:$D$23,4,0)","v":{"$error":"#N/A"}}]
[{"$f":"INDEX(Tabelle2[[#All],[Budgetlinie]],MATCH(Tabelle1[[#This Row],[Maßnahme]],Ausfüllhilfe!$C$1:$C$22,0))","v":{"$error":"#N/A"}},null,null,null,null,null,null,null,null,{"$f":"VLOOKUP(Tabelle1[[#This Row],[Budgetlinie]],Ausfüllhilfe!$A$1:$D$23,4,0)","v":{"$error":"#N/A"}}]
[{"$f":"INDEX(Tabelle2[[#All],[Budgetlinie]],MATCH(Tabelle1[[#This Row],[Maßnahme]],Ausfüllhilfe!$C$1:$C$22,0))","v":{"$error":"#N/A"}},null,null,null,null,null,null,null,null,{"$f":"VLOOKUP(Tabelle1[[#This Row],[Budgetlinie]],Ausfüllhilfe!$A$1:$D$23,4,0)","v":{"$error":"#N/A"}}]
[{"$f":"INDEX(Tabelle2[[#All],[Budgetlinie]],MATCH(Tabelle1[[#This Row],[Maßnahme]],Ausfüllhilfe!$C$1:$C$22,0))","v":{"$error":"#N/A"}},null,null,null,null,null,null,null,null,{"$f":"VLOOKUP(Tabelle1[[#This Row],[Budgetlinie]],Ausfüllhilfe!$A$1:$D$23,4,0)","v":{"$error":"#N/A"}}]
[{"$f":"INDEX(Tabelle2[[#All],[Budgetlinie]],MATCH(Tabelle1[[#This Row],[Maßnahme]],Ausfüllhilfe!$C$1:$C$22,0))","v":{"$error":"#N/A"}},null,null,null,null,null,null,null,null,{"$f":"VLOOKUP(Tabelle1[[#This Row],[Budgetlinie]],Ausfüllhilfe!$A$1:$D$23,4,0)","v":{"$error":"#N/A"}}]
[{"$f":"INDEX(Tabelle2[[#All],[Budgetlinie]],MATCH(Tabelle1[[#This Row],[Maßnahme]],Ausfüllhilfe!$C$1:$C$22,0))","v":{"$error":"#N/A"}},null,null,null,null,null,null,null,null,{"$f":"VLOOKUP(Tabelle1[[#This Row],[Budgetlinie]],Ausfüllhilfe!$A$1:$D$23,4,0)","v":{"$error":"#N/A"}}]
[{"$f":"INDEX(Tabelle2[[#All],[Budgetlinie]],MATCH(Tabelle1[[#This Row],[Maßnahme]],Ausfüllhilfe!$C$1:$C$22,0))","v":{"$error":"#N/A"}},null,null,null,null,null,null,null,null,{"$f":"VLOOKUP(Tabelle1[[#This Row],[Budgetlinie]],Ausfüllhilfe!$A$1:$D$23,4,0)","v":{"$error":"#N/A"}}]
[{"$f":"INDEX(Tabelle2[[#All],[Budgetlinie]],MATCH(Tabelle1[[#This Row],[Maßnahme]],Ausfüllhilfe!$C$1:$C$22,0))","v":{"$error":"#N/A"}},null,null,null,null,null,null,null,null,{"$f":"VLOOKUP(Tabelle1[[#This Row],[Budgetlinie]],Ausfüllhilfe!$A$1:$D$23,4,0)","v":{"$error":"#N/A"}}]
[{"$f":"INDEX(Tabelle2[[#All],[Budgetlinie]],MATCH(Tabelle1[[#This Row],[Maßnahme]],Ausfüllhilfe!$C$1:$C$22,0))","v":{"$error":"#N/A"}},null,null,null,null,null,null,null,null,{"$f":"VLOOKUP(Tabelle1[[#This Row],[Budgetlinie]],Ausfüllhilfe!$A$1:$D$23,4,0)","v":{"$error":"#N/A"}}]
[{"$f":"INDEX(Tabelle2[[#All],[Budgetlinie]],MATCH(Tabelle1[[#This Row],[Maßnahme]],Ausfüllhilfe!$C$1:$C$22,0))","v":{"$error":"#N/A"}},null,null,null,null,null,null,null,null,{"$f":"VLOOKUP(Tabelle1[[#This Row],[Budgetlinie]],Ausfüllhilfe!$A$1:$D$23,4,0)","v":{"$error":"#N/A"}}]
[{"$f":"INDEX(Tabelle2[[#All],[Budgetlinie]],MATCH(Tabelle1[[#This Row],[Maßnahme]],Ausfüllhilfe!$C$1:$C$22,0))","v":{"$error":"#N/A"}},null,null,null,null,null,null,null,null,{"$f":"VLOOKUP(Tabelle1[[#This Row],[Budgetlinie]],Ausfüllhilfe!$A$1:$D$23,4,0)","v":{"$error":"#N/A"}}]
[{"$f":"INDEX(Tabelle2[[#All],[Budgetlinie]],MATCH(Tabelle1[[#This Row],[Maßnahme]],Ausfüllhilfe!$C$1:$C$22,0))","v":{"$error":"#N/A"}},null,null,null,null,null,null,null,null,{"$f":"VLOOKUP(Tabelle1[[#This Row],[Budgetlinie]],Ausfüllhilfe!$A$1:$D$23,4,0)","v":{"$error":"#N/A"}}]
[{"$f":"INDEX(Tabelle2[[#All],[Budgetlinie]],MATCH(Tabelle1[[#This Row],[Maßnahme]],Ausfüllhilfe!$C$1:$C$22,0))","v":{"$error":"#N/A"}},null,null,null,null,null,null,null,null,{"$f":"VLOOKUP(Tabelle1[[#This Row],[Budgetlinie]],Ausfüllhilfe!$A$1:$D$23,4,0)","v":{"$error":"#N/A"}}]
[{"$f":"INDEX(Tabelle2[[#All],[Budgetlinie]],MATCH(Tabelle1[[#This Row],[Maßnahme]],Ausfüllhilfe!$C$1:$C$22,0))","v":{"$error":"#N/A"}},null,null,null,null,null,null,null,null,{"$f":"VLOOKUP(Tabelle1[[#This Row],[Budgetlinie]],Ausfüllhilfe!$A$1:$D$23,4,0)","v":{"$error":"#N/A"}}]
[{"$f":"INDEX(Tabelle2[[#All],[Budgetlinie]],MATCH(Tabelle1[[#This Row],[Maßnahme]],Ausfüllhilfe!$C$1:$C$22,0))","v":{"$error":"#N/A"}},null,null,null,null,null,null,null,null,{"$f":"VLOOKUP(Tabelle1[[#This Row],[Budgetlinie]],Ausfüllhilfe!$A$1:$D$23,4,0)","v":{"$error":"#N/A"}}]
[{"$f":"INDEX(Tabelle2[[#All],[Budgetlinie]],MATCH(Tabelle1[[#This Row],[Maßnahme]],Ausfüllhilfe!$C$1:$C$22,0))","v":{"$error":"#N/A"}},null,null,null,null,null,null,null,null,{"$f":"VLOOKUP(Tabelle1[[#This Row],[Budgetlinie]],Ausfüllhilfe!$A$1:$D$23,4,0)","v":{"$error":"#N/A"}}]
[{"$f":"INDEX(Tabelle2[[#All],[Budgetlinie]],MATCH(Tabelle1[[#This Row],[Maßnahme]],Ausfüllhilfe!$C$1:$C$22,0))","v":{"$error":"#N/A"}},null,null,null,null,null,null,null,null,{"$f":"VLOOKUP(Tabelle1[[#This Row],[Budgetlinie]],Ausfüllhilfe!$A$1:$D$23,4,0)","v":{"$error":"#N/A"}}]
[{"$f":"INDEX(Tabelle2[[#All],[Budgetlinie]],MATCH(Tabelle1[[#This Row],[Maßnahme]],Ausfüllhilfe!$C$1:$C$22,0))","v":{"$error":"#N/A"}},null,null,null,null,null,null,null,null,{"$f":"VLOOKUP(Tabelle1[[#This Row],[Budgetlinie]],Ausfüllhilfe!$A$1:$D$23,4,0)","v":{"$error":"#N/A"}}]
[{"$f":"INDEX(Tabelle2[[#All],[Budgetlinie]],MATCH(Tabelle1[[#This Row],[Maßnahme]],Ausfüllhilfe!$C$1:$C$22,0))","v":{"$error":"#N/A"}},null,null,null,null,null,null,null,null,{"$f":"VLOOKUP(Tabelle1[[#This Row],[Budgetlinie]],Ausfüllhilfe!$A$1:$D$23,4,0)","v":{"$error":"#N/A"}}]
[{"$f":"INDEX(Tabelle2[[#All],[Budgetlinie]],MATCH(Tabelle1[[#This Row],[Maßnahme]],Ausfüllhilfe!$C$1:$C$22,0))","v":{"$error":"#N/A"}},null,null,null,null,null,null,null,null,{"$f":"VLOOKUP(Tabelle1[[#This Row],[Budgetlinie]],Ausfüllhilfe!$A$1:$D$23,4,0)","v":{"$error":"#N/A"}}]
[{"$f":"INDEX(Tabelle2[[#All],[Budgetlinie]],MATCH(Tabelle1[[#This Row],[Maßnahme]],Ausfüllhilfe!$C$1:$C$22,0))","v":{"$error":"#N/A"}},null,null,null,null,null,null,null,null,{"$f":"VLOOKUP(Tabelle1[[#This Row],[Budgetlinie]],Ausfüllhilfe!$A$1:$D$23,4,0)","v":{"$error":"#N/A"}}]
[{"$f":"INDEX(Tabelle2[[#All],[Budgetlinie]],MATCH(Tabelle1[[#This Row],[Maßnahme]],Ausfüllhilfe!$C$1:$C$22,0))","v":{"$error":"#N/A"}},null,null,null,null,null,null,null,null,{"$f":"VLOOKUP(Tabelle1[[#This Row],[Budgetlinie]],Ausfüllhilfe!$A$1:$D$23,4,0)","v":{"$error":"#N/A"}}]
[{"$f":"INDEX(Tabelle2[[#All],[Budgetlinie]],MATCH(Tabelle1[[#This Row],[Maßnahme]],Ausfüllhilfe!$C$1:$C$22,0))","v":{"$error":"#N/A"}},null,null,null,null,null,null,null,null,{"$f":"VLOOKUP(Tabelle1[[#This Row],[Budgetlinie]],Ausfüllhilfe!$A$1:$D$23,4,0)","v":{"$error":"#N/A"}}]
[{"$f":"INDEX(Tabelle2[[#All],[Budgetlinie]],MATCH(Tabelle1[[#This Row],[Maßnahme]],Ausfüllhilfe!$C$1:$C$22,0))","v":{"$error":"#N/A"}},null,null,null,null,null,null,null,null,{"$f":"VLOOKUP(Tabelle1[[#This Row],[Budgetlinie]],Ausfüllhilfe!$A$1:$D$23,4,0)","v":{"$error":"#N/A"}}]
[{"$f":"INDEX(Tabelle2[[#All],[Budgetlinie]],MATCH(Tabelle1[[#This Row],[Maßnahme]],Ausfüllhilfe!$C$1:$C$22,0))","v":{"$error":"#N/A"}},null,null,null,null,null,null,null,null,{"$f":"VLOOKUP(Tabelle1[[#This Row],[Budgetlinie]],Ausfüllhilfe!$A$1:$D$23,4,0)","v":{"$error":"#N/A"}}]
[{"$f":"INDEX(Tabelle2[[#All],[Budgetlinie]],MATCH(Tabelle1[[#This Row],[Maßnahme]],Ausfüllhilfe!$C$1:$C$22,0))","v":{"$error":"#N/A"}},null,null,null,null,null,null,null,null,{"$f":"VLOOKUP(Tabelle1[[#This Row],[Budgetlinie]],Ausfüllhilfe!$A$1:$D$23,4,0)","v":{"$error":"#N/A"}}]
[{"$f":"INDEX(Tabelle2[[#All],[Budgetlinie]],MATCH(Tabelle1[[#This Row],[Maßnahme]],Ausfüllhilfe!$C$1:$C$22,0))","v":{"$error":"#N/A"}},null,null,null,null,null,null,null,null,{"$f":"VLOOKUP(Tabelle1[[#This Row],[Budgetlinie]],Ausfüllhilfe!$A$1:$D$23,4,0)","v":{"$error":"#N/A"}}]
[{"$f":"INDEX(Tabelle2[[#All],[Budgetlinie]],MATCH(Tabelle1[[#This Row],[Maßnahme]],Ausfüllhilfe!$C$1:$C$22,0))","v":{"$error":"#N/A"}},null,null,null,null,null,null,null,null,{"$f":"VLOOKUP(Tabelle1[[#This Row],[Budgetlinie]],Ausfüllhilfe!$A$1:$D$23,4,0)","v":{"$error":"#N/A"}}]
[{"$f":"INDEX(Tabelle2[[#All],[Budgetlinie]],MATCH(Tabelle1[[#This Row],[Maßnahme]],Ausfüllhilfe!$C$1:$C$22,0))","v":{"$error":"#N/A"}},null,null,null,null,null,null,null,null,{"$f":"VLOOKUP(Tabelle1[[#This Row],[Budgetlinie]],Ausfüllhilfe!$A$1:$D$23,4,0)","v":{"$error":"#N/A"}}]
[{"$f":"INDEX(Tabelle2[[#All],[Budgetlinie]],MATCH(Tabelle1[[#This Row],[Maßnahme]],Ausfüllhilfe!$C$1:$C$22,0))","v":{"$error":"#N/A"}},null,null,null,null,null,null,null,null,{"$f":"VLOOKUP(Tabelle1[[#This Row],[Budgetlinie]],Ausfüllhilfe!$A$1:$D$23,4,0)","v":{"$error":"#N/A"}}]
[{"$f":"INDEX(Tabelle2[[#All],[Budgetlinie]],MATCH(Tabelle1[[#This Row],[Maßnahme]],Ausfüllhilfe!$C$1:$C$22,0))","v":{"$error":"#N/A"}},null,null,null,null,null,null,null,null,{"$f":"VLOOKUP(Tabelle1[[#This Row],[Budgetlinie]],Ausfüllhilfe!$A$1:$D$23,4,0)","v":{"$error":"#N/A"}}]
[{"$f":"INDEX(Tabelle2[[#All],[Budgetlinie]],MATCH(Tabelle1[[#This Row],[Maßnahme]],Ausfüllhilfe!$C$1:$C$22,0))","v":{"$error":"#N/A"}},null,null,null,null,null,null,null,null,{"$f":"VLOOKUP(Tabelle1[[#This Row],[Budgetlinie]],Ausfüllhilfe!$A$1:$D$23,4,0)","v":{"$error":"#N/A"}}]
[{"$f":"INDEX(Tabelle2[[#All],[Budgetlinie]],MATCH(Tabelle1[[#This Row],[Maßnahme]],Ausfüllhilfe!$C$1:$C$22,0))","v":{"$error":"#N/A"}},null,null,null,null,null,null,null,null,{"$f":"VLOOKUP(Tabelle1[[#This Row],[Budgetlinie]],Ausfüllhilfe!$A$1:$D$23,4,0)","v":{"$error":"#N/A"}}]
[{"$f":"INDEX(Tabelle2[[#All],[Budgetlinie]],MATCH(Tabelle1[[#This Row],[Maßnahme]],Ausfüllhilfe!$C$1:$C$22,0))","v":{"$error":"#N/A"}},null,null,null,null,null,null,null,null,{"$f":"VLOOKUP(Tabelle1[[#This Row],[Budgetlinie]],Ausfüllhilfe!$A$1:$D$23,4,0)","v":{"$error":"#N/A"}}]
[{"$f":"INDEX(Tabelle2[[#All],[Budgetlinie]],MATCH(Tabelle1[[#This Row],[Maßnahme]],Ausfüllhilfe!$C$1:$C$22,0))","v":{"$error":"#N/A"}},null,null,null,null,null,null,null,null,{"$f":"VLOOKUP(Tabelle1[[#This Row],[Budgetlinie]],Ausfüllhilfe!$A$1:$D$23,4,0)","v":{"$error":"#N/A"}}]
[{"$f":"INDEX(Tabelle2[[#All],[Budgetlinie]],MATCH(Tabelle1[[#This Row],[Maßnahme]],Ausfüllhilfe!$C$1:$C$22,0))","v":{"$error":"#N/A"}},null,null,null,null,null,null,null,null,{"$f":"VLOOKUP(Tabelle1[[#This Row],[Budgetlinie]],Ausfüllhilfe!$A$1:$D$23,4,0)","v":{"$error":"#N/A"}}]
[{"$f":"INDEX(Tabelle2[[#All],[Budgetlinie]],MATCH(Tabelle1[[#This Row],[Maßnahme]],Ausfüllhilfe!$C$1:$C$22,0))","v":{"$error":"#N/A"}},null,null,null,null,null,null,null,null,{"$f":"VLOOKUP(Tabelle1[[#This Row],[Budgetlinie]],Ausfüllhilfe!$A$1:$D$23,4,0)","v":{"$error":"#N/A"}}]
[{"$f":"INDEX(Tabelle2[[#All],[Budgetlinie]],MATCH(Tabelle1[[#This Row],[Maßnahme]],Ausfüllhilfe!$C$1:$C$22,0))","v":{"$error":"#N/A"}},null,null,null,null,null,null,null,null,{"$f":"VLOOKUP(Tabelle1[[#This Row],[Budgetlinie]],Ausfüllhilfe!$A$1:$D$23,4,0)","v":{"$error":"#N/A"}}]
[{"$f":"INDEX(Tabelle2[[#All],[Budgetlinie]],MATCH(Tabelle1[[#This Row],[Maßnahme]],Ausfüllhilfe!$C$1:$C$22,0))","v":{"$error":"#N/A"}},null,null,null,null,null,null,null,null,{"$f":"VLOOKUP(Tabelle1[[#This Row],[Budgetlinie]],Ausfüllhilfe!$A$1:$D$23,4,0)","v":{"$error":"#N/A"}}]
[{"$f":"INDEX(Tabelle2[[#All],[Budgetlinie]],MATCH(Tabelle1[[#This Row],[Maßnahme]],Ausfüllhilfe!$C$1:$C$22,0))","v":{"$error":"#N/A"}},null,null,null,null,null,null,null,null,{"$f":"VLOOKUP(Tabelle1[[#This Row],[Budgetlinie]],Ausfüllhilfe!$A$1:$D$23,4,0)","v":{"$error":"#N/A"}}]
[{"$f":"INDEX(Tabelle2[[#All],[Budgetlinie]],MATCH(Tabelle1[[#This Row],[Maßnahme]],Ausfüllhilfe!$C$1:$C$22,0))","v":{"$error":"#N/A"}},null,null,null,null,null,null,null,null,{"$f":"VLOOKUP(Tabelle1[[#This Row],[Budgetlinie]],Ausfüllhilfe!$A$1:$D$23,4,0)","v":{"$error":"#N/A"}}]
[{"$f":"INDEX(Tabelle2[[#All],[Budgetlinie]],MATCH(Tabelle1[[#This Row],[Maßnahme]],Ausfüllhilfe!$C$1:$C$22,0))","v":{"$error":"#N/A"}},null,null,null,null,null,null,null,null,{"$f":"VLOOKUP(Tabelle1[[#This Row],[Budgetlinie]],Ausfüllhilfe!$A$1:$D$23,4,0)","v":{"$error":"#N/A"}}]
[{"$f":"INDEX(Tabelle2[[#All],[Budgetlinie]],MATCH(Tabelle1[[#This Row],[Maßnahme]],Ausfüllhilfe!$C$1:$C$22,0))","v":{"$error":"#N/A"}},null,null,null,null,null,null,null,null,{"$f":"VLOOKUP(Tabelle1[[#This Row],[Budgetlinie]],Ausfüllhilfe!$A$1:$D$23,4,0)","v":{"$error":"#N/A"}}]
[{"$f":"INDEX(Tabelle2[[#All],[Budgetlinie]],MATCH(Tabelle1[[#This Row],[Maßnahme]],Ausfüllhilfe!$C$1:$C$22,0))","v":{"$error":"#N/A"}},null,null,null,null,null,null,null,null,{"$f":"VLOOKUP(Tabelle1[[#This Row],[Budgetlinie]],Ausfüllhilfe!$A$1:$D$23,4,0)","v":{"$error":"#N/A"}}]
[{"$f":"INDEX(Tabelle2[[#All],[Budgetlinie]],MATCH(Tabelle1[[#This Row],[Maßnahme]],Ausfüllhilfe!$C$1:$C$22,0))","v":{"$error":"#N/A"}},null,null,null,null,null,null,null,null,{"$f":"VLOOKUP(Tabelle1[[#This Row],[Budgetlinie]],Ausfüllhilfe!$A$1:$D$23,4,0)","v":{"$error":"#N/A"}}]
[{"$f":"INDEX(Tabelle2[[#All],[Budgetlinie]],MATCH(Tabelle1[[#This Row],[Maßnahme]],Ausfüllhilfe!$C$1:$C$22,0))","v":{"$error":"#N/A"}},null,null,null,null,null,null,null,null,{"$f":"VLOOKUP(Tabelle1[[#This Row],[Budgetlinie]],Ausfüllhilfe!$A$1:$D$23,4,0)","v":{"$error":"#N/A"}}]
[{"$f":"INDEX(Tabelle2[[#All],[Budgetlinie]],MATCH(Tabelle1[[#This Row],[Maßnahme]],Ausfüllhilfe!$C$1:$C$22,0))","v":{"$error":"#N/A"}},null,null,null,null,null,null,null,null,{"$f":"VLOOKUP(Tabelle1[[#This Row],[Budgetlinie]],Ausfüllhilfe!$A$1:$D$23,4,0)","v":{"$error":"#N/A"}}]
[{"$f":"INDEX(Tabelle2[[#All],[Budgetlinie]],MATCH(Tabelle1[[#This Row],[Maßnahme]],Ausfüllhilfe!$C$1:$C$22,0))","v":{"$error":"#N/A"}},null,null,null,null,null,null,null,null,{"$f":"VLOOKUP(Tabelle1[[#This Row],[Budgetlinie]],Ausfüllhilfe!$A$1:$D$23,4,0)","v":{"$error":"#N/A"}}]
[{"$f":"INDEX(Tabelle2[[#All],[Budgetlinie]],MATCH(Tabelle1[[#This Row],[Maßnahme]],Ausfüllhilfe!$C$1:$C$22,0))","v":{"$error":"#N/A"}},null,null,null,null,null,null,null,null,{"$f":"VLOOKUP(Tabelle1[[#This Row],[Budgetlinie]],Ausfüllhilfe!$A$1:$D$23,4,0)","v":{"$error":"#N/A"}}]
[{"$f":"INDEX(Tabelle2[[#All],[Budgetlinie]],MATCH(Tabelle1[[#This Row],[Maßnahme]],Ausfüllhilfe!$C$1:$C$22,0))","v":{"$error":"#N/A"}},null,null,null,null,null,null,null,null,{"$f":"VLOOKUP(Tabelle1[[#This Row],[Budgetlinie]],Ausfüllhilfe!$A$1:$D$23,4,0)","v":{"$error":"#N/A"}}]
[{"$f":"INDEX(Tabelle2[[#All],[Budgetlinie]],MATCH(Tabelle1[[#This Row],[Maßnahme]],Ausfüllhilfe!$C$1:$C$22,0))","v":{"$error":"#N/A"}},null,null,null,null,null,null,null,null,{"$f":"VLOOKUP(Tabelle1[[#This Row],[Budgetlinie]],Ausfüllhilfe!$A$1:$D$23,4,0)","v":{"$error":"#N/A"}}]
[{"$f":"INDEX(Tabelle2[[#All],[Budgetlinie]],MATCH(Tabelle1[[#This Row],[Maßnahme]],Ausfüllhilfe!$C$1:$C$22,0))","v":{"$error":"#N/A"}},null,null,null,null,null,null,null,null,{"$f":"VLOOKUP(Tabelle1[[#This Row],[Budgetlinie]],Ausfüllhilfe!$A$1:$D$23,4,0)","v":{"$error":"#N/A"}}]
[{"$f":"INDEX(Tabelle2[[#All],[Budgetlinie]],MATCH(Tabelle1[[#This Row],[Maßnahme]],Ausfüllhilfe!$C$1:$C$22,0))","v":{"$error":"#N/A"}},null,null,null,null,null,null,null,null,{"$f":"VLOOKUP(Tabelle1[[#This Row],[Budgetlinie]],Ausfüllhilfe!$A$1:$D$23,4,0)","v":{"$error":"#N/A"}}]
[{"$f":"INDEX(Tabelle2[[#All],[Budgetlinie]],MATCH(Tabelle1[[#This Row],[Maßnahme]],Ausfüllhilfe!$C$1:$C$22,0))","v":{"$error":"#N/A"}},null,null,null,null,null,null,null,null,{"$f":"VLOOKUP(Tabelle1[[#This Row],[Budgetlinie]],Ausfüllhilfe!$A$1:$D$23,4,0)","v":{"$error":"#N/A"}}]
[{"$f":"INDEX(Tabelle2[[#All],[Budgetlinie]],MATCH(Tabelle1[[#This Row],[Maßnahme]],Ausfüllhilfe!$C$1:$C$22,0))","v":{"$error":"#N/A"}},null,null,null,null,null,null,null,null,{"$f":"VLOOKUP(Tabelle1[[#This Row],[Budgetlinie]],Ausfüllhilfe!$A$1:$D$23,4,0)","v":{"$error":"#N/A"}}]
[{"$f":"INDEX(Tabelle2[[#All],[Budgetlinie]],MATCH(Tabelle1[[#This Row],[Maßnahme]],Ausfüllhilfe!$C$1:$C$22,0))","v":{"$error":"#N/A"}},null,null,null,null,null,null,null,null,{"$f":"VLOOKUP(Tabelle1[[#This Row],[Budgetlinie]],Ausfüllhilfe!$A$1:$D$23,4,0)","v":{"$error":"#N/A"}}]
[{"$f":"INDEX(Tabelle2[[#All],[Budgetlinie]],MATCH(Tabelle1[[#This Row],[Maßnahme]],Ausfüllhilfe!$C$1:$C$22,0))","v":{"$error":"#N/A"}},null,null,null,null,null,null,null,null,{"$f":"VLOOKUP(Tabelle1[[#This Row],[Budgetlinie]],Ausfüllhilfe!$A$1:$D$23,4,0)","v":{"$error":"#N/A"}}]
[{"$f":"INDEX(Tabelle2[[#All],[Budgetlinie]],MATCH(Tabelle1[[#This Row],[Maßnahme]],Ausfüllhilfe!$C$1:$C$22,0))","v":{"$error":"#N/A"}},null,null,null,null,null,null,null,null,{"$f":"VLOOKUP(Tabelle1[[#This Row],[Budgetlinie]],Ausfüllhilfe!$A$1:$D$23,4,0)","v":{"$error":"#N/A"}}]
[{"$f":"INDEX(Tabelle2[[#All],[Budgetlinie]],MATCH(Tabelle1[[#This Row],[Maßnahme]],Ausfüllhilfe!$C$1:$C$22,0))","v":{"$error":"#N/A"}},null,null,null,null,null,null,null,null,{"$f":"VLOOKUP(Tabelle1[[#This Row],[Budgetlinie]],Ausfüllhilfe!$A$1:$D$23,4,0)","v":{"$error":"#N/A"}}]
[{"$f":"INDEX(Tabelle2[[#All],[Budgetlinie]],MATCH(Tabelle1[[#This Row],[Maßnahme]],Ausfüllhilfe!$C$1:$C$22,0))","v":{"$error":"#N/A"}},null,null,null,null,null,null,null,null,{"$f":"VLOOKUP(Tabelle1[[#This Row],[Budgetlinie]],Ausfüllhilfe!$A$1:$D$23,4,0)","v":{"$error":"#N/A"}}]
[{"$f":"INDEX(Tabelle2[[#All],[Budgetlinie]],MATCH(Tabelle1[[#This Row],[Maßnahme]],Ausfüllhilfe!$C$1:$C$22,0))","v":{"$error":"#N/A"}},null,null,null,null,null,null,null,null,{"$f":"VLOOKUP(Tabelle1[[#This Row],[Budgetlinie]],Ausfüllhilfe!$A$1:$D$23,4,0)","v":{"$error":"#N/A"}}]
[{"$f":"INDEX(Tabelle2[[#All],[Budgetlinie]],MATCH(Tabelle1[[#This Row],[Maßnahme]],Ausfüllhilfe!$C$1:$C$22,0))","v":{"$error":"#N/A"}},null,null,null,null,null,null,null,null,{"$f":"VLOOKUP(Tabelle1[[#This Row],[Budgetlinie]],Ausfüllhilfe!$A$1:$D$23,4,0)","v":{"$error":"#N/A"}}]
[{"$f":"INDEX(Tabelle2[[#All],[Budgetlinie]],MATCH(Tabelle1[[#This Row],[Maßnahme]],Ausfüllhilfe!$C$1:$C$22,0))","v":{"$error":"#N/A"}},null,null,null,null,null,null,null,null,{"$f":"VLOOKUP(Tabelle1[[#This Row],[Budgetlinie]],Ausfüllhilfe!$A$1:$D$23,4,0)","v":{"$error":"#N/A"}}]
[{"$f":"INDEX(Tabelle2[[#All],[Budgetlinie]],MATCH(Tabelle1[[#This Row],[Maßnahme]],Ausfüllhilfe!$C$1:$C$22,0))","v":{"$error":"#N/A"}},null,null,null,null,null,null,null,null,{"$f":"VLOOKUP(Tabelle1[[#This Row],[Budgetlinie]],Ausfüllhilfe!$A$1:$D$23,4,0)","v":{"$error":"#N/A"}}]
[{"$f":"INDEX(Tabelle2[[#All],[Budgetlinie]],MATCH(Tabelle1[[#This Row],[Maßnahme]],Ausfüllhilfe!$C$1:$C$22,0))","v":{"$error":"#N/A"}},null,null,null,null,null,null,null,null,{"$f":"VLOOKUP(Tabelle1[[#This Row],[Budgetlinie]],Ausfüllhilfe!$A$1:$D$23,4,0)","v":{"$error":"#N/A"}}]
[{"$f":"INDEX(Tabelle2[[#All],[Budgetlinie]],MATCH(Tabelle1[[#This Row],[Maßnahme]],Ausfüllhilfe!$C$1:$C$22,0))","v":{"$error":"#N/A"}},null,null,null,null,null,null,null,null,{"$f":"VLOOKUP(Tabelle1[[#This Row],[Budgetlinie]],Ausfüllhilfe!$A$1:$D$23,4,0)","v":{"$error":"#N/A"}}]
[{"$f":"INDEX(Tabelle2[[#All],[Budgetlinie]],MATCH(Tabelle1[[#This Row],[Maßnahme]],Ausfüllhilfe!$C$1:$C$22,0))","v":{"$error":"#N/A"}},null,null,null,null,null,null,null,null,{"$f":"VLOOKUP(Tabelle1[[#This Row],[Budgetlinie]],Ausfüllhilfe!$A$1:$D$23,4,0)","v":{"$error":"#N/A"}}]
[{"$f":"INDEX(Tabelle2[[#All],[Budgetlinie]],MATCH(Tabelle1[[#This Row],[Maßnahme]],Ausfüllhilfe!$C$1:$C$22,0))","v":{"$error":"#N/A"}},null,null,null,null,null,null,null,null,{"$f":"VLOOKUP(Tabelle1[[#This Row],[Budgetlinie]],Ausfüllhilfe!$A$1:$D$23,4,0)","v":{"$error":"#N/A"}}]
[{"$f":"INDEX(Tabelle2[[#All],[Budgetlinie]],MATCH(Tabelle1[[#This Row],[Maßnahme]],Ausfüllhilfe!$C$1:$C$22,0))","v":{"$error":"#N/A"}},null,null,null,null,null,null,null,null,{"$f":"VLOOKUP(Tabelle1[[#This Row],[Budgetlinie]],Ausfüllhilfe!$A$1:$D$23,4,0)","v":{"$error":"#N/A"}}]
[{"$f":"INDEX(Tabelle2[[#All],[Budgetlinie]],MATCH(Tabelle1[[#This Row],[Maßnahme]],Ausfüllhilfe!$C$1:$C$22,0))","v":{"$error":"#N/A"}},null,null,null,null,null,null,null,null,{"$f":"VLOOKUP(Tabelle1[[#This Row],[Budgetlinie]],Ausfüllhilfe!$A$1:$D$23,4,0)","v":{"$error":"#N/A"}}]
[{"$f":"INDEX(Tabelle2[[#All],[Budgetlinie]],MATCH(Tabelle1[[#This Row],[Maßnahme]],Ausfüllhilfe!$C$1:$C$22,0))","v":{"$error":"#N/A"}},null,null,null,null,null,null,null,null,{"$f":"VLOOKUP(Tabelle1[[#This Row],[Budgetlinie]],Ausfüllhilfe!$A$1:$D$23,4,0)","v":{"$error":"#N/A"}}]
[{"$f":"INDEX(Tabelle2[[#All],[Budgetlinie]],MATCH(Tabelle1[[#This Row],[Maßnahme]],Ausfüllhilfe!$C$1:$C$22,0))","v":{"$error":"#N/A"}},null,null,null,null,null,null,null,null,{"$f":"VLOOKUP(Tabelle1[[#This Row],[Budgetlinie]],Ausfüllhilfe!$A$1:$D$23,4,0)","v":{"$error":"#N/A"}}]
[{"$f":"INDEX(Tabelle2[[#All],[Budgetlinie]],MATCH(Tabelle1[[#This Row],[Maßnahme]],Ausfüllhilfe!$C$1:$C$22,0))","v":{"$error":"#N/A"}},null,null,null,null,null,null,null,null,{"$f":"VLOOKUP(Tabelle1[[#This Row],[Budgetlinie]],Ausfüllhilfe!$A$1:$D$23,4,0)","v":{"$error":"#N/A"}}]
[{"$f":"INDEX(Tabelle2[[#All],[Budgetlinie]],MATCH(Tabelle1[[#This Row],[Maßnahme]],Ausfüllhilfe!$C$1:$C$22,0))","v":{"$error":"#N/A"}},null,null,null,null,null,null,null,null,{"$f":"VLOOKUP(Tabelle1[[#This Row],[Budgetlinie]],Ausfüllhilfe!$A$1:$D$23,4,0)","v":{"$error":"#N/A"}}]
[{"$f":"INDEX(Tabelle2[[#All],[Budgetlinie]],MATCH(Tabelle1[[#This Row],[Maßnahme]],Ausfüllhilfe!$C$1:$C$22,0))","v":{"$error":"#N/A"}},null,null,null,null,null,null,null,null,{"$f":"VLOOKUP(Tabelle1[[#This Row],[Budgetlinie]],Ausfüllhilfe!$A$1:$D$23,4,0)","v":{"$error":"#N/A"}}]
[{"$f":"INDEX(Tabelle2[[#All],[Budgetlinie]],MATCH(Tabelle1[[#This Row],[Maßnahme]],Ausfüllhilfe!$C$1:$C$22,0))","v":{"$error":"#N/A"}},null,null,null,null,null,null,null,null,{"$f":"VLOOKUP(Tabelle1[[#This Row],[Budgetlinie]],Ausfüllhilfe!$A$1:$D$23,4,0)","v":{"$error":"#N/A"}}]
[{"$f":"INDEX(Tabelle2[[#All],[Budgetlinie]],MATCH(Tabelle1[[#This Row],[Maßnahme]],Ausfüllhilfe!$C$1:$C$22,0))","v":{"$error":"#N/A"}},null,null,null,null,null,null,null,null,{"$f":"VLOOKUP(Tabelle1[[#This Row],[Budgetlinie]],Ausfüllhilfe!$A$1:$D$23,4,0)","v":{"$error":"#N/A"}}]
[{"$f":"INDEX(Tabelle2[[#All],[Budgetlinie]],MATCH(Tabelle1[[#This Row],[Maßnahme]],Ausfüllhilfe!$C$1:$C$22,0))","v":{"$error":"#N/A"}},null,null,null,null,null,null,null,null,{"$f":"VLOOKUP(Tabelle1[[#This Row],[Budgetlinie]],Ausfüllhilfe!$A$1:$D$23,4,0)","v":{"$error":"#N/A"}}]
[{"$f":"INDEX(Tabelle2[[#All],[Budgetlinie]],MATCH(Tabelle1[[#This Row],[Maßnahme]],Ausfüllhilfe!$C$1:$C$22,0))","v":{"$error":"#N/A"}},null,null,null,null,null,null,null,null,{"$f":"VLOOKUP(Tabelle1[[#This Row],[Budgetlinie]],Ausfüllhilfe!$A$1:$D$23,4,0)","v":{"$error":"#N/A"}}]
[{"$f":"INDEX(Tabelle2[[#All],[Budgetlinie]],MATCH(Tabelle1[[#This Row],[Maßnahme]],Ausfüllhilfe!$C$1:$C$22,0))","v":{"$error":"#N/A"}},null,null,null,null,null,null,null,null,{"$f":"VLOOKUP(Tabelle1[[#This Row],[Budgetlinie]],Ausfüllhilfe!$A$1:$D$23,4,0)","v":{"$error":"#N/A"}}]
[{"$f":"INDEX(Tabelle2[[#All],[Budgetlinie]],MATCH(Tabelle1[[#This Row],[Maßnahme]],Ausfüllhilfe!$C$1:$C$22,0))","v":{"$error":"#N/A"}},null,null,null,null,null,null,null,null,{"$f":"VLOOKUP(Tabelle1[[#This Row],[Budgetlinie]],Ausfüllhilfe!$A$1:$D$23,4,0)","v":{"$error":"#N/A"}}]
[{"$f":"INDEX(Tabelle2[[#All],[Budgetlinie]],MATCH(Tabelle1[[#This Row],[Maßnahme]],Ausfüllhilfe!$C$1:$C$22,0))","v":{"$error":"#N/A"}},null,null,null,null,null,null,null,null,{"$f":"VLOOKUP(Tabelle1[[#This Row],[Budgetlinie]],Ausfüllhilfe!$A$1:$D$23,4,0)","v":{"$error":"#N/A"}}]
[{"$f":"INDEX(Tabelle2[[#All],[Budgetlinie]],MATCH(Tabelle1[[#This Row],[Maßnahme]],Ausfüllhilfe!$C$1:$C$22,0))","v":{"$error":"#N/A"}},null,null,null,null,null,null,null,null,{"$f":"VLOOKUP(Tabelle1[[#This Row],[Budgetlinie]],Ausfüllhilfe!$A$1:$D$23,4,0)","v":{"$error":"#N/A"}}]
[{"$f":"INDEX(Tabelle2[[#All],[Budgetlinie]],MATCH(Tabelle1[[#This Row],[Maßnahme]],Ausfüllhilfe!$C$1:$C$22,0))","v":{"$error":"#N/A"}},null,null,null,null,null,null,null,null,{"$f":"VLOOKUP(Tabelle1[[#This Row],[Budgetlinie]],Ausfüllhilfe!$A$1:$D$23,4,0)","v":{"$error":"#N/A"}}]
[{"$f":"INDEX(Tabelle2[[#All],[Budgetlinie]],MATCH(Tabelle1[[#This Row],[Maßnahme]],Ausfüllhilfe!$C$1:$C$22,0))","v":{"$error":"#N/A"}},null,null,null,null,null,null,null,null,{"$f":"VLOOKUP(Tabelle1[[#This Row],[Budgetlinie]],Ausfüllhilfe!$A$1:$D$23,4,0)","v":{"$error":"#N/A"}}]
[{"$f":"INDEX(Tabelle2[[#All],[Budgetlinie]],MATCH(Tabelle1[[#This Row],[Maßnahme]],Ausfüllhilfe!$C$1:$C$22,0))","v":{"$error":"#N/A"}},null,null,null,null,null,null,null,null,{"$f":"VLOOKUP(Tabelle1[[#This Row],[Budgetlinie]],Ausfüllhilfe!$A$1:$D$23,4,0)","v":{"$error":"#N/A"}}]
[{"$f":"INDEX(Tabelle2[[#All],[Budgetlinie]],MATCH(Tabelle1[[#This Row],[Maßnahme]],Ausfüllhilfe!$C$1:$C$22,0))","v":{"$error":"#N/A"}},null,null,null,null,null,null,null,null,{"$f":"VLOOKUP(Tabelle1[[#This Row],[Budgetlinie]],Ausfüllhilfe!$A$1:$D$23,4,0)","v":{"$error":"#N/A"}}]
[{"$f":"INDEX(Tabelle2[[#All],[Budgetlinie]],MATCH(Tabelle1[[#This Row],[Maßnahme]],Ausfüllhilfe!$C$1:$C$22,0))","v":{"$error":"#N/A"}},null,null,null,null,null,null,null,null,{"$f":"VLOOKUP(Tabelle1[[#This Row],[Budgetlinie]],Ausfüllhilfe!$A$1:$D$23,4,0)","v":{"$error":"#N/A"}}]
[{"$f":"INDEX(Tabelle2[[#All],[Budgetlinie]],MATCH(Tabelle1[[#This Row],[Maßnahme]],Ausfüllhilfe!$C$1:$C$22,0))","v":{"$error":"#N/A"}},null,null,null,null,null,null,null,null,{"$f":"VLOOKUP(Tabelle1[[#This Row],[Budgetlinie]],Ausfüllhilfe!$A$1:$D$23,4,0)","v":{"$error":"#N/A"}}]
[{"$f":"INDEX(Tabelle2[[#All],[Budgetlinie]],MATCH(Tabelle1[[#This Row],[Maßnahme]],Ausfüllhilfe!$C$1:$C$22,0))","v":{"$error":"#N/A"}},null,null,null,null,null,null,null,null,{"$f":"VLOOKUP(Tabelle1[[#This Row],[Budgetlinie]],Ausfüllhilfe!$A$1:$D$23,4,0)","v":{"$error":"#N/A"}}]
[{"$f":"INDEX(Tabelle2[[#All],[Budgetlinie]],MATCH(Tabelle1[[#This Row],[Maßnahme]],Ausfüllhilfe!$C$1:$C$22,0))","v":{"$error":"#N/A"}},null,null,null,null,null,null,null,null,{"$f":"VLOOKUP(Tabelle1[[#This Row],[Budgetlinie]],Ausfüllhilfe!$A$1:$D$23,4,0)","v":{"$error":"#N/A"}}]
[{"$f":"INDEX(Tabelle2[[#All],[Budgetlinie]],MATCH(Tabelle1[[#This Row],[Maßnahme]],Ausfüllhilfe!$C$1:$C$22,0))","v":{"$error":"#N/A"}},null,null,null,null,null,null,null,null,{"$f":"VLOOKUP(Tabelle1[[#This Row],[Budgetlinie]],Ausfüllhilfe!$A$1:$D$23,4,0)","v":{"$error":"#N/A"}}]
[{"$f":"INDEX(Tabelle2[[#All],[Budgetlinie]],MATCH(Tabelle1[[#This Row],[Maßnahme]],Ausfüllhilfe!$C$1:$C$22,0))","v":{"$error":"#N/A"}},null,null,null,null,null,null,null,null,{"$f":"VLOOKUP(Tabelle1[[#This Row],[Budgetlinie]],Ausfüllhilfe!$A$1:$D$23,4,0)","v":{"$error":"#N/A"}}]
[{"$f":"INDEX(Tabelle2[[#All],[Budgetlinie]],MATCH(Tabelle1[[#This Row],[Maßnahme]],Ausfüllhilfe!$C$1:$C$22,0))","v":{"$error":"#N/A"}},null,null,null,null,null,null,null,null,{"$f":"VLOOKUP(Tabelle1[[#This Row],[Budgetlinie]],Ausfüllhilfe!$A$1:$D$23,4,0)","v":{"$error":"#N/A"}}]
[{"$f":"INDEX(Tabelle2[[#All],[Budgetlinie]],MATCH(Tabelle1[[#This Row],[Maßnahme]],Ausfüllhilfe!$C$1:$C$22,0))","v":{"$error":"#N/A"}},null,null,null,null,null,null,null,null,{"$f":"VLOOKUP(Tabelle1[[#This Row],[Budgetlinie]],Ausfüllhilfe!$A$1:$D$23,4,0)","v":{"$error":"#N/A"}}]
[{"$f":"INDEX(Tabelle2[[#All],[Budgetlinie]],MATCH(Tabelle1[[#This Row],[Maßnahme]],Ausfüllhilfe!$C$1:$C$22,0))","v":{"$error":"#N/A"}},null,null,null,null,null,null,null,null,{"$f":"VLOOKUP(Tabelle1[[#This Row],[Budgetlinie]],Ausfüllhilfe!$A$1:$D$23,4,0)","v":{"$error":"#N/A"}}]
[{"$f":"INDEX(Tabelle2[[#All],[Budgetlinie]],MATCH(Tabelle1[[#This Row],[Maßnahme]],Ausfüllhilfe!$C$1:$C$22,0))","v":{"$error":"#N/A"}},null,null,null,null,null,null,null,null,{"$f":"VLOOKUP(Tabelle1[[#This Row],[Budgetlinie]],Ausfüllhilfe!$A$1:$D$23,4,0)","v":{"$error":"#N/A"}}]
[{"$f":"INDEX(Tabelle2[[#All],[Budgetlinie]],MATCH(Tabelle1[[#This Row],[Maßnahme]],Ausfüllhilfe!$C$1:$C$22,0))","v":{"$error":"#N/A"}},null,null,null,null,null,null,null,null,{"$f":"VLOOKUP(Tabelle1[[#This Row],[Budgetlinie]],Ausfüllhilfe!$A$1:$D$23,4,0)","v":{"$error":"#N/A"}}]
[{"$f":"INDEX(Tabelle2[[#All],[Budgetlinie]],MATCH(Tabelle1[[#This Row],[Maßnahme]],Ausfüllhilfe!$C$1:$C$22,0))","v":{"$error":"#N/A"}},null,null,null,null,null,null,null,null,{"$f":"VLOOKUP(Tabelle1[[#This Row],[Budgetlinie]],Ausfüllhilfe!$A$1:$D$23,4,0)","v":{"$error":"#N/A"}}]
[{"$f":"INDEX(Tabelle2[[#All],[Budgetlinie]],MATCH(Tabelle1[[#This Row],[Maßnahme]],Ausfüllhilfe!$C$1:$C$22,0))","v":{"$error":"#N/A"}},null,null,null,null,null,null,null,null,{"$f":"VLOOKUP(Tabelle1[[#This Row],[Budgetlinie]],Ausfüllhilfe!$A$1:$D$23,4,0)","v":{"$error":"#N/A"}}]
[{"$f":"INDEX(Tabelle2[[#All],[Budgetlinie]],MATCH(Tabelle1[[#This Row],[Maßnahme]],Ausfüllhilfe!$C$1:$C$22,0))","v":{"$error":"#N/A"}},null,null,null,null,null,null,null,null,{"$f":"VLOOKUP(Tabelle1[[#This Row],[Budgetlinie]],Ausfüllhilfe!$A$1:$D$23,4,0)","v":{"$error":"#N/A"}}]
[{"$f":"INDEX(Tabelle2[[#All],[Budgetlinie]],MATCH(Tabelle1[[#This Row],[Maßnahme]],Ausfüllhilfe!$C$1:$C$22,0))","v":{"$error":"#N/A"}},null,null,null,null,null,null,null,null,{"$f":"VLOOKUP(Tabelle1[[#This Row],[Budgetlinie]],Ausfüllhilfe!$A$1:$D$23,4,0)","v":{"$error":"#N/A"}}]
[{"$f":"INDEX(Tabelle2[[#All],[Budgetlinie]],MATCH(Tabelle1[[#This Row],[Maßnahme]],Ausfüllhilfe!$C$1:$C$22,0))","v":{"$error":"#N/A"}},null,null,null,null,null,null,null,null,{"$f":"VLOOKUP(Tabelle1[[#This Row],[Budgetlinie]],Ausfüllhilfe!$A$1:$D$23,4,0)","v":{"$error":"#N/A"}}]
[{"$f":"INDEX(Tabelle2[[#All],[Budgetlinie]],MATCH(Tabelle1[[#This Row],[Maßnahme]],Ausfüllhilfe!$C$1:$C$22,0))","v":{"$error":"#N/A"}},null,null,null,null,null,null,null,null,{"$f":"VLOOKUP(Tabelle1[[#This Row],[Budgetlinie]],Ausfüllhilfe!$A$1:$D$23,4,0)","v":{"$error":"#N/A"}}]
[{"$f":"INDEX(Tabelle2[[#All],[Budgetlinie]],MATCH(Tabelle1[[#This Row],[Maßnahme]],Ausfüllhilfe!$C$1:$C$22,0))","v":{"$error":"#N/A"}},null,null,null,null,null,null,null,null,{"$f":"VLOOKUP(Tabelle1[[#This Row],[Budgetlinie]],Ausfüllhilfe!$A$1:$D$23,4,0)","v":{"$error":"#N/A"}}]
[{"$f":"INDEX(Tabelle2[[#All],[Budgetlinie]],MATCH(Tabelle1[[#This Row],[Maßnahme]],Ausfüllhilfe!$C$1:$C$22,0))","v":{"$error":"#N/A"}},null,null,null,null,null,null,null,null,{"$f":"VLOOKUP(Tabelle1[[#This Row],[Budgetlinie]],Ausfüllhilfe!$A$1:$D$23,4,0)","v":{"$error":"#N/A"}}]
[{"$f":"INDEX(Tabelle2[[#All],[Budgetlinie]],MATCH(Tabelle1[[#This Row],[Maßnahme]],Ausfüllhilfe!$C$1:$C$22,0))","v":{"$error":"#N/A"}},null,null,null,null,null,null,null,null,{"$f":"VLOOKUP(Tabelle1[[#This Row],[Budgetlinie]],Ausfüllhilfe!$A$1:$D$23,4,0)","v":{"$error":"#N/A"}}]
[{"$f":"INDEX(Tabelle2[[#All],[Budgetlinie]],MATCH(Tabelle1[[#This Row],[Maßnahme]],Ausfüllhilfe!$C$1:$C$22,0))","v":{"$error":"#N/A"}},null,null,null,null,null,null,null,null,{"$f":"VLOOKUP(Tabelle1[[#This Row],[Budgetlinie]],Ausfüllhilfe!$A$1:$D$23,4,0)","v":{"$error":"#N/A"}}]
[{"$f":"INDEX(Tabelle2[[#All],[Budgetlinie]],MATCH(Tabelle1[[#This Row],[Maßnahme]],Ausfüllhilfe!$C$1:$C$22,0))","v":{"$error":"#N/A"}},null,null,null,null,null,null,null,null,{"$f":"VLOOKUP(Tabelle1[[#This Row],[Budgetlinie]],Ausfüllhilfe!$A$1:$D$23,4,0)","v":{"$error":"#N/A"}}]
[{"$f":"INDEX(Tabelle2[[#All],[Budgetlinie]],MATCH(Tabelle1[[#This Row],[Maßnahme]],Ausfüllhilfe!$C$1:$C$22,0))","v":{"$error":"#N/A"}},null,null,null,null,null,null,null,null,{"$f":"VLOOKUP(Tabelle1[[#This Row],[Budgetlinie]],Ausfüllhilfe!$A$1:$D$23,4,0)","v":{"$error":"#N/A"}}]
[{"$f":"INDEX(Tabelle2[[#All],[Budgetlinie]],MATCH(Tabelle1[[#This Row],[Maßnahme]],Ausfüllhilfe!$C$1:$C$22,0))","v":{"$error":"#N/A"}},null,null,null,null,null,null,null,null,{"$f":"VLOOKUP(Tabelle1[[#This Row],[Budgetlinie]],Ausfüllhilfe!$A$1:$D$23,4,0)","v":{"$error":"#N/A"}}]
[{"$f":"INDEX(Tabelle2[[#All],[Budgetlinie]],MATCH(Tabelle1[[#This Row],[Maßnahme]],Ausfüllhilfe!$C$1:$C$22,0))","v":{"$error":"#N/A"}},null,null,null,null,null,null,null,null,{"$f":"VLOOKUP(Tabelle1[[#This Row],[Budgetlinie]],Ausfüllhilfe!$A$1:$D$23,4,0)","v":{"$error":"#N/A"}}]
[{"$f":"INDEX(Tabelle2[[#All],[Budgetlinie]],MATCH(Tabelle1[[#This Row],[Maßnahme]],Ausfüllhilfe!$C$1:$C$22,0))","v":{"$error":"#N/A"}},null,null,null,null,null,null,null,null,{"$f":"VLOOKUP(Tabelle1[[#This Row],[Budgetlinie]],Ausfüllhilfe!$A$1:$D$23,4,0)","v":{"$error":"#N/A"}}]
[{"$f":"INDEX(Tabelle2[[#All],[Budgetlinie]],MATCH(Tabelle1[[#This Row],[Maßnahme]],Ausfüllhilfe!$C$1:$C$22,0))","v":{"$error":"#N/A"}},null,null,null,null,null,null,null,null,{"$f":"VLOOKUP(Tabelle1[[#This Row],[Budgetlinie]],Ausfüllhilfe!$A$1:$D$23,4,0)","v":{"$error":"#N/A"}}]
[{"$f":"INDEX(Tabelle2[[#All],[Budgetlinie]],MATCH(Tabelle1[[#This Row],[Maßnahme]],Ausfüllhilfe!$C$1:$C$22,0))","v":{"$error":"#N/A"}},null,null,null,null,null,null,null,null,{"$f":"VLOOKUP(Tabelle1[[#This Row],[Budgetlinie]],Ausfüllhilfe!$A$1:$D$23,4,0)","v":{"$error":"#N/A"}}]
[{"$f":"INDEX(Tabelle2[[#All],[Budgetlinie]],MATCH(Tabelle1[[#This Row],[Maßnahme]],Ausfüllhilfe!$C$1:$C$22,0))","v":{"$error":"#N/A"}},null,null,null,null,null,null,null,null,{"$f":"VLOOKUP(Tabelle1[[#This Row],[Budgetlinie]],Ausfüllhilfe!$A$1:$D$23,4,0)","v":{"$error":"#N/A"}}]
[{"$f":"INDEX(Tabelle2[[#All],[Budgetlinie]],MATCH(Tabelle1[[#This Row],[Maßnahme]],Ausfüllhilfe!$C$1:$C$22,0))","v":{"$error":"#N/A"}},null,null,null,null,null,null,null,null,{"$f":"VLOOKUP(Tabelle1[[#This Row],[Budgetlinie]],Ausfüllhilfe!$A$1:$D$23,4,0)","v":{"$error":"#N/A"}}]
[{"$f":"INDEX(Tabelle2[[#All],[Budgetlinie]],MATCH(Tabelle1[[#This Row],[Maßnahme]],Ausfüllhilfe!$C$1:$C$22,0))","v":{"$error":"#N/A"}},null,null,null,null,null,null,null,null,{"$f":"VLOOKUP(Tabelle1[[#This Row],[Budgetlinie]],Ausfüllhilfe!$A$1:$D$23,4,0)","v":{"$error":"#N/A"}}]
[{"$f":"INDEX(Tabelle2[[#All],[Budgetlinie]],MATCH(Tabelle1[[#This Row],[Maßnahme]],Ausfüllhilfe!$C$1:$C$22,0))","v":{"$error":"#N/A"}},null,null,null,null,null,null,null,null,{"$f":"VLOOKUP(Tabelle1[[#This Row],[Budgetlinie]],Ausfüllhilfe!$A$1:$D$23,4,0)","v":{"$error":"#N/A"}}]
[{"$f":"INDEX(Tabelle2[[#All],[Budgetlinie]],MATCH(Tabelle1[[#This Row],[Maßnahme]],Ausfüllhilfe!$C$1:$C$22,0))","v":{"$error":"#N/A"}},null,null,null,null,null,null,null,null,{"$f":"VLOOKUP(Tabelle1[[#This Row],[Budgetlinie]],Ausfüllhilfe!$A$1:$D$23,4,0)","v":{"$error":"#N/A"}}]
[{"$f":"INDEX(Tabelle2[[#All],[Budgetlinie]],MATCH(Tabelle1[[#This Row],[Maßnahme]],Ausfüllhilfe!$C$1:$C$22,0))","v":{"$error":"#N/A"}},null,null,null,null,null,null,null,null,{"$f":"VLOOKUP(Tabelle1[[#This Row],[Budgetlinie]],Ausfüllhilfe!$A$1:$D$23,4,0)","v":{"$error":"#N/A"}}]
[{"$f":"INDEX(Tabelle2[[#All],[Budgetlinie]],MATCH(Tabelle1[[#This Row],[Maßnahme]],Ausfüllhilfe!$C$1:$C$22,0))","v":{"$error":"#N/A"}},null,null,null,null,null,null,null,null,{"$f":"VLOOKUP(Tabelle1[[#This Row],[Budgetlinie]],Ausfüllhilfe!$A$1:$D$23,4,0)","v":{"$error":"#N/A"}}]
[{"$f":"INDEX(Tabelle2[[#All],[Budgetlinie]],MATCH(Tabelle1[[#This Row],[Maßnahme]],Ausfüllhilfe!$C$1:$C$22,0))","v":{"$error":"#N/A"}},null,null,null,null,null,null,null,null,{"$f":"VLOOKUP(Tabelle1[[#This Row],[Budgetlinie]],Ausfüllhilfe!$A$1:$D$23,4,0)","v":{"$error":"#N/A"}}]
[{"$f":"INDEX(Tabelle2[[#All],[Budgetlinie]],MATCH(Tabelle1[[#This Row],[Maßnahme]],Ausfüllhilfe!$C$1:$C$22,0))","v":{"$error":"#N/A"}},null,null,null,null,null,null,null,null,{"$f":"VLOOKUP(Tabelle1[[#This Row],[Budgetlinie]],Ausfüllhilfe!$A$1:$D$23,4,0)","v":{"$error":"#N/A"}}]
[{"$f":"INDEX(Tabelle2[[#All],[Budgetlinie]],MATCH(Tabelle1[[#This Row],[Maßnahme]],Ausfüllhilfe!$C$1:$C$22,0))","v":{"$error":"#N/A"}},null,null,null,null,null,null,null,null,{"$f":"VLOOKUP(Tabelle1[[#This Row],[Budgetlinie]],Ausfüllhilfe!$A$1:$D$23,4,0)","v":{"$error":"#N/A"}}]
[{"$f":"INDEX(Tabelle2[[#All],[Budgetlinie]],MATCH(Tabelle1[[#This Row],[Maßnahme]],Ausfüllhilfe!$C$1:$C$22,0))","v":{"$error":"#N/A"}},null,null,null,null,null,null,null,null,{"$f":"VLOOKUP(Tabelle1[[#This Row],[Budgetlinie]],Ausfüllhilfe!$A$1:$D$23,4,0)","v":{"$error":"#N/A"}}]
[{"$f":"INDEX(Tabelle2[[#All],[Budgetlinie]],MATCH(Tabelle1[[#This Row],[Maßnahme]],Ausfüllhilfe!$C$1:$C$22,0))","v":{"$error":"#N/A"}},null,null,null,null,null,null,null,null,{"$f":"VLOOKUP(Tabelle1[[#This Row],[Budgetlinie]],Ausfüllhilfe!$A$1:$D$23,4,0)","v":{"$error":"#N/A"}}]
[{"$f":"INDEX(Tabelle2[[#All],[Budgetlinie]],MATCH(Tabelle1[[#This Row],[Maßnahme]],Ausfüllhilfe!$C$1:$C$22,0))","v":{"$error":"#N/A"}},null,null,null,null,null,null,null,null,{"$f":"VLOOKUP(Tabelle1[[#This Row],[Budgetlinie]],Ausfüllhilfe!$A$1:$D$23,4,0)","v":{"$error":"#N/A"}}]
[{"$f":"INDEX(Tabelle2[[#All],[Budgetlinie]],MATCH(Tabelle1[[#This Row],[Maßnahme]],Ausfüllhilfe!$C$1:$C$22,0))","v":{"$error":"#N/A"}},null,null,null,null,null,null,null,null,{"$f":"VLOOKUP(Tabelle1[[#This Row],[Budgetlinie]],Ausfüllhilfe!$A$1:$D$23,4,0)","v":{"$error":"#N/A"}}]
[{"$f":"INDEX(Tabelle2[[#All],[Budgetlinie]],MATCH(Tabelle1[[#This Row],[Maßnahme]],Ausfüllhilfe!$C$1:$C$22,0))","v":{"$error":"#N/A"}},null,null,null,null,null,null,null,null,{"$f":"VLOOKUP(Tabelle1[[#This Row],[Budgetlinie]],Ausfüllhilfe!$A$1:$D$23,4,0)","v":{"$error":"#N/A"}}]
[{"$f":"INDEX(Tabelle2[[#All],[Budgetlinie]],MATCH(Tabelle1[[#This Row],[Maßnahme]],Ausfüllhilfe!$C$1:$C$22,0))","v":{"$error":"#N/A"}},null,null,null,null,null,null,null,null,{"$f":"VLOOKUP(Tabelle1[[#This Row],[Budgetlinie]],Ausfüllhilfe!$A$1:$D$23,4,0)","v":{"$error":"#N/A"}}]
[{"$f":"INDEX(Tabelle2[[#All],[Budgetlinie]],MATCH(Tabelle1[[#This Row],[Maßnahme]],Ausfüllhilfe!$C$1:$C$22,0))","v":{"$error":"#N/A"}},null,null,null,null,null,null,null,null,{"$f":"VLOOKUP(Tabelle1[[#This Row],[Budgetlinie]],Ausfüllhilfe!$A$1:$D$23,4,0)","v":{"$error":"#N/A"}}]
[{"$f":"INDEX(Tabelle2[[#All],[Budgetlinie]],MATCH(Tabelle1[[#This Row],[Maßnahme]],Ausfüllhilfe!$C$1:$C$22,0))","v":{"$error":"#N/A"}},null,null,null,null,null,null,null,null,{"$f":"VLOOKUP(Tabelle1[[#This Row],[Budgetlinie]],Ausfüllhilfe!$A$1:$D$23,4,0)","v":{"$error":"#N/A"}}]
[{"$f":"INDEX(Tabelle2[[#All],[Budgetlinie]],MATCH(Tabelle1[[#This Row],[Maßnahme]],Ausfüllhilfe!$C$1:$C$22,0))","v":{"$error":"#N/A"}},null,null,null,null,null,null,null,null,{"$f":"VLOOKUP(Tabelle1[[#This Row],[Budgetlinie]],Ausfüllhilfe!$A$1:$D$23,4,0)","v":{"$error":"#N/A"}}]
[{"$f":"INDEX(Tabelle2[[#All],[Budgetlinie]],MATCH(Tabelle1[[#This Row],[Maßnahme]],Ausfüllhilfe!$C$1:$C$22,0))","v":{"$error":"#N/A"}},null,null,null,null,null,null,null,null,{"$f":"VLOOKUP(Tabelle1[[#This Row],[Budgetlinie]],Ausfüllhilfe!$A$1:$D$23,4,0)","v":{"$error":"#N/A"}}]
[{"$f":"INDEX(Tabelle2[[#All],[Budgetlinie]],MATCH(Tabelle1[[#This Row],[Maßnahme]],Ausfüllhilfe!$C$1:$C$22,0))","v":{"$error":"#N/A"}},null,null,null,null,null,null,null,null,{"$f":"VLOOKUP(Tabelle1[[#This Row],[Budgetlinie]],Ausfüllhilfe!$A$1:$D$23,4,0)","v":{"$error":"#N/A"}}]
[{"$f":"INDEX(Tabelle2[[#All],[Budgetlinie]],MATCH(Tabelle1[[#This Row],[Maßnahme]],Ausfüllhilfe!$C$1:$C$22,0))","v":{"$error":"#N/A"}},null,null,null,null,null,null,null,null,{"$f":"VLOOKUP(Tabelle1[[#This Row],[Budgetlinie]],Ausfüllhilfe!$A$1:$D$23,4,0)","v":{"$error":"#N/A"}}]
[{"$f":"INDEX(Tabelle2[[#All],[Budgetlinie]],MATCH(Tabelle1[[#This Row],[Maßnahme]],Ausfüllhilfe!$C$1:$C$22,0))","v":{"$error":"#N/A"}},null,null,null,null,null,null,null,null,{"$f":"VLOOKUP(Tabelle1[[#This Row],[Budgetlinie]],Ausfüllhilfe!$A$1:$D$23,4,0)","v":{"$error":"#N/A"}}]
[{"$f":"INDEX(Tabelle2[[#All],[Budgetlinie]],MATCH(Tabelle1[[#This Row],[Maßnahme]],Ausfüllhilfe!$C$1:$C$22,0))","v":{"$error":"#N/A"}},null,null,null,null,null,null,null,null,{"$f":"VLOOKUP(Tabelle1[[#This Row],[Budgetlinie]],Ausfüllhilfe!$A$1:$D$23,4,0)","v":{"$error":"#N/A"}}]
[{"$f":"INDEX(Tabelle2[[#All],[Budgetlinie]],MATCH(Tabelle1[[#This Row],[Maßnahme]],Ausfüllhilfe!$C$1:$C$22,0))","v":{"$error":"#N/A"}},null,null,null,null,null,null,null,null,{"$f":"VLOOKUP(Tabelle1[[#This Row],[Budgetlinie]],Ausfüllhilfe!$A$1:$D$23,4,0)","v":{"$error":"#N/A"}}]
[{"$f":"INDEX(Tabelle2[[#All],[Budgetlinie]],MATCH(Tabelle1[[#This Row],[Maßnahme]],Ausfüllhilfe!$C$1:$C$22,0))","v":{"$error":"#N/A"}},null,null,null,null,null,null,null,null,{"$f":"VLOOKUP(Tabelle1[[#This Row],[Budgetlinie]],Ausfüllhilfe!$A$1:$D$23,4,0)","v":{"$error":"#N/A"}}]
[{"$f":"INDEX(Tabelle2[[#All],[Budgetlinie]],MATCH(Tabelle1[[#This Row],[Maßnahme]],Ausfüllhilfe!$C$1:$C$22,0))","v":{"$error":"#N/A"}},null,null,null,null,null,null,null,null,{"$f":"VLOOKUP(Tabelle1[[#This Row],[Budgetlinie]],Ausfüllhilfe!$A$1:$D$23,4,0)","v":{"$error":"#N/A"}}]
[{"$f":"INDEX(Tabelle2[[#All],[Budgetlinie]],MATCH(Tabelle1[[#This Row],[Maßnahme]],Ausfüllhilfe!$C$1:$C$22,0))","v":{"$error":"#N/A"}},null,null,null,null,null,null,null,null,{"$f":"VLOOKUP(Tabelle1[[#This Row],[Budgetlinie]],Ausfüllhilfe!$A$1:$D$23,4,0)","v":{"$error":"#N/A"}}]
[{"$f":"INDEX(Tabelle2[[#All],[Budgetlinie]],MATCH(Tabelle1[[#This Row],[Maßnahme]],Ausfüllhilfe!$C$1:$C$22,0))","v":{"$error":"#N/A"}},null,null,null,null,null,null,null,null,{"$f":"VLOOKUP(Tabelle1[[#This Row],[Budgetlinie]],Ausfüllhilfe!$A$1:$D$23,4,0)","v":{"$error":"#N/A"}}]
[{"$f":"INDEX(Tabelle2[[#All],[Budgetlinie]],MATCH(Tabelle1[[#This Row],[Maßnahme]],Ausfüllhilfe!$C$1:$C$22,0))","v":{"$error":"#N/A"}},null,null,null,null,null,null,null,null,{"$f":"VLOOKUP(Tabelle1[[#This Row],[Budgetlinie]],Ausfüllhilfe!$A$1:$D$23,4,0)","v":{"$error":"#N/A"}}]
[{"$f":"INDEX(Tabelle2[[#All],[Budgetlinie]],MATCH(Tabelle1[[#This Row],[Maßnahme]],Ausfüllhilfe!$C$1:$C$22,0))","v":{"$error":"#N/A"}},null,null,null,null,null,null,null,null,{"$f":"VLOOKUP(Tabelle1[[#This Row],[Budgetlinie]],Ausfüllhilfe!$A$1:$D$23,4,0)","v":{"$error":"#N/A"}}]
[{"$f":"INDEX(Tabelle2[[#All],[Budgetlinie]],MATCH(Tabelle1[[#This Row],[Maßnahme]],Ausfüllhilfe!$C$1:$C$22,0))","v":{"$error":"#N/A"}},null,null,null,null,null,null,null,null,{"$f":"VLOOKUP(Tabelle1[[#This Row],[Budgetlinie]],Ausfüllhilfe!$A$1:$D$23,4,0)","v":{"$error":"#N/A"}}]
[{"$f":"INDEX(Tabelle2[[#All],[Budgetlinie]],MATCH(Tabelle1[[#This Row],[Maßnahme]],Ausfüllhilfe!$C$1:$C$22,0))","v":{"$error":"#N/A"}},null,null,null,null,null,null,null,null,{"$f":"VLOOKUP(Tabelle1[[#This Row],[Budgetlinie]],Ausfüllhilfe!$A$1:$D$23,4,0)","v":{"$error":"#N/A"}}]
[{"$f":"INDEX(Tabelle2[[#All],[Budgetlinie]],MATCH(Tabelle1[[#This Row],[Maßnahme]],Ausfüllhilfe!$C$1:$C$22,0))","v":{"$error":"#N/A"}},null,null,null,null,null,null,null,null,{"$f":"VLOOKUP(Tabelle1[[#This Row],[Budgetlinie]],Ausfüllhilfe!$A$1:$D$23,4,0)","v":{"$error":"#N/A"}}]
[{"$f":"INDEX(Tabelle2[[#All],[Budgetlinie]],MATCH(Tabelle1[[#This Row],[Maßnahme]],Ausfüllhilfe!$C$1:$C$22,0))","v":{"$error":"#N/A"}},null,null,null,null,null,null,null,null,{"$f":"VLOOKUP(Tabelle1[[#This Row],[Budgetlinie]],Ausfüllhilfe!$A$1:$D$23,4,0)","v":{"$error":"#N/A"}}]
[{"$f":"INDEX(Tabelle2[[#All],[Budgetlinie]],MATCH(Tabelle1[[#This Row],[Maßnahme]],Ausfüllhilfe!$C$1:$C$22,0))","v":{"$error":"#N/A"}},null,null,null,null,null,null,null,null,{"$f":"VLOOKUP(Tabelle1[[#This Row],[Budgetlinie]],Ausfüllhilfe!$A$1:$D$23,4,0)","v":{"$error":"#N/A"}}]
[{"$f":"INDEX(Tabelle2[[#All],[Budgetlinie]],MATCH(Tabelle1[[#This Row],[Maßnahme]],Ausfüllhilfe!$C$1:$C$22,0))","v":{"$error":"#N/A"}},null,null,null,null,null,null,null,null,{"$f":"VLOOKUP(Tabelle1[[#This Row],[Budgetlinie]],Ausfüllhilfe!$A$1:$D$23,4,0)","v":{"$error":"#N/A"}}]
[{"$f":"INDEX(Tabelle2[[#All],[Budgetlinie]],MATCH(Tabelle1[[#This Row],[Maßnahme]],Ausfüllhilfe!$C$1:$C$22,0))","v":{"$error":"#N/A"}},null,null,null,null,null,null,null,null,{"$f":"VLOOKUP(Tabelle1[[#This Row],[Budgetlinie]],Ausfüllhilfe!$A$1:$D$23,4,0)","v":{"$error":"#N/A"}}]
[{"$f":"INDEX(Tabelle2[[#All],[Budgetlinie]],MATCH(Tabelle1[[#This Row],[Maßnahme]],Ausfüllhilfe!$C$1:$C$22,0))","v":{"$error":"#N/A"}},null,null,null,null,null,null,null,null,{"$f":"VLOOKUP(Tabelle1[[#This Row],[Budgetlinie]],Ausfüllhilfe!$A$1:$D$23,4,0)","v":{"$error":"#N/A"}}]
[{"$f":"INDEX(Tabelle2[[#All],[Budgetlinie]],MATCH(Tabelle1[[#This Row],[Maßnahme]],Ausfüllhilfe!$C$1:$C$22,0))","v":{"$error":"#N/A"}},null,null,null,null,null,null,null,null,{"$f":"VLOOKUP(Tabelle1[[#This Row],[Budgetlinie]],Ausfüllhilfe!$A$1:$D$23,4,0)","v":{"$error":"#N/A"}}]
[{"$f":"INDEX(Tabelle2[[#All],[Budgetlinie]],MATCH(Tabelle1[[#This Row],[Maßnahme]],Ausfüllhilfe!$C$1:$C$22,0))","v":{"$error":"#N/A"}},null,null,null,null,null,null,null,null,{"$f":"VLOOKUP(Tabelle1[[#This Row],[Budgetlinie]],Ausfüllhilfe!$A$1:$D$23,4,0)","v":{"$error":"#N/A"}}]
[{"$f":"INDEX(Tabelle2[[#All],[Budgetlinie]],MATCH(Tabelle1[[#This Row],[Maßnahme]],Ausfüllhilfe!$C$1:$C$22,0))","v":{"$error":"#N/A"}},null,null,null,null,null,null,null,null,{"$f":"VLOOKUP(Tabelle1[[#This Row],[Budgetlinie]],Ausfüllhilfe!$A$1:$D$23,4,0)","v":{"$error":"#N/A"}}]
[{"$f":"INDEX(Tabelle2[[#All],[Budgetlinie]],MATCH(Tabelle1[[#This Row],[Maßnahme]],Ausfüllhilfe!$C$1:$C$22,0))","v":{"$error":"#N/A"}},null,null,null,null,null,null,null,null,{"$f":"VLOOKUP(Tabelle1[[#This Row],[Budgetlinie]],Ausfüllhilfe!$A$1:$D$23,4,0)","v":{"$error":"#N/A"}}]
[{"$f":"INDEX(Tabelle2[[#All],[Budgetlinie]],MATCH(Tabelle1[[#This Row],[Maßnahme]],Ausfüllhilfe!$C$1:$C$22,0))","v":{"$error":"#N/A"}},null,null,null,null,null,null,null,null,{"$f":"VLOOKUP(Tabelle1[[#This Row],[Budgetlinie]],Ausfüllhilfe!$A$1:$D$23,4,0)","v":{"$error":"#N/A"}}]
[{"$f":"INDEX(Tabelle2[[#All],[Budgetlinie]],MATCH(Tabelle1[[#This Row],[Maßnahme]],Ausfüllhilfe!$C$1:$C$22,0))","v":{"$error":"#N/A"}},null,null,null,null,null,null,null,null,{"$f":"VLOOKUP(Tabelle1[[#This Row],[Budgetlinie]],Ausfüllhilfe!$A$1:$D$23,4,0)","v":{"$error":"#N/A"}}]
[{"$f":"INDEX(Tabelle2[[#All],[Budgetlinie]],MATCH(Tabelle1[[#This Row],[Maßnahme]],Ausfüllhilfe!$C$1:$C$22,0))","v":{"$error":"#N/A"}},null,null,null,null,null,null,null,null,{"$f":"VLOOKUP(Tabelle1[[#This Row],[Budgetlinie]],Ausfüllhilfe!$A$1:$D$23,4,0)","v":{"$error":"#N/A"}}]
[{"$f":"INDEX(Tabelle2[[#All],[Budgetlinie]],MATCH(Tabelle1[[#This Row],[Maßnahme]],Ausfüllhilfe!$C$1:$C$22,0))","v":{"$error":"#N/A"}},null,null,null,null,null,null,null,null,{"$f":"VLOOKUP(Tabelle1[[#This Row],[Budgetlinie]],Ausfüllhilfe!$A$1:$D$23,4,0)","v":{"$error":"#N/A"}}]
[{"$f":"INDEX(Tabelle2[[#All],[Budgetlinie]],MATCH(Tabelle1[[#This Row],[Maßnahme]],Ausfüllhilfe!$C$1:$C$22,0))","v":{"$error":"#N/A"}},null,null,null,null,null,null,null,null,{"$f":"VLOOKUP(Tabelle1[[#This Row],[Budgetlinie]],Ausfüllhilfe!$A$1:$D$23,4,0)","v":{"$error":"#N/A"}}]
[{"$f":"INDEX(Tabelle2[[#All],[Budgetlinie]],MATCH(Tabelle1[[#This Row],[Maßnahme]],Ausfüllhilfe!$C$1:$C$22,0))","v":{"$error":"#N/A"}},null,null,null,null,null,null,null,null,{"$f":"VLOOKUP(Tabelle1[[#This Row],[Budgetlinie]],Ausfüllhilfe!$A$1:$D$23,4,0)","v":{"$error":"#N/A"}}]
[{"$f":"INDEX(Tabelle2[[#All],[Budgetlinie]],MATCH(Tabelle1[[#This Row],[Maßnahme]],Ausfüllhilfe!$C$1:$C$22,0))","v":{"$error":"#N/A"}},null,null,null,null,null,null,null,null,{"$f":"VLOOKUP(Tabelle1[[#This Row],[Budgetlinie]],Ausfüllhilfe!$A$1:$D$23,4,0)","v":{"$error":"#N/A"}}]
[{"$f":"INDEX(Tabelle2[[#All],[Budgetlinie]],MATCH(Tabelle1[[#This Row],[Maßnahme]],Ausfüllhilfe!$C$1:$C$22,0))","v":{"$error":"#N/A"}},null,null,null,null,null,null,null,null,{"$f":"VLOOKUP(Tabelle1[[#This Row],[Budgetlinie]],Ausfüllhilfe!$A$1:$D$23,4,0)","v":{"$error":"#N/A"}}]
[{"$f":"INDEX(Tabelle2[[#All],[Budgetlinie]],MATCH(Tabelle1[[#This Row],[Maßnahme]],Ausfüllhilfe!$C$1:$C$22,0))","v":{"$error":"#N/A"}},null,null,null,null,null,null,null,null,{"$f":"VLOOKUP(Tabelle1[[#This Row],[Budgetlinie]],Ausfüllhilfe!$A$1:$D$23,4,0)","v":{"$error":"#N/A"}}]
[{"$f":"INDEX(Tabelle2[[#All],[Budgetlinie]],MATCH(Tabelle1[[#This Row],[Maßnahme]],Ausfüllhilfe!$C$1:$C$22,0))","v":{"$error":"#N/A"}},null,null,null,null,null,null,null,null,{"$f":"VLOOKUP(Tabelle1[[#This Row],[Budgetlinie]],Ausfüllhilfe!$A$1:$D$23,4,0)","v":{"$error":"#N/A"}}]
[{"$f":"INDEX(Tabelle2[[#All],[Budgetlinie]],MATCH(Tabelle1[[#This Row],[Maßnahme]],Ausfüllhilfe!$C$1:$C$22,0))","v":{"$error":"#N/A"}},null,null,null,null,null,null,null,null,{"$f":"VLOOKUP(Tabelle1[[#This Row],[Budgetlinie]],Ausfüllhilfe!$A$1:$D$23,4,0)","v":{"$error":"#N/A"}}]
[{"$f":"INDEX(Tabelle2[[#All],[Budgetlinie]],MATCH(Tabelle1[[#This Row],[Maßnahme]],Ausfüllhilfe!$C$1:$C$22,0))","v":{"$error":"#N/A"}},null,null,null,null,null,null,null,null,{"$f":"VLOOKUP(Tabelle1[[#This Row],[Budgetlinie]],Ausfüllhilfe!$A$1:$D$23,4,0)","v":{"$error":"#N/A"}}]
[{"$f":"INDEX(Tabelle2[[#All],[Budgetlinie]],MATCH(Tabelle1[[#This Row],[Maßnahme]],Ausfüllhilfe!$C$1:$C$22,0))","v":{"$error":"#N/A"}},null,null,null,null,null,null,null,null,{"$f":"VLOOKUP(Tabelle1[[#This Row],[Budgetlinie]],Ausfüllhilfe!$A$1:$D$23,4,0)","v":{"$error":"#N/A"}}]
[{"$f":"INDEX(Tabelle2[[#All],[Budgetlinie]],MATCH(Tabelle1[[#This Row],[Maßnahme]],Ausfüllhilfe!$C$1:$C$22,0))","v":{"$error":"#N/A"}},null,null,null,null,null,null,null,null,{"$f":"VLOOKUP(Tabelle1[[#This Row],[Budgetlinie]],Ausfüllhilfe!$A$1:$D$23,4,0)","v":{"$error":"#N/A"}}]
[{"$f":"INDEX(Tabelle2[[#All],[Budgetlinie]],MATCH(Tabelle1[[#This Row],[Maßnahme]],Ausfüllhilfe!$C$1:$C$22,0))","v":{"$error":"#N/A"}},null,null,null,null,null,null,null,null,{"$f":"VLOOKUP(Tabelle1[[#This Row],[Budgetlinie]],Ausfüllhilfe!$A$1:$D$23,4,0)","v":{"$error":"#N/A"}}]
[{"$f":"INDEX(Tabelle2[[#All],[Budgetlinie]],MATCH(Tabelle1[[#This Row],[Maßnahme]],Ausfüllhilfe!$C$1:$C$22,0))","v":{"$error":"#N/A"}},null,null,null,null,null,null,null,null,{"$f":"VLOOKUP(Tabelle1[[#This Row],[Budgetlinie]],Ausfüllhilfe!$A$1:$D$23,4,0)","v":{"$error":"#N/A"}}]
[{"$f":"INDEX(Tabelle2[[#All],[Budgetlinie]],MATCH(Tabelle1[[#This Row],[Maßnahme]],Ausfüllhilfe!$C$1:$C$22,0))","v":{"$error":"#N/A"}},null,null,null,null,null,null,null,null,{"$f":"VLOOKUP(Tabelle1[[#This Row],[Budgetlinie]],Ausfüllhilfe!$A$1:$D$23,4,0)","v":{"$error":"#N/A"}}]
[{"$f":"INDEX(Tabelle2[[#All],[Budgetlinie]],MATCH(Tabelle1[[#This Row],[Maßnahme]],Ausfüllhilfe!$C$1:$C$22,0))","v":{"$error":"#N/A"}},null,null,null,null,null,null,null,null,{"$f":"VLOOKUP(Tabelle1[[#This Row],[Budgetlinie]],Ausfüllhilfe!$A$1:$D$23,4,0)","v":{"$error":"#N/A"}}]
[{"$f":"INDEX(Tabelle2[[#All],[Budgetlinie]],MATCH(Tabelle1[[#This Row],[Maßnahme]],Ausfüllhilfe!$C$1:$C$22,0))","v":{"$error":"#N/A"}},null,null,null,null,null,null,null,null,{"$f":"VLOOKUP(Tabelle1[[#This Row],[Budgetlinie]],Ausfüllhilfe!$A$1:$D$23,4,0)","v":{"$error":"#N/A"}}]
[{"$f":"INDEX(Tabelle2[[#All],[Budgetlinie]],MATCH(Tabelle1[[#This Row],[Maßnahme]],Ausfüllhilfe!$C$1:$C$22,0))","v":{"$error":"#N/A"}},null,null,null,null,null,null,null,null,{"$f":"VLOOKUP(Tabelle1[[#This Row],[Budgetlinie]],Ausfüllhilfe!$A$1:$D$23,4,0)","v":{"$error":"#N/A"}}]
[{"$f":"INDEX(Tabelle2[[#All],[Budgetlinie]],MATCH(Tabelle1[[#This Row],[Maßnahme]],Ausfüllhilfe!$C$1:$C$22,0))","v":{"$error":"#N/A"}},null,null,null,null,null,null,null,null,{"$f":"VLOOKUP(Tabelle1[[#This Row],[Budgetlinie]],Ausfüllhilfe!$A$1:$D$23,4,0)","v":{"$error":"#N/A"}}]
[{"$f":"INDEX(Tabelle2[[#All],[Budgetlinie]],MATCH(Tabelle1[[#This Row],[Maßnahme]],Ausfüllhilfe!$C$1:$C$22,0))","v":{"$error":"#N/A"}},null,null,null,null,null,null,null,null,{"$f":"VLOOKUP(Tabelle1[[#This Row],[Budgetlinie]],Ausfüllhilfe!$A$1:$D$23,4,0)","v":{"$error":"#N/A"}}]
[{"$f":"INDEX(Tabelle2[[#All],[Budgetlinie]],MATCH(Tabelle1[[#This Row],[Maßnahme]],Ausfüllhilfe!$C$1:$C$22,0))","v":{"$error":"#N/A"}},null,null,null,null,null,null,null,null,{"$f":"VLOOKUP(Tabelle1[[#This Row],[Budgetlinie]],Ausfüllhilfe!$A$1:$D$23,4,0)","v":{"$error":"#N/A"}}]
[{"$f":"INDEX(Tabelle2[[#All],[Budgetlinie]],MATCH(Tabelle1[[#This Row],[Maßnahme]],Ausfüllhilfe!$C$1:$C$22,0))","v":{"$error":"#N/A"}},null,null,null,null,null,null,null,null,{"$f":"VLOOKUP(Tabelle1[[#This Row],[Budgetlinie]],Ausfüllhilfe!$A$1:$D$23,4,0)","v":{"$error":"#N/A"}}]
[{"$f":"INDEX(Tabelle2[[#All],[Budgetlinie]],MATCH(Tabelle1[[#This Row],[Maßnahme]],Ausfüllhilfe!$C$1:$C$22,0))","v":{"$error":"#N/A"}},null,null,null,null,null,null,null,null,{"$f":"VLOOKUP(Tabelle1[[#This Row],[Budgetlinie]],Ausfüllhilfe!$A$1:$D$23,4,0)","v":{"$error":"#N/A"}}]
[{"$f":"INDEX(Tabelle2[[#All],[Budgetlinie]],MATCH(Tabelle1[[#This Row],[Maßnahme]],Ausfüllhilfe!$C$1:$C$22,0))","v":{"$error":"#N/A"}},null,null,null,null,null,null,null,null,{"$f":"VLOOKUP(Tabelle1[[#This Row],[Budgetlinie]],Ausfüllhilfe!$A$1:$D$23,4,0)","v":{"$error":"#N/A"}}]
[{"$f":"INDEX(Tabelle2[[#All],[Budgetlinie]],MATCH(Tabelle1[[#This Row],[Maßnahme]],Ausfüllhilfe!$C$1:$C$22,0))","v":{"$error":"#N/A"}},null,null,null,null,null,null,null,null,{"$f":"VLOOKUP(Tabelle1[[#This Row],[Budgetlinie]],Ausfüllhilfe!$A$1:$D$23,4,0)","v":{"$error":"#N/A"}}]
[{"$f":"INDEX(Tabelle2[[#All],[Budgetlinie]],MATCH(Tabelle1[[#This Row],[Maßnahme]],Ausfüllhilfe!$C$1:$C$22,0))","v":{"$error":"#N/A"}},null,null,null,null,null,null,null,null,{"$f":"VLOOKUP(Tabelle1[[#This Row],[Budgetlinie]],Ausfüllhilfe!$A$1:$D$23,4,0)","v":{"$error":"#N/A"}}]
[{"$f":"INDEX(Tabelle2[[#All],[Budgetlinie]],MATCH(Tabelle1[[#This Row],[Maßnahme]],Ausfüllhilfe!$C$1:$C$22,0))","v":{"$error":"#N/A"}},null,null,null,null,null,null,null,null,{"$f":"VLOOKUP(Tabelle1[[#This Row],[Budgetlinie]],Ausfüllhilfe!$A$1:$D$23,4,0)","v":{"$error":"#N/A"}}]
[{"$f":"INDEX(Tabelle2[[#All],[Budgetlinie]],MATCH(Tabelle1[[#This Row],[Maßnahme]],Ausfüllhilfe!$C$1:$C$22,0))","v":{"$error":"#N/A"}},null,null,null,null,null,null,null,null,{"$f":"VLOOKUP(Tabelle1[[#This Row],[Budgetlinie]],Ausfüllhilfe!$A$1:$D$23,4,0)","v":{"$error":"#N/A"}}]
[{"$f":"INDEX(Tabelle2[[#All],[Budgetlinie]],MATCH(Tabelle1[[#This Row],[Maßnahme]],Ausfüllhilfe!$C$1:$C$22,0))","v":{"$error":"#N/A"}},null,null,null,null,null,null,null,null,{"$f":"VLOOKUP(Tabelle1[[#This Row],[Budgetlinie]],Ausfüllhilfe!$A$1:$D$23,4,0)","v":{"$error":"#N/A"}}]
[{"$f":"INDEX(Tabelle2[[#All],[Budgetlinie]],MATCH(Tabelle1[[#This Row],[Maßnahme]],Ausfüllhilfe!$C$1:$C$22,0))","v":{"$error":"#N/A"}},null,null,null,null,null,null,null,null,{"$f":"VLOOKUP(Tabelle1[[#This Row],[Budgetlinie]],Ausfüllhilfe!$A$1:$D$23,4,0)","v":{"$error":"#N/A"}}]
[{"$f":"INDEX(Tabelle2[[#All],[Budgetlinie]],MATCH(Tabelle1[[#This Row],[Maßnahme]],Ausfüllhilfe!$C$1:$C$22,0))","v":{"$error":"#N/A"}},null,null,null,null,null,null,null,null,{"$f":"VLOOKUP(Tabelle1[[#This Row],[Budgetlinie]],Ausfüllhilfe!$A$1:$D$23,4,0)","v":{"$error":"#N/A"}}]
[{"$f":"INDEX(Tabelle2[[#All],[Budgetlinie]],MATCH(Tabelle1[[#This Row],[Maßnahme]],Ausfüllhilfe!$C$1:$C$22,0))","v":{"$error":"#N/A"}},null,null,null,null,null,null,null,null,{"$f":"VLOOKUP(Tabelle1[[#This Row],[Budgetlinie]],Ausfüllhilfe!$A$1:$D$23,4,0)","v":{"$error":"#N/A"}}]
[{"$f":"INDEX(Tabelle2[[#All],[Budgetlinie]],MATCH(Tabelle1[[#This Row],[Maßnahme]],Ausfüllhilfe!$C$1:$C$22,0))","v":{"$error":"#N/A"}},null,null,null,null,null,null,null,null,{"$f":"VLOOKUP(Tabelle1[[#This Row],[Budgetlinie]],Ausfüllhilfe!$A$1:$D$23,4,0)","v":{"$error":"#N/A"}}]
[{"$f":"INDEX(Tabelle2[[#All],[Budgetlinie]],MATCH(Tabelle1[[#This Row],[Maßnahme]],Ausfüllhilfe!$C$1:$C$22,0))","v":{"$error":"#N/A"}},null,null,null,null,null,null,null,null,{"$f":"VLOOKUP(Tabelle1[[#This Row],[Budgetlinie]],Ausfüllhilfe!$A$1:$D$23,4,0)","v":{"$error":"#N/A"}}]
[{"$f":"INDEX(Tabelle2[[#All],[Budgetlinie]],MATCH(Tabelle1[[#This Row],[Maßnahme]],Ausfüllhilfe!$C$1:$C$22,0))","v":{"$error":"#N/A"}},null,null,null,null,null,null,null,null,{"$f":"VLOOKUP(Tabelle1[[#This Row],[Budgetlinie]],Ausfüllhilfe!$A$1:$D$23,4,0)","v":{"$error":"#N/A"}}]
[{"$f":"INDEX(Tabelle2[[#All],[Budgetlinie]],MATCH(Tabelle1[[#This Row],[Maßnahme]],Ausfüllhilfe!$C$1:$C$22,0))","v":{"$error":"#N/A"}},null,null,null,null,null,null,null,null,{"$f":"VLOOKUP(Tabelle1[[#This Row],[Budgetlinie]],Ausfüllhilfe!$A$1:$D$23,4,0)","v":{"$error":"#N/A"}}]
[{"$f":"INDEX(Tabelle2[[#All],[Budgetlinie]],MATCH(Tabelle1[[#This Row],[Maßnahme]],Ausfüllhilfe!$C$1:$C$22,0))","v":{"$error":"#N/A"}},null,null,null,null,null,null,null,null,{"$f":"VLOOKUP(Tabelle1[[#This Row],[Budgetlinie]],Ausfüllhilfe!$A$1:$D$23,4,0)","v":{"$error":"#N/A"}}]
[{"$f":"INDEX(Tabelle2[[#All],[Budgetlinie]],MATCH(Tabelle1[[#This Row],[Maßnahme]],Ausfüllhilfe!$C$1:$C$22,0))","v":{"$error":"#N/A"}},null,null,null,null,null,null,null,null,{"$f":"VLOOKUP(Tabelle1[[#This Row],[Budgetlinie]],Ausfüllhilfe!$A$1:$D$23,4,0)","v":{"$error":"#N/A"}}]
[{"$f":"INDEX(Tabelle2[[#All],[Budgetlinie]],MATCH(Tabelle1[[#This Row],[Maßnahme]],Ausfüllhilfe!$C$1:$C$22,0))","v":{"$error":"#N/A"}},null,null,null,null,null,null,null,null,{"$f":"VLOOKUP(Tabelle1[[#This Row],[Budgetlinie]],Ausfüllhilfe!$A$1:$D$23,4,0)","v":{"$error":"#N/A"}}]
[{"$f":"INDEX(Tabelle2[[#All],[Budgetlinie]],MATCH(Tabelle1[[#This Row],[Maßnahme]],Ausfüllhilfe!$C$1:$C$22,0))","v":{"$error":"#N/A"}},null,null,null,null,null,null,null,null,{"$f":"VLOOKUP(Tabelle1[[#This Row],[Budgetlinie]],Ausfüllhilfe!$A$1:$D$23,4,0)","v":{"$error":"#N/A"}}]
[{"$f":"INDEX(Tabelle2[[#All],[Budgetlinie]],MATCH(Tabelle1[[#This Row],[Maßnahme]],Ausfüllhilfe!$C$1:$C$22,0))","v":{"$error":"#N/A"}},null,null,null,null,null,null,null,null,{"$f":"VLOOKUP(Tabelle1[[#This Row],[Budgetlinie]],Ausfüllhilfe!$A$1:$D$23,4,0)","v":{"$error":"#N/A"}}]
[{"$f":"INDEX(Tabelle2[[#All],[Budgetlinie]],MATCH(Tabelle1[[#This Row],[Maßnahme]],Ausfüllhilfe!$C$1:$C$22,0))","v":{"$error":"#N/A"}},null,null,null,null,null,null,null,null,{"$f":"VLOOKUP(Tabelle1[[#This Row],[Budgetlinie]],Ausfüllhilfe!$A$1:$D$23,4,0)","v":{"$error":"#N/A"}}]
[{"$f":"INDEX(Tabelle2[[#All],[Budgetlinie]],MATCH(Tabelle1[[#This Row],[Maßnahme]],Ausfüllhilfe!$C$1:$C$22,0))","v":{"$error":"#N/A"}},null,null,null,null,null,null,null,null,{"$f":"VLOOKUP(Tabelle1[[#This Row],[Budgetlinie]],Ausfüllhilfe!$A$1:$D$23,4,0)","v":{"$error":"#N/A"}}]
[{"$f":"INDEX(Tabelle2[[#All],[Budgetlinie]],MATCH(Tabelle1[[#This Row],[Maßnahme]],Ausfüllhilfe!$C$1:$C$22,0))","v":{"$error":"#N/A"}},null,null,null,null,null,null,null,null,{"$f":"VLOOKUP(Tabelle1[[#This Row],[Budgetlinie]],Ausfüllhilfe!$A$1:$D$23,4,0)","v":{"$error":"#N/A"}}]
[{"$f":"INDEX(Tabelle2[[#All],[Budgetlinie]],MATCH(Tabelle1[[#This Row],[Maßnahme]],Ausfüllhilfe!$C$1:$C$22,0))","v":{"$error":"#N/A"}},null,null,null,null,null,null,null,null,{"$f":"VLOOKUP(Tabelle1[[#This Row],[Budgetlinie]],Ausfüllhilfe!$A$1:$D$23,4,0)","v":{"$error":"#N/A"}}]
[{"$f":"INDEX(Tabelle2[[#All],[Budgetlinie]],MATCH(Tabelle1[[#This Row],[Maßnahme]],Ausfüllhilfe!$C$1:$C$22,0))","v":{"$error":"#N/A"}},null,null,null,null,null,null,null,null,{"$f":"VLOOKUP(Tabelle1[[#This Row],[Budgetlinie]],Ausfüllhilfe!$A$1:$D$23,4,0)","v":{"$error":"#N/A"}}]
[{"$f":"INDEX(Tabelle2[[#All],[Budgetlinie]],MATCH(Tabelle1[[#This Row],[Maßnahme]],Ausfüllhilfe!$C$1:$C$22,0))","v":{"$error":"#N/A"}},null,null,null,null,null,null,null,null,{"$f":"VLOOKUP(Tabelle1[[#This Row],[Budgetlinie]],Ausfüllhilfe!$A$1:$D$23,4,0)","v":{"$error":"#N/A"}}]
[{"$f":"INDEX(Tabelle2[[#All],[Budgetlinie]],MATCH(Tabelle1[[#This Row],[Maßnahme]],Ausfüllhilfe!$C$1:$C$22,0))","v":{"$error":"#N/A"}},null,null,null,null,null,null,null,null,{"$f":"VLOOKUP(Tabelle1[[#This Row],[Budgetlinie]],Ausfüllhilfe!$A$1:$D$23,4,0)","v":{"$error":"#N/A"}}]
[{"$f":"INDEX(Tabelle2[[#All],[Budgetlinie]],MATCH(Tabelle1[[#This Row],[Maßnahme]],Ausfüllhilfe!$C$1:$C$22,0))","v":{"$error":"#N/A"}},null,null,null,null,null,null,null,null,{"$f":"VLOOKUP(Tabelle1[[#This Row],[Budgetlinie]],Ausfüllhilfe!$A$1:$D$23,4,0)","v":{"$error":"#N/A"}}]
[{"$f":"INDEX(Tabelle2[[#All],[Budgetlinie]],MATCH(Tabelle1[[#This Row],[Maßnahme]],Ausfüllhilfe!$C$1:$C$22,0))","v":{"$error":"#N/A"}},null,null,null,null,null,null,null,null,{"$f":"VLOOKUP(Tabelle1[[#This Row],[Budgetlinie]],Ausfüllhilfe!$A$1:$D$23,4,0)","v":{"$error":"#N/A"}}]
[{"$f":"INDEX(Tabelle2[[#All],[Budgetlinie]],MATCH(Tabelle1[[#This Row],[Maßnahme]],Ausfüllhilfe!$C$1:$C$22,0))","v":{"$error":"#N/A"}},null,null,null,null,null,null,null,null,{"$f":"VLOOKUP(Tabelle1[[#This Row],[Budgetlinie]],Ausfüllhilfe!$A$1:$D$23,4,0)","v":{"$error":"#N/A"}}]
[{"$f":"INDEX(Tabelle2[[#All],[Budgetlinie]],MATCH(Tabelle1[[#This Row],[Maßnahme]],Ausfüllhilfe!$C$1:$C$22,0))","v":{"$error":"#N/A"}},null,null,null,null,null,null,null,null,{"$f":"VLOOKUP(Tabelle1[[#This Row],[Budgetlinie]],Ausfüllhilfe!$A$1:$D$23,4,0)","v":{"$error":"#N/A"}}]
[{"$f":"INDEX(Tabelle2[[#All],[Budgetlinie]],MATCH(Tabelle1[[#This Row],[Maßnahme]],Ausfüllhilfe!$C$1:$C$22,0))","v":{"$error":"#N/A"}},null,null,null,null,null,null,null,null,{"$f":"VLOOKUP(Tabelle1[[#This Row],[Budgetlinie]],Ausfüllhilfe!$A$1:$D$23,4,0)","v":{"$error":"#N/A"}}]
[{"$f":"INDEX(Tabelle2[[#All],[Budgetlinie]],MATCH(Tabelle1[[#This Row],[Maßnahme]],Ausfüllhilfe!$C$1:$C$22,0))","v":{"$error":"#N/A"}},null,null,null,null,null,null,null,null,{"$f":"VLOOKUP(Tabelle1[[#This Row],[Budgetlinie]],Ausfüllhilfe!$A$1:$D$23,4,0)","v":{"$error":"#N/A"}}]
[{"$f":"INDEX(Tabelle2[[#All],[Budgetlinie]],MATCH(Tabelle1[[#This Row],[Maßnahme]],Ausfüllhilfe!$C$1:$C$22,0))","v":{"$error":"#N/A"}},null,null,null,null,null,null,null,null,{"$f":"VLOOKUP(Tabelle1[[#This Row],[Budgetlinie]],Ausfüllhilfe!$A$1:$D$23,4,0)","v":{"$error":"#N/A"}}]
[{"$f":"INDEX(Tabelle2[[#All],[Budgetlinie]],MATCH(Tabelle1[[#This Row],[Maßnahme]],Ausfüllhilfe!$C$1:$C$22,0))","v":{"$error":"#N/A"}},null,null,null,null,null,null,null,null,{"$f":"VLOOKUP(Tabelle1[[#This Row],[Budgetlinie]],Ausfüllhilfe!$A$1:$D$23,4,0)","v":{"$error":"#N/A"}}]
[{"$f":"INDEX(Tabelle2[[#All],[Budgetlinie]],MATCH(Tabelle1[[#This Row],[Maßnahme]],Ausfüllhilfe!$C$1:$C$22,0))","v":{"$error":"#N/A"}},null,null,null,null,null,null,null,null,{"$f":"VLOOKUP(Tabelle1[[#This Row],[Budgetlinie]],Ausfüllhilfe!$A$1:$D$23,4,0)","v":{"$error":"#N/A"}}]
[{"$f":"INDEX(Tabelle2[[#All],[Budgetlinie]],MATCH(Tabelle1[[#This Row],[Maßnahme]],Ausfüllhilfe!$C$1:$C$22,0))","v":{"$error":"#N/A"}},null,null,null,null,null,null,null,null,{"$f":"VLOOKUP(Tabelle1[[#This Row],[Budgetlinie]],Ausfüllhilfe!$A$1:$D$23,4,0)","v":{"$error":"#N/A"}}]
[{"$f":"INDEX(Tabelle2[[#All],[Budgetlinie]],MATCH(Tabelle1[[#This Row],[Maßnahme]],Ausfüllhilfe!$C$1:$C$22,0))","v":{"$error":"#N/A"}},null,null,null,null,null,null,null,null,{"$f":"VLOOKUP(Tabelle1[[#This Row],[Budgetlinie]],Ausfüllhilfe!$A$1:$D$23,4,0)","v":{"$error":"#N/A"}}]
[{"$f":"INDEX(Tabelle2[[#All],[Budgetlinie]],MATCH(Tabelle1[[#This Row],[Maßnahme]],Ausfüllhilfe!$C$1:$C$22,0))","v":{"$error":"#N/A"}},null,null,null,null,null,null,null,null,{"$f":"VLOOKUP(Tabelle1[[#This Row],[Budgetlinie]],Ausfüllhilfe!$A$1:$D$23,4,0)","v":{"$error":"#N/A"}}]
[{"$f":"INDEX(Tabelle2[[#All],[Budgetlinie]],MATCH(Tabelle1[[#This Row],[Maßnahme]],Ausfüllhilfe!$C$1:$C$22,0))","v":{"$error":"#N/A"}},null,null,null,null,null,null,null,null,{"$f":"VLOOKUP(Tabelle1[[#This Row],[Budgetlinie]],Ausfüllhilfe!$A$1:$D$23,4,0)","v":{"$error":"#N/A"}}]
[{"$f":"INDEX(Tabelle2[[#All],[Budgetlinie]],MATCH(Tabelle1[[#This Row],[Maßnahme]],Ausfüllhilfe!$C$1:$C$22,0))","v":{"$error":"#N/A"}},null,null,null,null,null,null,null,null,{"$f":"VLOOKUP(Tabelle1[[#This Row],[Budgetlinie]],Ausfüllhilfe!$A$1:$D$23,4,0)","v":{"$error":"#N/A"}}]
[{"$f":"INDEX(Tabelle2[[#All],[Budgetlinie]],MATCH(Tabelle1[[#This Row],[Maßnahme]],Ausfüllhilfe!$C$1:$C$22,0))","v":{"$error":"#N/A"}},null,null,null,null,null,null,null,null,{"$f":"VLOOKUP(Tabelle1[[#This Row],[Budgetlinie]],Ausfüllhilfe!$A$1:$D$23,4,0)","v":{"$error":"#N/A"}}]
[{"$f":"INDEX(Tabelle2[[#All],[Budgetlinie]],MATCH(Tabelle1[[#This Row],[Maßnahme]],Ausfüllhilfe!$C$1:$C$22,0))","v":{"$error":"#N/A"}},null,null,null,null,null,null,null,null,{"$f":"VLOOKUP(Tabelle1[[#This Row],[Budgetlinie]],Ausfüllhilfe!$A$1:$D$23,4,0)","v":{"$error":"#N/A"}}]
[{"$f":"INDEX(Tabelle2[[#All],[Budgetlinie]],MATCH(Tabelle1[[#This Row],[Maßnahme]],Ausfüllhilfe!$C$1:$C$22,0))","v":{"$error":"#N/A"}},null,null,null,null,null,null,null,null,{"$f":"VLOOKUP(Tabelle1[[#This Row],[Budgetlinie]],Ausfüllhilfe!$A$1:$D$23,4,0)","v":{"$error":"#N/A"}}]
[{"$f":"INDEX(Tabelle2[[#All],[Budgetlinie]],MATCH(Tabelle1[[#This Row],[Maßnahme]],Ausfüllhilfe!$C$1:$C$22,0))","v":{"$error":"#N/A"}},null,null,null,null,null,null,null,null,{"$f":"VLOOKUP(Tabelle1[[#This Row],[Budgetlinie]],Ausfüllhilfe!$A$1:$D$23,4,0)","v":{"$error":"#N/A"}}]
[{"$f":"INDEX(Tabelle2[[#All],[Budgetlinie]],MATCH(Tabelle1[[#This Row],[Maßnahme]],Ausfüllhilfe!$C$1:$C$22,0))","v":{"$error":"#N/A"}},null,null,null,null,null,null,null,null,{"$f":"VLOOKUP(Tabelle1[[#This Row],[Budgetlinie]],Ausfüllhilfe!$A$1:$D$23,4,0)","v":{"$error":"#N/A"}}]
[{"$f":"INDEX(Tabelle2[[#All],[Budgetlinie]],MATCH(Tabelle1[[#This Row],[Maßnahme]],Ausfüllhilfe!$C$1:$C$22,0))","v":{"$error":"#N/A"}},null,null,null,null,null,null,null,null,{"$f":"VLOOKUP(Tabelle1[[#This Row],[Budgetlinie]],Ausfüllhilfe!$A$1:$D$23,4,0)","v":{"$error":"#N/A"}}]
[{"$f":"INDEX(Tabelle2[[#All],[Budgetlinie]],MATCH(Tabelle1[[#This Row],[Maßnahme]],Ausfüllhilfe!$C$1:$C$22,0))","v":{"$error":"#N/A"}},null,null,null,null,null,null,null,null,{"$f":"VLOOKUP(Tabelle1[[#This Row],[Budgetlinie]],Ausfüllhilfe!$A$1:$D$23,4,0)","v":{"$error":"#N/A"}}]
[{"$f":"INDEX(Tabelle2[[#All],[Budgetlinie]],MATCH(Tabelle1[[#This Row],[Maßnahme]],Ausfüllhilfe!$C$1:$C$22,0))","v":{"$error":"#N/A"}},null,null,null,null,null,null,null,null,{"$f":"VLOOKUP(Tabelle1[[#This Row],[Budgetlinie]],Ausfüllhilfe!$A$1:$D$23,4,0)","v":{"$error":"#N/A"}}]
[{"$f":"INDEX(Tabelle2[[#All],[Budgetlinie]],MATCH(Tabelle1[[#This Row],[Maßnahme]],Ausfüllhilfe!$C$1:$C$22,0))","v":{"$error":"#N/A"}},null,null,null,null,null,null,null,null,{"$f":"VLOOKUP(Tabelle1[[#This Row],[Budgetlinie]],Ausfüllhilfe!$A$1:$D$23,4,0)","v":{"$error":"#N/A"}}]
[{"$f":"INDEX(Tabelle2[[#All],[Budgetlinie]],MATCH(Tabelle1[[#This Row],[Maßnahme]],Ausfüllhilfe!$C$1:$C$22,0))","v":{"$error":"#N/A"}},null,null,null,null,null,null,null,null,{"$f":"VLOOKUP(Tabelle1[[#This Row],[Budgetlinie]],Ausfüllhilfe!$A$1:$D$23,4,0)","v":{"$error":"#N/A"}}]
[{"$f":"INDEX(Tabelle2[[#All],[Budgetlinie]],MATCH(Tabelle1[[#This Row],[Maßnahme]],Ausfüllhilfe!$C$1:$C$22,0))","v":{"$error":"#N/A"}},null,null,null,null,null,null,null,null,{"$f":"VLOOKUP(Tabelle1[[#This Row],[Budgetlinie]],Ausfüllhilfe!$A$1:$D$23,4,0)","v":{"$error":"#N/A"}}]
[{"$f":"INDEX(Tabelle2[[#All],[Budgetlinie]],MATCH(Tabelle1[[#This Row],[Maßnahme]],Ausfüllhilfe!$C$1:$C$22,0))","v":{"$error":"#N/A"}},null,null,null,null,null,null,null,null,{"$f":"VLOOKUP(Tabelle1[[#This Row],[Budgetlinie]],Ausfüllhilfe!$A$1:$D$23,4,0)","v":{"$error":"#N/A"}}]
[{"$f":"INDEX(Tabelle2[[#All],[Budgetlinie]],MATCH(Tabelle1[[#This Row],[Maßnahme]],Ausfüllhilfe!$C$1:$C$22,0))","v":{"$error":"#N/A"}},null,null,null,null,null,null,null,null,{"$f":"VLOOKUP(Tabelle1[[#This Row],[Budgetlinie]],Ausfüllhilfe!$A$1:$D$23,4,0)","v":{"$error":"#N/A"}}]
[{"$f":"INDEX(Tabelle2[[#All],[Budgetlinie]],MATCH(Tabelle1[[#This Row],[Maßnahme]],Ausfüllhilfe!$C$1:$C$22,0))","v":{"$error":"#N/A"}},null,null,null,null,null,null,null,null,{"$f":"VLOOKUP(Tabelle1[[#This Row],[Budgetlinie]],Ausfüllhilfe!$A$1:$D$23,4,0)","v":{"$error":"#N/A"}}]
[{"$f":"INDEX(Tabelle2[[#All],[Budgetlinie]],MATCH(Tabelle1[[#This Row],[Maßnahme]],Ausfüllhilfe!$C$1:$C$22,0))","v":{"$error":"#N/A"}},null,null,null,null,null,null,null,null,{"$f":"VLOOKUP(Tabelle1[[#This Row],[Budgetlinie]],Ausfüllhilfe!$A$1:$D$23,4,0)","v":{"$error":"#N/A"}}]
[{"$f":"INDEX(Tabelle2[[#All],[Budgetlinie]],MATCH(Tabelle1[[#This Row],[Maßnahme]],Ausfüllhilfe!$C$1:$C$22,0))","v":{"$error":"#N/A"}},null,null,null,null,null,null,null,null,{"$f":"VLOOKUP(Tabelle1[[#This Row],[Budgetlinie]],Ausfüllhilfe!$A$1:$D$23,4,0)","v":{"$error":"#N/A"}}]
[{"$f":"INDEX(Tabelle2[[#All],[Budgetlinie]],MATCH(Tabelle1[[#This Row],[Maßnahme]],Ausfüllhilfe!$C$1:$C$22,0))","v":{"$error":"#N/A"}},null,null,null,null,null,null,null,null,{"$f":"VLOOKUP(Tabelle1[[#This Row],[Budgetlinie]],Ausfüllhilfe!$A$1:$D$23,4,0)","v":{"$error":"#N/A"}}]
[{"$f":"INDEX(Tabelle2[[#All],[Budgetlinie]],MATCH(Tabelle1[[#This Row],[Maßnahme]],Ausfüllhilfe!$C$1:$C$22,0))","v":{"$error":"#N/A"}},null,null,null,null,null,null,null,null,{"$f":"VLOOKUP(Tabelle1[[#This Row],[Budgetlinie]],Ausfüllhilfe!$A$1:$D$23,4,0)","v":{"$error":"#N/A"}}]
[{"$f":"INDEX(Tabelle2[[#All],[Budgetlinie]],MATCH(Tabelle1[[#This Row],[Maßnahme]],Ausfüllhilfe!$C$1:$C$22,0))","v":{"$error":"#N/A"}},null,null,null,null,null,null,null,null,{"$f":"VLOOKUP(Tabelle1[[#This Row],[Budgetlinie]],Ausfüllhilfe!$A$1:$D$23,4,0)","v":{"$error":"#N/A"}}]
[{"$f":"INDEX(Tabelle2[[#All],[Budgetlinie]],MATCH(Tabelle1[[#This Row],[Maßnahme]],Ausfüllhilfe!$C$1:$C$22,0))","v":{"$error":"#N/A"}},null,null,null,null,null,null,null,null,{"$f":"VLOOKUP(Tabelle1[[#This Row],[Budgetlinie]],Ausfüllhilfe!$A$1:$D$23,4,0)","v":{"$error":"#N/A"}}]
[{"$f":"INDEX(Tabelle2[[#All],[Budgetlinie]],MATCH(Tabelle1[[#This Row],[Maßnahme]],Ausfüllhilfe!$C$1:$C$22,0))","v":{"$error":"#N/A"}},null,null,null,null,null,null,null,null,{"$f":"VLOOKUP(Tabelle1[[#This Row],[Budgetlinie]],Ausfüllhilfe!$A$1:$D$23,4,0)","v":{"$error":"#N/A"}}]
[{"$f":"INDEX(Tabelle2[[#All],[Budgetlinie]],MATCH(Tabelle1[[#This Row],[Maßnahme]],Ausfüllhilfe!$C$1:$C$22,0))","v":{"$error":"#N/A"}},null,null,null,null,null,null,null,null,{"$f":"VLOOKUP(Tabelle1[[#This Row],[Budgetlinie]],Ausfüllhilfe!$A$1:$D$23,4,0)","v":{"$error":"#N/A"}}]
[{"$f":"INDEX(Tabelle2[[#All],[Budgetlinie]],MATCH(Tabelle1[[#This Row],[Maßnahme]],Ausfüllhilfe!$C$1:$C$22,0))","v":{"$error":"#N/A"}},null,null,null,null,null,null,null,null,{"$f":"VLOOKUP(Tabelle1[[#This Row],[Budgetlinie]],Ausfüllhilfe!$A$1:$D$23,4,0)","v":{"$error":"#N/A"}}]
[{"$f":"INDEX(Tabelle2[[#All],[Budgetlinie]],MATCH(Tabelle1[[#This Row],[Maßnahme]],Ausfüllhilfe!$C$1:$C$22,0))","v":{"$error":"#N/A"}},null,null,null,null,null,null,null,null,{"$f":"VLOOKUP(Tabelle1[[#This Row],[Budgetlinie]],Ausfüllhilfe!$A$1:$D$23,4,0)","v":{"$error":"#N/A"}}]
[{"$f":"INDEX(Tabelle2[[#All],[Budgetlinie]],MATCH(Tabelle1[[#This Row],[Maßnahme]],Ausfüllhilfe!$C$1:$C$22,0))","v":{"$error":"#N/A"}},null,null,null,null,null,null,null,null,{"$f":"VLOOKUP(Tabelle1[[#This Row],[Budgetlinie]],Ausfüllhilfe!$A$1:$D$23,4,0)","v":{"$error":"#N/A"}}]
[{"$f":"INDEX(Tabelle2[[#All],[Budgetlinie]],MATCH(Tabelle1[[#This Row],[Maßnahme]],Ausfüllhilfe!$C$1:$C$22,0))","v":{"$error":"#N/A"}},null,null,null,null,null,null,null,null,{"$f":"VLOOKUP(Tabelle1[[#This Row],[Budgetlinie]],Ausfüllhilfe!$A$1:$D$23,4,0)","v":{"$error":"#N/A"}}]
[{"$f":"INDEX(Tabelle2[[#All],[Budgetlinie]],MATCH(Tabelle1[[#This Row],[Maßnahme]],Ausfüllhilfe!$C$1:$C$22,0))","v":{"$error":"#N/A"}},null,null,null,null,null,null,null,null,{"$f":"VLOOKUP(Tabelle1[[#This Row],[Budgetlinie]],Ausfüllhilfe!$A$1:$D$23,4,0)","v":{"$error":"#N/A"}}]
[{"$f":"INDEX(Tabelle2[[#All],[Budgetlinie]],MATCH(Tabelle1[[#This Row],[Maßnahme]],Ausfüllhilfe!$C$1:$C$22,0))","v":{"$error":"#N/A"}},null,null,null,null,null,null,null,null,{"$f":"VLOOKUP(Tabelle1[[#This Row],[Budgetlinie]],Ausfüllhilfe!$A$1:$D$23,4,0)","v":{"$error":"#N/A"}}]
[{"$f":"INDEX(Tabelle2[[#All],[Budgetlinie]],MATCH(Tabelle1[[#This Row],[Maßnahme]],Ausfüllhilfe!$C$1:$C$22,0))","v":{"$error":"#N/A"}},null,null,null,null,null,null,null,null,{"$f":"VLOOKUP(Tabelle1[[#This Row],[Budgetlinie]],Ausfüllhilfe!$A$1:$D$23,4,0)","v":{"$error":"#N/A"}}]
[{"$f":"INDEX(Tabelle2[[#All],[Budgetlinie]],MATCH(Tabelle1[[#This Row],[Maßnahme]],Ausfüllhilfe!$C$1:$C$22,0))","v":{"$error":"#N/A"}},null,null,null,null,null,null,null,null,{"$f":"VLOOKUP(Tabelle1[[#This Row],[Budgetlinie]],Ausfüllhilfe!$A$1:$D$23,4,0)","v":{"$error":"#N/A"}}]
[{"$f":"INDEX(Tabelle2[[#All],[Budgetlinie]],MATCH(Tabelle1[[#This Row],[Maßnahme]],Ausfüllhilfe!$C$1:$C$22,0))","v":{"$error":"#N/A"}},null,null,null,null,null,null,null,null,{"$f":"VLOOKUP(Tabelle1[[#This Row],[Budgetlinie]],Ausfüllhilfe!$A$1:$D$23,4,0)","v":{"$error":"#N/A"}}]
[{"$f":"INDEX(Tabelle2[[#All],[Budgetlinie]],MATCH(Tabelle1[[#This Row],[Maßnahme]],Ausfüllhilfe!$C$1:$C$22,0))","v":{"$error":"#N/A"}},null,null,null,null,null,null,null,null,{"$f":"VLOOKUP(Tabelle1[[#This Row],[Budgetlinie]],Ausfüllhilfe!$A$1:$D$23,4,0)","v":{"$error":"#N/A"}}]
[{"$f":"INDEX(Tabelle2[[#All],[Budgetlinie]],MATCH(Tabelle1[[#This Row],[Maßnahme]],Ausfüllhilfe!$C$1:$C$22,0))","v":{"$error":"#N/A"}},null,null,null,null,null,null,null,null,{"$f":"VLOOKUP(Tabelle1[[#This Row],[Budgetlinie]],Ausfüllhilfe!$A$1:$D$23,4,0)","v":{"$error":"#N/A"}}]
[{"$f":"INDEX(Tabelle2[[#All],[Budgetlinie]],MATCH(Tabelle1[[#This Row],[Maßnahme]],Ausfüllhilfe!$C$1:$C$22,0))","v":{"$error":"#N/A"}},null,null,null,null,null,null,null,null,{"$f":"VLOOKUP(Tabelle1[[#This Row],[Budgetlinie]],Ausfüllhilfe!$A$1:$D$23,4,0)","v":{"$error":"#N/A"}}]
[{"$f":"INDEX(Tabelle2[[#All],[Budgetlinie]],MATCH(Tabelle1[[#This Row],[Maßnahme]],Ausfüllhilfe!$C$1:$C$22,0))","v":{"$error":"#N/A"}},null,null,null,null,null,null,null,null,{"$f":"VLOOKUP(Tabelle1[[#This Row],[Budgetlinie]],Ausfüllhilfe!$A$1:$D$23,4,0)","v":{"$error":"#N/A"}}]
[{"$f":"INDEX(Tabelle2[[#All],[Budgetlinie]],MATCH(Tabelle1[[#This Row],[Maßnahme]],Ausfüllhilfe!$C$1:$C$22,0))","v":{"$error":"#N/A"}},null,null,null,null,null,null,null,null,{"$f":"VLOOKUP(Tabelle1[[#This Row],[Budgetlinie]],Ausfüllhilfe!$A$1:$D$23,4,0)","v":{"$error":"#N/A"}}]
[{"$f":"INDEX(Tabelle2[[#All],[Budgetlinie]],MATCH(Tabelle1[[#This Row],[Maßnahme]],Ausfüllhilfe!$C$1:$C$22,0))","v":{"$error":"#N/A"}},null,null,null,null,null,null,null,null,{"$f":"VLOOKUP(Tabelle1[[#This Row],[Budgetlinie]],Ausfüllhilfe!$A$1:$D$23,4,0)","v":{"$error":"#N/A"}}]
[{"$f":"INDEX(Tabelle2[[#All],[Budgetlinie]],MATCH(Tabelle1[[#This Row],[Maßnahme]],Ausfüllhilfe!$C$1:$C$22,0))","v":{"$error":"#N/A"}},null,null,null,null,null,null,null,null,{"$f":"VLOOKUP(Tabelle1[[#This Row],[Budgetlinie]],Ausfüllhilfe!$A$1:$D$23,4,0)","v":{"$error":"#N/A"}}]
[{"$f":"INDEX(Tabelle2[[#All],[Budgetlinie]],MATCH(Tabelle1[[#This Row],[Maßnahme]],Ausfüllhilfe!$C$1:$C$22,0))","v":{"$error":"#N/A"}},null,null,null,null,null,null,null,null,{"$f":"VLOOKUP(Tabelle1[[#This Row],[Budgetlinie]],Ausfüllhilfe!$A$1:$D$23,4,0)","v":{"$error":"#N/A"}}]
[{"$f":"INDEX(Tabelle2[[#All],[Budgetlinie]],MATCH(Tabelle1[[#This Row],[Maßnahme]],Ausfüllhilfe!$C$1:$C$22,0))","v":{"$error":"#N/A"}},null,null,null,null,null,null,null,null,{"$f":"VLOOKUP(Tabelle1[[#This Row],[Budgetlinie]],Ausfüllhilfe!$A$1:$D$23,4,0)","v":{"$error":"#N/A"}}]
[{"$f":"INDEX(Tabelle2[[#All],[Budgetlinie]],MATCH(Tabelle1[[#This Row],[Maßnahme]],Ausfüllhilfe!$C$1:$C$22,0))","v":{"$error":"#N/A"}},null,null,null,null,null,null,null,null,{"$f":"VLOOKUP(Tabelle1[[#This Row],[Budgetlinie]],Ausfüllhilfe!$A$1:$D$23,4,0)","v":{"$error":"#N/A"}}]
[{"$f":"INDEX(Tabelle2[[#All],[Budgetlinie]],MATCH(Tabelle1[[#This Row],[Maßnahme]],Ausfüllhilfe!$C$1:$C$22,0))","v":{"$error":"#N/A"}},null,null,null,null,null,null,null,null,{"$f":"VLOOKUP(Tabelle1[[#This Row],[Budgetlinie]],Ausfüllhilfe!$A$1:$D$23,4,0)","v":{"$error":"#N/A"}}]
[{"$f":"INDEX(Tabelle2[[#All],[Budgetlinie]],MATCH(Tabelle1[[#This Row],[Maßnahme]],Ausfüllhilfe!$C$1:$C$22,0))","v":{"$error":"#N/A"}},null,null,null,null,null,null,null,null,{"$f":"VLOOKUP(Tabelle1[[#This Row],[Budgetlinie]],Ausfüllhilfe!$A$1:$D$23,4,0)","v":{"$error":"#N/A"}}]
[{"$f":"INDEX(Tabelle2[[#All],[Budgetlinie]],MATCH(Tabelle1[[#This Row],[Maßnahme]],Ausfüllhilfe!$C$1:$C$22,0))","v":{"$error":"#N/A"}},null,null,null,null,null,null,null,null,{"$f":"VLOOKUP(Tabelle1[[#This Row],[Budgetlinie]],Ausfüllhilfe!$A$1:$D$23,4,0)","v":{"$error":"#N/A"}}]
[{"$f":"INDEX(Tabelle2[[#All],[Budgetlinie]],MATCH(Tabelle1[[#This Row],[Maßnahme]],Ausfüllhilfe!$C$1:$C$22,0))","v":{"$error":"#N/A"}},null,null,null,null,null,null,null,null,{"$f":"VLOOKUP(Tabelle1[[#This Row],[Budgetlinie]],Ausfüllhilfe!$A$1:$D$23,4,0)","v":{"$error":"#N/A"}}]
[{"$f":"INDEX(Tabelle2[[#All],[Budgetlinie]],MATCH(Tabelle1[[#This Row],[Maßnahme]],Ausfüllhilfe!$C$1:$C$22,0))","v":{"$error":"#N/A"}},null,null,null,null,null,null,null,null,{"$f":"VLOOKUP(Tabelle1[[#This Row],[Budgetlinie]],Ausfüllhilfe!$A$1:$D$23,4,0)","v":{"$error":"#N/A"}}]
[{"$f":"INDEX(Tabelle2[[#All],[Budgetlinie]],MATCH(Tabelle1[[#This Row],[Maßnahme]],Ausfüllhilfe!$C$1:$C$22,0))","v":{"$error":"#N/A"}},null,null,null,null,null,null,null,null,{"$f":"VLOOKUP(Tabelle1[[#This Row],[Budgetlinie]],Ausfüllhilfe!$A$1:$D$23,4,0)","v":{"$error":"#N/A"}}]
[{"$f":"INDEX(Tabelle2[[#All],[Budgetlinie]],MATCH(Tabelle1[[#This Row],[Maßnahme]],Ausfüllhilfe!$C$1:$C$22,0))","v":{"$error":"#N/A"}},null,null,null,null,null,null,null,null,{"$f":"VLOOKUP(Tabelle1[[#This Row],[Budgetlinie]],Ausfüllhilfe!$A$1:$D$23,4,0)","v":{"$error":"#N/A"}}]
[{"$f":"INDEX(Tabelle2[[#All],[Budgetlinie]],MATCH(Tabelle1[[#This Row],[Maßnahme]],Ausfüllhilfe!$C$1:$C$22,0))","v":{"$error":"#N/A"}},null,null,null,null,null,null,null,null,{"$f":"VLOOKUP(Tabelle1[[#This Row],[Budgetlinie]],Ausfüllhilfe!$A$1:$D$23,4,0)","v":{"$error":"#N/A"}}]
[{"$f":"INDEX(Tabelle2[[#All],[Budgetlinie]],MATCH(Tabelle1[[#This Row],[Maßnahme]],Ausfüllhilfe!$C$1:$C$22,0))","v":{"$error":"#N/A"}},null,null,null,null,null,null,null,null,{"$f":"VLOOKUP(Tabelle1[[#This Row],[Budgetlinie]],Ausfüllhilfe!$A$1:$D$23,4,0)","v":{"$error":"#N/A"}}]
[{"$f":"INDEX(Tabelle2[[#All],[Budgetlinie]],MATCH(Tabelle1[[#This Row],[Maßnahme]],Ausfüllhilfe!$C$1:$C$22,0))","v":{"$error":"#N/A"}},null,null,null,null,null,null,null,null,{"$f":"VLOOKUP(Tabelle1[[#This Row],[Budgetlinie]],Ausfüllhilfe!$A$1:$D$23,4,0)","v":{"$error":"#N/A"}}]
[{"$f":"INDEX(Tabelle2[[#All],[Budgetlinie]],MATCH(Tabelle1[[#This Row],[Maßnahme]],Ausfüllhilfe!$C$1:$C$22,0))","v":{"$error":"#N/A"}},null,null,null,null,null,null,null,null,{"$f":"VLOOKUP(Tabelle1[[#This Row],[Budgetlinie]],Ausfüllhilfe!$A$1:$D$23,4,0)","v":{"$error":"#N/A"}}]
[{"$f":"INDEX(Tabelle2[[#All],[Budgetlinie]],MATCH(Tabelle1[[#This Row],[Maßnahme]],Ausfüllhilfe!$C$1:$C$22,0))","v":{"$error":"#N/A"}},null,null,null,null,null,null,null,null,{"$f":"VLOOKUP(Tabelle1[[#This Row],[Budgetlinie]],Ausfüllhilfe!$A$1:$D$23,4,0)","v":{"$error":"#N/A"}}]
[{"$f":"INDEX(Tabelle2[[#All],[Budgetlinie]],MATCH(Tabelle1[[#This Row],[Maßnahme]],Ausfüllhilfe!$C$1:$C$22,0))","v":{"$error":"#N/A"}},null,null,null,null,null,null,null,null,{"$f":"VLOOKUP(Tabelle1[[#This Row],[Budgetlinie]],Ausfüllhilfe!$A$1:$D$23,4,0)","v":{"$error":"#N/A"}}]
[{"$f":"INDEX(Tabelle2[[#All],[Budgetlinie]],MATCH(Tabelle1[[#This Row],[Maßnahme]],Ausfüllhilfe!$C$1:$C$22,0))","v":{"$error":"#N/A"}},null,null,null,null,null,null,null,null,{"$f":"VLOOKUP(Tabelle1[[#This Row],[Budgetlinie]],Ausfüllhilfe!$A$1:$D$23,4,0)","v":{"$error":"#N/A"}}]
[{"$f":"INDEX(Tabelle2[[#All],[Budgetlinie]],MATCH(Tabelle1[[#This Row],[Maßnahme]],Ausfüllhilfe!$C$1:$C$22,0))","v":{"$error":"#N/A"}},null,null,null,null,null,null,null,null,{"$f":"VLOOKUP(Tabelle1[[#This Row],[Budgetlinie]],Ausfüllhilfe!$A$1:$D$23,4,0)","v":{"$error":"#N/A"}}]
[{"$f":"INDEX(Tabelle2[[#All],[Budgetlinie]],MATCH(Tabelle1[[#This Row],[Maßnahme]],Ausfüllhilfe!$C$1:$C$22,0))","v":{"$error":"#N/A"}},null,null,null,null,null,null,null,null,{"$f":"VLOOKUP(Tabelle1[[#This Row],[Budgetlinie]],Ausfüllhilfe!$A$1:$D$23,4,0)","v":{"$error":"#N/A"}}]
[{"$f":"INDEX(Tabelle2[[#All],[Budgetlinie]],MATCH(Tabelle1[[#This Row],[Maßnahme]],Ausfüllhilfe!$C$1:$C$22,0))","v":{"$error":"#N/A"}},null,null,null,null,null,null,null,null,{"$f":"VLOOKUP(Tabelle1[[#This Row],[Budgetlinie]],Ausfüllhilfe!$A$1:$D$23,4,0)","v":{"$error":"#N/A"}}]
[{"$f":"INDEX(Tabelle2[[#All],[Budgetlinie]],MATCH(Tabelle1[[#This Row],[Maßnahme]],Ausfüllhilfe!$C$1:$C$22,0))","v":{"$error":"#N/A"}},null,null,null,null,null,null,null,null,{"$f":"VLOOKUP(Tabelle1[[#This Row],[Budgetlinie]],Ausfüllhilfe!$A$1:$D$23,4,0)","v":{"$error":"#N/A"}}]
[{"$f":"INDEX(Tabelle2[[#All],[Budgetlinie]],MATCH(Tabelle1[[#This Row],[Maßnahme]],Ausfüllhilfe!$C$1:$C$22,0))","v":{"$error":"#N/A"}},null,null,null,null,null,null,null,null,{"$f":"VLOOKUP(Tabelle1[[#This Row],[Budgetlinie]],Ausfüllhilfe!$A$1:$D$23,4,0)","v":{"$error":"#N/A"}}]
[{"$f":"INDEX(Tabelle2[[#All],[Budgetlinie]],MATCH(Tabelle1[[#This Row],[Maßnahme]],Ausfüllhilfe!$C$1:$C$22,0))","v":{"$error":"#N/A"}},null,null,null,null,null,null,null,null,{"$f":"VLOOKUP(Tabelle1[[#This Row],[Budgetlinie]],Ausfüllhilfe!$A$1:$D$23,4,0)","v":{"$error":"#N/A"}}]
[{"$f":"INDEX(Tabelle2[[#All],[Budgetlinie]],MATCH(Tabelle1[[#This Row],[Maßnahme]],Ausfüllhilfe!$C$1:$C$22,0))","v":{"$error":"#N/A"}},null,null,null,null,null,null,null,null,{"$f":"VLOOKUP(Tabelle1[[#This Row],[Budgetlinie]],Ausfüllhilfe!$A$1:$D$23,4,0)","v":{"$error":"#N/A"}}]
[{"$f":"INDEX(Tabelle2[[#All],[Budgetlinie]],MATCH(Tabelle1[[#This Row],[Maßnahme]],Ausfüllhilfe!$C$1:$C$22,0))","v":{"$error":"#N/A"}},null,null,null,null,null,null,null,null,{"$f":"VLOOKUP(Tabelle1[[#This Row],[Budgetlinie]],Ausfüllhilfe!$A$1:$D$23,4,0)","v":{"$error":"#N/A"}}]
[{"$f":"INDEX(Tabelle2[[#All],[Budgetlinie]],MATCH(Tabelle1[[#This Row],[Maßnahme]],Ausfüllhilfe!$C$1:$C$22,0))","v":{"$error":"#N/A"}},null,null,null,null,null,null,null,null,{"$f":"VLOOKUP(Tabelle1[[#This Row],[Budgetlinie]],Ausfüllhilfe!$A$1:$D$23,4,0)","v":{"$error":"#N/A"}}]
[{"$f":"INDEX(Tabelle2[[#All],[Budgetlinie]],MATCH(Tabelle1[[#This Row],[Maßnahme]],Ausfüllhilfe!$C$1:$C$22,0))","v":{"$error":"#N/A"}},null,null,null,null,null,null,null,null,{"$f":"VLOOKUP(Tabelle1[[#This Row],[Budgetlinie]],Ausfüllhilfe!$A$1:$D$23,4,0)","v":{"$error":"#N/A"}}]
[{"$f":"INDEX(Tabelle2[[#All],[Budgetlinie]],MATCH(Tabelle1[[#This Row],[Maßnahme]],Ausfüllhilfe!$C$1:$C$22,0))","v":{"$error":"#N/A"}},null,null,null,null,null,null,null,null,{"$f":"VLOOKUP(Tabelle1[[#This Row],[Budgetlinie]],Ausfüllhilfe!$A$1:$D$23,4,0)","v":{"$error":"#N/A"}}]
[{"$f":"INDEX(Tabelle2[[#All],[Budgetlinie]],MATCH(Tabelle1[[#This Row],[Maßnahme]],Ausfüllhilfe!$C$1:$C$22,0))","v":{"$error":"#N/A"}},null,null,null,null,null,null,null,null,{"$f":"VLOOKUP(Tabelle1[[#This Row],[Budgetlinie]],Ausfüllhilfe!$A$1:$D$23,4,0)","v":{"$error":"#N/A"}}]
[{"$f":"INDEX(Tabelle2[[#All],[Budgetlinie]],MATCH(Tabelle1[[#This Row],[Maßnahme]],Ausfüllhilfe!$C$1:$C$22,0))","v":{"$error":"#N/A"}},null,null,null,null,null,null,null,null,{"$f":"VLOOKUP(Tabelle1[[#This Row],[Budgetlinie]],Ausfüllhilfe!$A$1:$D$23,4,0)","v":{"$error":"#N/A"}}]
[{"$f":"INDEX(Tabelle2[[#All],[Budgetlinie]],MATCH(Tabelle1[[#This Row],[Maßnahme]],Ausfüllhilfe!$C$1:$C$22,0))","v":{"$error":"#N/A"}},null,null,null,null,null,null,null,null,{"$f":"VLOOKUP(Tabelle1[[#This Row],[Budgetlinie]],Ausfüllhilfe!$A$1:$D$23,4,0)","v":{"$error":"#N/A"}}]
[{"$f":"INDEX(Tabelle2[[#All],[Budgetlinie]],MATCH(Tabelle1[[#This Row],[Maßnahme]],Ausfüllhilfe!$C$1:$C$22,0))","v":{"$error":"#N/A"}},null,null,null,null,null,null,null,null,{"$f":"VLOOKUP(Tabelle1[[#This Row],[Budgetlinie]],Ausfüllhilfe!$A$1:$D$23,4,0)","v":{"$error":"#N/A"}}]
[{"$f":"INDEX(Tabelle2[[#All],[Budgetlinie]],MATCH(Tabelle1[[#This Row],[Maßnahme]],Ausfüllhilfe!$C$1:$C$22,0))","v":{"$error":"#N/A"}},null,null,null,null,null,null,null,null,{"$f":"VLOOKUP(Tabelle1[[#This Row],[Budgetlinie]],Ausfüllhilfe!$A$1:$D$23,4,0)","v":{"$error":"#N/A"}}]
[{"$f":"INDEX(Tabelle2[[#All],[Budgetlinie]],MATCH(Tabelle1[[#This Row],[Maßnahme]],Ausfüllhilfe!$C$1:$C$22,0))","v":{"$error":"#N/A"}},null,null,null,null,null,null,null,null,{"$f":"VLOOKUP(Tabelle1[[#This Row],[Budgetlinie]],Ausfüllhilfe!$A$1:$D$23,4,0)","v":{"$error":"#N/A"}}]
[{"$f":"INDEX(Tabelle2[[#All],[Budgetlinie]],MATCH(Tabelle1[[#This Row],[Maßnahme]],Ausfüllhilfe!$C$1:$C$22,0))","v":{"$error":"#N/A"}},null,null,null,null,null,null,null,null,{"$f":"VLOOKUP(Tabelle1[[#This Row],[Budgetlinie]],Ausfüllhilfe!$A$1:$D$23,4,0)","v":{"$error":"#N/A"}}]
[{"$f":"INDEX(Tabelle2[[#All],[Budgetlinie]],MATCH(Tabelle1[[#This Row],[Maßnahme]],Ausfüllhilfe!$C$1:$C$22,0))","v":{"$error":"#N/A"}},null,null,null,null,null,null,null,null,{"$f":"VLOOKUP(Tabelle1[[#This Row],[Budgetlinie]],Ausfüllhilfe!$A$1:$D$23,4,0)","v":{"$error":"#N/A"}}]
[{"$f":"INDEX(Tabelle2[[#All],[Budgetlinie]],MATCH(Tabelle1[[#This Row],[Maßnahme]],Ausfüllhilfe!$C$1:$C$22,0))","v":{"$error":"#N/A"}},null,null,null,null,null,null,null,null,{"$f":"VLOOKUP(Tabelle1[[#This Row],[Budgetlinie]],Ausfüllhilfe!$A$1:$D$23,4,0)","v":{"$error":"#N/A"}}]
[{"$f":"INDEX(Tabelle2[[#All],[Budgetlinie]],MATCH(Tabelle1[[#This Row],[Maßnahme]],Ausfüllhilfe!$C$1:$C$22,0))","v":{"$error":"#N/A"}},null,null,null,null,null,null,null,null,{"$f":"VLOOKUP(Tabelle1[[#This Row],[Budgetlinie]],Ausfüllhilfe!$A$1:$D$23,4,0)","v":{"$error":"#N/A"}}]
[{"$f":"INDEX(Tabelle2[[#All],[Budgetlinie]],MATCH(Tabelle1[[#This Row],[Maßnahme]],Ausfüllhilfe!$C$1:$C$22,0))","v":{"$error":"#N/A"}},null,null,null,null,null,null,null,null,{"$f":"VLOOKUP(Tabelle1[[#This Row],[Budgetlinie]],Ausfüllhilfe!$A$1:$D$23,4,0)","v":{"$error":"#N/A"}}]
[{"$f":"INDEX(Tabelle2[[#All],[Budgetlinie]],MATCH(Tabelle1[[#This Row],[Maßnahme]],Ausfüllhilfe!$C$1:$C$22,0))","v":{"$error":"#N/A"}},null,null,null,null,null,null,null,null,{"$f":"VLOOKUP(Tabelle1[[#This Row],[Budgetlinie]],Ausfüllhilfe!$A$1:$D$23,4,0)","v":{"$error":"#N/A"}}]
[{"$f":"INDEX(Tabelle2[[#All],[Budgetlinie]],MATCH(Tabelle1[[#This Row],[Maßnahme]],Ausfüllhilfe!$C$1:$C$22,0))","v":{"$error":"#N/A"}},null,null,null,null,null,null,null,null,{"$f":"VLOOKUP(Tabelle1[[#This Row],[Budgetlinie]],Ausfüllhilfe!$A$1:$D$23,4,0)","v":{"$error":"#N/A"}}]
[{"$f":"INDEX(Tabelle2[[#All],[Budgetlinie]],MATCH(Tabelle1[[#This Row],[Maßnahme]],Ausfüllhilfe!$C$1:$C$22,0))","v":{"$error":"#N/A"}},null,null,null,null,null,null,null,null,{"$f":"VLOOKUP(Tabelle1[[#This Row],[Budgetlinie]],Ausfüllhilfe!$A$1:$D$23,4,0)","v":{"$error":"#N/A"}}]
[{"$f":"INDEX(Tabelle2[[#All],[Budgetlinie]],MATCH(Tabelle1[[#This Row],[Maßnahme]],Ausfüllhilfe!$C$1:$C$22,0))","v":{"$error":"#N/A"}},null,null,null,null,null,null,null,null,{"$f":"VLOOKUP(Tabelle1[[#This Row],[Budgetlinie]],Ausfüllhilfe!$A$1:$D$23,4,0)","v":{"$error":"#N/A"}}]
[{"$f":"INDEX(Tabelle2[[#All],[Budgetlinie]],MATCH(Tabelle1[[#This Row],[Maßnahme]],Ausfüllhilfe!$C$1:$C$22,0))","v":{"$error":"#N/A"}},null,null,null,null,null,null,null,null,{"$f":"VLOOKUP(Tabelle1[[#This Row],[Budgetlinie]],Ausfüllhilfe!$A$1:$D$23,4,0)","v":{"$error":"#N/A"}}]
[{"$f":"INDEX(Tabelle2[[#All],[Budgetlinie]],MATCH(Tabelle1[[#This Row],[Maßnahme]],Ausfüllhilfe!$C$1:$C$22,0))","v":{"$error":"#N/A"}},null,null,null,null,null,null,null,null,{"$f":"VLOOKUP(Tabelle1[[#This Row],[Budgetlinie]],Ausfüllhilfe!$A$1:$D$23,4,0)","v":{"$error":"#N/A"}}]
[{"$f":"INDEX(Tabelle2[[#All],[Budgetlinie]],MATCH(Tabelle1[[#This Row],[Maßnahme]],Ausfüllhilfe!$C$1:$C$22,0))","v":{"$error":"#N/A"}},null,null,null,null,null,null,null,null,{"$f":"VLOOKUP(Tabelle1[[#This Row],[Budgetlinie]],Ausfüllhilfe!$A$1:$D$23,4,0)","v":{"$error":"#N/A"}}]
[{"$f":"INDEX(Tabelle2[[#All],[Budgetlinie]],MATCH(Tabelle1[[#This Row],[Maßnahme]],Ausfüllhilfe!$C$1:$C$22,0))","v":{"$error":"#N/A"}},null,null,null,null,null,null,null,null,{"$f":"VLOOKUP(Tabelle1[[#This Row],[Budgetlinie]],Ausfüllhilfe!$A$1:$D$23,4,0)","v":{"$error":"#N/A"}}]
[{"$f":"INDEX(Tabelle2[[#All],[Budgetlinie]],MATCH(Tabelle1[[#This Row],[Maßnahme]],Ausfüllhilfe!$C$1:$C$22,0))","v":{"$error":"#N/A"}},null,null,null,null,null,null,null,null,{"$f":"VLOOKUP(Tabelle1[[#This Row],[Budgetlinie]],Ausfüllhilfe!$A$1:$D$23,4,0)","v":{"$error":"#N/A"}}]
[{"$f":"INDEX(Tabelle2[[#All],[Budgetlinie]],MATCH(Tabelle1[[#This Row],[Maßnahme]],Ausfüllhilfe!$C$1:$C$22,0))","v":{"$error":"#N/A"}},null,null,null,null,null,null,null,null,{"$f":"VLOOKUP(Tabelle1[[#This Row],[Budgetlinie]],Ausfüllhilfe!$A$1:$D$23,4,0)","v":{"$error":"#N/A"}}]
[{"$f":"INDEX(Tabelle2[[#All],[Budgetlinie]],MATCH(Tabelle1[[#This Row],[Maßnahme]],Ausfüllhilfe!$C$1:$C$22,0))","v":{"$error":"#N/A"}},null,null,null,null,null,null,null,null,{"$f":"VLOOKUP(Tabelle1[[#This Row],[Budgetlinie]],Ausfüllhilfe!$A$1:$D$23,4,0)","v":{"$error":"#N/A"}}]
[{"$f":"INDEX(Tabelle2[[#All],[Budgetlinie]],MATCH(Tabelle1[[#This Row],[Maßnahme]],Ausfüllhilfe!$C$1:$C$22,0))","v":{"$error":"#N/A"}},null,null,null,null,null,null,null,null,{"$f":"VLOOKUP(Tabelle1[[#This Row],[Budgetlinie]],Ausfüllhilfe!$A$1:$D$23,4,0)","v":{"$error":"#N/A"}}]
[{"$f":"INDEX(Tabelle2[[#All],[Budgetlinie]],MATCH(Tabelle1[[#This Row],[Maßnahme]],Ausfüllhilfe!$C$1:$C$22,0))","v":{"$error":"#N/A"}},null,null,null,null,null,null,null,null,{"$f":"VLOOKUP(Tabelle1[[#This Row],[Budgetlinie]],Ausfüllhilfe!$A$1:$D$23,4,0)","v":{"$error":"#N/A"}}]
[{"$f":"INDEX(Tabelle2[[#All],[Budgetlinie]],MATCH(Tabelle1[[#This Row],[Maßnahme]],Ausfüllhilfe!$C$1:$C$22,0))","v":{"$error":"#N/A"}},null,null,null,null,null,null,null,null,{"$f":"VLOOKUP(Tabelle1[[#This Row],[Budgetlinie]],Ausfüllhilfe!$A$1:$D$23,4,0)","v":{"$error":"#N/A"}}]
[{"$f":"INDEX(Tabelle2[[#All],[Budgetlinie]],MATCH(Tabelle1[[#This Row],[Maßnahme]],Ausfüllhilfe!$C$1:$C$22,0))","v":{"$error":"#N/A"}},null,null,null,null,null,null,null,null,{"$f":"VLOOKUP(Tabelle1[[#This Row],[Budgetlinie]],Ausfüllhilfe!$A$1:$D$23,4,0)","v":{"$error":"#N/A"}}]
[{"$f":"INDEX(Tabelle2[[#All],[Budgetlinie]],MATCH(Tabelle1[[#This Row],[Maßnahme]],Ausfüllhilfe!$C$1:$C$22,0))","v":{"$error":"#N/A"}},null,null,null,null,null,null,null,null,{"$f":"VLOOKUP(Tabelle1[[#This Row],[Budgetlinie]],Ausfüllhilfe!$A$1:$D$23,4,0)","v":{"$error":"#N/A"}}]
[{"$f":"INDEX(Tabelle2[[#All],[Budgetlinie]],MATCH(Tabelle1[[#This Row],[Maßnahme]],Ausfüllhilfe!$C$1:$C$22,0))","v":{"$error":"#N/A"}},null,null,null,null,null,null,null,null,{"$f":"VLOOKUP(Tabelle1[[#This Row],[Budgetlinie]],Ausfüllhilfe!$A$1:$D$23,4,0)","v":{"$error":"#N/A"}}]
[{"$f":"INDEX(Tabelle2[[#All],[Budgetlinie]],MATCH(Tabelle1[[#This Row],[Maßnahme]],Ausfüllhilfe!$C$1:$C$22,0))","v":{"$error":"#N/A"}},null,null,null,null,null,null,null,null,{"$f":"VLOOKUP(Tabelle1[[#This Row],[Budgetlinie]],Ausfüllhilfe!$A$1:$D$23,4,0)","v":{"$error":"#N/A"}}]
[{"$f":"INDEX(Tabelle2[[#All],[Budgetlinie]],MATCH(Tabelle1[[#This Row],[Maßnahme]],Ausfüllhilfe!$C$1:$C$22,0))","v":{"$error":"#N/A"}},null,null,null,null,null,null,null,null,{"$f":"VLOOKUP(Tabelle1[[#This Row],[Budgetlinie]],Ausfüllhilfe!$A$1:$D$23,4,0)","v":{"$error":"#N/A"}}]
[{"$f":"INDEX(Tabelle2[[#All],[Budgetlinie]],MATCH(Tabelle1[[#This Row],[Maßnahme]],Ausfüllhilfe!$C$1:$C$22,0))","v":{"$error":"#N/A"}},null,null,null,null,null,null,null,null,{"$f":"VLOOKUP(Tabelle1[[#This Row],[Budgetlinie]],Ausfüllhilfe!$A$1:$D$23,4,0)","v":{"$error":"#N/A"}}]
[{"$f":"INDEX(Tabelle2[[#All],[Budgetlinie]],MATCH(Tabelle1[[#This Row],[Maßnahme]],Ausfüllhilfe!$C$1:$C$22,0))","v":{"$error":"#N/A"}},null,null,null,null,null,null,null,null,{"$f":"VLOOKUP(Tabelle1[[#This Row],[Budgetlinie]],Ausfüllhilfe!$A$1:$D$23,4,0)","v":{"$error":"#N/A"}}]
[{"$f":"INDEX(Tabelle2[[#All],[Budgetlinie]],MATCH(Tabelle1[[#This Row],[Maßnahme]],Ausfüllhilfe!$C$1:$C$22,0))","v":{"$error":"#N/A"}},null,null,null,null,null,null,null,null,{"$f":"VLOOKUP(Tabelle1[[#This Row],[Budgetlinie]],Ausfüllhilfe!$A$1:$D$23,4,0)","v":{"$error":"#N/A"}}]
[{"$f":"INDEX(Tabelle2[[#All],[Budgetlinie]],MATCH(Tabelle1[[#This Row],[Maßnahme]],Ausfüllhilfe!$C$1:$C$22,0))","v":{"$error":"#N/A"}},null,null,null,null,null,null,null,null,{"$f":"VLOOKUP(Tabelle1[[#This Row],[Budgetlinie]],Ausfüllhilfe!$A$1:$D$23,4,0)","v":{"$error":"#N/A"}}]
[{"$f":"INDEX(Tabelle2[[#All],[Budgetlinie]],MATCH(Tabelle1[[#This Row],[Maßnahme]],Ausfüllhilfe!$C$1:$C$22,0))","v":{"$error":"#N/A"}},null,null,null,null,null,null,null,null,{"$f":"VLOOKUP(Tabelle1[[#This Row],[Budgetlinie]],Ausfüllhilfe!$A$1:$D$23,4,0)","v":{"$error":"#N/A"}}]
[{"$f":"INDEX(Tabelle2[[#All],[Budgetlinie]],MATCH(Tabelle1[[#This Row],[Maßnahme]],Ausfüllhilfe!$C$1:$C$22,0))","v":{"$error":"#N/A"}},null,null,null,null,null,null,null,null,{"$f":"VLOOKUP(Tabelle1[[#This Row],[Budgetlinie]],Ausfüllhilfe!$A$1:$D$23,4,0)","v":{"$error":"#N/A"}}]
[{"$f":"INDEX(Tabelle2[[#All],[Budgetlinie]],MATCH(Tabelle1[[#This Row],[Maßnahme]],Ausfüllhilfe!$C$1:$C$22,0))","v":{"$error":"#N/A"}},null,null,null,null,null,null,null,null,{"$f":"VLOOKUP(Tabelle1[[#This Row],[Budgetlinie]],Ausfüllhilfe!$A$1:$D$23,4,0)","v":{"$error":"#N/A"}}]
[{"$f":"INDEX(Tabelle2[[#All],[Budgetlinie]],MATCH(Tabelle1[[#This Row],[Maßnahme]],Ausfüllhilfe!$C$1:$C$22,0))","v":{"$error":"#N/A"}},null,null,null,null,null,null,null,null,{"$f":"VLOOKUP(Tabelle1[[#This Row],[Budgetlinie]],Ausfüllhilfe!$A$1:$D$23,4,0)","v":{"$error":"#N/A"}}]
[{"$f":"INDEX(Tabelle2[[#All],[Budgetlinie]],MATCH(Tabelle1[[#This Row],[Maßnahme]],Ausfüllhilfe!$C$1:$C$22,0))","v":{"$error":"#N/A"}},null,null,null,null,null,null,null,null,{"$f":"VLOOKUP(Tabelle1[[#This Row],[Budgetlinie]],Ausfüllhilfe!$A$1:$D$23,4,0)","v":{"$error":"#N/A"}}]
[{"$f":"INDEX(Tabelle2[[#All],[Budgetlinie]],MATCH(Tabelle1[[#This Row],[Maßnahme]],Ausfüllhilfe!$C$1:$C$22,0))","v":{"$error":"#N/A"}},null,null,null,null,null,null,null,null,{"$f":"VLOOKUP(Tabelle1[[#This Row],[Budgetlinie]],Ausfüllhilfe!$A$1:$D$23,4,0)","v":{"$error":"#N/A"}}]
[{"$f":"INDEX(Tabelle2[[#All],[Budgetlinie]],MATCH(Tabelle1[[#This Row],[Maßnahme]],Ausfüllhilfe!$C$1:$C$22,0))","v":{"$error":"#N/A"}},null,null,null,null,null,null,null,null,{"$f":"VLOOKUP(Tabelle1[[#This Row],[Budgetlinie]],Ausfüllhilfe!$A$1:$D$23,4,0)","v":{"$error":"#N/A"}}]
[{"$f":"INDEX(Tabelle2[[#All],[Budgetlinie]],MATCH(Tabelle1[[#This Row],[Maßnahme]],Ausfüllhilfe!$C$1:$C$22,0))","v":{"$error":"#N/A"}},null,null,null,null,null,null,null,null,{"$f":"VLOOKUP(Tabelle1[[#This Row],[Budgetlinie]],Ausfüllhilfe!$A$1:$D$23,4,0)","v":{"$error":"#N/A"}}]
[{"$f":"INDEX(Tabelle2[[#All],[Budgetlinie]],MATCH(Tabelle1[[#This Row],[Maßnahme]],Ausfüllhilfe!$C$1:$C$22,0))","v":{"$error":"#N/A"}},null,null,null,null,null,null,null,null,{"$f":"VLOOKUP(Tabelle1[[#This Row],[Budgetlinie]],Ausfüllhilfe!$A$1:$D$23,4,0)","v":{"$error":"#N/A"}}]
[{"$f":"INDEX(Tabelle2[[#All],[Budgetlinie]],MATCH(Tabelle1[[#This Row],[Maßnahme]],Ausfüllhilfe!$C$1:$C$22,0))","v":{"$error":"#N/A"}},null,null,null,null,null,null,null,null,{"$f":"VLOOKUP(Tabelle1[[#This Row],[Budgetlinie]],Ausfüllhilfe!$A$1:$D$23,4,0)","v":{"$error":"#N/A"}}]
[{"$f":"INDEX(Tabelle2[[#All],[Budgetlinie]],MATCH(Tabelle1[[#This Row],[Maßnahme]],Ausfüllhilfe!$C$1:$C$22,0))","v":{"$error":"#N/A"}},null,null,null,null,null,null,null,null,{"$f":"VLOOKUP(Tabelle1[[#This Row],[Budgetlinie]],Ausfüllhilfe!$A$1:$D$23,4,0)","v":{"$error":"#N/A"}}]
[{"$f":"INDEX(Tabelle2[[#All],[Budgetlinie]],MATCH(Tabelle1[[#This Row],[Maßnahme]],Ausfüllhilfe!$C$1:$C$22,0))","v":{"$error":"#N/A"}},null,null,null,null,null,null,null,null,{"$f":"VLOOKUP(Tabelle1[[#This Row],[Budgetlinie]],Ausfüllhilfe!$A$1:$D$23,4,0)","v":{"$error":"#N/A"}}]
[{"$f":"INDEX(Tabelle2[[#All],[Budgetlinie]],MATCH(Tabelle1[[#This Row],[Maßnahme]],Ausfüllhilfe!$C$1:$C$22,0))","v":{"$error":"#N/A"}},null,null,null,null,null,null,null,null,{"$f":"VLOOKUP(Tabelle1[[#This Row],[Budgetlinie]],Ausfüllhilfe!$A$1:$D$23,4,0)","v":{"$error":"#N/A"}}]
[{"$f":"INDEX(Tabelle2[[#All],[Budgetlinie]],MATCH(Tabelle1[[#This Row],[Maßnahme]],Ausfüllhilfe!$C$1:$C$22,0))","v":{"$error":"#N/A"}},null,null,null,null,null,null,null,null,{"$f":"VLOOKUP(Tabelle1[[#This Row],[Budgetlinie]],Ausfüllhilfe!$A$1:$D$23,4,0)","v":{"$error":"#N/A"}}]
[{"$f":"INDEX(Tabelle2[[#All],[Budgetlinie]],MATCH(Tabelle1[[#This Row],[Maßnahme]],Ausfüllhilfe!$C$1:$C$22,0))","v":{"$error":"#N/A"}},null,null,null,null,null,null,null,null,{"$f":"VLOOKUP(Tabelle1[[#This Row],[Budgetlinie]],Ausfüllhilfe!$A$1:$D$23,4,0)","v":{"$error":"#N/A"}}]
[{"$f":"INDEX(Tabelle2[[#All],[Budgetlinie]],MATCH(Tabelle1[[#This Row],[Maßnahme]],Ausfüllhilfe!$C$1:$C$22,0))","v":{"$error":"#N/A"}},null,null,null,null,null,null,null,null,{"$f":"VLOOKUP(Tabelle1[[#This Row],[Budgetlinie]],Ausfüllhilfe!$A$1:$D$23,4,0)","v":{"$error":"#N/A"}}]
[{"$f":"INDEX(Tabelle2[[#All],[Budgetlinie]],MATCH(Tabelle1[[#This Row],[Maßnahme]],Ausfüllhilfe!$C$1:$C$22,0))","v":{"$error":"#N/A"}},null,null,null,null,null,null,null,null,{"$f":"VLOOKUP(Tabelle1[[#This Row],[Budgetlinie]],Ausfüllhilfe!$A$1:$D$23,4,0)","v":{"$error":"#N/A"}}]
[{"$f":"INDEX(Tabelle2[[#All],[Budgetlinie]],MATCH(Tabelle1[[#This Row],[Maßnahme]],Ausfüllhilfe!$C$1:$C$22,0))","v":{"$error":"#N/A"}},null,null,null,null,null,null,null,null,{"$f":"VLOOKUP(Tabelle1[[#This Row],[Budgetlinie]],Ausfüllhilfe!$A$1:$D$23,4,0)","v":{"$error":"#N/A"}}]
[{"$f":"INDEX(Tabelle2[[#All],[Budgetlinie]],MATCH(Tabelle1[[#This Row],[Maßnahme]],Ausfüllhilfe!$C$1:$C$22,0))","v":{"$error":"#N/A"}},null,null,null,null,null,null,null,null,{"$f":"VLOOKUP(Tabelle1[[#This Row],[Budgetlinie]],Ausfüllhilfe!$A$1:$D$23,4,0)","v":{"$error":"#N/A"}}]
[{"$f":"INDEX(Tabelle2[[#All],[Budgetlinie]],MATCH(Tabelle1[[#This Row],[Maßnahme]],Ausfüllhilfe!$C$1:$C$22,0))","v":{"$error":"#N/A"}},null,null,null,null,null,null,null,null,{"$f":"VLOOKUP(Tabelle1[[#This Row],[Budgetlinie]],Ausfüllhilfe!$A$1:$D$23,4,0)","v":{"$error":"#N/A"}}]
[{"$f":"INDEX(Tabelle2[[#All],[Budgetlinie]],MATCH(Tabelle1[[#This Row],[Maßnahme]],Ausfüllhilfe!$C$1:$C$22,0))","v":{"$error":"#N/A"}},null,null,null,null,null,null,null,null,{"$f":"VLOOKUP(Tabelle1[[#This Row],[Budgetlinie]],Ausfüllhilfe!$A$1:$D$23,4,0)","v":{"$error":"#N/A"}}]
[{"$f":"INDEX(Tabelle2[[#All],[Budgetlinie]],MATCH(Tabelle1[[#This Row],[Maßnahme]],Ausfüllhilfe!$C$1:$C$22,0))","v":{"$error":"#N/A"}},null,null,null,null,null,null,null,null,{"$f":"VLOOKUP(Tabelle1[[#This Row],[Budgetlinie]],Ausfüllhilfe!$A$1:$D$23,4,0)","v":{"$error":"#N/A"}}]
[{"$f":"INDEX(Tabelle2[[#All],[Budgetlinie]],MATCH(Tabelle1[[#This Row],[Maßnahme]],Ausfüllhilfe!$C$1:$C$22,0))","v":{"$error":"#N/A"}},null,null,null,null,null,null,null,null,{"$f":"VLOOKUP(Tabelle1[[#This Row],[Budgetlinie]],Ausfüllhilfe!$A$1:$D$23,4,0)","v":{"$error":"#N/A"}}]
[{"$f":"INDEX(Tabelle2[[#All],[Budgetlinie]],MATCH(Tabelle1[[#This Row],[Maßnahme]],Ausfüllhilfe!$C$1:$C$22,0))","v":{"$error":"#N/A"}},null,null,null,null,null,null,null,null,{"$f":"VLOOKUP(Tabelle1[[#This Row],[Budgetlinie]],Ausfüllhilfe!$A$1:$D$23,4,0)","v":{"$error":"#N/A"}}]
[{"$f":"INDEX(Tabelle2[[#All],[Budgetlinie]],MATCH(Tabelle1[[#This Row],[Maßnahme]],Ausfüllhilfe!$C$1:$C$22,0))","v":{"$error":"#N/A"}},null,null,null,null,null,null,null,null,{"$f":"VLOOKUP(Tabelle1[[#This Row],[Budgetlinie]],Ausfüllhilfe!$A$1:$D$23,4,0)","v":{"$error":"#N/A"}}]
[{"$f":"INDEX(Tabelle2[[#All],[Budgetlinie]],MATCH(Tabelle1[[#This Row],[Maßnahme]],Ausfüllhilfe!$C$1:$C$22,0))","v":{"$error":"#N/A"}},null,null,null,null,null,null,null,null,{"$f":"VLOOKUP(Tabelle1[[#This Row],[Budgetlinie]],Ausfüllhilfe!$A$1:$D$23,4,0)","v":{"$error":"#N/A"}}]
[{"$f":"INDEX(Tabelle2[[#All],[Budgetlinie]],MATCH(Tabelle1[[#This Row],[Maßnahme]],Ausfüllhilfe!$C$1:$C$22,0))","v":{"$error":"#N/A"}},null,null,null,null,null,null,null,null,{"$f":"VLOOKUP(Tabelle1[[#This Row],[Budgetlinie]],Ausfüllhilfe!$A$1:$D$23,4,0)","v":{"$error":"#N/A"}}]
[{"$f":"INDEX(Tabelle2[[#All],[Budgetlinie]],MATCH(Tabelle1[[#This Row],[Maßnahme]],Ausfüllhilfe!$C$1:$C$22,0))","v":{"$error":"#N/A"}},null,null,null,null,null,null,null,null,{"$f":"VLOOKUP(Tabelle1[[#This Row],[Budgetlinie]],Ausfüllhilfe!$A$1:$D$23,4,0)","v":{"$error":"#N/A"}}]
[{"$f":"INDEX(Tabelle2[[#All],[Budgetlinie]],MATCH(Tabelle1[[#This Row],[Maßnahme]],Ausfüllhilfe!$C$1:$C$22,0))","v":{"$error":"#N/A"}},null,null,null,null,null,null,null,null,{"$f":"VLOOKUP(Tabelle1[[#This Row],[Budgetlinie]],Ausfüllhilfe!$A$1:$D$23,4,0)","v":{"$error":"#N/A"}}]
[{"$f":"INDEX(Tabelle2[[#All],[Budgetlinie]],MATCH(Tabelle1[[#This Row],[Maßnahme]],Ausfüllhilfe!$C$1:$C$22,0))","v":{"$error":"#N/A"}},null,null,null,null,null,null,null,null,{"$f":"VLOOKUP(Tabelle1[[#This Row],[Budgetlinie]],Ausfüllhilfe!$A$1:$D$23,4,0)","v":{"$error":"#N/A"}}]
[{"$f":"INDEX(Tabelle2[[#All],[Budgetlinie]],MATCH(Tabelle1[[#This Row],[Maßnahme]],Ausfüllhilfe!$C$1:$C$22,0))","v":{"$error":"#N/A"}},null,null,null,null,null,null,null,null,{"$f":"VLOOKUP(Tabelle1[[#This Row],[Budgetlinie]],Ausfüllhilfe!$A$1:$D$23,4,0)","v":{"$error":"#N/A"}}]
[{"$f":"INDEX(Tabelle2[[#All],[Budgetlinie]],MATCH(Tabelle1[[#This Row],[Maßnahme]],Ausfüllhilfe!$C$1:$C$22,0))","v":{"$error":"#N/A"}},null,null,null,null,null,null,null,null,{"$f":"VLOOKUP(Tabelle1[[#This Row],[Budgetlinie]],Ausfüllhilfe!$A$1:$D$23,4,0)","v":{"$error":"#N/A"}}]
[{"$f":"INDEX(Tabelle2[[#All],[Budgetlinie]],MATCH(Tabelle1[[#This Row],[Maßnahme]],Ausfüllhilfe!$C$1:$C$22,0))","v":{"$error":"#N/A"}},null,null,null,null,null,null,null,null,{"$f":"VLOOKUP(Tabelle1[[#This Row],[Budgetlinie]],Ausfüllhilfe!$A$1:$D$23,4,0)","v":{"$error":"#N/A"}}]
[{"$f":"INDEX(Tabelle2[[#All],[Budgetlinie]],MATCH(Tabelle1[[#This Row],[Maßnahme]],Ausfüllhilfe!$C$1:$C$22,0))","v":{"$error":"#N/A"}},null,null,null,null,null,null,null,null,{"$f":"VLOOKUP(Tabelle1[[#This Row],[Budgetlinie]],Ausfüllhilfe!$A$1:$D$23,4,0)","v":{"$error":"#N/A"}}]
[{"$f":"INDEX(Tabelle2[[#All],[Budgetlinie]],MATCH(Tabelle1[[#This Row],[Maßnahme]],Ausfüllhilfe!$C$1:$C$22,0))","v":{"$error":"#N/A"}},null,null,null,null,null,null,null,null,{"$f":"VLOOKUP(Tabelle1[[#This Row],[Budgetlinie]],Ausfüllhilfe!$A$1:$D$23,4,0)","v":{"$error":"#N/A"}}]
[{"$f":"INDEX(Tabelle2[[#All],[Budgetlinie]],MATCH(Tabelle1[[#This Row],[Maßnahme]],Ausfüllhilfe!$C$1:$C$22,0))","v":{"$error":"#N/A"}},null,null,null,null,null,null,null,null,{"$f":"VLOOKUP(Tabelle1[[#This Row],[Budgetlinie]],Ausfüllhilfe!$A$1:$D$23,4,0)","v":{"$error":"#N/A"}}]
[{"$f":"INDEX(Tabelle2[[#All],[Budgetlinie]],MATCH(Tabelle1[[#This Row],[Maßnahme]],Ausfüllhilfe!$C$1:$C$22,0))","v":{"$error":"#N/A"}},null,null,null,null,null,null,null,null,{"$f":"VLOOKUP(Tabelle1[[#This Row],[Budgetlinie]],Ausfüllhilfe!$A$1:$D$23,4,0)","v":{"$error":"#N/A"}}]
[{"$f":"INDEX(Tabelle2[[#All],[Budgetlinie]],MATCH(Tabelle1[[#This Row],[Maßnahme]],Ausfüllhilfe!$C$1:$C$22,0))","v":{"$error":"#N/A"}},null,null,null,null,null,null,null,null,{"$f":"VLOOKUP(Tabelle1[[#This Row],[Budgetlinie]],Ausfüllhilfe!$A$1:$D$23,4,0)","v":{"$error":"#N/A"}}]
[{"$f":"INDEX(Tabelle2[[#All],[Budgetlinie]],MATCH(Tabelle1[[#This Row],[Maßnahme]],Ausfüllhilfe!$C$1:$C$22,0))","v":{"$error":"#N/A"}},null,null,null,null,null,null,null,null,{"$f":"VLOOKUP(Tabelle1[[#This Row],[Budgetlinie]],Ausfüllhilfe!$A$1:$D$23,4,0)","v":{"$error":"#N/A"}}]
[{"$f":"INDEX(Tabelle2[[#All],[Budgetlinie]],MATCH(Tabelle1[[#This Row],[Maßnahme]],Ausfüllhilfe!$C$1:$C$22,0))","v":{"$error":"#N/A"}},null,null,null,null,null,null,null,null,{"$f":"VLOOKUP(Tabelle1[[#This Row],[Budgetlinie]],Ausfüllhilfe!$A$1:$D$23,4,0)","v":{"$error":"#N/A"}}]
[{"$f":"INDEX(Tabelle2[[#All],[Budgetlinie]],MATCH(Tabelle1[[#This Row],[Maßnahme]],Ausfüllhilfe!$C$1:$C$22,0))","v":{"$error":"#N/A"}},null,null,null,null,null,null,null,null,{"$f":"VLOOKUP(Tabelle1[[#This Row],[Budgetlinie]],Ausfüllhilfe!$A$1:$D$23,4,0)","v":{"$error":"#N/A"}}]
[{"$f":"INDEX(Tabelle2[[#All],[Budgetlinie]],MATCH(Tabelle1[[#This Row],[Maßnahme]],Ausfüllhilfe!$C$1:$C$22,0))","v":{"$error":"#N/A"}},null,null,null,null,null,null,null,null,{"$f":"VLOOKUP(Tabelle1[[#This Row],[Budgetlinie]],Ausfüllhilfe!$A$1:$D$23,4,0)","v":{"$error":"#N/A"}}]
[{"$f":"INDEX(Tabelle2[[#All],[Budgetlinie]],MATCH(Tabelle1[[#This Row],[Maßnahme]],Ausfüllhilfe!$C$1:$C$22,0))","v":{"$error":"#N/A"}},null,null,null,null,null,null,null,null,{"$f":"VLOOKUP(Tabelle1[[#This Row],[Budgetlinie]],Ausfüllhilfe!$A$1:$D$23,4,0)","v":{"$error":"#N/A"}}]
[{"$f":"INDEX(Tabelle2[[#All],[Budgetlinie]],MATCH(Tabelle1[[#This Row],[Maßnahme]],Ausfüllhilfe!$C$1:$C$22,0))","v":{"$error":"#N/A"}},null,null,null,null,null,null,null,null,{"$f":"VLOOKUP(Tabelle1[[#This Row],[Budgetlinie]],Ausfüllhilfe!$A$1:$D$23,4,0)","v":{"$error":"#N/A"}}]
[{"$f":"INDEX(Tabelle2[[#All],[Budgetlinie]],MATCH(Tabelle1[[#This Row],[Maßnahme]],Ausfüllhilfe!$C$1:$C$22,0))","v":{"$error":"#N/A"}},null,null,null,null,null,null,null,null,{"$f":"VLOOKUP(Tabelle1[[#This Row],[Budgetlinie]],Ausfüllhilfe!$A$1:$D$23,4,0)","v":{"$error":"#N/A"}}]
[{"$f":"INDEX(Tabelle2[[#All],[Budgetlinie]],MATCH(Tabelle1[[#This Row],[Maßnahme]],Ausfüllhilfe!$C$1:$C$22,0))","v":{"$error":"#N/A"}},null,null,null,null,null,null,null,null,{"$f":"VLOOKUP(Tabelle1[[#This Row],[Budgetlinie]],Ausfüllhilfe!$A$1:$D$23,4,0)","v":{"$error":"#N/A"}}]
[{"$f":"INDEX(Tabelle2[[#All],[Budgetlinie]],MATCH(Tabelle1[[#This Row],[Maßnahme]],Ausfüllhilfe!$C$1:$C$22,0))","v":{"$error":"#N/A"}},null,null,null,null,null,null,null,null,{"$f":"VLOOKUP(Tabelle1[[#This Row],[Budgetlinie]],Ausfüllhilfe!$A$1:$D$23,4,0)","v":{"$error":"#N/A"}}]
[{"$f":"INDEX(Tabelle2[[#All],[Budgetlinie]],MATCH(Tabelle1[[#This Row],[Maßnahme]],Ausfüllhilfe!$C$1:$C$22,0))","v":{"$error":"#N/A"}},null,null,null,null,null,null,null,null,{"$f":"VLOOKUP(Tabelle1[[#This Row],[Budgetlinie]],Ausfüllhilfe!$A$1:$D$23,4,0)","v":{"$error":"#N/A"}}]
[{"$f":"INDEX(Tabelle2[[#All],[Budgetlinie]],MATCH(Tabelle1[[#This Row],[Maßnahme]],Ausfüllhilfe!$C$1:$C$22,0))","v":{"$error":"#N/A"}},null,null,null,null,null,null,null,null,{"$f":"VLOOKUP(Tabelle1[[#This Row],[Budgetlinie]],Ausfüllhilfe!$A$1:$D$23,4,0)","v":{"$error":"#N/A"}}]
[{"$f":"INDEX(Tabelle2[[#All],[Budgetlinie]],MATCH(Tabelle1[[#This Row],[Maßnahme]],Ausfüllhilfe!$C$1:$C$22,0))","v":{"$error":"#N/A"}},null,null,null,null,null,null,null,null,{"$f":"VLOOKUP(Tabelle1[[#This Row],[Budgetlinie]],Ausfüllhilfe!$A$1:$D$23,4,0)","v":{"$error":"#N/A"}}]
[{"$f":"INDEX(Tabelle2[[#All],[Budgetlinie]],MATCH(Tabelle1[[#This Row],[Maßnahme]],Ausfüllhilfe!$C$1:$C$22,0))","v":{"$error":"#N/A"}},null,null,null,null,null,null,null,null,{"$f":"VLOOKUP(Tabelle1[[#This Row],[Budgetlinie]],Ausfüllhilfe!$A$1:$D$23,4,0)","v":{"$error":"#N/A"}}]
[{"$f":"INDEX(Tabelle2[[#All],[Budgetlinie]],MATCH(Tabelle1[[#This Row],[Maßnahme]],Ausfüllhilfe!$C$1:$C$22,0))","v":{"$error":"#N/A"}},null,null,null,null,null,null,null,null,{"$f":"VLOOKUP(Tabelle1[[#This Row],[Budgetlinie]],Ausfüllhilfe!$A$1:$D$23,4,0)","v":{"$error":"#N/A"}}]
[{"$f":"INDEX(Tabelle2[[#All],[Budgetlinie]],MATCH(Tabelle1[[#This Row],[Maßnahme]],Ausfüllhilfe!$C$1:$C$22,0))","v":{"$error":"#N/A"}},null,null,null,null,null,null,null,null,{"$f":"VLOOKUP(Tabelle1[[#This Row],[Budgetlinie]],Ausfüllhilfe!$A$1:$D$23,4,0)","v":{"$error":"#N/A"}}]
[{"$f":"INDEX(Tabelle2[[#All],[Budgetlinie]],MATCH(Tabelle1[[#This Row],[Maßnahme]],Ausfüllhilfe!$C$1:$C$22,0))","v":{"$error":"#N/A"}},null,null,null,null,null,null,null,null,{"$f":"VLOOKUP(Tabelle1[[#This Row],[Budgetlinie]],Ausfüllhilfe!$A$1:$D$23,4,0)","v":{"$error":"#N/A"}}]
[{"$f":"INDEX(Tabelle2[[#All],[Budgetlinie]],MATCH(Tabelle1[[#This Row],[Maßnahme]],Ausfüllhilfe!$C$1:$C$22,0))","v":{"$error":"#N/A"}},null,null,null,null,null,null,null,null,{"$f":"VLOOKUP(Tabelle1[[#This Row],[Budgetlinie]],Ausfüllhilfe!$A$1:$D$23,4,0)","v":{"$error":"#N/A"}}]
[{"$f":"INDEX(Tabelle2[[#All],[Budgetlinie]],MATCH(Tabelle1[[#This Row],[Maßnahme]],Ausfüllhilfe!$C$1:$C$22,0))","v":{"$error":"#N/A"}},null,null,null,null,null,null,null,null,{"$f":"VLOOKUP(Tabelle1[[#This Row],[Budgetlinie]],Ausfüllhilfe!$A$1:$D$23,4,0)","v":{"$error":"#N/A"}}]
[{"$f":"INDEX(Tabelle2[[#All],[Budgetlinie]],MATCH(Tabelle1[[#This Row],[Maßnahme]],Ausfüllhilfe!$C$1:$C$22,0))","v":{"$error":"#N/A"}},null,null,null,null,null,null,null,null,{"$f":"VLOOKUP(Tabelle1[[#This Row],[Budgetlinie]],Ausfüllhilfe!$A$1:$D$23,4,0)","v":{"$error":"#N/A"}}]
[{"$f":"INDEX(Tabelle2[[#All],[Budgetlinie]],MATCH(Tabelle1[[#This Row],[Maßnahme]],Ausfüllhilfe!$C$1:$C$22,0))","v":{"$error":"#N/A"}},null,null,null,null,null,null,null,null,{"$f":"VLOOKUP(Tabelle1[[#This Row],[Budgetlinie]],Ausfüllhilfe!$A$1:$D$23,4,0)","v":{"$error":"#N/A"}}]
[{"$f":"INDEX(Tabelle2[[#All],[Budgetlinie]],MATCH(Tabelle1[[#This Row],[Maßnahme]],Ausfüllhilfe!$C$1:$C$22,0))","v":{"$error":"#N/A"}},null,null,null,null,null,null,null,null,{"$f":"VLOOKUP(Tabelle1[[#This Row],[Budgetlinie]],Ausfüllhilfe!$A$1:$D$23,4,0)","v":{"$error":"#N/A"}}]
[{"$f":"INDEX(Tabelle2[[#All],[Budgetlinie]],MATCH(Tabelle1[[#This Row],[Maßnahme]],Ausfüllhilfe!$C$1:$C$22,0))","v":{"$error":"#N/A"}},null,null,null,null,null,null,null,null,{"$f":"VLOOKUP(Tabelle1[[#This Row],[Budgetlinie]],Ausfüllhilfe!$A$1:$D$23,4,0)","v":{"$error":"#N/A"}}]
[{"$f":"INDEX(Tabelle2[[#All],[Budgetlinie]],MATCH(Tabelle1[[#This Row],[Maßnahme]],Ausfüllhilfe!$C$1:$C$22,0))","v":{"$error":"#N/A"}},null,null,null,null,null,null,null,null,{"$f":"VLOOKUP(Tabelle1[[#This Row],[Budgetlinie]],Ausfüllhilfe!$A$1:$D$23,4,0)","v":{"$error":"#N/A"}}]
[{"$f":"INDEX(Tabelle2[[#All],[Budgetlinie]],MATCH(Tabelle1[[#This Row],[Maßnahme]],Ausfüllhilfe!$C$1:$C$22,0))","v":{"$error":"#N/A"}},null,null,null,null,null,null,null,null,{"$f":"VLOOKUP(Tabelle1[[#This Row],[Budgetlinie]],Ausfüllhilfe!$A$1:$D$23,4,0)","v":{"$error":"#N/A"}}]
[{"$f":"INDEX(Tabelle2[[#All],[Budgetlinie]],MATCH(Tabelle1[[#This Row],[Maßnahme]],Ausfüllhilfe!$C$1:$C$22,0))","v":{"$error":"#N/A"}},null,null,null,null,null,null,null,null,{"$f":"VLOOKUP(Tabelle1[[#This Row],[Budgetlinie]],Ausfüllhilfe!$A$1:$D$23,4,0)","v":{"$error":"#N/A"}}]
[{"$f":"INDEX(Tabelle2[[#All],[Budgetlinie]],MATCH(Tabelle1[[#This Row],[Maßnahme]],Ausfüllhilfe!$C$1:$C$22,0))","v":{"$error":"#N/A"}},null,null,null,null,null,null,null,null,{"$f":"VLOOKUP(Tabelle1[[#This Row],[Budgetlinie]],Ausfüllhilfe!$A$1:$D$23,4,0)","v":{"$error":"#N/A"}}]
[{"$f":"INDEX(Tabelle2[[#All],[Budgetlinie]],MATCH(Tabelle1[[#This Row],[Maßnahme]],Ausfüllhilfe!$C$1:$C$22,0))","v":{"$error":"#N/A"}},null,null,null,null,null,null,null,null,{"$f":"VLOOKUP(Tabelle1[[#This Row],[Budgetlinie]],Ausfüllhilfe!$A$1:$D$23,4,0)","v":{"$error":"#N/A"}}]
[{"$f":"INDEX(Tabelle2[[#All],[Budgetlinie]],MATCH(Tabelle1[[#This Row],[Maßnahme]],Ausfüllhilfe!$C$1:$C$22,0))","v":{"$error":"#N/A"}},null,null,null,null,null,null,null,null,{"$f":"VLOOKUP(Tabelle1[[#This Row],[Budgetlinie]],Ausfüllhilfe!$A$1:$D$23,4,0)","v":{"$error":"#N/A"}}]
[{"$f":"INDEX(Tabelle2[[#All],[Budgetlinie]],MATCH(Tabelle1[[#This Row],[Maßnahme]],Ausfüllhilfe!$C$1:$C$22,0))","v":{"$error":"#N/A"}},null,null,null,null,null,null,null,null,{"$f":"VLOOKUP(Tabelle1[[#This Row],[Budgetlinie]],Ausfüllhilfe!$A$1:$D$23,4,0)","v":{"$error":"#N/A"}}]
[{"$f":"INDEX(Tabelle2[[#All],[Budgetlinie]],MATCH(Tabelle1[[#This Row],[Maßnahme]],Ausfüllhilfe!$C$1:$C$22,0))","v":{"$error":"#N/A"}},null,null,null,null,null,null,null,null,{"$f":"VLOOKUP(Tabelle1[[#This Row],[Budgetlinie]],Ausfüllhilfe!$A$1:$D$23,4,0)","v":{"$error":"#N/A"}}]
[{"$f":"INDEX(Tabelle2[[#All],[Budgetlinie]],MATCH(Tabelle1[[#This Row],[Maßnahme]],Ausfüllhilfe!$C$1:$C$22,0))","v":{"$error":"#N/A"}},null,null,null,null,null,null,null,null,{"$f":"VLOOKUP(Tabelle1[[#This Row],[Budgetlinie]],Ausfüllhilfe!$A$1:$D$23,4,0)","v":{"$error":"#N/A"}}]
[{"$f":"INDEX(Tabelle2[[#All],[Budgetlinie]],MATCH(Tabelle1[[#This Row],[Maßnahme]],Ausfüllhilfe!$C$1:$C$22,0))","v":{"$error":"#N/A"}},null,null,null,null,null,null,null,null,{"$f":"VLOOKUP(Tabelle1[[#This Row],[Budgetlinie]],Ausfüllhilfe!$A$1:$D$23,4,0)","v":{"$error":"#N/A"}}]
[{"$f":"INDEX(Tabelle2[[#All],[Budgetlinie]],MATCH(Tabelle1[[#This Row],[Maßnahme]],Ausfüllhilfe!$C$1:$C$22,0))","v":{"$error":"#N/A"}},null,null,null,null,null,null,null,null,{"$f":"VLOOKUP(Tabelle1[[#This Row],[Budgetlinie]],Ausfüllhilfe!$A$1:$D$23,4,0)","v":{"$error":"#N/A"}}]
[{"$f":"INDEX(Tabelle2[[#All],[Budgetlinie]],MATCH(Tabelle1[[#This Row],[Maßnahme]],Ausfüllhilfe!$C$1:$C$22,0))","v":{"$error":"#N/A"}},null,null,null,null,null,null,null,null,{"$f":"VLOOKUP(Tabelle1[[#This Row],[Budgetlinie]],Ausfüllhilfe!$A$1:$D$23,4,0)","v":{"$error":"#N/A"}}]
[{"$f":"INDEX(Tabelle2[[#All],[Budgetlinie]],MATCH(Tabelle1[[#This Row],[Maßnahme]],Ausfüllhilfe!$C$1:$C$22,0))","v":{"$error":"#N/A"}},null,null,null,null,null,null,null,null,{"$f":"VLOOKUP(Tabelle1[[#This Row],[Budgetlinie]],Ausfüllhilfe!$A$1:$D$23,4,0)","v":{"$error":"#N/A"}}]
[{"$f":"INDEX(Tabelle2[[#All],[Budgetlinie]],MATCH(Tabelle1[[#This Row],[Maßnahme]],Ausfüllhilfe!$C$1:$C$22,0))","v":{"$error":"#N/A"}},null,null,null,null,null,null,null,null,{"$f":"VLOOKUP(Tabelle1[[#This Row],[Budgetlinie]],Ausfüllhilfe!$A$1:$D$23,4,0)","v":{"$error":"#N/A"}}]
[{"$f":"INDEX(Tabelle2[[#All],[Budgetlinie]],MATCH(Tabelle1[[#This Row],[Maßnahme]],Ausfüllhilfe!$C$1:$C$22,0))","v":{"$error":"#N/A"}},null,null,null,null,null,null,null,null,{"$f":"VLOOKUP(Tabelle1[[#This Row],[Budgetlinie]],Ausfüllhilfe!$A$1:$D$23,4,0)","v":{"$error":"#N/A"}}]
[{"$f":"INDEX(Tabelle2[[#All],[Budgetlinie]],MATCH(Tabelle1[[#This Row],[Maßnahme]],Ausfüllhilfe!$C$1:$C$22,0))","v":{"$error":"#N/A"}},null,null,null,null,null,null,null,null,{"$f":"VLOOKUP(Tabelle1[[#This Row],[Budgetlinie]],Ausfüllhilfe!$A$1:$D$23,4,0)","v":{"$error":"#N/A"}}]
[{"$f":"INDEX(Tabelle2[[#All],[Budgetlinie]],MATCH(Tabelle1[[#This Row],[Maßnahme]],Ausfüllhilfe!$C$1:$C$22,0))","v":{"$error":"#N/A"}},null,null,null,null,null,null,null,null,{"$f":"VLOOKUP(Tabelle1[[#This Row],[Budgetlinie]],Ausfüllhilfe!$A$1:$D$23,4,0)","v":{"$error":"#N/A"}}]
[{"$f":"INDEX(Tabelle2[[#All],[Budgetlinie]],MATCH(Tabelle1[[#This Row],[Maßnahme]],Ausfüllhilfe!$C$1:$C$22,0))","v":{"$error":"#N/A"}},null,null,null,null,null,null,null,null,{"$f":"VLOOKUP(Tabelle1[[#This Row],[Budgetlinie]],Ausfüllhilfe!$A$1:$D$23,4,0)","v":{"$error":"#N/A"}}]
[{"$f":"INDEX(Tabelle2[[#All],[Budgetlinie]],MATCH(Tabelle1[[#This Row],[Maßnahme]],Ausfüllhilfe!$C$1:$C$22,0))","v":{"$error":"#N/A"}},null,null,null,null,null,null,null,null,{"$f":"VLOOKUP(Tabelle1[[#This Row],[Budgetlinie]],Ausfüllhilfe!$A$1:$D$23,4,0)","v":{"$error":"#N/A"}}]
[{"$f":"INDEX(Tabelle2[[#All],[Budgetlinie]],MATCH(Tabelle1[[#This Row],[Maßnahme]],Ausfüllhilfe!$C$1:$C$22,0))","v":{"$error":"#N/A"}},null,null,null,null,null,null,null,null,{"$f":"VLOOKUP(Tabelle1[[#This Row],[Budgetlinie]],Ausfüllhilfe!$A$1:$D$23,4,0)","v":{"$error":"#N/A"}}]
[{"$f":"INDEX(Tabelle2[[#All],[Budgetlinie]],MATCH(Tabelle1[[#This Row],[Maßnahme]],Ausfüllhilfe!$C$1:$C$22,0))","v":{"$error":"#N/A"}},null,null,null,null,null,null,null,null,{"$f":"VLOOKUP(Tabelle1[[#This Row],[Budgetlinie]],Ausfüllhilfe!$A$1:$D$23,4,0)","v":{"$error":"#N/A"}}]
[{"$f":"INDEX(Tabelle2[[#All],[Budgetlinie]],MATCH(Tabelle1[[#This Row],[Maßnahme]],Ausfüllhilfe!$C$1:$C$22,0))","v":{"$error":"#N/A"}},null,null,null,null,null,null,null,null,{"$f":"VLOOKUP(Tabelle1[[#This Row],[Budgetlinie]],Ausfüllhilfe!$A$1:$D$23,4,0)","v":{"$error":"#N/A"}}]
[{"$f":"INDEX(Tabelle2[[#All],[Budgetlinie]],MATCH(Tabelle1[[#This Row],[Maßnahme]],Ausfüllhilfe!$C$1:$C$22,0))","v":{"$error":"#N/A"}},null,null,null,null,null,null,null,null,{"$f":"VLOOKUP(Tabelle1[[#This Row],[Budgetlinie]],Ausfüllhilfe!$A$1:$D$23,4,0)","v":{"$error":"#N/A"}}]
[{"$f":"INDEX(Tabelle2[[#All],[Budgetlinie]],MATCH(Tabelle1[[#This Row],[Maßnahme]],Ausfüllhilfe!$C$1:$C$22,0))","v":{"$error":"#N/A"}},null,null,null,null,null,null,null,null,{"$f":"VLOOKUP(Tabelle1[[#This Row],[Budgetlinie]],Ausfüllhilfe!$A$1:$D$23,4,0)","v":{"$error":"#N/A"}}]
[{"$f":"INDEX(Tabelle2[[#All],[Budgetlinie]],MATCH(Tabelle1[[#This Row],[Maßnahme]],Ausfüllhilfe!$C$1:$C$22,0))","v":{"$error":"#N/A"}},null,null,null,null,null,null,null,null,{"$f":"VLOOKUP(Tabelle1[[#This Row],[Budgetlinie]],Ausfüllhilfe!$A$1:$D$23,4,0)","v":{"$error":"#N/A"}}]
[{"$f":"INDEX(Tabelle2[[#All],[Budgetlinie]],MATCH(Tabelle1[[#This Row],[Maßnahme]],Ausfüllhilfe!$C$1:$C$22,0))","v":{"$error":"#N/A"}},null,null,null,null,null,null,null,null,{"$f":"VLOOKUP(Tabelle1[[#This Row],[Budgetlinie]],Ausfüllhilfe!$A$1:$D$23,4,0)","v":{"$error":"#N/A"}}]
[{"$f":"INDEX(Tabelle2[[#All],[Budgetlinie]],MATCH(Tabelle1[[#This Row],[Maßnahme]],Ausfüllhilfe!$C$1:$C$22,0))","v":{"$error":"#N/A"}},null,null,null,null,null,null,null,null,{"$f":"VLOOKUP(Tabelle1[[#This Row],[Budgetlinie]],Ausfüllhilfe!$A$1:$D$23,4,0)","v":{"$error":"#N/A"}}]
[{"$f":"INDEX(Tabelle2[[#All],[Budgetlinie]],MATCH(Tabelle1[[#This Row],[Maßnahme]],Ausfüllhilfe!$C$1:$C$22,0))","v":{"$error":"#N/A"}},null,null,null,null,null,null,null,null,{"$f":"VLOOKUP(Tabelle1[[#This Row],[Budgetlinie]],Ausfüllhilfe!$A$1:$D$23,4,0)","v":{"$error":"#N/A"}}]
[{"$f":"INDEX(Tabelle2[[#All],[Budgetlinie]],MATCH(Tabelle1[[#This Row],[Maßnahme]],Ausfüllhilfe!$C$1:$C$22,0))","v":{"$error":"#N/A"}},null,null,null,null,null,null,null,null,{"$f":"VLOOKUP(Tabelle1[[#This Row],[Budgetlinie]],Ausfüllhilfe!$A$1:$D$23,4,0)","v":{"$error":"#N/A"}}]
[{"$f":"INDEX(Tabelle2[[#All],[Budgetlinie]],MATCH(Tabelle1[[#This Row],[Maßnahme]],Ausfüllhilfe!$C$1:$C$22,0))","v":{"$error":"#N/A"}},null,null,null,null,null,null,null,null,{"$f":"VLOOKUP(Tabelle1[[#This Row],[Budgetlinie]],Ausfüllhilfe!$A$1:$D$23,4,0)","v":{"$error":"#N/A"}}]
[{"$f":"INDEX(Tabelle2[[#All],[Budgetlinie]],MATCH(Tabelle1[[#This Row],[Maßnahme]],Ausfüllhilfe!$C$1:$C$22,0))","v":{"$error":"#N/A"}},null,null,null,null,null,null,null,null,{"$f":"VLOOKUP(Tabelle1[[#This Row],[Budgetlinie]],Ausfüllhilfe!$A$1:$D$23,4,0)","v":{"$error":"#N/A"}}]
[{"$f":"INDEX(Tabelle2[[#All],[Budgetlinie]],MATCH(Tabelle1[[#This Row],[Maßnahme]],Ausfüllhilfe!$C$1:$C$22,0))","v":{"$error":"#N/A"}},null,null,null,null,null,null,null,null,{"$f":"VLOOKUP(Tabelle1[[#This Row],[Budgetlinie]],Ausfüllhilfe!$A$1:$D$23,4,0)","v":{"$error":"#N/A"}}]
[{"$f":"INDEX(Tabelle2[[#All],[Budgetlinie]],MATCH(Tabelle1[[#This Row],[Maßnahme]],Ausfüllhilfe!$C$1:$C$22,0))","v":{"$error":"#N/A"}},null,null,null,null,null,null,null,null,{"$f":"VLOOKUP(Tabelle1[[#This Row],[Budgetlinie]],Ausfüllhilfe!$A$1:$D$23,4,0)","v":{"$error":"#N/A"}}]
[{"$f":"INDEX(Tabelle2[[#All],[Budgetlinie]],MATCH(Tabelle1[[#This Row],[Maßnahme]],Ausfüllhilfe!$C$1:$C$22,0))","v":{"$error":"#N/A"}},null,null,null,null,null,null,null,null,{"$f":"VLOOKUP(Tabelle1[[#This Row],[Budgetlinie]],Ausfüllhilfe!$A$1:$D$23,4,0)","v":{"$error":"#N/A"}}]
[{"$f":"INDEX(Tabelle2[[#All],[Budgetlinie]],MATCH(Tabelle1[[#This Row],[Maßnahme]],Ausfüllhilfe!$C$1:$C$22,0))","v":{"$error":"#N/A"}},null,null,null,null,null,null,null,null,{"$f":"VLOOKUP(Tabelle1[[#This Row],[Budgetlinie]],Ausfüllhilfe!$A$1:$D$23,4,0)","v":{"$error":"#N/A"}}]
[{"$f":"INDEX(Tabelle2[[#All],[Budgetlinie]],MATCH(Tabelle1[[#This Row],[Maßnahme]],Ausfüllhilfe!$C$1:$C$22,0))","v":{"$error":"#N/A"}},null,null,null,null,null,null,null,null,{"$f":"VLOOKUP(Tabelle1[[#This Row],[Budgetlinie]],Ausfüllhilfe!$A$1:$D$23,4,0)","v":{"$error":"#N/A"}}]
[{"$f":"INDEX(Tabelle2[[#All],[Budgetlinie]],MATCH(Tabelle1[[#This Row],[Maßnahme]],Ausfüllhilfe!$C$1:$C$22,0))","v":{"$error":"#N/A"}},null,null,null,null,null,null,null,null,{"$f":"VLOOKUP(Tabelle1[[#This Row],[Budgetlinie]],Ausfüllhilfe!$A$1:$D$23,4,0)","v":{"$error":"#N/A"}}]
[{"$f":"INDEX(Tabelle2[[#All],[Budgetlinie]],MATCH(Tabelle1[[#This Row],[Maßnahme]],Ausfüllhilfe!$C$1:$C$22,0))","v":{"$error":"#N/A"}},null,null,null,null,null,null,null,null,{"$f":"VLOOKUP(Tabelle1[[#This Row],[Budgetlinie]],Ausfüllhilfe!$A$1:$D$23,4,0)","v":{"$error":"#N/A"}}]
[{"$f":"INDEX(Tabelle2[[#All],[Budgetlinie]],MATCH(Tabelle1[[#This Row],[Maßnahme]],Ausfüllhilfe!$C$1:$C$22,0))","v":{"$error":"#N/A"}},null,null,null,null,null,null,null,null,{"$f":"VLOOKUP(Tabelle1[[#This Row],[Budgetlinie]],Ausfüllhilfe!$A$1:$D$23,4,0)","v":{"$error":"#N/A"}}]
[{"$f":"INDEX(Tabelle2[[#All],[Budgetlinie]],MATCH(Tabelle1[[#This Row],[Maßnahme]],Ausfüllhilfe!$C$1:$C$22,0))","v":{"$error":"#N/A"}},null,null,null,null,null,null,null,null,{"$f":"VLOOKUP(Tabelle1[[#This Row],[Budgetlinie]],Ausfüllhilfe!$A$1:$D$23,4,0)","v":{"$error":"#N/A"}}]
[{"$f":"INDEX(Tabelle2[[#All],[Budgetlinie]],MATCH(Tabelle1[[#This Row],[Maßnahme]],Ausfüllhilfe!$C$1:$C$22,0))","v":{"$error":"#N/A"}},null,null,null,null,null,null,null,null,{"$f":"VLOOKUP(Tabelle1[[#This Row],[Budgetlinie]],Ausfüllhilfe!$A$1:$D$23,4,0)","v":{"$error":"#N/A"}}]
[{"$f":"INDEX(Tabelle2[[#All],[Budgetlinie]],MATCH(Tabelle1[[#This Row],[Maßnahme]],Ausfüllhilfe!$C$1:$C$22,0))","v":{"$error":"#N/A"}},null,null,null,null,null,null,null,null,{"$f":"VLOOKUP(Tabelle1[[#This Row],[Budgetlinie]],Ausfüllhilfe!$A$1:$D$23,4,0)","v":{"$error":"#N/A"}}]
[{"$f":"INDEX(Tabelle2[[#All],[Budgetlinie]],MATCH(Tabelle1[[#This Row],[Maßnahme]],Ausfüllhilfe!$C$1:$C$22,0))","v":{"$error":"#N/A"}},null,null,null,null,null,null,null,null,{"$f":"VLOOKUP(Tabelle1[[#This Row],[Budgetlinie]],Ausfüllhilfe!$A$1:$D$23,4,0)","v":{"$error":"#N/A"}}]
[{"$f":"INDEX(Tabelle2[[#All],[Budgetlinie]],MATCH(Tabelle1[[#This Row],[Maßnahme]],Ausfüllhilfe!$C$1:$C$22,0))","v":{"$error":"#N/A"}},null,null,null,null,null,null,null,null,{"$f":"VLOOKUP(Tabelle1[[#This Row],[Budgetlinie]],Ausfüllhilfe!$A$1:$D$23,4,0)","v":{"$error":"#N/A"}}]
[{"$f":"INDEX(Tabelle2[[#All],[Budgetlinie]],MATCH(Tabelle1[[#This Row],[Maßnahme]],Ausfüllhilfe!$C$1:$C$22,0))","v":{"$error":"#N/A"}},null,null,null,null,null,null,null,null,{"$f":"VLOOKUP(Tabelle1[[#This Row],[Budgetlinie]],Ausfüllhilfe!$A$1:$D$23,4,0)","v":{"$error":"#N/A"}}]
[{"$f":"INDEX(Tabelle2[[#All],[Budgetlinie]],MATCH(Tabelle1[[#This Row],[Maßnahme]],Ausfüllhilfe!$C$1:$C$22,0))","v":{"$error":"#N/A"}},null,null,null,null,null,null,null,null,{"$f":"VLOOKUP(Tabelle1[[#This Row],[Budgetlinie]],Ausfüllhilfe!$A$1:$D$23,4,0)","v":{"$error":"#N/A"}}]
[{"$f":"INDEX(Tabelle2[[#All],[Budgetlinie]],MATCH(Tabelle1[[#This Row],[Maßnahme]],Ausfüllhilfe!$C$1:$C$22,0))","v":{"$error":"#N/A"}},null,null,null,null,null,null,null,null,{"$f":"VLOOKUP(Tabelle1[[#This Row],[Budgetlinie]],Ausfüllhilfe!$A$1:$D$23,4,0)","v":{"$error":"#N/A"}}]
[{"$f":"INDEX(Tabelle2[[#All],[Budgetlinie]],MATCH(Tabelle1[[#This Row],[Maßnahme]],Ausfüllhilfe!$C$1:$C$22,0))","v":{"$error":"#N/A"}},null,null,null,null,null,null,null,null,{"$f":"VLOOKUP(Tabelle1[[#This Row],[Budgetlinie]],Ausfüllhilfe!$A$1:$D$23,4,0)","v":{"$error":"#N/A"}}]
[{"$f":"INDEX(Tabelle2[[#All],[Budgetlinie]],MATCH(Tabelle1[[#This Row],[Maßnahme]],Ausfüllhilfe!$C$1:$C$22,0))","v":{"$error":"#N/A"}},null,null,null,null,null,null,null,null,{"$f":"VLOOKUP(Tabelle1[[#This Row],[Budgetlinie]],Ausfüllhilfe!$A$1:$D$23,4,0)","v":{"$error":"#N/A"}}]
[{"$f":"INDEX(Tabelle2[[#All],[Budgetlinie]],MATCH(Tabelle1[[#This Row],[Maßnahme]],Ausfüllhilfe!$C$1:$C$22,0))","v":{"$error":"#N/A"}},null,null,null,null,null,null,null,null,{"$f":"VLOOKUP(Tabelle1[[#This Row],[Budgetlinie]],Ausfüllhilfe!$A$1:$D$23,4,0)","v":{"$error":"#N/A"}}]
[{"$f":"INDEX(Tabelle2[[#All],[Budgetlinie]],MATCH(Tabelle1[[#This Row],[Maßnahme]],Ausfüllhilfe!$C$1:$C$22,0))","v":{"$error":"#N/A"}},null,null,null,null,null,null,null,null,{"$f":"VLOOKUP(Tabelle1[[#This Row],[Budgetlinie]],Ausfüllhilfe!$A$1:$D$23,4,0)","v":{"$error":"#N/A"}}]
[{"$f":"INDEX(Tabelle2[[#All],[Budgetlinie]],MATCH(Tabelle1[[#This Row],[Maßnahme]],Ausfüllhilfe!$C$1:$C$22,0))","v":{"$error":"#N/A"}},null,null,null,null,null,null,null,null,{"$f":"VLOOKUP(Tabelle1[[#This Row],[Budgetlinie]],Ausfüllhilfe!$A$1:$D$23,4,0)","v":{"$error":"#N/A"}}]
[{"$f":"INDEX(Tabelle2[[#All],[Budgetlinie]],MATCH(Tabelle1[[#This Row],[Maßnahme]],Ausfüllhilfe!$C$1:$C$22,0))","v":{"$error":"#N/A"}},null,null,null,null,null,null,null,null,{"$f":"VLOOKUP(Tabelle1[[#This Row],[Budgetlinie]],Ausfüllhilfe!$A$1:$D$23,4,0)","v":{"$error":"#N/A"}}]
[{"$f":"INDEX(Tabelle2[[#All],[Budgetlinie]],MATCH(Tabelle1[[#This Row],[Maßnahme]],Ausfüllhilfe!$C$1:$C$22,0))","v":{"$error":"#N/A"}},null,null,null,null,null,null,null,null,{"$f":"VLOOKUP(Tabelle1[[#This Row],[Budgetlinie]],Ausfüllhilfe!$A$1:$D$23,4,0)","v":{"$error":"#N/A"}}]
[{"$f":"INDEX(Tabelle2[[#All],[Budgetlinie]],MATCH(Tabelle1[[#This Row],[Maßnahme]],Ausfüllhilfe!$C$1:$C$22,0))","v":{"$error":"#N/A"}},null,null,null,null,null,null,null,null,{"$f":"VLOOKUP(Tabelle1[[#This Row],[Budgetlinie]],Ausfüllhilfe!$A$1:$D$23,4,0)","v":{"$error":"#N/A"}}]
[{"$f":"INDEX(Tabelle2[[#All],[Budgetlinie]],MATCH(Tabelle1[[#This Row],[Maßnahme]],Ausfüllhilfe!$C$1:$C$22,0))","v":{"$error":"#N/A"}},null,null,null,null,null,null,null,null,{"$f":"VLOOKUP(Tabelle1[[#This Row],[Budgetlinie]],Ausfüllhilfe!$A$1:$D$23,4,0)","v":{"$error":"#N/A"}}]
[{"$f":"INDEX(Tabelle2[[#All],[Budgetlinie]],MATCH(Tabelle1[[#This Row],[Maßnahme]],Ausfüllhilfe!$C$1:$C$22,0))","v":{"$error":"#N/A"}},null,null,null,null,null,null,null,null,{"$f":"VLOOKUP(Tabelle1[[#This Row],[Budgetlinie]],Ausfüllhilfe!$A$1:$D$23,4,0)","v":{"$error":"#N/A"}}]
[{"$f":"INDEX(Tabelle2[[#All],[Budgetlinie]],MATCH(Tabelle1[[#This Row],[Maßnahme]],Ausfüllhilfe!$C$1:$C$22,0))","v":{"$error":"#N/A"}},null,null,null,null,null,null,null,null,{"$f":"VLOOKUP(Tabelle1[[#This Row],[Budgetlinie]],Ausfüllhilfe!$A$1:$D$23,4,0)","v":{"$error":"#N/A"}}]
[{"$f":"INDEX(Tabelle2[[#All],[Budgetlinie]],MATCH(Tabelle1[[#This Row],[Maßnahme]],Ausfüllhilfe!$C$1:$C$22,0))","v":{"$error":"#N/A"}},null,null,null,null,null,null,null,null,{"$f":"VLOOKUP(Tabelle1[[#This Row],[Budgetlinie]],Ausfüllhilfe!$A$1:$D$23,4,0)","v":{"$error":"#N/A"}}]
[{"$f":"INDEX(Tabelle2[[#All],[Budgetlinie]],MATCH(Tabelle1[[#This Row],[Maßnahme]],Ausfüllhilfe!$C$1:$C$22,0))","v":{"$error":"#N/A"}},null,null,null,null,null,null,null,null,{"$f":"VLOOKUP(Tabelle1[[#This Row],[Budgetlinie]],Ausfüllhilfe!$A$1:$D$23,4,0)","v":{"$error":"#N/A"}}]
[{"$f":"INDEX(Tabelle2[[#All],[Budgetlinie]],MATCH(Tabelle1[[#This Row],[Maßnahme]],Ausfüllhilfe!$C$1:$C$22,0))","v":{"$error":"#N/A"}},null,null,null,null,null,null,null,null,{"$f":"VLOOKUP(Tabelle1[[#This Row],[Budgetlinie]],Ausfüllhilfe!$A$1:$D$23,4,0)","v":{"$error":"#N/A"}}]
[{"$f":"INDEX(Tabelle2[[#All],[Budgetlinie]],MATCH(Tabelle1[[#This Row],[Maßnahme]],Ausfüllhilfe!$C$1:$C$22,0))","v":{"$error":"#N/A"}},null,null,null,null,null,null,null,null,{"$f":"VLOOKUP(Tabelle1[[#This Row],[Budgetlinie]],Ausfüllhilfe!$A$1:$D$23,4,0)","v":{"$error":"#N/A"}}]
[{"$f":"INDEX(Tabelle2[[#All],[Budgetlinie]],MATCH(Tabelle1[[#This Row],[Maßnahme]],Ausfüllhilfe!$C$1:$C$22,0))","v":{"$error":"#N/A"}},null,null,null,null,null,null,null,null,{"$f":"VLOOKUP(Tabelle1[[#This Row],[Budgetlinie]],Ausfüllhilfe!$A$1:$D$23,4,0)","v":{"$error":"#N/A"}}]
[{"$f":"INDEX(Tabelle2[[#All],[Budgetlinie]],MATCH(Tabelle1[[#This Row],[Maßnahme]],Ausfüllhilfe!$C$1:$C$22,0))","v":{"$error":"#N/A"}},null,null,null,null,null,null,null,null,{"$f":"VLOOKUP(Tabelle1[[#This Row],[Budgetlinie]],Ausfüllhilfe!$A$1:$D$23,4,0)","v":{"$error":"#N/A"}}]
[{"$f":"INDEX(Tabelle2[[#All],[Budgetlinie]],MATCH(Tabelle1[[#This Row],[Maßnahme]],Ausfüllhilfe!$C$1:$C$22,0))","v":{"$error":"#N/A"}},null,null,null,null,null,null,null,null,{"$f":"VLOOKUP(Tabelle1[[#This Row],[Budgetlinie]],Ausfüllhilfe!$A$1:$D$23,4,0)","v":{"$error":"#N/A"}}]
[{"$f":"INDEX(Tabelle2[[#All],[Budgetlinie]],MATCH(Tabelle1[[#This Row],[Maßnahme]],Ausfüllhilfe!$C$1:$C$22,0))","v":{"$error":"#N/A"}},null,null,null,null,null,null,null,null,{"$f":"VLOOKUP(Tabelle1[[#This Row],[Budgetlinie]],Ausfüllhilfe!$A$1:$D$23,4,0)","v":{"$error":"#N/A"}}]
[{"$f":"INDEX(Tabelle2[[#All],[Budgetlinie]],MATCH(Tabelle1[[#This Row],[Maßnahme]],Ausfüllhilfe!$C$1:$C$22,0))","v":{"$error":"#N/A"}},null,null,null,null,null,null,null,null,{"$f":"VLOOKUP(Tabelle1[[#This Row],[Budgetlinie]],Ausfüllhilfe!$A$1:$D$23,4,0)","v":{"$error":"#N/A"}}]
[{"$f":"INDEX(Tabelle2[[#All],[Budgetlinie]],MATCH(Tabelle1[[#This Row],[Maßnahme]],Ausfüllhilfe!$C$1:$C$22,0))","v":{"$error":"#N/A"}},null,null,null,null,null,null,null,null,{"$f":"VLOOKUP(Tabelle1[[#This Row],[Budgetlinie]],Ausfüllhilfe!$A$1:$D$23,4,0)","v":{"$error":"#N/A"}}]
[{"$f":"INDEX(Tabelle2[[#All],[Budgetlinie]],MATCH(Tabelle1[[#This Row],[Maßnahme]],Ausfüllhilfe!$C$1:$C$22,0))","v":{"$error":"#N/A"}},null,null,null,null,null,null,null,null,{"$f":"VLOOKUP(Tabelle1[[#This Row],[Budgetlinie]],Ausfüllhilfe!$A$1:$D$23,4,0)","v":{"$error":"#N/A"}}]
[{"$f":"INDEX(Tabelle2[[#All],[Budgetlinie]],MATCH(Tabelle1[[#This Row],[Maßnahme]],Ausfüllhilfe!$C$1:$C$22,0))","v":{"$error":"#N/A"}},null,null,null,null,null,null,null,null,{"$f":"VLOOKUP(Tabelle1[[#This Row],[Budgetlinie]],Ausfüllhilfe!$A$1:$D$23,4,0)","v":{"$error":"#N/A"}}]
[{"$f":"INDEX(Tabelle2[[#All],[Budgetlinie]],MATCH(Tabelle1[[#This Row],[Maßnahme]],Ausfüllhilfe!$C$1:$C$22,0))","v":{"$error":"#N/A"}},null,null,null,null,null,null,null,null,{"$f":"VLOOKUP(Tabelle1[[#This Row],[Budgetlinie]],Ausfüllhilfe!$A$1:$D$23,4,0)","v":{"$error":"#N/A"}}]
[{"$f":"INDEX(Tabelle2[[#All],[Budgetlinie]],MATCH(Tabelle1[[#This Row],[Maßnahme]],Ausfüllhilfe!$C$1:$C$22,0))","v":{"$error":"#N/A"}},null,null,null,null,null,null,null,null,{"$f":"VLOOKUP(Tabelle1[[#This Row],[Budgetlinie]],Ausfüllhilfe!$A$1:$D$23,4,0)","v":{"$error":"#N/A"}}]
[{"$f":"INDEX(Tabelle2[[#All],[Budgetlinie]],MATCH(Tabelle1[[#This Row],[Maßnahme]],Ausfüllhilfe!$C$1:$C$22,0))","v":{"$error":"#N/A"}},null,null,null,null,null,null,null,null,{"$f":"VLOOKUP(Tabelle1[[#This Row],[Budgetlinie]],Ausfüllhilfe!$A$1:$D$23,4,0)","v":{"$error":"#N/A"}}]
[{"$f":"INDEX(Tabelle2[[#All],[Budgetlinie]],MATCH(Tabelle1[[#This Row],[Maßnahme]],Ausfüllhilfe!$C$1:$C$22,0))","v":{"$error":"#N/A"}},null,null,null,null,null,null,null,null,{"$f":"VLOOKUP(Tabelle1[[#This Row],[Budgetlinie]],Ausfüllhilfe!$A$1:$D$23,4,0)","v":{"$error":"#N/A"}}]
[{"$f":"INDEX(Tabelle2[[#All],[Budgetlinie]],MATCH(Tabelle1[[#This Row],[Maßnahme]],Ausfüllhilfe!$C$1:$C$22,0))","v":{"$error":"#N/A"}},null,null,null,null,null,null,null,null,{"$f":"VLOOKUP(Tabelle1[[#This Row],[Budgetlinie]],Ausfüllhilfe!$A$1:$D$23,4,0)","v":{"$error":"#N/A"}}]
[{"$f":"INDEX(Tabelle2[[#All],[Budgetlinie]],MATCH(Tabelle1[[#This Row],[Maßnahme]],Ausfüllhilfe!$C$1:$C$22,0))","v":{"$error":"#N/A"}},null,null,null,null,null,null,null,null,{"$f":"VLOOKUP(Tabelle1[[#This Row],[Budgetlinie]],Ausfüllhilfe!$A$1:$D$23,4,0)","v":{"$error":"#N/A"}}]
[{"$f":"INDEX(Tabelle2[[#All],[Budgetlinie]],MATCH(Tabelle1[[#This Row],[Maßnahme]],Ausfüllhilfe!$C$1:$C$22,0))","v":{"$error":"#N/A"}},null,null,null,null,null,null,null,null,{"$f":"VLOOKUP(Tabelle1[[#This Row],[Budgetlinie]],Ausfüllhilfe!$A$1:$D$23,4,0)","v":{"$error":"#N/A"}}]
[{"$f":"INDEX(Tabelle2[[#All],[Budgetlinie]],MATCH(Tabelle1[[#This Row],[Maßnahme]],Ausfüllhilfe!$C$1:$C$22,0))","v":{"$error":"#N/A"}},null,null,null,null,null,null,null,null,{"$f":"VLOOKUP(Tabelle1[[#This Row],[Budgetlinie]],Ausfüllhilfe!$A$1:$D$23,4,0)","v":{"$error":"#N/A"}}]
[{"$f":"INDEX(Tabelle2[[#All],[Budgetlinie]],MATCH(Tabelle1[[#This Row],[Maßnahme]],Ausfüllhilfe!$C$1:$C$22,0))","v":{"$error":"#N/A"}},null,null,null,null,null,null,null,null,{"$f":"VLOOKUP(Tabelle1[[#This Row],[Budgetlinie]],Ausfüllhilfe!$A$1:$D$23,4,0)","v":{"$error":"#N/A"}}]
[{"$f":"INDEX(Tabelle2[[#All],[Budgetlinie]],MATCH(Tabelle1[[#This Row],[Maßnahme]],Ausfüllhilfe!$C$1:$C$22,0))","v":{"$error":"#N/A"}},null,null,null,null,null,null,null,null,{"$f":"VLOOKUP(Tabelle1[[#This Row],[Budgetlinie]],Ausfüllhilfe!$A$1:$D$23,4,0)","v":{"$error":"#N/A"}}]
[{"$f":"INDEX(Tabelle2[[#All],[Budgetlinie]],MATCH(Tabelle1[[#This Row],[Maßnahme]],Ausfüllhilfe!$C$1:$C$22,0))","v":{"$error":"#N/A"}},null,null,null,null,null,null,null,null,{"$f":"VLOOKUP(Tabelle1[[#This Row],[Budgetlinie]],Ausfüllhilfe!$A$1:$D$23,4,0)","v":{"$error":"#N/A"}}]
[{"$f":"INDEX(Tabelle2[[#All],[Budgetlinie]],MATCH(Tabelle1[[#This Row],[Maßnahme]],Ausfüllhilfe!$C$1:$C$22,0))","v":{"$error":"#N/A"}},null,null,null,null,null,null,null,null,{"$f":"VLOOKUP(Tabelle1[[#This Row],[Budgetlinie]],Ausfüllhilfe!$A$1:$D$23,4,0)","v":{"$error":"#N/A"}}]
[{"$f":"INDEX(Tabelle2[[#All],[Budgetlinie]],MATCH(Tabelle1[[#This Row],[Maßnahme]],Ausfüllhilfe!$C$1:$C$22,0))","v":{"$error":"#N/A"}},null,null,null,null,null,null,null,null,{"$f":"VLOOKUP(Tabelle1[[#This Row],[Budgetlinie]],Ausfüllhilfe!$A$1:$D$23,4,0)","v":{"$error":"#N/A"}}]
[{"$f":"INDEX(Tabelle2[[#All],[Budgetlinie]],MATCH(Tabelle1[[#This Row],[Maßnahme]],Ausfüllhilfe!$C$1:$C$22,0))","v":{"$error":"#N/A"}},null,null,null,null,null,null,null,null,{"$f":"VLOOKUP(Tabelle1[[#This Row],[Budgetlinie]],Ausfüllhilfe!$A$1:$D$23,4,0)","v":{"$error":"#N/A"}}]
[{"$f":"INDEX(Tabelle2[[#All],[Budgetlinie]],MATCH(Tabelle1[[#This Row],[Maßnahme]],Ausfüllhilfe!$C$1:$C$22,0))","v":{"$error":"#N/A"}},null,null,null,null,null,null,null,null,{"$f":"VLOOKUP(Tabelle1[[#This Row],[Budgetlinie]],Ausfüllhilfe!$A$1:$D$23,4,0)","v":{"$error":"#N/A"}}]
[{"$f":"INDEX(Tabelle2[[#All],[Budgetlinie]],MATCH(Tabelle1[[#This Row],[Maßnahme]],Ausfüllhilfe!$C$1:$C$22,0))","v":{"$error":"#N/A"}},null,null,null,null,null,null,null,null,{"$f":"VLOOKUP(Tabelle1[[#This Row],[Budgetlinie]],Ausfüllhilfe!$A$1:$D$23,4,0)","v":{"$error":"#N/A"}}]
[{"$f":"INDEX(Tabelle2[[#All],[Budgetlinie]],MATCH(Tabelle1[[#This Row],[Maßnahme]],Ausfüllhilfe!$C$1:$C$22,0))","v":{"$error":"#N/A"}},null,null,null,null,null,null,null,null,{"$f":"VLOOKUP(Tabelle1[[#This Row],[Budgetlinie]],Ausfüllhilfe!$A$1:$D$23,4,0)","v":{"$error":"#N/A"}}]
[{"$f":"INDEX(Tabelle2[[#All],[Budgetlinie]],MATCH(Tabelle1[[#This Row],[Maßnahme]],Ausfüllhilfe!$C$1:$C$22,0))","v":{"$error":"#N/A"}},null,null,null,null,null,null,null,null,{"$f":"VLOOKUP(Tabelle1[[#This Row],[Budgetlinie]],Ausfüllhilfe!$A$1:$D$23,4,0)","v":{"$error":"#N/A"}}]
[{"$f":"INDEX(Tabelle2[[#All],[Budgetlinie]],MATCH(Tabelle1[[#This Row],[Maßnahme]],Ausfüllhilfe!$C$1:$C$22,0))","v":{"$error":"#N/A"}},null,null,null,null,null,null,null,null,{"$f":"VLOOKUP(Tabelle1[[#This Row],[Budgetlinie]],Ausfüllhilfe!$A$1:$D$23,4,0)","v":{"$error":"#N/A"}}]
[{"$f":"INDEX(Tabelle2[[#All],[Budgetlinie]],MATCH(Tabelle1[[#This Row],[Maßnahme]],Ausfüllhilfe!$C$1:$C$22,0))","v":{"$error":"#N/A"}},null,null,null,null,null,null,null,null,{"$f":"VLOOKUP(Tabelle1[[#This Row],[Budgetlinie]],Ausfüllhilfe!$A$1:$D$23,4,0)","v":{"$error":"#N/A"}}]
[{"$f":"INDEX(Tabelle2[[#All],[Budgetlinie]],MATCH(Tabelle1[[#This Row],[Maßnahme]],Ausfüllhilfe!$C$1:$C$22,0))","v":{"$error":"#N/A"}},null,null,null,null,null,null,null,null,{"$f":"VLOOKUP(Tabelle1[[#This Row],[Budgetlinie]],Ausfüllhilfe!$A$1:$D$23,4,0)","v":{"$error":"#N/A"}}]
[{"$f":"INDEX(Tabelle2[[#All],[Budgetlinie]],MATCH(Tabelle1[[#This Row],[Maßnahme]],Ausfüllhilfe!$C$1:$C$22,0))","v":{"$error":"#N/A"}},null,null,null,null,null,null,null,null,{"$f":"VLOOKUP(Tabelle1[[#This Row],[Budgetlinie]],Ausfüllhilfe!$A$1:$D$23,4,0)","v":{"$error":"#N/A"}}]
[{"$f":"INDEX(Tabelle2[[#All],[Budgetlinie]],MATCH(Tabelle1[[#This Row],[Maßnahme]],Ausfüllhilfe!$C$1:$C$22,0))","v":{"$error":"#N/A"}},null,null,null,null,null,null,null,null,{"$f":"VLOOKUP(Tabelle1[[#This Row],[Budgetlinie]],Ausfüllhilfe!$A$1:$D$23,4,0)","v":{"$error":"#N/A"}}]
[{"$f":"INDEX(Tabelle2[[#All],[Budgetlinie]],MATCH(Tabelle1[[#This Row],[Maßnahme]],Ausfüllhilfe!$C$1:$C$22,0))","v":{"$error":"#N/A"}},null,null,null,null,null,null,null,null,{"$f":"VLOOKUP(Tabelle1[[#This Row],[Budgetlinie]],Ausfüllhilfe!$A$1:$D$23,4,0)","v":{"$error":"#N/A"}}]
[{"$f":"INDEX(Tabelle2[[#All],[Budgetlinie]],MATCH(Tabelle1[[#This Row],[Maßnahme]],Ausfüllhilfe!$C$1:$C$22,0))","v":{"$error":"#N/A"}},null,null,null,null,null,null,null,null,{"$f":"VLOOKUP(Tabelle1[[#This Row],[Budgetlinie]],Ausfüllhilfe!$A$1:$D$23,4,0)","v":{"$error":"#N/A"}}]
[{"$f":"INDEX(Tabelle2[[#All],[Budgetlinie]],MATCH(Tabelle1[[#This Row],[Maßnahme]],Ausfüllhilfe!$C$1:$C$22,0))","v":{"$error":"#N/A"}},null,null,null,null,null,null,null,null,{"$f":"VLOOKUP(Tabelle1[[#This Row],[Budgetlinie]],Ausfüllhilfe!$A$1:$D$23,4,0)","v":{"$error":"#N/A"}}]
[{"$f":"INDEX(Tabelle2[[#All],[Budgetlinie]],MATCH(Tabelle1[[#This Row],[Maßnahme]],Ausfüllhilfe!$C$1:$C$22,0))","v":{"$error":"#N/A"}},null,null,null,null,null,null,null,null,{"$f":"VLOOKUP(Tabelle1[[#This Row],[Budgetlinie]],Ausfüllhilfe!$A$1:$D$23,4,0)","v":{"$error":"#N/A"}}]
[{"$f":"INDEX(Tabelle2[[#All],[Budgetlinie]],MATCH(Tabelle1[[#This Row],[Maßnahme]],Ausfüllhilfe!$C$1:$C$22,0))","v":{"$error":"#N/A"}},null,null,null,null,null,null,null,null,{"$f":"VLOOKUP(Tabelle1[[#This Row],[Budgetlinie]],Ausfüllhilfe!$A$1:$D$23,4,0)","v":{"$error":"#N/A"}}]
[{"$f":"INDEX(Tabelle2[[#All],[Budgetlinie]],MATCH(Tabelle1[[#This Row],[Maßnahme]],Ausfüllhilfe!$C$1:$C$22,0))","v":{"$error":"#N/A"}},null,null,null,null,null,null,null,null,{"$f":"VLOOKUP(Tabelle1[[#This Row],[Budgetlinie]],Ausfüllhilfe!$A$1:$D$23,4,0)","v":{"$error":"#N/A"}}]
[{"$f":"INDEX(Tabelle2[[#All],[Budgetlinie]],MATCH(Tabelle1[[#This Row],[Maßnahme]],Ausfüllhilfe!$C$1:$C$22,0))","v":{"$error":"#N/A"}},null,null,null,null,null,null,null,null,{"$f":"VLOOKUP(Tabelle1[[#This Row],[Budgetlinie]],Ausfüllhilfe!$A$1:$D$23,4,0)","v":{"$error":"#N/A"}}]
[{"$f":"INDEX(Tabelle2[[#All],[Budgetlinie]],MATCH(Tabelle1[[#This Row],[Maßnahme]],Ausfüllhilfe!$C$1:$C$22,0))","v":{"$error":"#N/A"}},null,null,null,null,null,null,null,null,{"$f":"VLOOKUP(Tabelle1[[#This Row],[Budgetlinie]],Ausfüllhilfe!$A$1:$D$23,4,0)","v":{"$error":"#N/A"}}]
[{"$f":"INDEX(Tabelle2[[#All],[Budgetlinie]],MATCH(Tabelle1[[#This Row],[Maßnahme]],Ausfüllhilfe!$C$1:$C$22,0))","v":{"$error":"#N/A"}},null,null,null,null,null,null,null,null,{"$f":"VLOOKUP(Tabelle1[[#This Row],[Budgetlinie]],Ausfüllhilfe!$A$1:$D$23,4,0)","v":{"$error":"#N/A"}}]
[{"$f":"INDEX(Tabelle2[[#All],[Budgetlinie]],MATCH(Tabelle1[[#This Row],[Maßnahme]],Ausfüllhilfe!$C$1:$C$22,0))","v":{"$error":"#N/A"}},null,null,null,null,null,null,null,null,{"$f":"VLOOKUP(Tabelle1[[#This Row],[Budgetlinie]],Ausfüllhilfe!$A$1:$D$23,4,0)","v":{"$error":"#N/A"}}]
[{"$f":"INDEX(Tabelle2[[#All],[Budgetlinie]],MATCH(Tabelle1[[#This Row],[Maßnahme]],Ausfüllhilfe!$C$1:$C$22,0))","v":{"$error":"#N/A"}},null,null,null,null,null,null,null,null,{"$f":"VLOOKUP(Tabelle1[[#This Row],[Budgetlinie]],Ausfüllhilfe!$A$1:$D$23,4,0)","v":{"$error":"#N/A"}}]
[{"$f":"INDEX(Tabelle2[[#All],[Budgetlinie]],MATCH(Tabelle1[[#This Row],[Maßnahme]],Ausfüllhilfe!$C$1:$C$22,0))","v":{"$error":"#N/A"}},null,null,null,null,null,null,null,null,{"$f":"VLOOKUP(Tabelle1[[#This Row],[Budgetlinie]],Ausfüllhilfe!$A$1:$D$23,4,0)","v":{"$error":"#N/A"}}]
[{"$f":"INDEX(Tabelle2[[#All],[Budgetlinie]],MATCH(Tabelle1[[#This Row],[Maßnahme]],Ausfüllhilfe!$C$1:$C$22,0))","v":{"$error":"#N/A"}},null,null,null,null,null,null,null,null,{"$f":"VLOOKUP(Tabelle1[[#This Row],[Budgetlinie]],Ausfüllhilfe!$A$1:$D$23,4,0)","v":{"$error":"#N/A"}}]
[{"$f":"INDEX(Tabelle2[[#All],[Budgetlinie]],MATCH(Tabelle1[[#This Row],[Maßnahme]],Ausfüllhilfe!$C$1:$C$22,0))","v":{"$error":"#N/A"}},null,null,null,null,null,null,null,null,{"$f":"VLOOKUP(Tabelle1[[#This Row],[Budgetlinie]],Ausfüllhilfe!$A$1:$D$23,4,0)","v":{"$error":"#N/A"}}]
[{"$f":"INDEX(Tabelle2[[#All],[Budgetlinie]],MATCH(Tabelle1[[#This Row],[Maßnahme]],Ausfüllhilfe!$C$1:$C$22,0))","v":{"$error":"#N/A"}},null,null,null,null,null,null,null,null,{"$f":"VLOOKUP(Tabelle1[[#This Row],[Budgetlinie]],Ausfüllhilfe!$A$1:$D$23,4,0)","v":{"$error":"#N/A"}}]
[{"$f":"INDEX(Tabelle2[[#All],[Budgetlinie]],MATCH(Tabelle1[[#This Row],[Maßnahme]],Ausfüllhilfe!$C$1:$C$22,0))","v":{"$error":"#N/A"}},null,null,null,null,null,null,null,null,{"$f":"VLOOKUP(Tabelle1[[#This Row],[Budgetlinie]],Ausfüllhilfe!$A$1:$D$23,4,0)","v":{"$error":"#N/A"}}]
[{"$f":"INDEX(Tabelle2[[#All],[Budgetlinie]],MATCH(Tabelle1[[#This Row],[Maßnahme]],Ausfüllhilfe!$C$1:$C$22,0))","v":{"$error":"#N/A"}},null,null,null,null,null,null,null,null,{"$f":"VLOOKUP(Tabelle1[[#This Row],[Budgetlinie]],Ausfüllhilfe!$A$1:$D$23,4,0)","v":{"$error":"#N/A"}}]
[{"$f":"INDEX(Tabelle2[[#All],[Budgetlinie]],MATCH(Tabelle1[[#This Row],[Maßnahme]],Ausfüllhilfe!$C$1:$C$22,0))","v":{"$error":"#N/A"}},null,null,null,null,null,null,null,null,{"$f":"VLOOKUP(Tabelle1[[#This Row],[Budgetlinie]],Ausfüllhilfe!$A$1:$D$23,4,0)","v":{"$error":"#N/A"}}]
[{"$f":"INDEX(Tabelle2[[#All],[Budgetlinie]],MATCH(Tabelle1[[#This Row],[Maßnahme]],Ausfüllhilfe!$C$1:$C$22,0))","v":{"$error":"#N/A"}},null,null,null,null,null,null,null,null,{"$f":"VLOOKUP(Tabelle1[[#This Row],[Budgetlinie]],Ausfüllhilfe!$A$1:$D$23,4,0)","v":{"$error":"#N/A"}}]
[{"$f":"INDEX(Tabelle2[[#All],[Budgetlinie]],MATCH(Tabelle1[[#This Row],[Maßnahme]],Ausfüllhilfe!$C$1:$C$22,0))","v":{"$error":"#N/A"}},null,null,null,null,null,null,null,null,{"$f":"VLOOKUP(Tabelle1[[#This Row],[Budgetlinie]],Ausfüllhilfe!$A$1:$D$23,4,0)","v":{"$error":"#N/A"}}]
[{"$f":"INDEX(Tabelle2[[#All],[Budgetlinie]],MATCH(Tabelle1[[#This Row],[Maßnahme]],Ausfüllhilfe!$C$1:$C$22,0))","v":{"$error":"#N/A"}},null,null,null,null,null,null,null,null,{"$f":"VLOOKUP(Tabelle1[[#This Row],[Budgetlinie]],Ausfüllhilfe!$A$1:$D$23,4,0)","v":{"$error":"#N/A"}}]
[{"$f":"INDEX(Tabelle2[[#All],[Budgetlinie]],MATCH(Tabelle1[[#This Row],[Maßnahme]],Ausfüllhilfe!$C$1:$C$22,0))","v":{"$error":"#N/A"}},null,null,null,null,null,null,null,null,{"$f":"VLOOKUP(Tabelle1[[#This Row],[Budgetlinie]],Ausfüllhilfe!$A$1:$D$23,4,0)","v":{"$error":"#N/A"}}]
[{"$f":"INDEX(Tabelle2[[#All],[Budgetlinie]],MATCH(Tabelle1[[#This Row],[Maßnahme]],Ausfüllhilfe!$C$1:$C$22,0))","v":{"$error":"#N/A"}},null,null,null,null,null,null,null,null,{"$f":"VLOOKUP(Tabelle1[[#This Row],[Budgetlinie]],Ausfüllhilfe!$A$1:$D$23,4,0)","v":{"$error":"#N/A"}}]
[{"$f":"INDEX(Tabelle2[[#All],[Budgetlinie]],MATCH(Tabelle1[[#This Row],[Maßnahme]],Ausfüllhilfe!$C$1:$C$22,0))","v":{"$error":"#N/A"}},null,null,null,null,null,null,null,null,{"$f":"VLOOKUP(Tabelle1[[#This Row],[Budgetlinie]],Ausfüllhilfe!$A$1:$D$23,4,0)","v":{"$error":"#N/A"}}]
[{"$f":"INDEX(Tabelle2[[#All],[Budgetlinie]],MATCH(Tabelle1[[#This Row],[Maßnahme]],Ausfüllhilfe!$C$1:$C$22,0))","v":{"$error":"#N/A"}},null,null,null,null,null,null,null,null,{"$f":"VLOOKUP(Tabelle1[[#This Row],[Budgetlinie]],Ausfüllhilfe!$A$1:$D$23,4,0)","v":{"$error":"#N/A"}}]
[{"$f":"INDEX(Tabelle2[[#All],[Budgetlinie]],MATCH(Tabelle1[[#This Row],[Maßnahme]],Ausfüllhilfe!$C$1:$C$22,0))","v":{"$error":"#N/A"}},null,null,null,null,null,null,null,null,{"$f":"VLOOKUP(Tabelle1[[#This Row],[Budgetlinie]],Ausfüllhilfe!$A$1:$D$23,4,0)","v":{"$error":"#N/A"}}]
[{"$f":"INDEX(Tabelle2[[#All],[Budgetlinie]],MATCH(Tabelle1[[#This Row],[Maßnahme]],Ausfüllhilfe!$C$1:$C$22,0))","v":{"$error":"#N/A"}},null,null,null,null,null,null,null,null,{"$f":"VLOOKUP(Tabelle1[[#This Row],[Budgetlinie]],Ausfüllhilfe!$A$1:$D$23,4,0)","v":{"$error":"#N/A"}}]
[{"$f":"INDEX(Tabelle2[[#All],[Budgetlinie]],MATCH(Tabelle1[[#This Row],[Maßnahme]],Ausfüllhilfe!$C$1:$C$22,0))","v":{"$error":"#N/A"}},null,null,null,null,null,null,null,null,{"$f":"VLOOKUP(Tabelle1[[#This Row],[Budgetlinie]],Ausfüllhilfe!$A$1:$D$23,4,0)","v":{"$error":"#N/A"}}]
[{"$f":"INDEX(Tabelle2[[#All],[Budgetlinie]],MATCH(Tabelle1[[#This Row],[Maßnahme]],Ausfüllhilfe!$C$1:$C$22,0))","v":{"$error":"#N/A"}},null,null,null,null,null,null,null,null,{"$f":"VLOOKUP(Tabelle1[[#This Row],[Budgetlinie]],Ausfüllhilfe!$A$1:$D$23,4,0)","v":{"$error":"#N/A"}}]
[{"$f":"INDEX(Tabelle2[[#All],[Budgetlinie]],MATCH(Tabelle1[[#This Row],[Maßnahme]],Ausfüllhilfe!$C$1:$C$22,0))","v":{"$error":"#N/A"}},null,null,null,null,null,null,null,null,{"$f":"VLOOKUP(Tabelle1[[#This Row],[Budgetlinie]],Ausfüllhilfe!$A$1:$D$23,4,0)","v":{"$error":"#N/A"}}]
[{"$f":"INDEX(Tabelle2[[#All],[Budgetlinie]],MATCH(Tabelle1[[#This Row],[Maßnahme]],Ausfüllhilfe!$C$1:$C$22,0))","v":{"$error":"#N/A"}},null,null,null,null,null,null,null,null,{"$f":"VLOOKUP(Tabelle1[[#This Row],[Budgetlinie]],Ausfüllhilfe!$A$1:$D$23,4,0)","v":{"$error":"#N/A"}}]
[{"$f":"INDEX(Tabelle2[[#All],[Budgetlinie]],MATCH(Tabelle1[[#This Row],[Maßnahme]],Ausfüllhilfe!$C$1:$C$22,0))","v":{"$error":"#N/A"}},null,null,null,null,null,null,null,null,{"$f":"VLOOKUP(Tabelle1[[#This Row],[Budgetlinie]],Ausfüllhilfe!$A$1:$D$23,4,0)","v":{"$error":"#N/A"}}]
[{"$f":"INDEX(Tabelle2[[#All],[Budgetlinie]],MATCH(Tabelle1[[#This Row],[Maßnahme]],Ausfüllhilfe!$C$1:$C$22,0))","v":{"$error":"#N/A"}},null,null,null,null,null,null,null,null,{"$f":"VLOOKUP(Tabelle1[[#This Row],[Budgetlinie]],Ausfüllhilfe!$A$1:$D$23,4,0)","v":{"$error":"#N/A"}}]
[{"$f":"INDEX(Tabelle2[[#All],[Budgetlinie]],MATCH(Tabelle1[[#This Row],[Maßnahme]],Ausfüllhilfe!$C$1:$C$22,0))","v":{"$error":"#N/A"}},null,null,null,null,null,null,null,null,{"$f":"VLOOKUP(Tabelle1[[#This Row],[Budgetlinie]],Ausfüllhilfe!$A$1:$D$23,4,0)","v":{"$error":"#N/A"}}]
[{"$f":"INDEX(Tabelle2[[#All],[Budgetlinie]],MATCH(Tabelle1[[#This Row],[Maßnahme]],Ausfüllhilfe!$C$1:$C$22,0))","v":{"$error":"#N/A"}},null,null,null,null,null,null,null,null,{"$f":"VLOOKUP(Tabelle1[[#This Row],[Budgetlinie]],Ausfüllhilfe!$A$1:$D$23,4,0)","v":{"$error":"#N/A"}}]
[{"$f":"INDEX(Tabelle2[[#All],[Budgetlinie]],MATCH(Tabelle1[[#This Row],[Maßnahme]],Ausfüllhilfe!$C$1:$C$22,0))","v":{"$error":"#N/A"}},null,null,null,null,null,null,null,null,{"$f":"VLOOKUP(Tabelle1[[#This Row],[Budgetlinie]],Ausfüllhilfe!$A$1:$D$23,4,0)","v":{"$error":"#N/A"}}]
[{"$f":"INDEX(Tabelle2[[#All],[Budgetlinie]],MATCH(Tabelle1[[#This Row],[Maßnahme]],Ausfüllhilfe!$C$1:$C$22,0))","v":{"$error":"#N/A"}},null,null,null,null,null,null,null,null,{"$f":"VLOOKUP(Tabelle1[[#This Row],[Budgetlinie]],Ausfüllhilfe!$A$1:$D$23,4,0)","v":{"$error":"#N/A"}}]
[{"$f":"INDEX(Tabelle2[[#All],[Budgetlinie]],MATCH(Tabelle1[[#This Row],[Maßnahme]],Ausfüllhilfe!$C$1:$C$22,0))","v":{"$error":"#N/A"}},null,null,null,null,null,null,null,null,{"$f":"VLOOKUP(Tabelle1[[#This Row],[Budgetlinie]],Ausfüllhilfe!$A$1:$D$23,4,0)","v":{"$error":"#N/A"}}]
[{"$f":"INDEX(Tabelle2[[#All],[Budgetlinie]],MATCH(Tabelle1[[#This Row],[Maßnahme]],Ausfüllhilfe!$C$1:$C$22,0))","v":{"$error":"#N/A"}},null,null,null,null,null,null,null,null,{"$f":"VLOOKUP(Tabelle1[[#This Row],[Budgetlinie]],Ausfüllhilfe!$A$1:$D$23,4,0)","v":{"$error":"#N/A"}}]
[{"$f":"INDEX(Tabelle2[[#All],[Budgetlinie]],MATCH(Tabelle1[[#This Row],[Maßnahme]],Ausfüllhilfe!$C$1:$C$22,0))","v":{"$error":"#N/A"}},null,null,null,null,null,null,null,null,{"$f":"VLOOKUP(Tabelle1[[#This Row],[Budgetlinie]],Ausfüllhilfe!$A$1:$D$23,4,0)","v":{"$error":"#N/A"}}]
[{"$f":"INDEX(Tabelle2[[#All],[Budgetlinie]],MATCH(Tabelle1[[#This Row],[Maßnahme]],Ausfüllhilfe!$C$1:$C$22,0))","v":{"$error":"#N/A"}},null,null,null,null,null,null,null,null,{"$f":"VLOOKUP(Tabelle1[[#This Row],[Budgetlinie]],Ausfüllhilfe!$A$1:$D$23,4,0)","v":{"$error":"#N/A"}}]
[{"$f":"INDEX(Tabelle2[[#All],[Budgetlinie]],MATCH(Tabelle1[[#This Row],[Maßnahme]],Ausfüllhilfe!$C$1:$C$22,0))","v":{"$error":"#N/A"}},null,null,null,null,null,null,null,null,{"$f":"VLOOKUP(Tabelle1[[#This Row],[Budgetlinie]],Ausfüllhilfe!$A$1:$D$23,4,0)","v":{"$error":"#N/A"}}]
[{"$f":"INDEX(Tabelle2[[#All],[Budgetlinie]],MATCH(Tabelle1[[#This Row],[Maßnahme]],Ausfüllhilfe!$C$1:$C$22,0))","v":{"$error":"#N/A"}},null,null,null,null,null,null,null,null,{"$f":"VLOOKUP(Tabelle1[[#This Row],[Budgetlinie]],Ausfüllhilfe!$A$1:$D$23,4,0)","v":{"$error":"#N/A"}}]
[{"$f":"INDEX(Tabelle2[[#All],[Budgetlinie]],MATCH(Tabelle1[[#This Row],[Maßnahme]],Ausfüllhilfe!$C$1:$C$22,0))","v":{"$error":"#N/A"}},null,null,null,null,null,null,null,null,{"$f":"VLOOKUP(Tabelle1[[#This Row],[Budgetlinie]],Ausfüllhilfe!$A$1:$D$23,4,0)","v":{"$error":"#N/A"}}]
[{"$f":"INDEX(Tabelle2[[#All],[Budgetlinie]],MATCH(Tabelle1[[#This Row],[Maßnahme]],Ausfüllhilfe!$C$1:$C$22,0))","v":{"$error":"#N/A"}},null,null,null,null,null,null,null,null,{"$f":"VLOOKUP(Tabelle1[[#This Row],[Budgetlinie]],Ausfüllhilfe!$A$1:$D$23,4,0)","v":{"$error":"#N/A"}}]
[{"$f":"INDEX(Tabelle2[[#All],[Budgetlinie]],MATCH(Tabelle1[[#This Row],[Maßnahme]],Ausfüllhilfe!$C$1:$C$22,0))","v":{"$error":"#N/A"}},null,null,null,null,null,null,null,null,{"$f":"VLOOKUP(Tabelle1[[#This Row],[Budgetlinie]],Ausfüllhilfe!$A$1:$D$23,4,0)","v":{"$error":"#N/A"}}]
[{"$f":"INDEX(Tabelle2[[#All],[Budgetlinie]],MATCH(Tabelle1[[#This Row],[Maßnahme]],Ausfüllhilfe!$C$1:$C$22,0))","v":{"$error":"#N/A"}},null,null,null,null,null,null,null,null,{"$f":"VLOOKUP(Tabelle1[[#This Row],[Budgetlinie]],Ausfüllhilfe!$A$1:$D$23,4,0)","v":{"$error":"#N/A"}}]
[{"$f":"INDEX(Tabelle2[[#All],[Budgetlinie]],MATCH(Tabelle1[[#This Row],[Maßnahme]],Ausfüllhilfe!$C$1:$C$22,0))","v":{"$error":"#N/A"}},null,null,null,null,null,null,null,null,{"$f":"VLOOKUP(Tabelle1[[#This Row],[Budgetlinie]],Ausfüllhilfe!$A$1:$D$23,4,0)","v":{"$error":"#N/A"}}]
[{"$f":"INDEX(Tabelle2[[#All],[Budgetlinie]],MATCH(Tabelle1[[#This Row],[Maßnahme]],Ausfüllhilfe!$C$1:$C$22,0))","v":{"$error":"#N/A"}},null,null,null,null,null,null,null,null,{"$f":"VLOOKUP(Tabelle1[[#This Row],[Budgetlinie]],Ausfüllhilfe!$A$1:$D$23,4,0)","v":{"$error":"#N/A"}}]
[{"$f":"INDEX(Tabelle2[[#All],[Budgetlinie]],MATCH(Tabelle1[[#This Row],[Maßnahme]],Ausfüllhilfe!$C$1:$C$22,0))","v":{"$error":"#N/A"}},null,null,null,null,null,null,null,null,{"$f":"VLOOKUP(Tabelle1[[#This Row],[Budgetlinie]],Ausfüllhilfe!$A$1:$D$23,4,0)","v":{"$error":"#N/A"}}]
[{"$f":"INDEX(Tabelle2[[#All],[Budgetlinie]],MATCH(Tabelle1[[#This Row],[Maßnahme]],Ausfüllhilfe!$C$1:$C$22,0))","v":{"$error":"#N/A"}},null,null,null,null,null,null,null,null,{"$f":"VLOOKUP(Tabelle1[[#This Row],[Budgetlinie]],Ausfüllhilfe!$A$1:$D$23,4,0)","v":{"$error":"#N/A"}}]
[{"$f":"INDEX(Tabelle2[[#All],[Budgetlinie]],MATCH(Tabelle1[[#This Row],[Maßnahme]],Ausfüllhilfe!$C$1:$C$22,0))","v":{"$error":"#N/A"}},null,null,null,null,null,null,null,null,{"$f":"VLOOKUP(Tabelle1[[#This Row],[Budgetlinie]],Ausfüllhilfe!$A$1:$D$23,4,0)","v":{"$error":"#N/A"}}]
[{"$f":"INDEX(Tabelle2[[#All],[Budgetlinie]],MATCH(Tabelle1[[#This Row],[Maßnahme]],Ausfüllhilfe!$C$1:$C$22,0))","v":{"$error":"#N/A"}},null,null,null,null,null,null,null,null,{"$f":"VLOOKUP(Tabelle1[[#This Row],[Budgetlinie]],Ausfüllhilfe!$A$1:$D$23,4,0)","v":{"$error":"#N/A"}}]
[{"$f":"INDEX(Tabelle2[[#All],[Budgetlinie]],MATCH(Tabelle1[[#This Row],[Maßnahme]],Ausfüllhilfe!$C$1:$C$22,0))","v":{"$error":"#N/A"}},null,null,null,null,null,null,null,null,{"$f":"VLOOKUP(Tabelle1[[#This Row],[Budgetlinie]],Ausfüllhilfe!$A$1:$D$23,4,0)","v":{"$error":"#N/A"}}]
[{"$f":"INDEX(Tabelle2[[#All],[Budgetlinie]],MATCH(Tabelle1[[#This Row],[Maßnahme]],Ausfüllhilfe!$C$1:$C$22,0))","v":{"$error":"#N/A"}},null,null,null,null,null,null,null,null,{"$f":"VLOOKUP(Tabelle1[[#This Row],[Budgetlinie]],Ausfüllhilfe!$A$1:$D$23,4,0)","v":{"$error":"#N/A"}}]
[{"$f":"INDEX(Tabelle2[[#All],[Budgetlinie]],MATCH(Tabelle1[[#This Row],[Maßnahme]],Ausfüllhilfe!$C$1:$C$22,0))","v":{"$error":"#N/A"}},null,null,null,null,null,null,null,null,{"$f":"VLOOKUP(Tabelle1[[#This Row],[Budgetlinie]],Ausfüllhilfe!$A$1:$D$23,4,0)","v":{"$error":"#N/A"}}]
[{"$f":"INDEX(Tabelle2[[#All],[Budgetlinie]],MATCH(Tabelle1[[#This Row],[Maßnahme]],Ausfüllhilfe!$C$1:$C$22,0))","v":{"$error":"#N/A"}},null,null,null,null,null,null,null,null,{"$f":"VLOOKUP(Tabelle1[[#This Row],[Budgetlinie]],Ausfüllhilfe!$A$1:$D$23,4,0)","v":{"$error":"#N/A"}}]
[{"$f":"INDEX(Tabelle2[[#All],[Budgetlinie]],MATCH(Tabelle1[[#This Row],[Maßnahme]],Ausfüllhilfe!$C$1:$C$22,0))","v":{"$error":"#N/A"}},null,null,null,null,null,null,null,null,{"$f":"VLOOKUP(Tabelle1[[#This Row],[Budgetlinie]],Ausfüllhilfe!$A$1:$D$23,4,0)","v":{"$error":"#N/A"}}]
[{"$f":"INDEX(Tabelle2[[#All],[Budgetlinie]],MATCH(Tabelle1[[#This Row],[Maßnahme]],Ausfüllhilfe!$C$1:$C$22,0))","v":{"$error":"#N/A"}},null,null,null,null,null,null,null,null,{"$f":"VLOOKUP(Tabelle1[[#This Row],[Budgetlinie]],Ausfüllhilfe!$A$1:$D$23,4,0)","v":{"$error":"#N/A"}}]
[{"$f":"INDEX(Tabelle2[[#All],[Budgetlinie]],MATCH(Tabelle1[[#This Row],[Maßnahme]],Ausfüllhilfe!$C$1:$C$22,0))","v":{"$error":"#N/A"}},null,null,null,null,null,null,null,null,{"$f":"VLOOKUP(Tabelle1[[#This Row],[Budgetlinie]],Ausfüllhilfe!$A$1:$D$23,4,0)","v":{"$error":"#N/A"}}]
[{"$f":"INDEX(Tabelle2[[#All],[Budgetlinie]],MATCH(Tabelle1[[#This Row],[Maßnahme]],Ausfüllhilfe!$C$1:$C$22,0))","v":{"$error":"#N/A"}},null,null,null,null,null,null,null,null,{"$f":"VLOOKUP(Tabelle1[[#This Row],[Budgetlinie]],Ausfüllhilfe!$A$1:$D$23,4,0)","v":{"$error":"#N/A"}}]
[{"$f":"INDEX(Tabelle2[[#All],[Budgetlinie]],MATCH(Tabelle1[[#This Row],[Maßnahme]],Ausfüllhilfe!$C$1:$C$22,0))","v":{"$error":"#N/A"}},null,null,null,null,null,null,null,null,{"$f":"VLOOKUP(Tabelle1[[#This Row],[Budgetlinie]],Ausfüllhilfe!$A$1:$D$23,4,0)","v":{"$error":"#N/A"}}]
[{"$f":"INDEX(Tabelle2[[#All],[Budgetlinie]],MATCH(Tabelle1[[#This Row],[Maßnahme]],Ausfüllhilfe!$C$1:$C$22,0))","v":{"$error":"#N/A"}},null,null,null,null,null,null,null,null,{"$f":"VLOOKUP(Tabelle1[[#This Row],[Budgetlinie]],Ausfüllhilfe!$A$1:$D$23,4,0)","v":{"$error":"#N/A"}}]
[{"$f":"INDEX(Tabelle2[[#All],[Budgetlinie]],MATCH(Tabelle1[[#This Row],[Maßnahme]],Ausfüllhilfe!$C$1:$C$22,0))","v":{"$error":"#N/A"}},null,null,null,null,null,null,null,null,{"$f":"VLOOKUP(Tabelle1[[#This Row],[Budgetlinie]],Ausfüllhilfe!$A$1:$D$23,4,0)","v":{"$error":"#N/A"}}]
[{"$f":"INDEX(Tabelle2[[#All],[Budgetlinie]],MATCH(Tabelle1[[#This Row],[Maßnahme]],Ausfüllhilfe!$C$1:$C$22,0))","v":{"$error":"#N/A"}},null,null,null,null,null,null,null,null,{"$f":"VLOOKUP(Tabelle1[[#This Row],[Budgetlinie]],Ausfüllhilfe!$A$1:$D$23,4,0)","v":{"$error":"#N/A"}}]
[{"$f":"INDEX(Tabelle2[[#All],[Budgetlinie]],MATCH(Tabelle1[[#This Row],[Maßnahme]],Ausfüllhilfe!$C$1:$C$22,0))","v":{"$error":"#N/A"}},null,null,null,null,null,null,null,null,{"$f":"VLOOKUP(Tabelle1[[#This Row],[Budgetlinie]],Ausfüllhilfe!$A$1:$D$23,4,0)","v":{"$error":"#N/A"}}]
[{"$f":"INDEX(Tabelle2[[#All],[Budgetlinie]],MATCH(Tabelle1[[#This Row],[Maßnahme]],Ausfüllhilfe!$C$1:$C$22,0))","v":{"$error":"#N/A"}},null,null,null,null,null,null,null,null,{"$f":"VLOOKUP(Tabelle1[[#This Row],[Budgetlinie]],Ausfüllhilfe!$A$1:$D$23,4,0)","v":{"$error":"#N/A"}}]
[{"$f":"INDEX(Tabelle2[[#All],[Budgetlinie]],MATCH(Tabelle1[[#This Row],[Maßnahme]],Ausfüllhilfe!$C$1:$C$22,0))","v":{"$error":"#N/A"}},null,null,null,null,null,null,null,null,{"$f":"VLOOKUP(Tabelle1[[#This Row],[Budgetlinie]],Ausfüllhilfe!$A$1:$D$23,4,0)","v":{"$error":"#N/A"}}]
[{"$f":"INDEX(Tabelle2[[#All],[Budgetlinie]],MATCH(Tabelle1[[#This Row],[Maßnahme]],Ausfüllhilfe!$C$1:$C$22,0))","v":{"$error":"#N/A"}},null,null,null,null,null,null,null,null,{"$f":"VLOOKUP(Tabelle1[[#This Row],[Budgetlinie]],Ausfüllhilfe!$A$1:$D$23,4,0)","v":{"$error":"#N/A"}}]
[{"$f":"INDEX(Tabelle2[[#All],[Budgetlinie]],MATCH(Tabelle1[[#This Row],[Maßnahme]],Ausfüllhilfe!$C$1:$C$22,0))","v":{"$error":"#N/A"}},null,null,null,null,null,null,null,null,{"$f":"VLOOKUP(Tabelle1[[#This Row],[Budgetlinie]],Ausfüllhilfe!$A$1:$D$23,4,0)","v":{"$error":"#N/A"}}]
[{"$f":"INDEX(Tabelle2[[#All],[Budgetlinie]],MATCH(Tabelle1[[#This Row],[Maßnahme]],Ausfüllhilfe!$C$1:$C$22,0))","v":{"$error":"#N/A"}},null,null,null,null,null,null,null,null,{"$f":"VLOOKUP(Tabelle1[[#This Row],[Budgetlinie]],Ausfüllhilfe!$A$1:$D$23,4,0)","v":{"$error":"#N/A"}}]
[{"$f":"INDEX(Tabelle2[[#All],[Budgetlinie]],MATCH(Tabelle1[[#This Row],[Maßnahme]],Ausfüllhilfe!$C$1:$C$22,0))","v":{"$error":"#N/A"}},null,null,null,null,null,null,null,null,{"$f":"VLOOKUP(Tabelle1[[#This Row],[Budgetlinie]],Ausfüllhilfe!$A$1:$D$23,4,0)","v":{"$error":"#N/A"}}]
[{"$f":"INDEX(Tabelle2[[#All],[Budgetlinie]],MATCH(Tabelle1[[#This Row],[Maßnahme]],Ausfüllhilfe!$C$1:$C$22,0))","v":{"$error":"#N/A"}},null,null,null,null,null,null,null,null,{"$f":"VLOOKUP(Tabelle1[[#This Row],[Budgetlinie]],Ausfüllhilfe!$A$1:$D$23,4,0)","v":{"$error":"#N/A"}}]
[{"$f":"INDEX(Tabelle2[[#All],[Budgetlinie]],MATCH(Tabelle1[[#This Row],[Maßnahme]],Ausfüllhilfe!$C$1:$C$22,0))","v":{"$error":"#N/A"}},null,null,null,null,null,null,null,null,{"$f":"VLOOKUP(Tabelle1[[#This Row],[Budgetlinie]],Ausfüllhilfe!$A$1:$D$23,4,0)","v":{"$error":"#N/A"}}]
[{"$f":"INDEX(Tabelle2[[#All],[Budgetlinie]],MATCH(Tabelle1[[#This Row],[Maßnahme]],Ausfüllhilfe!$C$1:$C$22,0))","v":{"$error":"#N/A"}},null,null,null,null,null,null,null,null,{"$f":"VLOOKUP(Tabelle1[[#This Row],[Budgetlinie]],Ausfüllhilfe!$A$1:$D$23,4,0)","v":{"$error":"#N/A"}}]
[{"$f":"INDEX(Tabelle2[[#All],[Budgetlinie]],MATCH(Tabelle1[[#This Row],[Maßnahme]],Ausfüllhilfe!$C$1:$C$22,0))","v":{"$error":"#N/A"}},null,null,null,null,null,null,null,null,{"$f":"VLOOKUP(Tabelle1[[#This Row],[Budgetlinie]],Ausfüllhilfe!$A$1:$D$23,4,0)","v":{"$error":"#N/A"}}]
[{"$f":"INDEX(Tabelle2[[#All],[Budgetlinie]],MATCH(Tabelle1[[#This Row],[Maßnahme]],Ausfüllhilfe!$C$1:$C$22,0))","v":{"$error":"#N/A"}},null,null,null,null,null,null,null,null,{"$f":"VLOOKUP(Tabelle1[[#This Row],[Budgetlinie]],Ausfüllhilfe!$A$1:$D$23,4,0)","v":{"$error":"#N/A"}}]
[{"$f":"INDEX(Tabelle2[[#All],[Budgetlinie]],MATCH(Tabelle1[[#This Row],[Maßnahme]],Ausfüllhilfe!$C$1:$C$22,0))","v":{"$error":"#N/A"}},null,null,null,null,null,null,null,null,{"$f":"VLOOKUP(Tabelle1[[#This Row],[Budgetlinie]],Ausfüllhilfe!$A$1:$D$23,4,0)","v":{"$error":"#N/A"}}]
[{"$f":"INDEX(Tabelle2[[#All],[Budgetlinie]],MATCH(Tabelle1[[#This Row],[Maßnahme]],Ausfüllhilfe!$C$1:$C$22,0))","v":{"$error":"#N/A"}},null,null,null,null,null,null,null,null,{"$f":"VLOOKUP(Tabelle1[[#This Row],[Budgetlinie]],Ausfüllhilfe!$A$1:$D$23,4,0)","v":{"$error":"#N/A"}}]
[{"$f":"INDEX(Tabelle2[[#All],[Budgetlinie]],MATCH(Tabelle1[[#This Row],[Maßnahme]],Ausfüllhilfe!$C$1:$C$22,0))","v":{"$error":"#N/A"}},null,null,null,null,null,null,null,null,{"$f":"VLOOKUP(Tabelle1[[#This Row],[Budgetlinie]],Ausfüllhilfe!$A$1:$D$23,4,0)","v":{"$error":"#N/A"}}]
[{"$f":"INDEX(Tabelle2[[#All],[Budgetlinie]],MATCH(Tabelle1[[#This Row],[Maßnahme]],Ausfüllhilfe!$C$1:$C$22,0))","v":{"$error":"#N/A"}},null,null,null,null,null,null,null,null,{"$f":"VLOOKUP(Tabelle1[[#This Row],[Budgetlinie]],Ausfüllhilfe!$A$1:$D$23,4,0)","v":{"$error":"#N/A"}}]
[{"$f":"INDEX(Tabelle2[[#All],[Budgetlinie]],MATCH(Tabelle1[[#This Row],[Maßnahme]],Ausfüllhilfe!$C$1:$C$22,0))","v":{"$error":"#N/A"}},null,null,null,null,null,null,null,null,{"$f":"VLOOKUP(Tabelle1[[#This Row],[Budgetlinie]],Ausfüllhilfe!$A$1:$D$23,4,0)","v":{"$error":"#N/A"}}]
[{"$f":"INDEX(Tabelle2[[#All],[Budgetlinie]],MATCH(Tabelle1[[#This Row],[Maßnahme]],Ausfüllhilfe!$C$1:$C$22,0))","v":{"$error":"#N/A"}},null,null,null,null,null,null,null,null,{"$f":"VLOOKUP(Tabelle1[[#This Row],[Budgetlinie]],Ausfüllhilfe!$A$1:$D$23,4,0)","v":{"$error":"#N/A"}}]
[{"$f":"INDEX(Tabelle2[[#All],[Budgetlinie]],MATCH(Tabelle1[[#This Row],[Maßnahme]],Ausfüllhilfe!$C$1:$C$22,0))","v":{"$error":"#N/A"}},null,null,null,null,null,null,null,null,{"$f":"VLOOKUP(Tabelle1[[#This Row],[Budgetlinie]],Ausfüllhilfe!$A$1:$D$23,4,0)","v":{"$error":"#N/A"}}]
[{"$f":"INDEX(Tabelle2[[#All],[Budgetlinie]],MATCH(Tabelle1[[#This Row],[Maßnahme]],Ausfüllhilfe!$C$1:$C$22,0))","v":{"$error":"#N/A"}},null,null,null,null,null,null,null,null,{"$f":"VLOOKUP(Tabelle1[[#This Row],[Budgetlinie]],Ausfüllhilfe!$A$1:$D$23,4,0)","v":{"$error":"#N/A"}}]
[{"$f":"INDEX(Tabelle2[[#All],[Budgetlinie]],MATCH(Tabelle1[[#This Row],[Maßnahme]],Ausfüllhilfe!$C$1:$C$22,0))","v":{"$error":"#N/A"}},null,null,null,null,null,null,null,null,{"$f":"VLOOKUP(Tabelle1[[#This Row],[Budgetlinie]],Ausfüllhilfe!$A$1:$D$23,4,0)","v":{"$error":"#N/A"}}]
[{"$f":"INDEX(Tabelle2[[#All],[Budgetlinie]],MATCH(Tabelle1[[#This Row],[Maßnahme]],Ausfüllhilfe!$C$1:$C$22,0))","v":{"$error":"#N/A"}},null,null,null,null,null,null,null,null,{"$f":"VLOOKUP(Tabelle1[[#This Row],[Budgetlinie]],Ausfüllhilfe!$A$1:$D$23,4,0)","v":{"$error":"#N/A"}}]
[{"$f":"INDEX(Tabelle2[[#All],[Budgetlinie]],MATCH(Tabelle1[[#This Row],[Maßnahme]],Ausfüllhilfe!$C$1:$C$22,0))","v":{"$error":"#N/A"}},null,null,null,null,null,null,null,null,{"$f":"VLOOKUP(Tabelle1[[#This Row],[Budgetlinie]],Ausfüllhilfe!$A$1:$D$23,4,0)","v":{"$error":"#N/A"}}]
[{"$f":"INDEX(Tabelle2[[#All],[Budgetlinie]],MATCH(Tabelle1[[#This Row],[Maßnahme]],Ausfüllhilfe!$C$1:$C$22,0))","v":{"$error":"#N/A"}},null,null,null,null,null,null,null,null,{"$f":"VLOOKUP(Tabelle1[[#This Row],[Budgetlinie]],Ausfüllhilfe!$A$1:$D$23,4,0)","v":{"$error":"#N/A"}}]
[{"$f":"INDEX(Tabelle2[[#All],[Budgetlinie]],MATCH(Tabelle1[[#This Row],[Maßnahme]],Ausfüllhilfe!$C$1:$C$22,0))","v":{"$error":"#N/A"}},null,null,null,null,null,null,null,null,{"$f":"VLOOKUP(Tabelle1[[#This Row],[Budgetlinie]],Ausfüllhilfe!$A$1:$D$23,4,0)","v":{"$error":"#N/A"}}]
[{"$f":"INDEX(Tabelle2[[#All],[Budgetlinie]],MATCH(Tabelle1[[#This Row],[Maßnahme]],Ausfüllhilfe!$C$1:$C$22,0))","v":{"$error":"#N/A"}},null,null,null,null,null,null,null,null,{"$f":"VLOOKUP(Tabelle1[[#This Row],[Budgetlinie]],Ausfüllhilfe!$A$1:$D$23,4,0)","v":{"$error":"#N/A"}}]
[{"$f":"INDEX(Tabelle2[[#All],[Budgetlinie]],MATCH(Tabelle1[[#This Row],[Maßnahme]],Ausfüllhilfe!$C$1:$C$22,0))","v":{"$error":"#N/A"}},null,null,null,null,null,null,null,null,{"$f":"VLOOKUP(Tabelle1[[#This Row],[Budgetlinie]],Ausfüllhilfe!$A$1:$D$23,4,0)","v":{"$error":"#N/A"}}]
[{"$f":"INDEX(Tabelle2[[#All],[Budgetlinie]],MATCH(Tabelle1[[#This Row],[Maßnahme]],Ausfüllhilfe!$C$1:$C$22,0))","v":{"$error":"#N/A"}},null,null,null,null,null,null,null,null,{"$f":"VLOOKUP(Tabelle1[[#This Row],[Budgetlinie]],Ausfüllhilfe!$A$1:$D$23,4,0)","v":{"$error":"#N/A"}}]
[{"$f":"INDEX(Tabelle2[[#All],[Budgetlinie]],MATCH(Tabelle1[[#This Row],[Maßnahme]],Ausfüllhilfe!$C$1:$C$22,0))","v":{"$error":"#N/A"}},null,null,null,null,null,null,null,null,{"$f":"VLOOKUP(Tabelle1[[#This Row],[Budgetlinie]],Ausfüllhilfe!$A$1:$D$23,4,0)","v":{"$error":"#N/A"}}]
[{"$f":"INDEX(Tabelle2[[#All],[Budgetlinie]],MATCH(Tabelle1[[#This Row],[Maßnahme]],Ausfüllhilfe!$C$1:$C$22,0))","v":{"$error":"#N/A"}},null,null,null,null,null,null,null,null,{"$f":"VLOOKUP(Tabelle1[[#This Row],[Budgetlinie]],Ausfüllhilfe!$A$1:$D$23,4,0)","v":{"$error":"#N/A"}}]
[{"$f":"INDEX(Tabelle2[[#All],[Budgetlinie]],MATCH(Tabelle1[[#This Row],[Maßnahme]],Ausfüllhilfe!$C$1:$C$22,0))","v":{"$error":"#N/A"}},null,null,null,null,null,null,null,null,{"$f":"VLOOKUP(Tabelle1[[#This Row],[Budgetlinie]],Ausfüllhilfe!$A$1:$D$23,4,0)","v":{"$error":"#N/A"}}]
[{"$f":"INDEX(Tabelle2[[#All],[Budgetlinie]],MATCH(Tabelle1[[#This Row],[Maßnahme]],Ausfüllhilfe!$C$1:$C$22,0))","v":{"$error":"#N/A"}},null,null,null,null,null,null,null,null,{"$f":"VLOOKUP(Tabelle1[[#This Row],[Budgetlinie]],Ausfüllhilfe!$A$1:$D$23,4,0)","v":{"$error":"#N/A"}}]
[{"$f":"INDEX(Tabelle2[[#All],[Budgetlinie]],MATCH(Tabelle1[[#This Row],[Maßnahme]],Ausfüllhilfe!$C$1:$C$22,0))","v":{"$error":"#N/A"}},null,null,null,null,null,null,null,null,{"$f":"VLOOKUP(Tabelle1[[#This Row],[Budgetlinie]],Ausfüllhilfe!$A$1:$D$23,4,0)","v":{"$error":"#N/A"}}]
[{"$f":"INDEX(Tabelle2[[#All],[Budgetlinie]],MATCH(Tabelle1[[#This Row],[Maßnahme]],Ausfüllhilfe!$C$1:$C$22,0))","v":{"$error":"#N/A"}},null,null,null,null,null,null,null,null,{"$f":"VLOOKUP(Tabelle1[[#This Row],[Budgetlinie]],Ausfüllhilfe!$A$1:$D$23,4,0)","v":{"$error":"#N/A"}}]
[{"$f":"INDEX(Tabelle2[[#All],[Budgetlinie]],MATCH(Tabelle1[[#This Row],[Maßnahme]],Ausfüllhilfe!$C$1:$C$22,0))","v":{"$error":"#N/A"}},null,null,null,null,null,null,null,null,{"$f":"VLOOKUP(Tabelle1[[#This Row],[Budgetlinie]],Ausfüllhilfe!$A$1:$D$23,4,0)","v":{"$error":"#N/A"}}]
[{"$f":"INDEX(Tabelle2[[#All],[Budgetlinie]],MATCH(Tabelle1[[#This Row],[Maßnahme]],Ausfüllhilfe!$C$1:$C$22,0))","v":{"$error":"#N/A"}},null,null,null,null,null,null,null,null,{"$f":"VLOOKUP(Tabelle1[[#This Row],[Budgetlinie]],Ausfüllhilfe!$A$1:$D$23,4,0)","v":{"$error":"#N/A"}}]
[{"$f":"INDEX(Tabelle2[[#All],[Budgetlinie]],MATCH(Tabelle1[[#This Row],[Maßnahme]],Ausfüllhilfe!$C$1:$C$22,0))","v":{"$error":"#N/A"}},null,null,null,null,null,null,null,null,{"$f":"VLOOKUP(Tabelle1[[#This Row],[Budgetlinie]],Ausfüllhilfe!$A$1:$D$23,4,0)","v":{"$error":"#N/A"}}]
[{"$f":"INDEX(Tabelle2[[#All],[Budgetlinie]],MATCH(Tabelle1[[#This Row],[Maßnahme]],Ausfüllhilfe!$C$1:$C$22,0))","v":{"$error":"#N/A"}},null,null,null,null,null,null,null,null,{"$f":"VLOOKUP(Tabelle1[[#This Row],[Budgetlinie]],Ausfüllhilfe!$A$1:$D$23,4,0)","v":{"$error":"#N/A"}}]
[{"$f":"INDEX(Tabelle2[[#All],[Budgetlinie]],MATCH(Tabelle1[[#This Row],[Maßnahme]],Ausfüllhilfe!$C$1:$C$22,0))","v":{"$error":"#N/A"}},null,null,null,null,null,null,null,null,{"$f":"VLOOKUP(Tabelle1[[#This Row],[Budgetlinie]],Ausfüllhilfe!$A$1:$D$23,4,0)","v":{"$error":"#N/A"}}]
[{"$f":"INDEX(Tabelle2[[#All],[Budgetlinie]],MATCH(Tabelle1[[#This Row],[Maßnahme]],Ausfüllhilfe!$C$1:$C$22,0))","v":{"$error":"#N/A"}},null,null,null,null,null,null,null,null,{"$f":"VLOOKUP(Tabelle1[[#This Row],[Budgetlinie]],Ausfüllhilfe!$A$1:$D$23,4,0)","v":{"$error":"#N/A"}}]
[{"$f":"INDEX(Tabelle2[[#All],[Budgetlinie]],MATCH(Tabelle1[[#This Row],[Maßnahme]],Ausfüllhilfe!$C$1:$C$22,0))","v":{"$error":"#N/A"}},null,null,null,null,null,null,null,null,{"$f":"VLOOKUP(Tabelle1[[#This Row],[Budgetlinie]],Ausfüllhilfe!$A$1:$D$23,4,0)","v":{"$error":"#N/A"}}]
[{"$f":"INDEX(Tabelle2[[#All],[Budgetlinie]],MATCH(Tabelle1[[#This Row],[Maßnahme]],Ausfüllhilfe!$C$1:$C$22,0))","v":{"$error":"#N/A"}},null,null,null,null,null,null,null,null,{"$f":"VLOOKUP(Tabelle1[[#This Row],[Budgetlinie]],Ausfüllhilfe!$A$1:$D$23,4,0)","v":{"$error":"#N/A"}}]
[{"$f":"INDEX(Tabelle2[[#All],[Budgetlinie]],MATCH(Tabelle1[[#This Row],[Maßnahme]],Ausfüllhilfe!$C$1:$C$22,0))","v":{"$error":"#N/A"}},null,null,null,null,null,null,null,null,{"$f":"VLOOKUP(Tabelle1[[#This Row],[Budgetlinie]],Ausfüllhilfe!$A$1:$D$23,4,0)","v":{"$error":"#N/A"}}]
[{"$f":"INDEX(Tabelle2[[#All],[Budgetlinie]],MATCH(Tabelle1[[#This Row],[Maßnahme]],Ausfüllhilfe!$C$1:$C$22,0))","v":{"$error":"#N/A"}},null,null,null,null,null,null,null,null,{"$f":"VLOOKUP(Tabelle1[[#This Row],[Budgetlinie]],Ausfüllhilfe!$A$1:$D$23,4,0)","v":{"$error":"#N/A"}}]
[{"$f":"INDEX(Tabelle2[[#All],[Budgetlinie]],MATCH(Tabelle1[[#This Row],[Maßnahme]],Ausfüllhilfe!$C$1:$C$22,0))","v":{"$error":"#N/A"}},null,null,null,null,null,null,null,null,{"$f":"VLOOKUP(Tabelle1[[#This Row],[Budgetlinie]],Ausfüllhilfe!$A$1:$D$23,4,0)","v":{"$error":"#N/A"}}]
[{"$f":"INDEX(Tabelle2[[#All],[Budgetlinie]],MATCH(Tabelle1[[#This Row],[Maßnahme]],Ausfüllhilfe!$C$1:$C$22,0))","v":{"$error":"#N/A"}},null,null,null,null,null,null,null,null,{"$f":"VLOOKUP(Tabelle1[[#This Row],[Budgetlinie]],Ausfüllhilfe!$A$1:$D$23,4,0)","v":{"$error":"#N/A"}}]
[{"$f":"INDEX(Tabelle2[[#All],[Budgetlinie]],MATCH(Tabelle1[[#This Row],[Maßnahme]],Ausfüllhilfe!$C$1:$C$22,0))","v":{"$error":"#N/A"}},null,null,null,null,null,null,null,null,{"$f":"VLOOKUP(Tabelle1[[#This Row],[Budgetlinie]],Ausfüllhilfe!$A$1:$D$23,4,0)","v":{"$error":"#N/A"}}]
[{"$f":"INDEX(Tabelle2[[#All],[Budgetlinie]],MATCH(Tabelle1[[#This Row],[Maßnahme]],Ausfüllhilfe!$C$1:$C$22,0))","v":{"$error":"#N/A"}},null,null,null,null,null,null,null,null,{"$f":"VLOOKUP(Tabelle1[[#This Row],[Budgetlinie]],Ausfüllhilfe!$A$1:$D$23,4,0)","v":{"$error":"#N/A"}}]
[{"$f":"INDEX(Tabelle2[[#All],[Budgetlinie]],MATCH(Tabelle1[[#This Row],[Maßnahme]],Ausfüllhilfe!$C$1:$C$22,0))","v":{"$error":"#N/A"}},null,null,null,null,null,null,null,null,{"$f":"VLOOKUP(Tabelle1[[#This Row],[Budgetlinie]],Ausfüllhilfe!$A$1:$D$23,4,0)","v":{"$error":"#N/A"}}]
[{"$f":"INDEX(Tabelle2[[#All],[Budgetlinie]],MATCH(Tabelle1[[#This Row],[Maßnahme]],Ausfüllhilfe!$C$1:$C$22,0))","v":{"$error":"#N/A"}},null,null,null,null,null,null,null,null,{"$f":"VLOOKUP(Tabelle1[[#This Row],[Budgetlinie]],Ausfüllhilfe!$A$1:$D$23,4,0)","v":{"$error":"#N/A"}}]
[{"$f":"INDEX(Tabelle2[[#All],[Budgetlinie]],MATCH(Tabelle1[[#This Row],[Maßnahme]],Ausfüllhilfe!$C$1:$C$22,0))","v":{"$error":"#N/A"}},null,null,null,null,null,null,null,null,{"$f":"VLOOKUP(Tabelle1[[#This Row],[Budgetlinie]],Ausfüllhilfe!$A$1:$D$23,4,0)","v":{"$error":"#N/A"}}]
[{"$f":"INDEX(Tabelle2[[#All],[Budgetlinie]],MATCH(Tabelle1[[#This Row],[Maßnahme]],Ausfüllhilfe!$C$1:$C$22,0))","v":{"$error":"#N/A"}},null,null,null,null,null,null,null,null,{"$f":"VLOOKUP(Tabelle1[[#This Row],[Budgetlinie]],Ausfüllhilfe!$A$1:$D$23,4,0)","v":{"$error":"#N/A"}}]
[{"$f":"INDEX(Tabelle2[[#All],[Budgetlinie]],MATCH(Tabelle1[[#This Row],[Maßnahme]],Ausfüllhilfe!$C$1:$C$22,0))","v":{"$error":"#N/A"}},null,null,null,null,null,null,null,null,{"$f":"VLOOKUP(Tabelle1[[#This Row],[Budgetlinie]],Ausfüllhilfe!$A$1:$D$23,4,0)","v":{"$error":"#N/A"}}]
[{"$f":"INDEX(Tabelle2[[#All],[Budgetlinie]],MATCH(Tabelle1[[#This Row],[Maßnahme]],Ausfüllhilfe!$C$1:$C$22,0))","v":{"$error":"#N/A"}},null,null,null,null,null,null,null,null,{"$f":"VLOOKUP(Tabelle1[[#This Row],[Budgetlinie]],Ausfüllhilfe!$A$1:$D$23,4,0)","v":{"$error":"#N/A"}}]
[{"$f":"INDEX(Tabelle2[[#All],[Budgetlinie]],MATCH(Tabelle1[[#This Row],[Maßnahme]],Ausfüllhilfe!$C$1:$C$22,0))","v":{"$error":"#N/A"}},null,null,null,null,null,null,null,null,{"$f":"VLOOKUP(Tabelle1[[#This Row],[Budgetlinie]],Ausfüllhilfe!$A$1:$D$23,4,0)","v":{"$error":"#N/A"}}]
[{"$f":"INDEX(Tabelle2[[#All],[Budgetlinie]],MATCH(Tabelle1[[#This Row],[Maßnahme]],Ausfüllhilfe!$C$1:$C$22,0))","v":{"$error":"#N/A"}},null,null,null,null,null,null,null,null,{"$f":"VLOOKUP(Tabelle1[[#This Row],[Budgetlinie]],Ausfüllhilfe!$A$1:$D$23,4,0)","v":{"$error":"#N/A"}}]
[{"$f":"INDEX(Tabelle2[[#All],[Budgetlinie]],MATCH(Tabelle1[[#This Row],[Maßnahme]],Ausfüllhilfe!$C$1:$C$22,0))","v":{"$error":"#N/A"}},null,null,null,null,null,null,null,null,{"$f":"VLOOKUP(Tabelle1[[#This Row],[Budgetlinie]],Ausfüllhilfe!$A$1:$D$23,4,0)","v":{"$error":"#N/A"}}]
[{"$f":"INDEX(Tabelle2[[#All],[Budgetlinie]],MATCH(Tabelle1[[#This Row],[Maßnahme]],Ausfüllhilfe!$C$1:$C$22,0))","v":{"$error":"#N/A"}},null,null,null,null,null,null,null,null,{"$f":"VLOOKUP(Tabelle1[[#This Row],[Budgetlinie]],Ausfüllhilfe!$A$1:$D$23,4,0)","v":{"$error":"#N/A"}}]
[{"$f":"INDEX(Tabelle2[[#All],[Budgetlinie]],MATCH(Tabelle1[[#This Row],[Maßnahme]],Ausfüllhilfe!$C$1:$C$22,0))","v":{"$error":"#N/A"}},null,null,null,null,null,null,null,null,{"$f":"VLOOKUP(Tabelle1[[#This Row],[Budgetlinie]],Ausfüllhilfe!$A$1:$D$23,4,0)","v":{"$error":"#N/A"}}]
[{"$f":"INDEX(Tabelle2[[#All],[Budgetlinie]],MATCH(Tabelle1[[#This Row],[Maßnahme]],Ausfüllhilfe!$C$1:$C$22,0))","v":{"$error":"#N/A"}},null,null,null,null,null,null,null,null,{"$f":"VLOOKUP(Tabelle1[[#This Row],[Budgetlinie]],Ausfüllhilfe!$A$1:$D$23,4,0)","v":{"$error":"#N/A"}}]
[{"$f":"INDEX(Tabelle2[[#All],[Budgetlinie]],MATCH(Tabelle1[[#This Row],[Maßnahme]],Ausfüllhilfe!$C$1:$C$22,0))","v":{"$error":"#N/A"}},null,null,null,null,null,null,null,null,{"$f":"VLOOKUP(Tabelle1[[#This Row],[Budgetlinie]],Ausfüllhilfe!$A$1:$D$23,4,0)","v":{"$error":"#N/A"}}]
[{"$f":"INDEX(Tabelle2[[#All],[Budgetlinie]],MATCH(Tabelle1[[#This Row],[Maßnahme]],Ausfüllhilfe!$C$1:$C$22,0))","v":{"$error":"#N/A"}},null,null,null,null,null,null,null,null,{"$f":"VLOOKUP(Tabelle1[[#This Row],[Budgetlinie]],Ausfüllhilfe!$A$1:$D$23,4,0)","v":{"$error":"#N/A"}}]
[{"$f":"INDEX(Tabelle2[[#All],[Budgetlinie]],MATCH(Tabelle1[[#This Row],[Maßnahme]],Ausfüllhilfe!$C$1:$C$22,0))","v":{"$error":"#N/A"}},null,null,null,null,null,null,null,null,{"$f":"VLOOKUP(Tabelle1[[#This Row],[Budgetlinie]],Ausfüllhilfe!$A$1:$D$23,4,0)","v":{"$error":"#N/A"}}]
[{"$f":"INDEX(Tabelle2[[#All],[Budgetlinie]],MATCH(Tabelle1[[#This Row],[Maßnahme]],Ausfüllhilfe!$C$1:$C$22,0))","v":{"$error":"#N/A"}},null,null,null,null,null,null,null,null,{"$f":"VLOOKUP(Tabelle1[[#This Row],[Budgetlinie]],Ausfüllhilfe!$A$1:$D$23,4,0)","v":{"$error":"#N/A"}}]
[{"$f":"INDEX(Tabelle2[[#All],[Budgetlinie]],MATCH(Tabelle1[[#This Row],[Maßnahme]],Ausfüllhilfe!$C$1:$C$22,0))","v":{"$error":"#N/A"}},null,null,null,null,null,null,null,null,{"$f":"VLOOKUP(Tabelle1[[#This Row],[Budgetlinie]],Ausfüllhilfe!$A$1:$D$23,4,0)","v":{"$error":"#N/A"}}]
[{"$f":"INDEX(Tabelle2[[#All],[Budgetlinie]],MATCH(Tabelle1[[#This Row],[Maßnahme]],Ausfüllhilfe!$C$1:$C$22,0))","v":{"$error":"#N/A"}},null,null,null,null,null,null,null,null,{"$f":"VLOOKUP(Tabelle1[[#This Row],[Budgetlinie]],Ausfüllhilfe!$A$1:$D$23,4,0)","v":{"$error":"#N/A"}}]
[{"$f":"INDEX(Tabelle2[[#All],[Budgetlinie]],MATCH(Tabelle1[[#This Row],[Maßnahme]],Ausfüllhilfe!$C$1:$C$22,0))","v":{"$error":"#N/A"}},null,null,null,null,null,null,null,null,{"$f":"VLOOKUP(Tabelle1[[#This Row],[Budgetlinie]],Ausfüllhilfe!$A$1:$D$23,4,0)","v":{"$error":"#N/A"}}]
[{"$f":"INDEX(Tabelle2[[#All],[Budgetlinie]],MATCH(Tabelle1[[#This Row],[Maßnahme]],Ausfüllhilfe!$C$1:$C$22,0))","v":{"$error":"#N/A"}},null,null,null,null,null,null,null,null,{"$f":"VLOOKUP(Tabelle1[[#This Row],[Budgetlinie]],Ausfüllhilfe!$A$1:$D$23,4,0)","v":{"$error":"#N/A"}}]
[{"$f":"INDEX(Tabelle2[[#All],[Budgetlinie]],MATCH(Tabelle1[[#This Row],[Maßnahme]],Ausfüllhilfe!$C$1:$C$22,0))","v":{"$error":"#N/A"}},null,null,null,null,null,null,null,null,{"$f":"VLOOKUP(Tabelle1[[#This Row],[Budgetlinie]],Ausfüllhilfe!$A$1:$D$23,4,0)","v":{"$error":"#N/A"}}]
[{"$f":"INDEX(Tabelle2[[#All],[Budgetlinie]],MATCH(Tabelle1[[#This Row],[Maßnahme]],Ausfüllhilfe!$C$1:$C$22,0))","v":{"$error":"#N/A"}},null,null,null,null,null,null,null,null,{"$f":"VLOOKUP(Tabelle1[[#This Row],[Budgetlinie]],Ausfüllhilfe!$A$1:$D$23,4,0)","v":{"$error":"#N/A"}}]
[{"$f":"INDEX(Tabelle2[[#All],[Budgetlinie]],MATCH(Tabelle1[[#This Row],[Maßnahme]],Ausfüllhilfe!$C$1:$C$22,0))","v":{"$error":"#N/A"}},null,null,null,null,null,null,null,null,{"$f":"VLOOKUP(Tabelle1[[#This Row],[Budgetlinie]],Ausfüllhilfe!$A$1:$D$23,4,0)","v":{"$error":"#N/A"}}]
[{"$f":"INDEX(Tabelle2[[#All],[Budgetlinie]],MATCH(Tabelle1[[#This Row],[Maßnahme]],Ausfüllhilfe!$C$1:$C$22,0))","v":{"$error":"#N/A"}},null,null,null,null,null,null,null,null,{"$f":"VLOOKUP(Tabelle1[[#This Row],[Budgetlinie]],Ausfüllhilfe!$A$1:$D$23,4,0)","v":{"$error":"#N/A"}}]
[{"$f":"INDEX(Tabelle2[[#All],[Budgetlinie]],MATCH(Tabelle1[[#This Row],[Maßnahme]],Ausfüllhilfe!$C$1:$C$22,0))","v":{"$error":"#N/A"}},null,null,null,null,null,null,null,null,{"$f":"VLOOKUP(Tabelle1[[#This Row],[Budgetlinie]],Ausfüllhilfe!$A$1:$D$23,4,0)","v":{"$error":"#N/A"}}]
[{"$f":"INDEX(Tabelle2[[#All],[Budgetlinie]],MATCH(Tabelle1[[#This Row],[Maßnahme]],Ausfüllhilfe!$C$1:$C$22,0))","v":{"$error":"#N/A"}},null,null,null,null,null,null,null,null,{"$f":"VLOOKUP(Tabelle1[[#This Row],[Budgetlinie]],Ausfüllhilfe!$A$1:$D$23,4,0)","v":{"$error":"#N/A"}}]
[{"$f":"INDEX(Tabelle2[[#All],[Budgetlinie]],MATCH(Tabelle1[[#This Row],[Maßnahme]],Ausfüllhilfe!$C$1:$C$22,0))","v":{"$error":"#N/A"}},null,null,null,null,null,null,null,null,{"$f":"VLOOKUP(Tabelle1[[#This Row],[Budgetlinie]],Ausfüllhilfe!$A$1:$D$23,4,0)","v":{"$error":"#N/A"}}]
[{"$f":"INDEX(Tabelle2[[#All],[Budgetlinie]],MATCH(Tabelle1[[#This Row],[Maßnahme]],Ausfüllhilfe!$C$1:$C$22,0))","v":{"$error":"#N/A"}},null,null,null,null,null,null,null,null,{"$f":"VLOOKUP(Tabelle1[[#This Row],[Budgetlinie]],Ausfüllhilfe!$A$1:$D$23,4,0)","v":{"$error":"#N/A"}}]
[{"$f":"INDEX(Tabelle2[[#All],[Budgetlinie]],MATCH(Tabelle1[[#This Row],[Maßnahme]],Ausfüllhilfe!$C$1:$C$22,0))","v":{"$error":"#N/A"}},null,null,null,null,null,null,null,null,{"$f":"VLOOKUP(Tabelle1[[#This Row],[Budgetlinie]],Ausfüllhilfe!$A$1:$D$23,4,0)","v":{"$error":"#N/A"}}]
[{"$f":"INDEX(Tabelle2[[#All],[Budgetlinie]],MATCH(Tabelle1[[#This Row],[Maßnahme]],Ausfüllhilfe!$C$1:$C$22,0))","v":{"$error":"#N/A"}},null,null,null,null,null,null,null,null,{"$f":"VLOOKUP(Tabelle1[[#This Row],[Budgetlinie]],Ausfüllhilfe!$A$1:$D$23,4,0)","v":{"$error":"#N/A"}}]
[{"$f":"INDEX(Tabelle2[[#All],[Budgetlinie]],MATCH(Tabelle1[[#This Row],[Maßnahme]],Ausfüllhilfe!$C$1:$C$22,0))","v":{"$error":"#N/A"}},null,null,null,null,null,null,null,null,{"$f":"VLOOKUP(Tabelle1[[#This Row],[Budgetlinie]],Ausfüllhilfe!$A$1:$D$23,4,0)","v":{"$error":"#N/A"}}]
[{"$f":"INDEX(Tabelle2[[#All],[Budgetlinie]],MATCH(Tabelle1[[#This Row],[Maßnahme]],Ausfüllhilfe!$C$1:$C$22,0))","v":{"$error":"#N/A"}},null,null,null,null,null,null,null,null,{"$f":"VLOOKUP(Tabelle1[[#This Row],[Budgetlinie]],Ausfüllhilfe!$A$1:$D$23,4,0)","v":{"$error":"#N/A"}}]
[{"$f":"INDEX(Tabelle2[[#All],[Budgetlinie]],MATCH(Tabelle1[[#This Row],[Maßnahme]],Ausfüllhilfe!$C$1:$C$22,0))","v":{"$error":"#N/A"}},null,null,null,null,null,null,null,null,{"$f":"VLOOKUP(Tabelle1[[#This Row],[Budgetlinie]],Ausfüllhilfe!$A$1:$D$23,4,0)","v":{"$error":"#N/A"}}]
[{"$f":"INDEX(Tabelle2[[#All],[Budgetlinie]],MATCH(Tabelle1[[#This Row],[Maßnahme]],Ausfüllhilfe!$C$1:$C$22,0))","v":{"$error":"#N/A"}},null,null,null,null,null,null,null,null,{"$f":"VLOOKUP(Tabelle1[[#This Row],[Budgetlinie]],Ausfüllhilfe!$A$1:$D$23,4,0)","v":{"$error":"#N/A"}}]
[{"$f":"INDEX(Tabelle2[[#All],[Budgetlinie]],MATCH(Tabelle1[[#This Row],[Maßnahme]],Ausfüllhilfe!$C$1:$C$22,0))","v":{"$error":"#N/A"}},null,null,null,null,null,null,null,null,{"$f":"VLOOKUP(Tabelle1[[#This Row],[Budgetlinie]],Ausfüllhilfe!$A$1:$D$23,4,0)","v":{"$error":"#N/A"}}]
[{"$f":"INDEX(Tabelle2[[#All],[Budgetlinie]],MATCH(Tabelle1[[#This Row],[Maßnahme]],Ausfüllhilfe!$C$1:$C$22,0))","v":{"$error":"#N/A"}},null,null,null,null,null,null,null,null,{"$f":"VLOOKUP(Tabelle1[[#This Row],[Budgetlinie]],Ausfüllhilfe!$A$1:$D$23,4,0)","v":{"$error":"#N/A"}}]
[{"$f":"INDEX(Tabelle2[[#All],[Budgetlinie]],MATCH(Tabelle1[[#This Row],[Maßnahme]],Ausfüllhilfe!$C$1:$C$22,0))","v":{"$error":"#N/A"}},null,null,null,null,null,null,null,null,{"$f":"VLOOKUP(Tabelle1[[#This Row],[Budgetlinie]],Ausfüllhilfe!$A$1:$D$23,4,0)","v":{"$error":"#N/A"}}]
[{"$f":"INDEX(Tabelle2[[#All],[Budgetlinie]],MATCH(Tabelle1[[#This Row],[Maßnahme]],Ausfüllhilfe!$C$1:$C$22,0))","v":{"$error":"#N/A"}},null,null,null,null,null,null,null,null,{"$f":"VLOOKUP(Tabelle1[[#This Row],[Budgetlinie]],Ausfüllhilfe!$A$1:$D$23,4,0)","v":{"$error":"#N/A"}}]
[{"$f":"INDEX(Tabelle2[[#All],[Budgetlinie]],MATCH(Tabelle1[[#This Row],[Maßnahme]],Ausfüllhilfe!$C$1:$C$22,0))","v":{"$error":"#N/A"}},null,null,null,null,null,null,null,null,{"$f":"VLOOKUP(Tabelle1[[#This Row],[Budgetlinie]],Ausfüllhilfe!$A$1:$D$23,4,0)","v":{"$error":"#N/A"}}]
[{"$f":"INDEX(Tabelle2[[#All],[Budgetlinie]],MATCH(Tabelle1[[#This Row],[Maßnahme]],Ausfüllhilfe!$C$1:$C$22,0))","v":{"$error":"#N/A"}},null,null,null,null,null,null,null,null,{"$f":"VLOOKUP(Tabelle1[[#This Row],[Budgetlinie]],Ausfüllhilfe!$A$1:$D$23,4,0)","v":{"$error":"#N/A"}}]
[{"$f":"INDEX(Tabelle2[[#All],[Budgetlinie]],MATCH(Tabelle1[[#This Row],[Maßnahme]],Ausfüllhilfe!$C$1:$C$22,0))","v":{"$error":"#N/A"}},null,null,null,null,null,null,null,null,{"$f":"VLOOKUP(Tabelle1[[#This Row],[Budgetlinie]],Ausfüllhilfe!$A$1:$D$23,4,0)","v":{"$error":"#N/A"}}]
[{"$f":"INDEX(Tabelle2[[#All],[Budgetlinie]],MATCH(Tabelle1[[#This Row],[Maßnahme]],Ausfüllhilfe!$C$1:$C$22,0))","v":{"$error":"#N/A"}},null,null,null,null,null,null,null,null,{"$f":"VLOOKUP(Tabelle1[[#This Row],[Budgetlinie]],Ausfüllhilfe!$A$1:$D$23,4,0)","v":{"$error":"#N/A"}}]
[{"$f":"INDEX(Tabelle2[[#All],[Budgetlinie]],MATCH(Tabelle1[[#This Row],[Maßnahme]],Ausfüllhilfe!$C$1:$C$22,0))","v":{"$error":"#N/A"}},null,null,null,null,null,null,null,null,{"$f":"VLOOKUP(Tabelle1[[#This Row],[Budgetlinie]],Ausfüllhilfe!$A$1:$D$23,4,0)","v":{"$error":"#N/A"}}]
[{"$f":"INDEX(Tabelle2[[#All],[Budgetlinie]],MATCH(Tabelle1[[#This Row],[Maßnahme]],Ausfüllhilfe!$C$1:$C$22,0))","v":{"$error":"#N/A"}},null,null,null,null,null,null,null,null,{"$f":"VLOOKUP(Tabelle1[[#This Row],[Budgetlinie]],Ausfüllhilfe!$A$1:$D$23,4,0)","v":{"$error":"#N/A"}}]
[{"$f":"INDEX(Tabelle2[[#All],[Budgetlinie]],MATCH(Tabelle1[[#This Row],[Maßnahme]],Ausfüllhilfe!$C$1:$C$22,0))","v":{"$error":"#N/A"}},null,null,null,null,null,null,null,null,{"$f":"VLOOKUP(Tabelle1[[#This Row],[Budgetlinie]],Ausfüllhilfe!$A$1:$D$23,4,0)","v":{"$error":"#N/A"}}]
[{"$f":"INDEX(Tabelle2[[#All],[Budgetlinie]],MATCH(Tabelle1[[#This Row],[Maßnahme]],Ausfüllhilfe!$C$1:$C$22,0))","v":{"$error":"#N/A"}},null,null,null,null,null,null,null,null,{"$f":"VLOOKUP(Tabelle1[[#This Row],[Budgetlinie]],Ausfüllhilfe!$A$1:$D$23,4,0)","v":{"$error":"#N/A"}}]
[{"$f":"INDEX(Tabelle2[[#All],[Budgetlinie]],MATCH(Tabelle1[[#This Row],[Maßnahme]],Ausfüllhilfe!$C$1:$C$22,0))","v":{"$error":"#N/A"}},null,null,null,null,null,null,null,null,{"$f":"VLOOKUP(Tabelle1[[#This Row],[Budgetlinie]],Ausfüllhilfe!$A$1:$D$23,4,0)","v":{"$error":"#N/A"}}]
[{"$f":"INDEX(Tabelle2[[#All],[Budgetlinie]],MATCH(Tabelle1[[#This Row],[Maßnahme]],Ausfüllhilfe!$C$1:$C$22,0))","v":{"$error":"#N/A"}},null,null,null,null,null,null,null,null,{"$f":"VLOOKUP(Tabelle1[[#This Row],[Budgetlinie]],Ausfüllhilfe!$A$1:$D$23,4,0)","v":{"$error":"#N/A"}}]
[{"$f":"INDEX(Tabelle2[[#All],[Budgetlinie]],MATCH(Tabelle1[[#This Row],[Maßnahme]],Ausfüllhilfe!$C$1:$C$22,0))","v":{"$error":"#N/A"}},null,null,null,null,null,null,null,null,{"$f":"VLOOKUP(Tabelle1[[#This Row],[Budgetlinie]],Ausfüllhilfe!$A$1:$D$23,4,0)","v":{"$error":"#N/A"}}]
[{"$f":"INDEX(Tabelle2[[#All],[Budgetlinie]],MATCH(Tabelle1[[#This Row],[Maßnahme]],Ausfüllhilfe!$C$1:$C$22,0))","v":{"$error":"#N/A"}},null,null,null,null,null,null,null,null,{"$f":"VLOOKUP(Tabelle1[[#This Row],[Budgetlinie]],Ausfüllhilfe!$A$1:$D$23,4,0)","v":{"$error":"#N/A"}}]
[{"$f":"INDEX(Tabelle2[[#All],[Budgetlinie]],MATCH(Tabelle1[[#This Row],[Maßnahme]],Ausfüllhilfe!$C$1:$C$22,0))","v":{"$error":"#N/A"}},null,null,null,null,null,null,null,null,{"$f":"VLOOKUP(Tabelle1[[#This Row],[Budgetlinie]],Ausfüllhilfe!$A$1:$D$23,4,0)","v":{"$error":"#N/A"}}]
[{"$f":"INDEX(Tabelle2[[#All],[Budgetlinie]],MATCH(Tabelle1[[#This Row],[Maßnahme]],Ausfüllhilfe!$C$1:$C$22,0))","v":{"$error":"#N/A"}},null,null,null,null,null,null,null,null,{"$f":"VLOOKUP(Tabelle1[[#This Row],[Budgetlinie]],Ausfüllhilfe!$A$1:$D$23,4,0)","v":{"$error":"#N/A"}}]
[{"$f":"INDEX(Tabelle2[[#All],[Budgetlinie]],MATCH(Tabelle1[[#This Row],[Maßnahme]],Ausfüllhilfe!$C$1:$C$22,0))","v":{"$error":"#N/A"}},null,null,null,null,null,null,null,null,{"$f":"VLOOKUP(Tabelle1[[#This Row],[Budgetlinie]],Ausfüllhilfe!$A$1:$D$23,4,0)","v":{"$error":"#N/A"}}]
[{"$f":"INDEX(Tabelle2[[#All],[Budgetlinie]],MATCH(Tabelle1[[#This Row],[Maßnahme]],Ausfüllhilfe!$C$1:$C$22,0))","v":{"$error":"#N/A"}},null,null,null,null,null,null,null,null,{"$f":"VLOOKUP(Tabelle1[[#This Row],[Budgetlinie]],Ausfüllhilfe!$A$1:$D$23,4,0)","v":{"$error":"#N/A"}}]
[{"$f":"INDEX(Tabelle2[[#All],[Budgetlinie]],MATCH(Tabelle1[[#This Row],[Maßnahme]],Ausfüllhilfe!$C$1:$C$22,0))","v":{"$error":"#N/A"}},null,null,null,null,null,null,null,null,{"$f":"VLOOKUP(Tabelle1[[#This Row],[Budgetlinie]],Ausfüllhilfe!$A$1:$D$23,4,0)","v":{"$error":"#N/A"}}]
[{"$f":"INDEX(Tabelle2[[#All],[Budgetlinie]],MATCH(Tabelle1[[#This Row],[Maßnahme]],Ausfüllhilfe!$C$1:$C$22,0))","v":{"$error":"#N/A"}},null,null,null,null,null,null,null,null,{"$f":"VLOOKUP(Tabelle1[[#This Row],[Budgetlinie]],Ausfüllhilfe!$A$1:$D$23,4,0)","v":{"$error":"#N/A"}}]
[{"$f":"INDEX(Tabelle2[[#All],[Budgetlinie]],MATCH(Tabelle1[[#This Row],[Maßnahme]],Ausfüllhilfe!$C$1:$C$22,0))","v":{"$error":"#N/A"}},null,null,null,null,null,null,null,null,{"$f":"VLOOKUP(Tabelle1[[#This Row],[Budgetlinie]],Ausfüllhilfe!$A$1:$D$23,4,0)","v":{"$error":"#N/A"}}]
[{"$f":"INDEX(Tabelle2[[#All],[Budgetlinie]],MATCH(Tabelle1[[#This Row],[Maßnahme]],Ausfüllhilfe!$C$1:$C$22,0))","v":{"$error":"#N/A"}},null,null,null,null,null,null,null,null,{"$f":"VLOOKUP(Tabelle1[[#This Row],[Budgetlinie]],Ausfüllhilfe!$A$1:$D$23,4,0)","v":{"$error":"#N/A"}}]
[{"$f":"INDEX(Tabelle2[[#All],[Budgetlinie]],MATCH(Tabelle1[[#This Row],[Maßnahme]],Ausfüllhilfe!$C$1:$C$22,0))","v":{"$error":"#N/A"}},null,null,null,null,null,null,null,null,{"$f":"VLOOKUP(Tabelle1[[#This Row],[Budgetlinie]],Ausfüllhilfe!$A$1:$D$23,4,0)","v":{"$error":"#N/A"}}]
[{"$f":"INDEX(Tabelle2[[#All],[Budgetlinie]],MATCH(Tabelle1[[#This Row],[Maßnahme]],Ausfüllhilfe!$C$1:$C$22,0))","v":{"$error":"#N/A"}},null,null,null,null,null,null,null,null,{"$f":"VLOOKUP(Tabelle1[[#This Row],[Budgetlinie]],Ausfüllhilfe!$A$1:$D$23,4,0)","v":{"$error":"#N/A"}}]
[{"$f":"INDEX(Tabelle2[[#All],[Budgetlinie]],MATCH(Tabelle1[[#This Row],[Maßnahme]],Ausfüllhilfe!$C$1:$C$22,0))","v":{"$error":"#N/A"}},null,null,null,null,null,null,null,null,{"$f":"VLOOKUP(Tabelle1[[#This Row],[Budgetlinie]],Ausfüllhilfe!$A$1:$D$23,4,0)","v":{"$error":"#N/A"}}]
[{"$f":"INDEX(Tabelle2[[#All],[Budgetlinie]],MATCH(Tabelle1[[#This Row],[Maßnahme]],Ausfüllhilfe!$C$1:$C$22,0))","v":{"$error":"#N/A"}},null,null,null,null,null,null,null,null,{"$f":"VLOOKUP(Tabelle1[[#This Row],[Budgetlinie]],Ausfüllhilfe!$A$1:$D$23,4,0)","v":{"$error":"#N/A"}}]
[{"$f":"INDEX(Tabelle2[[#All],[Budgetlinie]],MATCH(Tabelle1[[#This Row],[Maßnahme]],Ausfüllhilfe!$C$1:$C$22,0))","v":{"$error":"#N/A"}},null,null,null,null,null,null,null,null,{"$f":"VLOOKUP(Tabelle1[[#This Row],[Budgetlinie]],Ausfüllhilfe!$A$1:$D$23,4,0)","v":{"$error":"#N/A"}}]
[{"$f":"INDEX(Tabelle2[[#All],[Budgetlinie]],MATCH(Tabelle1[[#This Row],[Maßnahme]],Ausfüllhilfe!$C$1:$C$22,0))","v":{"$error":"#N/A"}},null,null,null,null,null,null,null,null,{"$f":"VLOOKUP(Tabelle1[[#This Row],[Budgetlinie]],Ausfüllhilfe!$A$1:$D$23,4,0)","v":{"$error":"#N/A"}}]
[{"$f":"INDEX(Tabelle2[[#All],[Budgetlinie]],MATCH(Tabelle1[[#This Row],[Maßnahme]],Ausfüllhilfe!$C$1:$C$22,0))","v":{"$error":"#N/A"}},null,null,null,null,null,null,null,null,{"$f":"VLOOKUP(Tabelle1[[#This Row],[Budgetlinie]],Ausfüllhilfe!$A$1:$D$23,4,0)","v":{"$error":"#N/A"}}]
[{"$f":"INDEX(Tabelle2[[#All],[Budgetlinie]],MATCH(Tabelle1[[#This Row],[Maßnahme]],Ausfüllhilfe!$C$1:$C$22,0))","v":{"$error":"#N/A"}},null,null,null,null,null,null,null,null,{"$f":"VLOOKUP(Tabelle1[[#This Row],[Budgetlinie]],Ausfüllhilfe!$A$1:$D$23,4,0)","v":{"$error":"#N/A"}}]
[{"$f":"INDEX(Tabelle2[[#All],[Budgetlinie]],MATCH(Tabelle1[[#This Row],[Maßnahme]],Ausfüllhilfe!$C$1:$C$22,0))","v":{"$error":"#N/A"}},null,null,null,null,null,null,null,null,{"$f":"VLOOKUP(Tabelle1[[#This Row],[Budgetlinie]],Ausfüllhilfe!$A$1:$D$23,4,0)","v":{"$error":"#N/A"}}]
[{"$f":"INDEX(Tabelle2[[#All],[Budgetlinie]],MATCH(Tabelle1[[#This Row],[Maßnahme]],Ausfüllhilfe!$C$1:$C$22,0))","v":{"$error":"#N/A"}},null,null,null,null,null,null,null,null,{"$f":"VLOOKUP(Tabelle1[[#This Row],[Budgetlinie]],Ausfüllhilfe!$A$1:$D$23,4,0)","v":{"$error":"#N/A"}}]
[{"$f":"INDEX(Tabelle2[[#All],[Budgetlinie]],MATCH(Tabelle1[[#This Row],[Maßnahme]],Ausfüllhilfe!$C$1:$C$22,0))","v":{"$error":"#N/A"}},null,null,null,null,null,null,null,null,{"$f":"VLOOKUP(Tabelle1[[#This Row],[Budgetlinie]],Ausfüllhilfe!$A$1:$D$23,4,0)","v":{"$error":"#N/A"}}]
[{"$f":"INDEX(Tabelle2[[#All],[Budgetlinie]],MATCH(Tabelle1[[#This Row],[Maßnahme]],Ausfüllhilfe!$C$1:$C$22,0))","v":{"$error":"#N/A"}},null,null,null,null,null,null,null,null,{"$f":"VLOOKUP(Tabelle1[[#This Row],[Budgetlinie]],Ausfüllhilfe!$A$1:$D$23,4,0)","v":{"$error":"#N/A"}}]
[{"$f":"INDEX(Tabelle2[[#All],[Budgetlinie]],MATCH(Tabelle1[[#This Row],[Maßnahme]],Ausfüllhilfe!$C$1:$C$22,0))","v":{"$error":"#N/A"}},null,null,null,null,null,null,null,null,{"$f":"VLOOKUP(Tabelle1[[#This Row],[Budgetlinie]],Ausfüllhilfe!$A$1:$D$23,4,0)","v":{"$error":"#N/A"}}]
[{"$f":"INDEX(Tabelle2[[#All],[Budgetlinie]],MATCH(Tabelle1[[#This Row],[Maßnahme]],Ausfüllhilfe!$C$1:$C$22,0))","v":{"$error":"#N/A"}},null,null,null,null,null,null,null,null,{"$f":"VLOOKUP(Tabelle1[[#This Row],[Budgetlinie]],Ausfüllhilfe!$A$1:$D$23,4,0)","v":{"$error":"#N/A"}}]
[{"$f":"INDEX(Tabelle2[[#All],[Budgetlinie]],MATCH(Tabelle1[[#This Row],[Maßnahme]],Ausfüllhilfe!$C$1:$C$22,0))","v":{"$error":"#N/A"}},null,null,null,null,null,null,null,null,{"$f":"VLOOKUP(Tabelle1[[#This Row],[Budgetlinie]],Ausfüllhilfe!$A$1:$D$23,4,0)","v":{"$error":"#N/A"}}]
[{"$f":"INDEX(Tabelle2[[#All],[Budgetlinie]],MATCH(Tabelle1[[#This Row],[Maßnahme]],Ausfüllhilfe!$C$1:$C$22,0))","v":{"$error":"#N/A"}},null,null,null,null,null,null,null,null,{"$f":"VLOOKUP(Tabelle1[[#This Row],[Budgetlinie]],Ausfüllhilfe!$A$1:$D$23,4,0)","v":{"$error":"#N/A"}}]
[{"$f":"INDEX(Tabelle2[[#All],[Budgetlinie]],MATCH(Tabelle1[[#This Row],[Maßnahme]],Ausfüllhilfe!$C$1:$C$22,0))","v":{"$error":"#N/A"}},null,null,null,null,null,null,null,null,{"$f":"VLOOKUP(Tabelle1[[#This Row],[Budgetlinie]],Ausfüllhilfe!$A$1:$D$23,4,0)","v":{"$error":"#N/A"}}]
[{"$f":"INDEX(Tabelle2[[#All],[Budgetlinie]],MATCH(Tabelle1[[#This Row],[Maßnahme]],Ausfüllhilfe!$C$1:$C$22,0))","v":{"$error":"#N/A"}},null,null,null,null,null,null,null,null,{"$f":"VLOOKUP(Tabelle1[[#This Row],[Budgetlinie]],Ausfüllhilfe!$A$1:$D$23,4,0)","v":{"$error":"#N/A"}}]
[{"$f":"INDEX(Tabelle2[[#All],[Budgetlinie]],MATCH(Tabelle1[[#This Row],[Maßnahme]],Ausfüllhilfe!$C$1:$C$22,0))","v":{"$error":"#N/A"}},null,null,null,null,null,null,null,null,{"$f":"VLOOKUP(Tabelle1[[#This Row],[Budgetlinie]],Ausfüllhilfe!$A$1:$D$23,4,0)","v":{"$error":"#N/A"}}]
[{"$f":"INDEX(Tabelle2[[#All],[Budgetlinie]],MATCH(Tabelle1[[#This Row],[Maßnahme]],Ausfüllhilfe!$C$1:$C$22,0))","v":{"$error":"#N/A"}},null,null,null,null,null,null,null,null,{"$f":"VLOOKUP(Tabelle1[[#This Row],[Budgetlinie]],Ausfüllhilfe!$A$1:$D$23,4,0)","v":{"$error":"#N/A"}}]
[{"$f":"INDEX(Tabelle2[[#All],[Budgetlinie]],MATCH(Tabelle1[[#This Row],[Maßnahme]],Ausfüllhilfe!$C$1:$C$22,0))","v":{"$error":"#N/A"}},null,null,null,null,null,null,null,null,{"$f":"VLOOKUP(Tabelle1[[#This Row],[Budgetlinie]],Ausfüllhilfe!$A$1:$D$23,4,0)","v":{"$error":"#N/A"}}]
[{"$f":"INDEX(Tabelle2[[#All],[Budgetlinie]],MATCH(Tabelle1[[#This Row],[Maßnahme]],Ausfüllhilfe!$C$1:$C$22,0))","v":{"$error":"#N/A"}},null,null,null,null,null,null,null,null,{"$f":"VLOOKUP(Tabelle1[[#This Row],[Budgetlinie]],Ausfüllhilfe!$A$1:$D$23,4,0)","v":{"$error":"#N/A"}}]
[{"$f":"INDEX(Tabelle2[[#All],[Budgetlinie]],MATCH(Tabelle1[[#This Row],[Maßnahme]],Ausfüllhilfe!$C$1:$C$22,0))","v":{"$error":"#N/A"}},null,null,null,null,null,null,null,null,{"$f":"VLOOKUP(Tabelle1[[#This Row],[Budgetlinie]],Ausfüllhilfe!$A$1:$D$23,4,0)","v":{"$error":"#N/A"}}]
[{"$f":"INDEX(Tabelle2[[#All],[Budgetlinie]],MATCH(Tabelle1[[#This Row],[Maßnahme]],Ausfüllhilfe!$C$1:$C$22,0))","v":{"$error":"#N/A"}},null,null,null,null,null,null,null,null,{"$f":"VLOOKUP(Tabelle1[[#This Row],[Budgetlinie]],Ausfüllhilfe!$A$1:$D$23,4,0)","v":{"$error":"#N/A"}}]
[{"$f":"INDEX(Tabelle2[[#All],[Budgetlinie]],MATCH(Tabelle1[[#This Row],[Maßnahme]],Ausfüllhilfe!$C$1:$C$22,0))","v":{"$error":"#N/A"}},null,null,null,null,null,null,null,null,{"$f":"VLOOKUP(Tabelle1[[#This Row],[Budgetlinie]],Ausfüllhilfe!$A$1:$D$23,4,0)","v":{"$error":"#N/A"}}]
[{"$f":"INDEX(Tabelle2[[#All],[Budgetlinie]],MATCH(Tabelle1[[#This Row],[Maßnahme]],Ausfüllhilfe!$C$1:$C$22,0))","v":{"$error":"#N/A"}},null,null,null,null,null,null,null,null,{"$f":"VLOOKUP(Tabelle1[[#This Row],[Budgetlinie]],Ausfüllhilfe!$A$1:$D$23,4,0)","v":{"$error":"#N/A"}}]
[{"$f":"INDEX(Tabelle2[[#All],[Budgetlinie]],MATCH(Tabelle1[[#This Row],[Maßnahme]],Ausfüllhilfe!$C$1:$C$22,0))","v":{"$error":"#N/A"}},null,null,null,null,null,null,null,null,{"$f":"VLOOKUP(Tabelle1[[#This Row],[Budgetlinie]],Ausfüllhilfe!$A$1:$D$23,4,0)","v":{"$error":"#N/A"}}]
[{"$f":"INDEX(Tabelle2[[#All],[Budgetlinie]],MATCH(Tabelle1[[#This Row],[Maßnahme]],Ausfüllhilfe!$C$1:$C$22,0))","v":{"$error":"#N/A"}},null,null,null,null,null,null,null,null,{"$f":"VLOOKUP(Tabelle1[[#This Row],[Budgetlinie]],Ausfüllhilfe!$A$1:$D$23,4,0)","v":{"$error":"#N/A"}}]
[{"$f":"INDEX(Tabelle2[[#All],[Budgetlinie]],MATCH(Tabelle1[[#This Row],[Maßnahme]],Ausfüllhilfe!$C$1:$C$22,0))","v":{"$error":"#N/A"}},null,null,null,null,null,null,null,null,{"$f":"VLOOKUP(Tabelle1[[#This Row],[Budgetlinie]],Ausfüllhilfe!$A$1:$D$23,4,0)","v":{"$error":"#N/A"}}]
[{"$f":"INDEX(Tabelle2[[#All],[Budgetlinie]],MATCH(Tabelle1[[#This Row],[Maßnahme]],Ausfüllhilfe!$C$1:$C$22,0))","v":{"$error":"#N/A"}},null,null,null,null,null,null,null,null,{"$f":"VLOOKUP(Tabelle1[[#This Row],[Budgetlinie]],Ausfüllhilfe!$A$1:$D$23,4,0)","v":{"$error":"#N/A"}}]
[{"$f":"INDEX(Tabelle2[[#All],[Budgetlinie]],MATCH(Tabelle1[[#This Row],[Maßnahme]],Ausfüllhilfe!$C$1:$C$22,0))","v":{"$error":"#N/A"}},null,null,null,null,null,null,null,null,{"$f":"VLOOKUP(Tabelle1[[#This Row],[Budgetlinie]],Ausfüllhilfe!$A$1:$D$23,4,0)","v":{"$error":"#N/A"}}]
[{"$f":"INDEX(Tabelle2[[#All],[Budgetlinie]],MATCH(Tabelle1[[#This Row],[Maßnahme]],Ausfüllhilfe!$C$1:$C$22,0))","v":{"$error":"#N/A"}},null,null,null,null,null,null,null,null,{"$f":"VLOOKUP(Tabelle1[[#This Row],[Budgetlinie]],Ausfüllhilfe!$A$1:$D$23,4,0)","v":{"$error":"#N/A"}}]
[{"$f":"INDEX(Tabelle2[[#All],[Budgetlinie]],MATCH(Tabelle1[[#This Row],[Maßnahme]],Ausfüllhilfe!$C$1:$C$22,0))","v":{"$error":"#N/A"}},null,null,null,null,null,null,null,null,{"$f":"VLOOKUP(Tabelle1[[#This Row],[Budgetlinie]],Ausfüllhilfe!$A$1:$D$23,4,0)","v":{"$error":"#N/A"}}]
[{"$f":"INDEX(Tabelle2[[#All],[Budgetlinie]],MATCH(Tabelle1[[#This Row],[Maßnahme]],Ausfüllhilfe!$C$1:$C$22,0))","v":{"$error":"#N/A"}},null,null,null,null,null,null,null,null,{"$f":"VLOOKUP(Tabelle1[[#This Row],[Budgetlinie]],Ausfüllhilfe!$A$1:$D$23,4,0)","v":{"$error":"#N/A"}}]
[{"$f":"INDEX(Tabelle2[[#All],[Budgetlinie]],MATCH(Tabelle1[[#This Row],[Maßnahme]],Ausfüllhilfe!$C$1:$C$22,0))","v":{"$error":"#N/A"}},null,null,null,null,null,null,null,null,{"$f":"VLOOKUP(Tabelle1[[#This Row],[Budgetlinie]],Ausfüllhilfe!$A$1:$D$23,4,0)","v":{"$error":"#N/A"}}]
[{"$f":"INDEX(Tabelle2[[#All],[Budgetlinie]],MATCH(Tabelle1[[#This Row],[Maßnahme]],Ausfüllhilfe!$C$1:$C$22,0))","v":{"$error":"#N/A"}},null,null,null,null,null,null,null,null,{"$f":"VLOOKUP(Tabelle1[[#This Row],[Budgetlinie]],Ausfüllhilfe!$A$1:$D$23,4,0)","v":{"$error":"#N/A"}}]
[{"$f":"INDEX(Tabelle2[[#All],[Budgetlinie]],MATCH(Tabelle1[[#This Row],[Maßnahme]],Ausfüllhilfe!$C$1:$C$22,0))","v":{"$error":"#N/A"}},null,null,null,null,null,null,null,null,{"$f":"VLOOKUP(Tabelle1[[#This Row],[Budgetlinie]],Ausfüllhilfe!$A$1:$D$23,4,0)","v":{"$error":"#N/A"}}]
[{"$f":"INDEX(Tabelle2[[#All],[Budgetlinie]],MATCH(Tabelle1[[#This Row],[Maßnahme]],Ausfüllhilfe!$C$1:$C$22,0))","v":{"$error":"#N/A"}},null,null,null,null,null,null,null,null,{"$f":"VLOOKUP(Tabelle1[[#This Row],[Budgetlinie]],Ausfüllhilfe!$A$1:$D$23,4,0)","v":{"$error":"#N/A"}}]
[{"$f":"INDEX(Tabelle2[[#All],[Budgetlinie]],MATCH(Tabelle1[[#This Row],[Maßnahme]],Ausfüllhilfe!$C$1:$C$22,0))","v":{"$error":"#N/A"}},null,null,null,null,null,null,null,null,{"$f":"VLOOKUP(Tabelle1[[#This Row],[Budgetlinie]],Ausfüllhilfe!$A$1:$D$23,4,0)","v":{"$error":"#N/A"}}]
[{"$f":"INDEX(Tabelle2[[#All],[Budgetlinie]],MATCH(Tabelle1[[#This Row],[Maßnahme]],Ausfüllhilfe!$C$1:$C$22,0))","v":{"$error":"#N/A"}},null,null,null,null,null,null,null,null,{"$f":"VLOOKUP(Tabelle1[[#This Row],[Budgetlinie]],Ausfüllhilfe!$A$1:$D$23,4,0)","v":{"$error":"#N/A"}}]
[{"$f":"INDEX(Tabelle2[[#All],[Budgetlinie]],MATCH(Tabelle1[[#This Row],[Maßnahme]],Ausfüllhilfe!$C$1:$C$22,0))","v":{"$error":"#N/A"}},null,null,null,null,null,null,null,null,{"$f":"VLOOKUP(Tabelle1[[#This Row],[Budgetlinie]],Ausfüllhilfe!$A$1:$D$23,4,0)","v":{"$error":"#N/A"}}]
[{"$f":"INDEX(Tabelle2[[#All],[Budgetlinie]],MATCH(Tabelle1[[#This Row],[Maßnahme]],Ausfüllhilfe!$C$1:$C$22,0))","v":{"$error":"#N/A"}},null,null,null,null,null,null,null,null,{"$f":"VLOOKUP(Tabelle1[[#This Row],[Budgetlinie]],Ausfüllhilfe!$A$1:$D$23,4,0)","v":{"$error":"#N/A"}}]
[{"$f":"INDEX(Tabelle2[[#All],[Budgetlinie]],MATCH(Tabelle1[[#This Row],[Maßnahme]],Ausfüllhilfe!$C$1:$C$22,0))","v":{"$error":"#N/A"}},null,null,null,null,null,null,null,null,{"$f":"VLOOKUP(Tabelle1[[#This Row],[Budgetlinie]],Ausfüllhilfe!$A$1:$D$23,4,0)","v":{"$error":"#N/A"}}]
[{"$f":"INDEX(Tabelle2[[#All],[Budgetlinie]],MATCH(Tabelle1[[#This Row],[Maßnahme]],Ausfüllhilfe!$C$1:$C$22,0))","v":{"$error":"#N/A"}},null,null,null,null,null,null,null,null,{"$f":"VLOOKUP(Tabelle1[[#This Row],[Budgetlinie]],Ausfüllhilfe!$A$1:$D$23,4,0)","v":{"$error":"#N/A"}}]
[{"$f":"INDEX(Tabelle2[[#All],[Budgetlinie]],MATCH(Tabelle1[[#This Row],[Maßnahme]],Ausfüllhilfe!$C$1:$C$22,0))","v":{"$error":"#N/A"}},null,null,null,null,null,null,null,null,{"$f":"VLOOKUP(Tabelle1[[#This Row],[Budgetlinie]],Ausfüllhilfe!$A$1:$D$23,4,0)","v":{"$error":"#N/A"}}]
[{"$f":"INDEX(Tabelle2[[#All],[Budgetlinie]],MATCH(Tabelle1[[#This Row],[Maßnahme]],Ausfüllhilfe!$C$1:$C$22,0))","v":{"$error":"#N/A"}},null,null,null,null,null,null,null,null,{"$f":"VLOOKUP(Tabelle1[[#This Row],[Budgetlinie]],Ausfüllhilfe!$A$1:$D$23,4,0)","v":{"$error":"#N/A"}}]
[{"$f":"INDEX(Tabelle2[[#All],[Budgetlinie]],MATCH(Tabelle1[[#This Row],[Maßnahme]],Ausfüllhilfe!$C$1:$C$22,0))","v":{"$error":"#N/A"}},null,null,null,null,null,null,null,null,{"$f":"VLOOKUP(Tabelle1[[#This Row],[Budgetlinie]],Ausfüllhilfe!$A$1:$D$23,4,0)","v":{"$error":"#N/A"}}]
[{"$f":"INDEX(Tabelle2[[#All],[Budgetlinie]],MATCH(Tabelle1[[#This Row],[Maßnahme]],Ausfüllhilfe!$C$1:$C$22,0))","v":{"$error":"#N/A"}},null,null,null,null,null,null,null,null,{"$f":"VLOOKUP(Tabelle1[[#This Row],[Budgetlinie]],Ausfüllhilfe!$A$1:$D$23,4,0)","v":{"$error":"#N/A"}}]
[{"$f":"INDEX(Tabelle2[[#All],[Budgetlinie]],MATCH(Tabelle1[[#This Row],[Maßnahme]],Ausfüllhilfe!$C$1:$C$22,0))","v":{"$error":"#N/A"}},null,null,null,null,null,null,null,null,{"$f":"VLOOKUP(Tabelle1[[#This Row],[Budgetlinie]],Ausfüllhilfe!$A$1:$D$23,4,0)","v":{"$error":"#N/A"}}]
[{"$f":"INDEX(Tabelle2[[#All],[Budgetlinie]],MATCH(Tabelle1[[#This Row],[Maßnahme]],Ausfüllhilfe!$C$1:$C$22,0))","v":{"$error":"#N/A"}},null,null,null,null,null,null,null,null,{"$f":"VLOOKUP(Tabelle1[[#This Row],[Budgetlinie]],Ausfüllhilfe!$A$1:$D$23,4,0)","v":{"$error":"#N/A"}}]
[{"$f":"INDEX(Tabelle2[[#All],[Budgetlinie]],MATCH(Tabelle1[[#This Row],[Maßnahme]],Ausfüllhilfe!$C$1:$C$22,0))","v":{"$error":"#N/A"}},null,null,null,null,null,null,null,null,{"$f":"VLOOKUP(Tabelle1[[#This Row],[Budgetlinie]],Ausfüllhilfe!$A$1:$D$23,4,0)","v":{"$error":"#N/A"}}]
[{"$f":"INDEX(Tabelle2[[#All],[Budgetlinie]],MATCH(Tabelle1[[#This Row],[Maßnahme]],Ausfüllhilfe!$C$1:$C$22,0))","v":{"$error":"#N/A"}},null,null,null,null,null,null,null,null,{"$f":"VLOOKUP(Tabelle1[[#This Row],[Budgetlinie]],Ausfüllhilfe!$A$1:$D$23,4,0)","v":{"$error":"#N/A"}}]
[{"$f":"INDEX(Tabelle2[[#All],[Budgetlinie]],MATCH(Tabelle1[[#This Row],[Maßnahme]],Ausfüllhilfe!$C$1:$C$22,0))","v":{"$error":"#N/A"}},null,null,null,null,null,null,null,null,{"$f":"VLOOKUP(Tabelle1[[#This Row],[Budgetlinie]],Ausfüllhilfe!$A$1:$D$23,4,0)","v":{"$error":"#N/A"}}]
[{"$f":"INDEX(Tabelle2[[#All],[Budgetlinie]],MATCH(Tabelle1[[#This Row],[Maßnahme]],Ausfüllhilfe!$C$1:$C$22,0))","v":{"$error":"#N/A"}},null,null,null,null,null,null,null,null,{"$f":"VLOOKUP(Tabelle1[[#This Row],[Budgetlinie]],Ausfüllhilfe!$A$1:$D$23,4,0)","v":{"$error":"#N/A"}}]
[{"$f":"INDEX(Tabelle2[[#All],[Budgetlinie]],MATCH(Tabelle1[[#This Row],[Maßnahme]],Ausfüllhilfe!$C$1:$C$22,0))","v":{"$error":"#N/A"}},null,null,null,null,null,null,null,null,{"$f":"VLOOKUP(Tabelle1[[#This Row],[Budgetlinie]],Ausfüllhilfe!$A$1:$D$23,4,0)","v":{"$error":"#N/A"}}]
[{"$f":"INDEX(Tabelle2[[#All],[Budgetlinie]],MATCH(Tabelle1[[#This Row],[Maßnahme]],Ausfüllhilfe!$C$1:$C$22,0))","v":{"$error":"#N/A"}},null,null,null,null,null,null,null,null,{"$f":"VLOOKUP(Tabelle1[[#This Row],[Budgetlinie]],Ausfüllhilfe!$A$1:$D$23,4,0)","v":{"$error":"#N/A"}}]
[{"$f":"INDEX(Tabelle2[[#All],[Budgetlinie]],MATCH(Tabelle1[[#This Row],[Maßnahme]],Ausfüllhilfe!$C$1:$C$22,0))","v":{"$error":"#N/A"}},null,null,null,null,null,null,null,null,{"$f":"VLOOKUP(Tabelle1[[#This Row],[Budgetlinie]],Ausfüllhilfe!$A$1:$D$23,4,0)","v":{"$error":"#N/A"}}]
[{"$f":"INDEX(Tabelle2[[#All],[Budgetlinie]],MATCH(Tabelle1[[#This Row],[Maßnahme]],Ausfüllhilfe!$C$1:$C$22,0))","v":{"$error":"#N/A"}},null,null,null,null,null,null,null,null,{"$f":"VLOOKUP(Tabelle1[[#This Row],[Budgetlinie]],Ausfüllhilfe!$A$1:$D$23,4,0)","v":{"$error":"#N/A"}}]
[{"$f":"INDEX(Tabelle2[[#All],[Budgetlinie]],MATCH(Tabelle1[[#This Row],[Maßnahme]],Ausfüllhilfe!$C$1:$C$22,0))","v":{"$error":"#N/A"}},null,null,null,null,null,null,null,null,{"$f":"VLOOKUP(Tabelle1[[#This Row],[Budgetlinie]],Ausfüllhilfe!$A$1:$D$23,4,0)","v":{"$error":"#N/A"}}]
[{"$f":"INDEX(Tabelle2[[#All],[Budgetlinie]],MATCH(Tabelle1[[#This Row],[Maßnahme]],Ausfüllhilfe!$C$1:$C$22,0))","v":{"$error":"#N/A"}},null,null,null,null,null,null,null,null,{"$f":"VLOOKUP(Tabelle1[[#This Row],[Budgetlinie]],Ausfüllhilfe!$A$1:$D$23,4,0)","v":{"$error":"#N/A"}}]
[{"$f":"INDEX(Tabelle2[[#All],[Budgetlinie]],MATCH(Tabelle1[[#This Row],[Maßnahme]],Ausfüllhilfe!$C$1:$C$22,0))","v":{"$error":"#N/A"}},null,null,null,null,null,null,null,null,{"$f":"VLOOKUP(Tabelle1[[#This Row],[Budgetlinie]],Ausfüllhilfe!$A$1:$D$23,4,0)","v":{"$error":"#N/A"}}]
[{"$f":"INDEX(Tabelle2[[#All],[Budgetlinie]],MATCH(Tabelle1[[#This Row],[Maßnahme]],Ausfüllhilfe!$C$1:$C$22,0))","v":{"$error":"#N/A"}},null,null,null,null,null,null,null,null,{"$f":"VLOOKUP(Tabelle1[[#This Row],[Budgetlinie]],Ausfüllhilfe!$A$1:$D$23,4,0)","v":{"$error":"#N/A"}}]
[{"$f":"INDEX(Tabelle2[[#All],[Budgetlinie]],MATCH(Tabelle1[[#This Row],[Maßnahme]],Ausfüllhilfe!$C$1:$C$22,0))","v":{"$error":"#N/A"}},null,null,null,null,null,null,null,null,{"$f":"VLOOKUP(Tabelle1[[#This Row],[Budgetlinie]],Ausfüllhilfe!$A$1:$D$23,4,0)","v":{"$error":"#N/A"}}]
[{"$f":"INDEX(Tabelle2[[#All],[Budgetlinie]],MATCH(Tabelle1[[#This Row],[Maßnahme]],Ausfüllhilfe!$C$1:$C$22,0))","v":{"$error":"#N/A"}},null,null,null,null,null,null,null,null,{"$f":"VLOOKUP(Tabelle1[[#This Row],[Budgetlinie]],Ausfüllhilfe!$A$1:$D$23,4,0)","v":{"$error":"#N/A"}}]
[{"$f":"INDEX(Tabelle2[[#All],[Budgetlinie]],MATCH(Tabelle1[[#This Row],[Maßnahme]],Ausfüllhilfe!$C$1:$C$22,0))","v":{"$error":"#N/A"}},null,null,null,null,null,null,null,null,{"$f":"VLOOKUP(Tabelle1[[#This Row],[Budgetlinie]],Ausfüllhilfe!$A$1:$D$23,4,0)","v":{"$error":"#N/A"}}]
[{"$f":"INDEX(Tabelle2[[#All],[Budgetlinie]],MATCH(Tabelle1[[#This Row],[Maßnahme]],Ausfüllhilfe!$C$1:$C$22,0))","v":{"$error":"#N/A"}},null,null,null,null,null,null,null,null,{"$f":"VLOOKUP(Tabelle1[[#This Row],[Budgetlinie]],Ausfüllhilfe!$A$1:$D$23,4,0)","v":{"$error":"#N/A"}}]
[{"$f":"INDEX(Tabelle2[[#All],[Budgetlinie]],MATCH(Tabelle1[[#This Row],[Maßnahme]],Ausfüllhilfe!$C$1:$C$22,0))","v":{"$error":"#N/A"}},null,null,null,null,null,null,null,null,{"$f":"VLOOKUP(Tabelle1[[#This Row],[Budgetlinie]],Ausfüllhilfe!$A$1:$D$23,4,0)","v":{"$error":"#N/A"}}]
[{"$f":"INDEX(Tabelle2[[#All],[Budgetlinie]],MATCH(Tabelle1[[#This Row],[Maßnahme]],Ausfüllhilfe!$C$1:$C$22,0))","v":{"$error":"#N/A"}},null,null,null,null,null,null,null,null,{"$f":"VLOOKUP(Tabelle1[[#This Row],[Budgetlinie]],Ausfüllhilfe!$A$1:$D$23,4,0)","v":{"$error":"#N/A"}}]
[{"$f":"INDEX(Tabelle2[[#All],[Budgetlinie]],MATCH(Tabelle1[[#This Row],[Maßnahme]],Ausfüllhilfe!$C$1:$C$22,0))","v":{"$error":"#N/A"}},null,null,null,null,null,null,null,null,{"$f":"VLOOKUP(Tabelle1[[#This Row],[Budgetlinie]],Ausfüllhilfe!$A$1:$D$23,4,0)","v":{"$error":"#N/A"}}]
[{"$f":"INDEX(Tabelle2[[#All],[Budgetlinie]],MATCH(Tabelle1[[#This Row],[Maßnahme]],Ausfüllhilfe!$C$1:$C$22,0))","v":{"$error":"#N/A"}},null,null,null,null,null,null,null,null,{"$f":"VLOOKUP(Tabelle1[[#This Row],[Budgetlinie]],Ausfüllhilfe!$A$1:$D$23,4,0)","v":{"$error":"#N/A"}}]
[{"$f":"INDEX(Tabelle2[[#All],[Budgetlinie]],MATCH(Tabelle1[[#This Row],[Maßnahme]],Ausfüllhilfe!$C$1:$C$22,0))","v":{"$error":"#N/A"}},null,null,null,null,null,null,null,null,{"$f":"VLOOKUP(Tabelle1[[#This Row],[Budgetlinie]],Ausfüllhilfe!$A$1:$D$23,4,0)","v":{"$error":"#N/A"}}]
[{"$f":"INDEX(Tabelle2[[#All],[Budgetlinie]],MATCH(Tabelle1[[#This Row],[Maßnahme]],Ausfüllhilfe!$C$1:$C$22,0))","v":{"$error":"#N/A"}},null,null,null,null,null,null,null,null,{"$f":"VLOOKUP(Tabelle1[[#This Row],[Budgetlinie]],Ausfüllhilfe!$A$1:$D$23,4,0)","v":{"$error":"#N/A"}}]
[{"$f":"INDEX(Tabelle2[[#All],[Budgetlinie]],MATCH(Tabelle1[[#This Row],[Maßnahme]],Ausfüllhilfe!$C$1:$C$22,0))","v":{"$error":"#N/A"}},null,null,null,null,null,null,null,null,{"$f":"VLOOKUP(Tabelle1[[#This Row],[Budgetlinie]],Ausfüllhilfe!$A$1:$D$23,4,0)","v":{"$error":"#N/A"}}]
[{"$f":"INDEX(Tabelle2[[#All],[Budgetlinie]],MATCH(Tabelle1[[#This Row],[Maßnahme]],Ausfüllhilfe!$C$1:$C$22,0))","v":{"$error":"#N/A"}},null,null,null,null,null,null,null,null,{"$f":"VLOOKUP(Tabelle1[[#This Row],[Budgetlinie]],Ausfüllhilfe!$A$1:$D$23,4,0)","v":{"$error":"#N/A"}}]
[{"$f":"INDEX(Tabelle2[[#All],[Budgetlinie]],MATCH(Tabelle1[[#This Row],[Maßnahme]],Ausfüllhilfe!$C$1:$C$22,0))","v":{"$error":"#N/A"}},null,null,null,null,null,null,null,null,{"$f":"VLOOKUP(Tabelle1[[#This Row],[Budgetlinie]],Ausfüllhilfe!$A$1:$D$23,4,0)","v":{"$error":"#N/A"}}]
[{"$f":"INDEX(Tabelle2[[#All],[Budgetlinie]],MATCH(Tabelle1[[#This Row],[Maßnahme]],Ausfüllhilfe!$C$1:$C$22,0))","v":{"$error":"#N/A"}},null,null,null,null,null,null,null,null,{"$f":"VLOOKUP(Tabelle1[[#This Row],[Budgetlinie]],Ausfüllhilfe!$A$1:$D$23,4,0)","v":{"$error":"#N/A"}}]
[{"$f":"INDEX(Tabelle2[[#All],[Budgetlinie]],MATCH(Tabelle1[[#This Row],[Maßnahme]],Ausfüllhilfe!$C$1:$C$22,0))","v":{"$error":"#N/A"}},null,null,null,null,null,null,null,null,{"$f":"VLOOKUP(Tabelle1[[#This Row],[Budgetlinie]],Ausfüllhilfe!$A$1:$D$23,4,0)","v":{"$error":"#N/A"}}]
[{"$f":"INDEX(Tabelle2[[#All],[Budgetlinie]],MATCH(Tabelle1[[#This Row],[Maßnahme]],Ausfüllhilfe!$C$1:$C$22,0))","v":{"$error":"#N/A"}},null,null,null,null,null,null,null,null,{"$f":"VLOOKUP(Tabelle1[[#This Row],[Budgetlinie]],Ausfüllhilfe!$A$1:$D$23,4,0)","v":{"$error":"#N/A"}}]
[{"$f":"INDEX(Tabelle2[[#All],[Budgetlinie]],MATCH(Tabelle1[[#This Row],[Maßnahme]],Ausfüllhilfe!$C$1:$C$22,0))","v":{"$error":"#N/A"}},null,null,null,null,null,null,null,null,{"$f":"VLOOKUP(Tabelle1[[#This Row],[Budgetlinie]],Ausfüllhilfe!$A$1:$D$23,4,0)","v":{"$error":"#N/A"}}]
[{"$f":"INDEX(Tabelle2[[#All],[Budgetlinie]],MATCH(Tabelle1[[#This Row],[Maßnahme]],Ausfüllhilfe!$C$1:$C$22,0))","v":{"$error":"#N/A"}},null,null,null,null,null,null,null,null,{"$f":"VLOOKUP(Tabelle1[[#This Row],[Budgetlinie]],Ausfüllhilfe!$A$1:$D$23,4,0)","v":{"$error":"#N/A"}}]
[{"$f":"INDEX(Tabelle2[[#All],[Budgetlinie]],MATCH(Tabelle1[[#This Row],[Maßnahme]],Ausfüllhilfe!$C$1:$C$22,0))","v":{"$error":"#N/A"}},null,null,null,null,null,null,null,null,{"$f":"VLOOKUP(Tabelle1[[#This Row],[Budgetlinie]],Ausfüllhilfe!$A$1:$D$23,4,0)","v":{"$error":"#N/A"}}]
[{"$f":"INDEX(Tabelle2[[#All],[Budgetlinie]],MATCH(Tabelle1[[#This Row],[Maßnahme]],Ausfüllhilfe!$C$1:$C$22,0))","v":{"$error":"#N/A"}},null,null,null,null,null,null,null,null,{"$f":"VLOOKUP(Tabelle1[[#This Row],[Budgetlinie]],Ausfüllhilfe!$A$1:$D$23,4,0)","v":{"$error":"#N/A"}}]
[{"$f":"INDEX(Tabelle2[[#All],[Budgetlinie]],MATCH(Tabelle1[[#This Row],[Maßnahme]],Ausfüllhilfe!$C$1:$C$22,0))","v":{"$error":"#N/A"}},null,null,null,null,null,null,null,null,{"$f":"VLOOKUP(Tabelle1[[#This Row],[Budgetlinie]],Ausfüllhilfe!$A$1:$D$23,4,0)","v":{"$error":"#N/A"}}]
[{"$f":"INDEX(Tabelle2[[#All],[Budgetlinie]],MATCH(Tabelle1[[#This Row],[Maßnahme]],Ausfüllhilfe!$C$1:$C$22,0))","v":{"$error":"#N/A"}},null,null,null,null,null,null,null,null,{"$f":"VLOOKUP(Tabelle1[[#This Row],[Budgetlinie]],Ausfüllhilfe!$A$1:$D$23,4,0)","v":{"$error":"#N/A"}}]
[{"$f":"INDEX(Tabelle2[[#All],[Budgetlinie]],MATCH(Tabelle1[[#This Row],[Maßnahme]],Ausfüllhilfe!$C$1:$C$22,0))","v":{"$error":"#N/A"}},null,null,null,null,null,null,null,null,{"$f":"VLOOKUP(Tabelle1[[#This Row],[Budgetlinie]],Ausfüllhilfe!$A$1:$D$23,4,0)","v":{"$error":"#N/A"}}]
[{"$f":"INDEX(Tabelle2[[#All],[Budgetlinie]],MATCH(Tabelle1[[#This Row],[Maßnahme]],Ausfüllhilfe!$C$1:$C$22,0))","v":{"$error":"#N/A"}},null,null,null,null,null,null,null,null,{"$f":"VLOOKUP(Tabelle1[[#This Row],[Budgetlinie]],Ausfüllhilfe!$A$1:$D$23,4,0)","v":{"$error":"#N/A"}}]
[{"$f":"INDEX(Tabelle2[[#All],[Budgetlinie]],MATCH(Tabelle1[[#This Row],[Maßnahme]],Ausfüllhilfe!$C$1:$C$22,0))","v":{"$error":"#N/A"}},null,null,null,null,null,null,null,null,{"$f":"VLOOKUP(Tabelle1[[#This Row],[Budgetlinie]],Ausfüllhilfe!$A$1:$D$23,4,0)","v":{"$error":"#N/A"}}]
[{"$f":"INDEX(Tabelle2[[#All],[Budgetlinie]],MATCH(Tabelle1[[#This Row],[Maßnahme]],Ausfüllhilfe!$C$1:$C$22,0))","v":{"$error":"#N/A"}},null,null,null,null,null,null,null,null,{"$f":"VLOOKUP(Tabelle1[[#This Row],[Budgetlinie]],Ausfüllhilfe!$A$1:$D$23,4,0)","v":{"$error":"#N/A"}}]
[{"$f":"INDEX(Tabelle2[[#All],[Budgetlinie]],MATCH(Tabelle1[[#This Row],[Maßnahme]],Ausfüllhilfe!$C$1:$C$22,0))","v":{"$error":"#N/A"}},null,null,null,null,null,null,null,null,{"$f":"VLOOKUP(Tabelle1[[#This Row],[Budgetlinie]],Ausfüllhilfe!$A$1:$D$23,4,0)","v":{"$error":"#N/A"}}]
[{"$f":"INDEX(Tabelle2[[#All],[Budgetlinie]],MATCH(Tabelle1[[#This Row],[Maßnahme]],Ausfüllhilfe!$C$1:$C$22,0))","v":{"$error":"#N/A"}},null,null,null,null,null,null,null,null,{"$f":"VLOOKUP(Tabelle1[[#This Row],[Budgetlinie]],Ausfüllhilfe!$A$1:$D$23,4,0)","v":{"$error":"#N/A"}}]
[{"$f":"INDEX(Tabelle2[[#All],[Budgetlinie]],MATCH(Tabelle1[[#This Row],[Maßnahme]],Ausfüllhilfe!$C$1:$C$22,0))","v":{"$error":"#N/A"}},null,null,null,null,null,null,null,null,{"$f":"VLOOKUP(Tabelle1[[#This Row],[Budgetlinie]],Ausfüllhilfe!$A$1:$D$23,4,0)","v":{"$error":"#N/A"}}]
[{"$f":"INDEX(Tabelle2[[#All],[Budgetlinie]],MATCH(Tabelle1[[#This Row],[Maßnahme]],Ausfüllhilfe!$C$1:$C$22,0))","v":{"$error":"#N/A"}},null,null,null,null,null,null,null,null,{"$f":"VLOOKUP(Tabelle1[[#This Row],[Budgetlinie]],Ausfüllhilfe!$A$1:$D$23,4,0)","v":{"$error":"#N/A"}}]
[{"$f":"INDEX(Tabelle2[[#All],[Budgetlinie]],MATCH(Tabelle1[[#This Row],[Maßnahme]],Ausfüllhilfe!$C$1:$C$22,0))","v":{"$error":"#N/A"}},null,null,null,null,null,null,null,null,{"$f":"VLOOKUP(Tabelle1[[#This Row],[Budgetlinie]],Ausfüllhilfe!$A$1:$D$23,4,0)","v":{"$error":"#N/A"}}]
[{"$f":"INDEX(Tabelle2[[#All],[Budgetlinie]],MATCH(Tabelle1[[#This Row],[Maßnahme]],Ausfüllhilfe!$C$1:$C$22,0))","v":{"$error":"#N/A"}},null,null,null,null,null,null,null,null,{"$f":"VLOOKUP(Tabelle1[[#This Row],[Budgetlinie]],Ausfüllhilfe!$A$1:$D$23,4,0)","v":{"$error":"#N/A"}}]
[{"$f":"INDEX(Tabelle2[[#All],[Budgetlinie]],MATCH(Tabelle1[[#This Row],[Maßnahme]],Ausfüllhilfe!$C$1:$C$22,0))","v":{"$error":"#N/A"}},null,null,null,null,null,null,null,null,{"$f":"VLOOKUP(Tabelle1[[#This Row],[Budgetlinie]],Ausfüllhilfe!$A$1:$D$23,4,0)","v":{"$error":"#N/A"}}]
[{"$f":"INDEX(Tabelle2[[#All],[Budgetlinie]],MATCH(Tabelle1[[#This Row],[Maßnahme]],Ausfüllhilfe!$C$1:$C$22,0))","v":{"$error":"#N/A"}},null,null,null,null,null,null,null,null,{"$f":"VLOOKUP(Tabelle1[[#This Row],[Budgetlinie]],Ausfüllhilfe!$A$1:$D$23,4,0)","v":{"$error":"#N/A"}}]
[{"$f":"INDEX(Tabelle2[[#All],[Budgetlinie]],MATCH(Tabelle1[[#This Row],[Maßnahme]],Ausfüllhilfe!$C$1:$C$22,0))","v":{"$error":"#N/A"}},null,null,null,null,null,null,null,null,{"$f":"VLOOKUP(Tabelle1[[#This Row],[Budgetlinie]],Ausfüllhilfe!$A$1:$D$23,4,0)","v":{"$error":"#N/A"}}]
[{"$f":"INDEX(Tabelle2[[#All],[Budgetlinie]],MATCH(Tabelle1[[#This Row],[Maßnahme]],Ausfüllhilfe!$C$1:$C$22,0))","v":{"$error":"#N/A"}},null,null,null,null,null,null,null,null,{"$f":"VLOOKUP(Tabelle1[[#This Row],[Budgetlinie]],Ausfüllhilfe!$A$1:$D$23,4,0)","v":{"$error":"#N/A"}}]
[{"$f":"INDEX(Tabelle2[[#All],[Budgetlinie]],MATCH(Tabelle1[[#This Row],[Maßnahme]],Ausfüllhilfe!$C$1:$C$22,0))","v":{"$error":"#N/A"}},null,null,null,null,null,null,null,null,{"$f":"VLOOKUP(Tabelle1[[#This Row],[Budgetlinie]],Ausfüllhilfe!$A$1:$D$23,4,0)","v":{"$error":"#N/A"}}]
[{"$f":"INDEX(Tabelle2[[#All],[Budgetlinie]],MATCH(Tabelle1[[#This Row],[Maßnahme]],Ausfüllhilfe!$C$1:$C$22,0))","v":{"$error":"#N/A"}},null,null,null,null,null,null,null,null,{"$f":"VLOOKUP(Tabelle1[[#This Row],[Budgetlinie]],Ausfüllhilfe!$A$1:$D$23,4,0)","v":{"$error":"#N/A"}}]
[{"$f":"INDEX(Tabelle2[[#All],[Budgetlinie]],MATCH(Tabelle1[[#This Row],[Maßnahme]],Ausfüllhilfe!$C$1:$C$22,0))","v":{"$error":"#N/A"}},null,null,null,null,null,null,null,null,{"$f":"VLOOKUP(Tabelle1[[#This Row],[Budgetlinie]],Ausfüllhilfe!$A$1:$D$23,4,0)","v":{"$error":"#N/A"}}]
[{"$f":"INDEX(Tabelle2[[#All],[Budgetlinie]],MATCH(Tabelle1[[#This Row],[Maßnahme]],Ausfüllhilfe!$C$1:$C$22,0))","v":{"$error":"#N/A"}},null,null,null,null,null,null,null,null,{"$f":"VLOOKUP(Tabelle1[[#This Row],[Budgetlinie]],Ausfüllhilfe!$A$1:$D$23,4,0)","v":{"$error":"#N/A"}}]
[{"$f":"INDEX(Tabelle2[[#All],[Budgetlinie]],MATCH(Tabelle1[[#This Row],[Maßnahme]],Ausfüllhilfe!$C$1:$C$22,0))","v":{"$error":"#N/A"}},null,null,null,null,null,null,null,null,{"$f":"VLOOKUP(Tabelle1[[#This Row],[Budgetlinie]],Ausfüllhilfe!$A$1:$D$23,4,0)","v":{"$error":"#N/A"}}]
[{"$f":"INDEX(Tabelle2[[#All],[Budgetlinie]],MATCH(Tabelle1[[#This Row],[Maßnahme]],Ausfüllhilfe!$C$1:$C$22,0))","v":{"$error":"#N/A"}},null,null,null,null,null,null,null,null,{"$f":"VLOOKUP(Tabelle1[[#This Row],[Budgetlinie]],Ausfüllhilfe!$A$1:$D$23,4,0)","v":{"$error":"#N/A"}}]
[{"$f":"INDEX(Tabelle2[[#All],[Budgetlinie]],MATCH(Tabelle1[[#This Row],[Maßnahme]],Ausfüllhilfe!$C$1:$C$22,0))","v":{"$error":"#N/A"}},null,null,null,null,null,null,null,null,{"$f":"VLOOKUP(Tabelle1[[#This Row],[Budgetlinie]],Ausfüllhilfe!$A$1:$D$23,4,0)","v":{"$error":"#N/A"}}]
[{"$f":"INDEX(Tabelle2[[#All],[Budgetlinie]],MATCH(Tabelle1[[#This Row],[Maßnahme]],Ausfüllhilfe!$C$1:$C$22,0))","v":{"$error":"#N/A"}},null,null,null,null,null,null,null,null,{"$f":"VLOOKUP(Tabelle1[[#This Row],[Budgetlinie]],Ausfüllhilfe!$A$1:$D$23,4,0)","v":{"$error":"#N/A"}}]
[{"$f":"INDEX(Tabelle2[[#All],[Budgetlinie]],MATCH(Tabelle1[[#This Row],[Maßnahme]],Ausfüllhilfe!$C$1:$C$22,0))","v":{"$error":"#N/A"}},null,null,null,null,null,null,null,null,{"$f":"VLOOKUP(Tabelle1[[#This Row],[Budgetlinie]],Ausfüllhilfe!$A$1:$D$23,4,0)","v":{"$error":"#N/A"}}]
[{"$f":"INDEX(Tabelle2[[#All],[Budgetlinie]],MATCH(Tabelle1[[#This Row],[Maßnahme]],Ausfüllhilfe!$C$1:$C$22,0))","v":{"$error":"#N/A"}},null,null,null,null,null,null,null,null,{"$f":"VLOOKUP(Tabelle1[[#This Row],[Budgetlinie]],Ausfüllhilfe!$A$1:$D$23,4,0)","v":{"$error":"#N/A"}}]
[{"$f":"INDEX(Tabelle2[[#All],[Budgetlinie]],MATCH(Tabelle1[[#This Row],[Maßnahme]],Ausfüllhilfe!$C$1:$C$22,0))","v":{"$error":"#N/A"}},null,null,null,null,null,null,null,null,{"$f":"VLOOKUP(Tabelle1[[#This Row],[Budgetlinie]],Ausfüllhilfe!$A$1:$D$23,4,0)","v":{"$error":"#N/A"}}]
[{"$f":"INDEX(Tabelle2[[#All],[Budgetlinie]],MATCH(Tabelle1[[#This Row],[Maßnahme]],Ausfüllhilfe!$C$1:$C$22,0))","v":{"$error":"#N/A"}},null,null,null,null,null,null,null,null,{"$f":"VLOOKUP(Tabelle1[[#This Row],[Budgetlinie]],Ausfüllhilfe!$A$1:$D$23,4,0)","v":{"$error":"#N/A"}}]
[{"$f":"INDEX(Tabelle2[[#All],[Budgetlinie]],MATCH(Tabelle1[[#This Row],[Maßnahme]],Ausfüllhilfe!$C$1:$C$22,0))","v":{"$error":"#N/A"}},null,null,null,null,null,null,null,null,{"$f":"VLOOKUP(Tabelle1[[#This Row],[Budgetlinie]],Ausfüllhilfe!$A$1:$D$23,4,0)","v":{"$error":"#N/A"}}]
[{"$f":"INDEX(Tabelle2[[#All],[Budgetlinie]],MATCH(Tabelle1[[#This Row],[Maßnahme]],Ausfüllhilfe!$C$1:$C$22,0))","v":{"$error":"#N/A"}},null,null,null,null,null,null,null,null,{"$f":"VLOOKUP(Tabelle1[[#This Row],[Budgetlinie]],Ausfüllhilfe!$A$1:$D$23,4,0)","v":{"$error":"#N/A"}}]
[{"$f":"INDEX(Tabelle2[[#All],[Budgetlinie]],MATCH(Tabelle1[[#This Row],[Maßnahme]],Ausfüllhilfe!$C$1:$C$22,0))","v":{"$error":"#N/A"}},null,null,null,null,null,null,null,null,{"$f":"VLOOKUP(Tabelle1[[#This Row],[Budgetlinie]],Ausfüllhilfe!$A$1:$D$23,4,0)","v":{"$error":"#N/A"}}]
[{"$f":"INDEX(Tabelle2[[#All],[Budgetlinie]],MATCH(Tabelle1[[#This Row],[Maßnahme]],Ausfüllhilfe!$C$1:$C$22,0))","v":{"$error":"#N/A"}},null,null,null,null,null,null,null,null,{"$f":"VLOOKUP(Tabelle1[[#This Row],[Budgetlinie]],Ausfüllhilfe!$A$1:$D$23,4,0)","v":{"$error":"#N/A"}}]
[{"$f":"INDEX(Tabelle2[[#All],[Budgetlinie]],MATCH(Tabelle1[[#This Row],[Maßnahme]],Ausfüllhilfe!$C$1:$C$22,0))","v":{"$error":"#N/A"}},null,null,null,null,null,null,null,null,{"$f":"VLOOKUP(Tabelle1[[#This Row],[Budgetlinie]],Ausfüllhilfe!$A$1:$D$23,4,0)","v":{"$error":"#N/A"}}]
[{"$f":"INDEX(Tabelle2[[#All],[Budgetlinie]],MATCH(Tabelle1[[#This Row],[Maßnahme]],Ausfüllhilfe!$C$1:$C$22,0))","v":{"$error":"#N/A"}},null,null,null,null,null,null,null,null,{"$f":"VLOOKUP(Tabelle1[[#This Row],[Budgetlinie]],Ausfüllhilfe!$A$1:$D$23,4,0)","v":{"$error":"#N/A"}}]
[{"$f":"INDEX(Tabelle2[[#All],[Budgetlinie]],MATCH(Tabelle1[[#This Row],[Maßnahme]],Ausfüllhilfe!$C$1:$C$22,0))","v":{"$error":"#N/A"}},null,null,null,null,null,null,null,null,{"$f":"VLOOKUP(Tabelle1[[#This Row],[Budgetlinie]],Ausfüllhilfe!$A$1:$D$23,4,0)","v":{"$error":"#N/A"}}]
[{"$f":"INDEX(Tabelle2[[#All],[Budgetlinie]],MATCH(Tabelle1[[#This Row],[Maßnahme]],Ausfüllhilfe!$C$1:$C$22,0))","v":{"$error":"#N/A"}},null,null,null,null,null,null,null,null,{"$f":"VLOOKUP(Tabelle1[[#This Row],[Budgetlinie]],Ausfüllhilfe!$A$1:$D$23,4,0)","v":{"$error":"#N/A"}}]
[{"$f":"INDEX(Tabelle2[[#All],[Budgetlinie]],MATCH(Tabelle1[[#This Row],[Maßnahme]],Ausfüllhilfe!$C$1:$C$22,0))","v":{"$error":"#N/A"}},null,null,null,null,null,null,null,null,{"$f":"VLOOKUP(Tabelle1[[#This Row],[Budgetlinie]],Ausfüllhilfe!$A$1:$D$23,4,0)","v":{"$error":"#N/A"}}]
[{"$f":"INDEX(Tabelle2[[#All],[Budgetlinie]],MATCH(Tabelle1[[#This Row],[Maßnahme]],Ausfüllhilfe!$C$1:$C$22,0))","v":{"$error":"#N/A"}},null,null,null,null,null,null,null,null,{"$f":"VLOOKUP(Tabelle1[[#This Row],[Budgetlinie]],Ausfüllhilfe!$A$1:$D$23,4,0)","v":{"$error":"#N/A"}}]
[{"$f":"INDEX(Tabelle2[[#All],[Budgetlinie]],MATCH(Tabelle1[[#This Row],[Maßnahme]],Ausfüllhilfe!$C$1:$C$22,0))","v":{"$error":"#N/A"}},null,null,null,null,null,null,null,null,{"$f":"VLOOKUP(Tabelle1[[#This Row],[Budgetlinie]],Ausfüllhilfe!$A$1:$D$23,4,0)","v":{"$error":"#N/A"}}]
[{"$f":"INDEX(Tabelle2[[#All],[Budgetlinie]],MATCH(Tabelle1[[#This Row],[Maßnahme]],Ausfüllhilfe!$C$1:$C$22,0))","v":{"$error":"#N/A"}},null,null,null,null,null,null,null,null,{"$f":"VLOOKUP(Tabelle1[[#This Row],[Budgetlinie]],Ausfüllhilfe!$A$1:$D$23,4,0)","v":{"$error":"#N/A"}}]
[{"$f":"INDEX(Tabelle2[[#All],[Budgetlinie]],MATCH(Tabelle1[[#This Row],[Maßnahme]],Ausfüllhilfe!$C$1:$C$22,0))","v":{"$error":"#N/A"}},null,null,null,null,null,null,null,null,{"$f":"VLOOKUP(Tabelle1[[#This Row],[Budgetlinie]],Ausfüllhilfe!$A$1:$D$23,4,0)","v":{"$error":"#N/A"}}]
[{"$f":"INDEX(Tabelle2[[#All],[Budgetlinie]],MATCH(Tabelle1[[#This Row],[Maßnahme]],Ausfüllhilfe!$C$1:$C$22,0))","v":{"$error":"#N/A"}},null,null,null,null,null,null,null,null,{"$f":"VLOOKUP(Tabelle1[[#This Row],[Budgetlinie]],Ausfüllhilfe!$A$1:$D$23,4,0)","v":{"$error":"#N/A"}}]
[{"$f":"INDEX(Tabelle2[[#All],[Budgetlinie]],MATCH(Tabelle1[[#This Row],[Maßnahme]],Ausfüllhilfe!$C$1:$C$22,0))","v":{"$error":"#N/A"}},null,null,null,null,null,null,null,null,{"$f":"VLOOKUP(Tabelle1[[#This Row],[Budgetlinie]],Ausfüllhilfe!$A$1:$D$23,4,0)","v":{"$error":"#N/A"}}]
[{"$f":"INDEX(Tabelle2[[#All],[Budgetlinie]],MATCH(Tabelle1[[#This Row],[Maßnahme]],Ausfüllhilfe!$C$1:$C$22,0))","v":{"$error":"#N/A"}},null,null,null,null,null,null,null,null,{"$f":"VLOOKUP(Tabelle1[[#This Row],[Budgetlinie]],Ausfüllhilfe!$A$1:$D$23,4,0)","v":{"$error":"#N/A"}}]
[{"$f":"INDEX(Tabelle2[[#All],[Budgetlinie]],MATCH(Tabelle1[[#This Row],[Maßnahme]],Ausfüllhilfe!$C$1:$C$22,0))","v":{"$error":"#N/A"}},null,null,null,null,null,null,null,null,{"$f":"VLOOKUP(Tabelle1[[#This Row],[Budgetlinie]],Ausfüllhilfe!$A$1:$D$23,4,0)","v":{"$error":"#N/A"}}]
[{"$f":"INDEX(Tabelle2[[#All],[Budgetlinie]],MATCH(Tabelle1[[#This Row],[Maßnahme]],Ausfüllhilfe!$C$1:$C$22,0))","v":{"$error":"#N/A"}},null,null,null,null,null,null,null,null,{"$f":"VLOOKUP(Tabelle1[[#This Row],[Budgetlinie]],Ausfüllhilfe!$A$1:$D$23,4,0)","v":{"$error":"#N/A"}}]
[{"$f":"INDEX(Tabelle2[[#All],[Budgetlinie]],MATCH(Tabelle1[[#This Row],[Maßnahme]],Ausfüllhilfe!$C$1:$C$22,0))","v":{"$error":"#N/A"}},null,null,null,null,null,null,null,null,{"$f":"VLOOKUP(Tabelle1[[#This Row],[Budgetlinie]],Ausfüllhilfe!$A$1:$D$23,4,0)","v":{"$error":"#N/A"}}]
[{"$f":"INDEX(Tabelle2[[#All],[Budgetlinie]],MATCH(Tabelle1[[#This Row],[Maßnahme]],Ausfüllhilfe!$C$1:$C$22,0))","v":{"$error":"#N/A"}},null,null,null,null,null,null,null,null,{"$f":"VLOOKUP(Tabelle1[[#This Row],[Budgetlinie]],Ausfüllhilfe!$A$1:$D$23,4,0)","v":{"$error":"#N/A"}}]
[{"$f":"INDEX(Tabelle2[[#All],[Budgetlinie]],MATCH(Tabelle1[[#This Row],[Maßnahme]],Ausfüllhilfe!$C$1:$C$22,0))","v":{"$error":"#N/A"}},null,null,null,null,null,null,null,null,{"$f":"VLOOKUP(Tabelle1[[#This Row],[Budgetlinie]],Ausfüllhilfe!$A$1:$D$23,4,0)","v":{"$error":"#N/A"}}]
[{"$f":"INDEX(Tabelle2[[#All],[Budgetlinie]],MATCH(Tabelle1[[#This Row],[Maßnahme]],Ausfüllhilfe!$C$1:$C$22,0))","v":{"$error":"#N/A"}},null,null,null,null,null,null,null,null,{"$f":"VLOOKUP(Tabelle1[[#This Row],[Budgetlinie]],Ausfüllhilfe!$A$1:$D$23,4,0)","v":{"$error":"#N/A"}}]
[{"$f":"INDEX(Tabelle2[[#All],[Budgetlinie]],MATCH(Tabelle1[[#This Row],[Maßnahme]],Ausfüllhilfe!$C$1:$C$22,0))","v":{"$error":"#N/A"}},null,null,null,null,null,null,null,null,{"$f":"VLOOKUP(Tabelle1[[#This Row],[Budgetlinie]],Ausfüllhilfe!$A$1:$D$23,4,0)","v":{"$error":"#N/A"}}]
[{"$f":"INDEX(Tabelle2[[#All],[Budgetlinie]],MATCH(Tabelle1[[#This Row],[Maßnahme]],Ausfüllhilfe!$C$1:$C$22,0))","v":{"$error":"#N/A"}},null,null,null,null,null,null,null,null,{"$f":"VLOOKUP(Tabelle1[[#This Row],[Budgetlinie]],Ausfüllhilfe!$A$1:$D$23,4,0)","v":{"$error":"#N/A"}}]
[{"$f":"INDEX(Tabelle2[[#All],[Budgetlinie]],MATCH(Tabelle1[[#This Row],[Maßnahme]],Ausfüllhilfe!$C$1:$C$22,0))","v":{"$error":"#N/A"}},null,null,null,null,null,null,null,null,{"$f":"VLOOKUP(Tabelle1[[#This Row],[Budgetlinie]],Ausfüllhilfe!$A$1:$D$23,4,0)","v":{"$error":"#N/A"}}]
[{"$f":"INDEX(Tabelle2[[#All],[Budgetlinie]],MATCH(Tabelle1[[#This Row],[Maßnahme]],Ausfüllhilfe!$C$1:$C$22,0))","v":{"$error":"#N/A"}},null,null,null,null,null,null,null,null,{"$f":"VLOOKUP(Tabelle1[[#This Row],[Budgetlinie]],Ausfüllhilfe!$A$1:$D$23,4,0)","v":{"$error":"#N/A"}}]
[{"$f":"INDEX(Tabelle2[[#All],[Budgetlinie]],MATCH(Tabelle1[[#This Row],[Maßnahme]],Ausfüllhilfe!$C$1:$C$22,0))","v":{"$error":"#N/A"}},null,null,null,null,null,null,null,null,{"$f":"VLOOKUP(Tabelle1[[#This Row],[Budgetlinie]],Ausfüllhilfe!$A$1:$D$23,4,0)","v":{"$error":"#N/A"}}]
[{"$f":"INDEX(Tabelle2[[#All],[Budgetlinie]],MATCH(Tabelle1[[#This Row],[Maßnahme]],Ausfüllhilfe!$C$1:$C$22,0))","v":{"$error":"#N/A"}},null,null,null,null,null,null,null,null,{"$f":"VLOOKUP(Tabelle1[[#This Row],[Budgetlinie]],Ausfüllhilfe!$A$1:$D$23,4,0)","v":{"$error":"#N/A"}}]
[{"$f":"INDEX(Tabelle2[[#All],[Budgetlinie]],MATCH(Tabelle1[[#This Row],[Maßnahme]],Ausfüllhilfe!$C$1:$C$22,0))","v":{"$error":"#N/A"}},null,null,null,null,null,null,null,null,{"$f":"VLOOKUP(Tabelle1[[#This Row],[Budgetlinie]],Ausfüllhilfe!$A$1:$D$23,4,0)","v":{"$error":"#N/A"}}]
[{"$f":"INDEX(Tabelle2[[#All],[Budgetlinie]],MATCH(Tabelle1[[#This Row],[Maßnahme]],Ausfüllhilfe!$C$1:$C$22,0))","v":{"$error":"#N/A"}},null,null,null,null,null,null,null,null,{"$f":"VLOOKUP(Tabelle1[[#This Row],[Budgetlinie]],Ausfüllhilfe!$A$1:$D$23,4,0)","v":{"$error":"#N/A"}}]
[{"$f":"INDEX(Tabelle2[[#All],[Budgetlinie]],MATCH(Tabelle1[[#This Row],[Maßnahme]],Ausfüllhilfe!$C$1:$C$22,0))","v":{"$error":"#N/A"}},null,null,null,null,null,null,null,null,{"$f":"VLOOKUP(Tabelle1[[#This Row],[Budgetlinie]],Ausfüllhilfe!$A$1:$D$23,4,0)","v":{"$error":"#N/A"}}]
[{"$f":"INDEX(Tabelle2[[#All],[Budgetlinie]],MATCH(Tabelle1[[#This Row],[Maßnahme]],Ausfüllhilfe!$C$1:$C$22,0))","v":{"$error":"#N/A"}},null,null,null,null,null,null,null,null,{"$f":"VLOOKUP(Tabelle1[[#This Row],[Budgetlinie]],Ausfüllhilfe!$A$1:$D$23,4,0)","v":{"$error":"#N/A"}}]
[{"$f":"INDEX(Tabelle2[[#All],[Budgetlinie]],MATCH(Tabelle1[[#This Row],[Maßnahme]],Ausfüllhilfe!$C$1:$C$22,0))","v":{"$error":"#N/A"}},null,null,null,null,null,null,null,null,{"$f":"VLOOKUP(Tabelle1[[#This Row],[Budgetlinie]],Ausfüllhilfe!$A$1:$D$23,4,0)","v":{"$error":"#N/A"}}]
[{"$f":"INDEX(Tabelle2[[#All],[Budgetlinie]],MATCH(Tabelle1[[#This Row],[Maßnahme]],Ausfüllhilfe!$C$1:$C$22,0))","v":{"$error":"#N/A"}},null,null,null,null,null,null,null,null,{"$f":"VLOOKUP(Tabelle1[[#This Row],[Budgetlinie]],Ausfüllhilfe!$A$1:$D$23,4,0)","v":{"$error":"#N/A"}}]
[{"$f":"INDEX(Tabelle2[[#All],[Budgetlinie]],MATCH(Tabelle1[[#This Row],[Maßnahme]],Ausfüllhilfe!$C$1:$C$22,0))","v":{"$error":"#N/A"}},null,null,null,null,null,null,null,null,{"$f":"VLOOKUP(Tabelle1[[#This Row],[Budgetlinie]],Ausfüllhilfe!$A$1:$D$23,4,0)","v":{"$error":"#N/A"}}]
[{"$f":"INDEX(Tabelle2[[#All],[Budgetlinie]],MATCH(Tabelle1[[#This Row],[Maßnahme]],Ausfüllhilfe!$C$1:$C$22,0))","v":{"$error":"#N/A"}},null,null,null,null,null,null,null,null,{"$f":"VLOOKUP(Tabelle1[[#This Row],[Budgetlinie]],Ausfüllhilfe!$A$1:$D$23,4,0)","v":{"$error":"#N/A"}}]
[{"$f":"INDEX(Tabelle2[[#All],[Budgetlinie]],MATCH(Tabelle1[[#This Row],[Maßnahme]],Ausfüllhilfe!$C$1:$C$22,0))","v":{"$error":"#N/A"}},null,null,null,null,null,null,null,null,{"$f":"VLOOKUP(Tabelle1[[#This Row],[Budgetlinie]],Ausfüllhilfe!$A$1:$D$23,4,0)","v":{"$error":"#N/A"}}]
[{"$f":"INDEX(Tabelle2[[#All],[Budgetlinie]],MATCH(Tabelle1[[#This Row],[Maßnahme]],Ausfüllhilfe!$C$1:$C$22,0))","v":{"$error":"#N/A"}},null,null,null,null,null,null,null,null,{"$f":"VLOOKUP(Tabelle1[[#This Row],[Budgetlinie]],Ausfüllhilfe!$A$1:$D$23,4,0)","v":{"$error":"#N/A"}}]
[{"$f":"INDEX(Tabelle2[[#All],[Budgetlinie]],MATCH(Tabelle1[[#This Row],[Maßnahme]],Ausfüllhilfe!$C$1:$C$22,0))","v":{"$error":"#N/A"}},null,null,null,null,null,null,null,null,{"$f":"VLOOKUP(Tabelle1[[#This Row],[Budgetlinie]],Ausfüllhilfe!$A$1:$D$23,4,0)","v":{"$error":"#N/A"}}]
[{"$f":"INDEX(Tabelle2[[#All],[Budgetlinie]],MATCH(Tabelle1[[#This Row],[Maßnahme]],Ausfüllhilfe!$C$1:$C$22,0))","v":{"$error":"#N/A"}},null,null,null,null,null,null,null,null,{"$f":"VLOOKUP(Tabelle1[[#This Row],[Budgetlinie]],Ausfüllhilfe!$A$1:$D$23,4,0)","v":{"$error":"#N/A"}}]
[{"$f":"INDEX(Tabelle2[[#All],[Budgetlinie]],MATCH(Tabelle1[[#This Row],[Maßnahme]],Ausfüllhilfe!$C$1:$C$22,0))","v":{"$error":"#N/A"}},null,null,null,null,null,null,null,null,{"$f":"VLOOKUP(Tabelle1[[#This Row],[Budgetlinie]],Ausfüllhilfe!$A$1:$D$23,4,0)","v":{"$error":"#N/A"}}]
[{"$f":"INDEX(Tabelle2[[#All],[Budgetlinie]],MATCH(Tabelle1[[#This Row],[Maßnahme]],Ausfüllhilfe!$C$1:$C$22,0))","v":{"$error":"#N/A"}},null,null,null,null,null,null,null,null,{"$f":"VLOOKUP(Tabelle1[[#This Row],[Budgetlinie]],Ausfüllhilfe!$A$1:$D$23,4,0)","v":{"$error":"#N/A"}}]
[{"$f":"INDEX(Tabelle2[[#All],[Budgetlinie]],MATCH(Tabelle1[[#This Row],[Maßnahme]],Ausfüllhilfe!$C$1:$C$22,0))","v":{"$error":"#N/A"}},null,null,null,null,null,null,null,null,{"$f":"VLOOKUP(Tabelle1[[#This Row],[Budgetlinie]],Ausfüllhilfe!$A$1:$D$23,4,0)","v":{"$error":"#N/A"}}]
[{"$f":"INDEX(Tabelle2[[#All],[Budgetlinie]],MATCH(Tabelle1[[#This Row],[Maßnahme]],Ausfüllhilfe!$C$1:$C$22,0))","v":{"$error":"#N/A"}},null,null,null,null,null,null,null,null,{"$f":"VLOOKUP(Tabelle1[[#This Row],[Budgetlinie]],Ausfüllhilfe!$A$1:$D$23,4,0)","v":{"$error":"#N/A"}}]
[{"$f":"INDEX(Tabelle2[[#All],[Budgetlinie]],MATCH(Tabelle1[[#This Row],[Maßnahme]],Ausfüllhilfe!$C$1:$C$22,0))","v":{"$error":"#N/A"}},null,null,null,null,null,null,null,null,{"$f":"VLOOKUP(Tabelle1[[#This Row],[Budgetlinie]],Ausfüllhilfe!$A$1:$D$23,4,0)","v":{"$error":"#N/A"}}]
[{"$f":"INDEX(Tabelle2[[#All],[Budgetlinie]],MATCH(Tabelle1[[#This Row],[Maßnahme]],Ausfüllhilfe!$C$1:$C$22,0))","v":{"$error":"#N/A"}},null,null,null,null,null,null,null,null,{"$f":"VLOOKUP(Tabelle1[[#This Row],[Budgetlinie]],Ausfüllhilfe!$A$1:$D$23,4,0)","v":{"$error":"#N/A"}}]
[{"$f":"INDEX(Tabelle2[[#All],[Budgetlinie]],MATCH(Tabelle1[[#This Row],[Maßnahme]],Ausfüllhilfe!$C$1:$C$22,0))","v":{"$error":"#N/A"}},null,null,null,null,null,null,null,null,{"$f":"VLOOKUP(Tabelle1[[#This Row],[Budgetlinie]],Ausfüllhilfe!$A$1:$D$23,4,0)","v":{"$error":"#N/A"}}]
[{"$f":"INDEX(Tabelle2[[#All],[Budgetlinie]],MATCH(Tabelle1[[#This Row],[Maßnahme]],Ausfüllhilfe!$C$1:$C$22,0))","v":{"$error":"#N/A"}},null,null,null,null,null,null,null,null,{"$f":"VLOOKUP(Tabelle1[[#This Row],[Budgetlinie]],Ausfüllhilfe!$A$1:$D$23,4,0)","v":{"$error":"#N/A"}}]
[{"$f":"INDEX(Tabelle2[[#All],[Budgetlinie]],MATCH(Tabelle1[[#This Row],[Maßnahme]],Ausfüllhilfe!$C$1:$C$22,0))","v":{"$error":"#N/A"}},null,null,null,null,null,null,null,null,{"$f":"VLOOKUP(Tabelle1[[#This Row],[Budgetlinie]],Ausfüllhilfe!$A$1:$D$23,4,0)","v":{"$error":"#N/A"}}]
[{"$f":"INDEX(Tabelle2[[#All],[Budgetlinie]],MATCH(Tabelle1[[#This Row],[Maßnahme]],Ausfüllhilfe!$C$1:$C$22,0))","v":{"$error":"#N/A"}},null,null,null,null,null,null,null,null,{"$f":"VLOOKUP(Tabelle1[[#This Row],[Budgetlinie]],Ausfüllhilfe!$A$1:$D$23,4,0)","v":{"$error":"#N/A"}}]
[{"$f":"INDEX(Tabelle2[[#All],[Budgetlinie]],MATCH(Tabelle1[[#This Row],[Maßnahme]],Ausfüllhilfe!$C$1:$C$22,0))","v":{"$error":"#N/A"}},null,null,null,null,null,null,null,null,{"$f":"VLOOKUP(Tabelle1[[#This Row],[Budgetlinie]],Ausfüllhilfe!$A$1:$D$23,4,0)","v":{"$error":"#N/A"}}]
[{"$f":"INDEX(Tabelle2[[#All],[Budgetlinie]],MATCH(Tabelle1[[#This Row],[Maßnahme]],Ausfüllhilfe!$C$1:$C$22,0))","v":{"$error":"#N/A"}},null,null,null,null,null,null,null,null,{"$f":"VLOOKUP(Tabelle1[[#This Row],[Budgetlinie]],Ausfüllhilfe!$A$1:$D$23,4,0)","v":{"$error":"#N/A"}}]
[{"$f":"INDEX(Tabelle2[[#All],[Budgetlinie]],MATCH(Tabelle1[[#This Row],[Maßnahme]],Ausfüllhilfe!$C$1:$C$22,0))","v":{"$error":"#N/A"}},null,null,null,null,null,null,null,null,{"$f":"VLOOKUP(Tabelle1[[#This Row],[Budgetlinie]],Ausfüllhilfe!$A$1:$D$23,4,0)","v":{"$error":"#N/A"}}]
[{"$f":"INDEX(Tabelle2[[#All],[Budgetlinie]],MATCH(Tabelle1[[#This Row],[Maßnahme]],Ausfüllhilfe!$C$1:$C$22,0))","v":{"$error":"#N/A"}},null,null,null,null,null,null,null,null,{"$f":"VLOOKUP(Tabelle1[[#This Row],[Budgetlinie]],Ausfüllhilfe!$A$1:$D$23,4,0)","v":{"$error":"#N/A"}}]
[{"$f":"INDEX(Tabelle2[[#All],[Budgetlinie]],MATCH(Tabelle1[[#This Row],[Maßnahme]],Ausfüllhilfe!$C$1:$C$22,0))","v":{"$error":"#N/A"}},null,null,null,null,null,null,null,null,{"$f":"VLOOKUP(Tabelle1[[#This Row],[Budgetlinie]],Ausfüllhilfe!$A$1:$D$23,4,0)","v":{"$error":"#N/A"}}]
[{"$f":"INDEX(Tabelle2[[#All],[Budgetlinie]],MATCH(Tabelle1[[#This Row],[Maßnahme]],Ausfüllhilfe!$C$1:$C$22,0))","v":{"$error":"#N/A"}},null,null,null,null,null,null,null,null,{"$f":"VLOOKUP(Tabelle1[[#This Row],[Budgetlinie]],Ausfüllhilfe!$A$1:$D$23,4,0)","v":{"$error":"#N/A"}}]
[{"$f":"INDEX(Tabelle2[[#All],[Budgetlinie]],MATCH(Tabelle1[[#This Row],[Maßnahme]],Ausfüllhilfe!$C$1:$C$22,0))","v":{"$error":"#N/A"}},null,null,null,null,null,null,null,null,{"$f":"VLOOKUP(Tabelle1[[#This Row],[Budgetlinie]],Ausfüllhilfe!$A$1:$D$23,4,0)","v":{"$error":"#N/A"}}]
[{"$f":"INDEX(Tabelle2[[#All],[Budgetlinie]],MATCH(Tabelle1[[#This Row],[Maßnahme]],Ausfüllhilfe!$C$1:$C$22,0))","v":{"$error":"#N/A"}},null,null,null,null,null,null,null,null,{"$f":"VLOOKUP(Tabelle1[[#This Row],[Budgetlinie]],Ausfüllhilfe!$A$1:$D$23,4,0)","v":{"$error":"#N/A"}}]
[{"$f":"INDEX(Tabelle2[[#All],[Budgetlinie]],MATCH(Tabelle1[[#This Row],[Maßnahme]],Ausfüllhilfe!$C$1:$C$22,0))","v":{"$error":"#N/A"}},null,null,null,null,null,null,null,null,{"$f":"VLOOKUP(Tabelle1[[#This Row],[Budgetlinie]],Ausfüllhilfe!$A$1:$D$23,4,0)","v":{"$error":"#N/A"}}]
[{"$f":"INDEX(Tabelle2[[#All],[Budgetlinie]],MATCH(Tabelle1[[#This Row],[Maßnahme]],Ausfüllhilfe!$C$1:$C$22,0))","v":{"$error":"#N/A"}},null,null,null,null,null,null,null,null,{"$f":"VLOOKUP(Tabelle1[[#This Row],[Budgetlinie]],Ausfüllhilfe!$A$1:$D$23,4,0)","v":{"$error":"#N/A"}}]
[{"$f":"INDEX(Tabelle2[[#All],[Budgetlinie]],MATCH(Tabelle1[[#This Row],[Maßnahme]],Ausfüllhilfe!$C$1:$C$22,0))","v":{"$error":"#N/A"}},null,null,null,null,null,null,null,null,{"$f":"VLOOKUP(Tabelle1[[#This Row],[Budgetlinie]],Ausfüllhilfe!$A$1:$D$23,4,0)","v":{"$error":"#N/A"}}]
[{"$f":"INDEX(Tabelle2[[#All],[Budgetlinie]],MATCH(Tabelle1[[#This Row],[Maßnahme]],Ausfüllhilfe!$C$1:$C$22,0))","v":{"$error":"#N/A"}},null,null,null,null,null,null,null,null,{"$f":"VLOOKUP(Tabelle1[[#This Row],[Budgetlinie]],Ausfüllhilfe!$A$1:$D$23,4,0)","v":{"$error":"#N/A"}}]
[{"$f":"INDEX(Tabelle2[[#All],[Budgetlinie]],MATCH(Tabelle1[[#This Row],[Maßnahme]],Ausfüllhilfe!$C$1:$C$22,0))","v":{"$error":"#N/A"}},null,null,null,null,null,null,null,null,{"$f":"VLOOKUP(Tabelle1[[#This Row],[Budgetlinie]],Ausfüllhilfe!$A$1:$D$23,4,0)","v":{"$error":"#N/A"}}]
[{"$f":"INDEX(Tabelle2[[#All],[Budgetlinie]],MATCH(Tabelle1[[#This Row],[Maßnahme]],Ausfüllhilfe!$C$1:$C$22,0))","v":{"$error":"#N/A"}},null,null,null,null,null,null,null,null,{"$f":"VLOOKUP(Tabelle1[[#This Row],[Budgetlinie]],Ausfüllhilfe!$A$1:$D$23,4,0)","v":{"$error":"#N/A"}}]
[{"$f":"INDEX(Tabelle2[[#All],[Budgetlinie]],MATCH(Tabelle1[[#This Row],[Maßnahme]],Ausfüllhilfe!$C$1:$C$22,0))","v":{"$error":"#N/A"}},null,null,null,null,null,null,null,null,{"$f":"VLOOKUP(Tabelle1[[#This Row],[Budgetlinie]],Ausfüllhilfe!$A$1:$D$23,4,0)","v":{"$error":"#N/A"}}]
[{"$f":"INDEX(Tabelle2[[#All],[Budgetlinie]],MATCH(Tabelle1[[#This Row],[Maßnahme]],Ausfüllhilfe!$C$1:$C$22,0))","v":{"$error":"#N/A"}},null,null,null,null,null,null,null,null,{"$f":"VLOOKUP(Tabelle1[[#This Row],[Budgetlinie]],Ausfüllhilfe!$A$1:$D$23,4,0)","v":{"$error":"#N/A"}}]
[{"$f":"INDEX(Tabelle2[[#All],[Budgetlinie]],MATCH(Tabelle1[[#This Row],[Maßnahme]],Ausfüllhilfe!$C$1:$C$22,0))","v":{"$error":"#N/A"}},null,null,null,null,null,null,null,null,{"$f":"VLOOKUP(Tabelle1[[#This Row],[Budgetlinie]],Ausfüllhilfe!$A$1:$D$23,4,0)","v":{"$error":"#N/A"}}]
[{"$f":"INDEX(Tabelle2[[#All],[Budgetlinie]],MATCH(Tabelle1[[#This Row],[Maßnahme]],Ausfüllhilfe!$C$1:$C$22,0))","v":{"$error":"#N/A"}},null,null,null,null,null,null,null,null,{"$f":"VLOOKUP(Tabelle1[[#This Row],[Budgetlinie]],Ausfüllhilfe!$A$1:$D$23,4,0)","v":{"$error":"#N/A"}}]
[{"$f":"INDEX(Tabelle2[[#All],[Budgetlinie]],MATCH(Tabelle1[[#This Row],[Maßnahme]],Ausfüllhilfe!$C$1:$C$22,0))","v":{"$error":"#N/A"}},null,null,null,null,null,null,null,null,{"$f":"VLOOKUP(Tabelle1[[#This Row],[Budgetlinie]],Ausfüllhilfe!$A$1:$D$23,4,0)","v":{"$error":"#N/A"}}]
[{"$f":"INDEX(Tabelle2[[#All],[Budgetlinie]],MATCH(Tabelle1[[#This Row],[Maßnahme]],Ausfüllhilfe!$C$1:$C$22,0))","v":{"$error":"#N/A"}},null,null,null,null,null,null,null,null,{"$f":"VLOOKUP(Tabelle1[[#This Row],[Budgetlinie]],Ausfüllhilfe!$A$1:$D$23,4,0)","v":{"$error":"#N/A"}}]
[{"$f":"INDEX(Tabelle2[[#All],[Budgetlinie]],MATCH(Tabelle1[[#This Row],[Maßnahme]],Ausfüllhilfe!$C$1:$C$22,0))","v":{"$error":"#N/A"}},null,null,null,null,null,null,null,null,{"$f":"VLOOKUP(Tabelle1[[#This Row],[Budgetlinie]],Ausfüllhilfe!$A$1:$D$23,4,0)","v":{"$error":"#N/A"}}]
[{"$f":"INDEX(Tabelle2[[#All],[Budgetlinie]],MATCH(Tabelle1[[#This Row],[Maßnahme]],Ausfüllhilfe!$C$1:$C$22,0))","v":{"$error":"#N/A"}},null,null,null,null,null,null,null,null,{"$f":"VLOOKUP(Tabelle1[[#This Row],[Budgetlinie]],Ausfüllhilfe!$A$1:$D$23,4,0)","v":{"$error":"#N/A"}}]
[{"$f":"INDEX(Tabelle2[[#All],[Budgetlinie]],MATCH(Tabelle1[[#This Row],[Maßnahme]],Ausfüllhilfe!$C$1:$C$22,0))","v":{"$error":"#N/A"}},null,null,null,null,null,null,null,null,{"$f":"VLOOKUP(Tabelle1[[#This Row],[Budgetlinie]],Ausfüllhilfe!$A$1:$D$23,4,0)","v":{"$error":"#N/A"}}]
[{"$f":"INDEX(Tabelle2[[#All],[Budgetlinie]],MATCH(Tabelle1[[#This Row],[Maßnahme]],Ausfüllhilfe!$C$1:$C$22,0))","v":{"$error":"#N/A"}},null,null,null,null,null,null,null,null,{"$f":"VLOOKUP(Tabelle1[[#This Row],[Budgetlinie]],Ausfüllhilfe!$A$1:$D$23,4,0)","v":{"$error":"#N/A"}}]
[{"$f":"INDEX(Tabelle2[[#All],[Budgetlinie]],MATCH(Tabelle1[[#This Row],[Maßnahme]],Ausfüllhilfe!$C$1:$C$22,0))","v":{"$error":"#N/A"}},null,null,null,null,null,null,null,null,{"$f":"VLOOKUP(Tabelle1[[#This Row],[Budgetlinie]],Ausfüllhilfe!$A$1:$D$23,4,0)","v":{"$error":"#N/A"}}]
[{"$f":"INDEX(Tabelle2[[#All],[Budgetlinie]],MATCH(Tabelle1[[#This Row],[Maßnahme]],Ausfüllhilfe!$C$1:$C$22,0))","v":{"$error":"#N/A"}},null,null,null,null,null,null,null,null,{"$f":"VLOOKUP(Tabelle1[[#This Row],[Budgetlinie]],Ausfüllhilfe!$A$1:$D$23,4,0)","v":{"$error":"#N/A"}}]
[{"$f":"INDEX(Tabelle2[[#All],[Budgetlinie]],MATCH(Tabelle1[[#This Row],[Maßnahme]],Ausfüllhilfe!$C$1:$C$22,0))","v":{"$error":"#N/A"}},null,null,null,null,null,null,null,null,{"$f":"VLOOKUP(Tabelle1[[#This Row],[Budgetlinie]],Ausfüllhilfe!$A$1:$D$23,4,0)","v":{"$error":"#N/A"}}]
[{"$f":"INDEX(Tabelle2[[#All],[Budgetlinie]],MATCH(Tabelle1[[#This Row],[Maßnahme]],Ausfüllhilfe!$C$1:$C$22,0))","v":{"$error":"#N/A"}},null,null,null,null,null,null,null,null,{"$f":"VLOOKUP(Tabelle1[[#This Row],[Budgetlinie]],Ausfüllhilfe!$A$1:$D$23,4,0)","v":{"$error":"#N/A"}}]
[{"$f":"INDEX(Tabelle2[[#All],[Budgetlinie]],MATCH(Tabelle1[[#This Row],[Maßnahme]],Ausfüllhilfe!$C$1:$C$22,0))","v":{"$error":"#N/A"}},null,null,null,null,null,null,null,null,{"$f":"VLOOKUP(Tabelle1[[#This Row],[Budgetlinie]],Ausfüllhilfe!$A$1:$D$23,4,0)","v":{"$error":"#N/A"}}]
[{"$f":"INDEX(Tabelle2[[#All],[Budgetlinie]],MATCH(Tabelle1[[#This Row],[Maßnahme]],Ausfüllhilfe!$C$1:$C$22,0))","v":{"$error":"#N/A"}},null,null,null,null,null,null,null,null,{"$f":"VLOOKUP(Tabelle1[[#This Row],[Budgetlinie]],Ausfüllhilfe!$A$1:$D$23,4,0)","v":{"$error":"#N/A"}}]
[{"$f":"INDEX(Tabelle2[[#All],[Budgetlinie]],MATCH(Tabelle1[[#This Row],[Maßnahme]],Ausfüllhilfe!$C$1:$C$22,0))","v":{"$error":"#N/A"}},null,null,null,null,null,null,null,null,{"$f":"VLOOKUP(Tabelle1[[#This Row],[Budgetlinie]],Ausfüllhilfe!$A$1:$D$23,4,0)","v":{"$error":"#N/A"}}]
[{"$f":"INDEX(Tabelle2[[#All],[Budgetlinie]],MATCH(Tabelle1[[#This Row],[Maßnahme]],Ausfüllhilfe!$C$1:$C$22,0))","v":{"$error":"#N/A"}},null,null,null,null,null,null,null,null,{"$f":"VLOOKUP(Tabelle1[[#This Row],[Budgetlinie]],Ausfüllhilfe!$A$1:$D$23,4,0)","v":{"$error":"#N/A"}}]
[{"$f":"INDEX(Tabelle2[[#All],[Budgetlinie]],MATCH(Tabelle1[[#This Row],[Maßnahme]],Ausfüllhilfe!$C$1:$C$22,0))","v":{"$error":"#N/A"}},null,null,null,null,null,null,null,null,{"$f":"VLOOKUP(Tabelle1[[#This Row],[Budgetlinie]],Ausfüllhilfe!$A$1:$D$23,4,0)","v":{"$error":"#N/A"}}]
[{"$f":"INDEX(Tabelle2[[#All],[Budgetlinie]],MATCH(Tabelle1[[#This Row],[Maßnahme]],Ausfüllhilfe!$C$1:$C$22,0))","v":{"$error":"#N/A"}},null,null,null,null,null,null,null,null,{"$f":"VLOOKUP(Tabelle1[[#This Row],[Budgetlinie]],Ausfüllhilfe!$A$1:$D$23,4,0)","v":{"$error":"#N/A"}}]
[{"$f":"INDEX(Tabelle2[[#All],[Budgetlinie]],MATCH(Tabelle1[[#This Row],[Maßnahme]],Ausfüllhilfe!$C$1:$C$22,0))","v":{"$error":"#N/A"}},null,null,null,null,null,null,null,null,{"$f":"VLOOKUP(Tabelle1[[#This Row],[Budgetlinie]],Ausfüllhilfe!$A$1:$D$23,4,0)","v":{"$error":"#N/A"}}]
[{"$f":"INDEX(Tabelle2[[#All],[Budgetlinie]],MATCH(Tabelle1[[#This Row],[Maßnahme]],Ausfüllhilfe!$C$1:$C$22,0))","v":{"$error":"#N/A"}},null,null,null,null,null,null,null,null,{"$f":"VLOOKUP(Tabelle1[[#This Row],[Budgetlinie]],Ausfüllhilfe!$A$1:$D$23,4,0)","v":{"$error":"#N/A"}}]
[{"$f":"INDEX(Tabelle2[[#All],[Budgetlinie]],MATCH(Tabelle1[[#This Row],[Maßnahme]],Ausfüllhilfe!$C$1:$C$22,0))","v":{"$error":"#N/A"}},null,null,null,null,null,null,null,null,{"$f":"VLOOKUP(Tabelle1[[#This Row],[Budgetlinie]],Ausfüllhilfe!$A$1:$D$23,4,0)","v":{"$error":"#N/A"}}]
[{"$f":"INDEX(Tabelle2[[#All],[Budgetlinie]],MATCH(Tabelle1[[#This Row],[Maßnahme]],Ausfüllhilfe!$C$1:$C$22,0))","v":{"$error":"#N/A"}},null,null,null,null,null,null,null,null,{"$f":"VLOOKUP(Tabelle1[[#This Row],[Budgetlinie]],Ausfüllhilfe!$A$1:$D$23,4,0)","v":{"$error":"#N/A"}}]
[{"$f":"INDEX(Tabelle2[[#All],[Budgetlinie]],MATCH(Tabelle1[[#This Row],[Maßnahme]],Ausfüllhilfe!$C$1:$C$22,0))","v":{"$error":"#N/A"}},null,null,null,null,null,null,null,null,{"$f":"VLOOKUP(Tabelle1[[#This Row],[Budgetlinie]],Ausfüllhilfe!$A$1:$D$23,4,0)","v":{"$error":"#N/A"}}]
[{"$f":"INDEX(Tabelle2[[#All],[Budgetlinie]],MATCH(Tabelle1[[#This Row],[Maßnahme]],Ausfüllhilfe!$C$1:$C$22,0))","v":{"$error":"#N/A"}},null,null,null,null,null,null,null,null,{"$f":"VLOOKUP(Tabelle1[[#This Row],[Budgetlinie]],Ausfüllhilfe!$A$1:$D$23,4,0)","v":{"$error":"#N/A"}}]
[{"$f":"INDEX(Tabelle2[[#All],[Budgetlinie]],MATCH(Tabelle1[[#This Row],[Maßnahme]],Ausfüllhilfe!$C$1:$C$22,0))","v":{"$error":"#N/A"}},null,null,null,null,null,null,null,null,{"$f":"VLOOKUP(Tabelle1[[#This Row],[Budgetlinie]],Ausfüllhilfe!$A$1:$D$23,4,0)","v":{"$error":"#N/A"}}]
[{"$f":"INDEX(Tabelle2[[#All],[Budgetlinie]],MATCH(Tabelle1[[#This Row],[Maßnahme]],Ausfüllhilfe!$C$1:$C$22,0))","v":{"$error":"#N/A"}},null,null,null,null,null,null,null,null,{"$f":"VLOOKUP(Tabelle1[[#This Row],[Budgetlinie]],Ausfüllhilfe!$A$1:$D$23,4,0)","v":{"$error":"#N/A"}}]
[{"$f":"INDEX(Tabelle2[[#All],[Budgetlinie]],MATCH(Tabelle1[[#This Row],[Maßnahme]],Ausfüllhilfe!$C$1:$C$22,0))","v":{"$error":"#N/A"}},null,null,null,null,null,null,null,null,{"$f":"VLOOKUP(Tabelle1[[#This Row],[Budgetlinie]],Ausfüllhilfe!$A$1:$D$23,4,0)","v":{"$error":"#N/A"}}]
[{"$f":"INDEX(Tabelle2[[#All],[Budgetlinie]],MATCH(Tabelle1[[#This Row],[Maßnahme]],Ausfüllhilfe!$C$1:$C$22,0))","v":{"$error":"#N/A"}},null,null,null,null,null,null,null,null,{"$f":"VLOOKUP(Tabelle1[[#This Row],[Budgetlinie]],Ausfüllhilfe!$A$1:$D$23,4,0)","v":{"$error":"#N/A"}}]
[{"$f":"INDEX(Tabelle2[[#All],[Budgetlinie]],MATCH(Tabelle1[[#This Row],[Maßnahme]],Ausfüllhilfe!$C$1:$C$22,0))","v":{"$error":"#N/A"}},null,null,null,null,null,null,null,null,{"$f":"VLOOKUP(Tabelle1[[#This Row],[Budgetlinie]],Ausfüllhilfe!$A$1:$D$23,4,0)","v":{"$error":"#N/A"}}]
[{"$f":"INDEX(Tabelle2[[#All],[Budgetlinie]],MATCH(Tabelle1[[#This Row],[Maßnahme]],Ausfüllhilfe!$C$1:$C$22,0))","v":{"$error":"#N/A"}},null,null,null,null,null,null,null,null,{"$f":"VLOOKUP(Tabelle1[[#This Row],[Budgetlinie]],Ausfüllhilfe!$A$1:$D$23,4,0)","v":{"$error":"#N/A"}}]
[{"$f":"INDEX(Tabelle2[[#All],[Budgetlinie]],MATCH(Tabelle1[[#This Row],[Maßnahme]],Ausfüllhilfe!$C$1:$C$22,0))","v":{"$error":"#N/A"}},null,null,null,null,null,null,null,null,{"$f":"VLOOKUP(Tabelle1[[#This Row],[Budgetlinie]],Ausfüllhilfe!$A$1:$D$23,4,0)","v":{"$error":"#N/A"}}]
[{"$f":"INDEX(Tabelle2[[#All],[Budgetlinie]],MATCH(Tabelle1[[#This Row],[Maßnahme]],Ausfüllhilfe!$C$1:$C$22,0))","v":{"$error":"#N/A"}},null,null,null,null,null,null,null,null,{"$f":"VLOOKUP(Tabelle1[[#This Row],[Budgetlinie]],Ausfüllhilfe!$A$1:$D$23,4,0)","v":{"$error":"#N/A"}}]
[{"$f":"INDEX(Tabelle2[[#All],[Budgetlinie]],MATCH(Tabelle1[[#This Row],[Maßnahme]],Ausfüllhilfe!$C$1:$C$22,0))","v":{"$error":"#N/A"}},null,null,null,null,null,null,null,null,{"$f":"VLOOKUP(Tabelle1[[#This Row],[Budgetlinie]],Ausfüllhilfe!$A$1:$D$23,4,0)","v":{"$error":"#N/A"}}]
[{"$f":"INDEX(Tabelle2[[#All],[Budgetlinie]],MATCH(Tabelle1[[#This Row],[Maßnahme]],Ausfüllhilfe!$C$1:$C$22,0))","v":{"$error":"#N/A"}},null,null,null,null,null,null,null,null,{"$f":"VLOOKUP(Tabelle1[[#This Row],[Budgetlinie]],Ausfüllhilfe!$A$1:$D$23,4,0)","v":{"$error":"#N/A"}}]
[{"$f":"INDEX(Tabelle2[[#All],[Budgetlinie]],MATCH(Tabelle1[[#This Row],[Maßnahme]],Ausfüllhilfe!$C$1:$C$22,0))","v":{"$error":"#N/A"}},null,null,null,null,null,null,null,null,{"$f":"VLOOKUP(Tabelle1[[#This Row],[Budgetlinie]],Ausfüllhilfe!$A$1:$D$23,4,0)","v":{"$error":"#N/A"}}]
[{"$f":"INDEX(Tabelle2[[#All],[Budgetlinie]],MATCH(Tabelle1[[#This Row],[Maßnahme]],Ausfüllhilfe!$C$1:$C$22,0))","v":{"$error":"#N/A"}},null,null,null,null,null,null,null,null,{"$f":"VLOOKUP(Tabelle1[[#This Row],[Budgetlinie]],Ausfüllhilfe!$A$1:$D$23,4,0)","v":{"$error":"#N/A"}}]
[{"$f":"INDEX(Tabelle2[[#All],[Budgetlinie]],MATCH(Tabelle1[[#This Row],[Maßnahme]],Ausfüllhilfe!$C$1:$C$22,0))","v":{"$error":"#N/A"}},null,null,null,null,null,null,null,null,{"$f":"VLOOKUP(Tabelle1[[#This Row],[Budgetlinie]],Ausfüllhilfe!$A$1:$D$23,4,0)","v":{"$error":"#N/A"}}]
[{"$f":"INDEX(Tabelle2[[#All],[Budgetlinie]],MATCH(Tabelle1[[#This Row],[Maßnahme]],Ausfüllhilfe!$C$1:$C$22,0))","v":{"$error":"#N/A"}},null,null,null,null,null,null,null,null,{"$f":"VLOOKUP(Tabelle1[[#This Row],[Budgetlinie]],Ausfüllhilfe!$A$1:$D$23,4,0)","v":{"$error":"#N/A"}}]
[{"$f":"INDEX(Tabelle2[[#All],[Budgetlinie]],MATCH(Tabelle1[[#This Row],[Maßnahme]],Ausfüllhilfe!$C$1:$C$22,0))","v":{"$error":"#N/A"}},null,null,null,null,null,null,null,null,{"$f":"VLOOKUP(Tabelle1[[#This Row],[Budgetlinie]],Ausfüllhilfe!$A$1:$D$23,4,0)","v":{"$error":"#N/A"}}]
[{"$f":"INDEX(Tabelle2[[#All],[Budgetlinie]],MATCH(Tabelle1[[#This Row],[Maßnahme]],Ausfüllhilfe!$C$1:$C$22,0))","v":{"$error":"#N/A"}},null,null,null,null,null,null,null,null,{"$f":"VLOOKUP(Tabelle1[[#This Row],[Budgetlinie]],Ausfüllhilfe!$A$1:$D$23,4,0)","v":{"$error":"#N/A"}}]
[{"$f":"INDEX(Tabelle2[[#All],[Budgetlinie]],MATCH(Tabelle1[[#This Row],[Maßnahme]],Ausfüllhilfe!$C$1:$C$22,0))","v":{"$error":"#N/A"}},null,null,null,null,null,null,null,null,{"$f":"VLOOKUP(Tabelle1[[#This Row],[Budgetlinie]],Ausfüllhilfe!$A$1:$D$23,4,0)","v":{"$error":"#N/A"}}]
[{"$f":"INDEX(Tabelle2[[#All],[Budgetlinie]],MATCH(Tabelle1[[#This Row],[Maßnahme]],Ausfüllhilfe!$C$1:$C$22,0))","v":{"$error":"#N/A"}},null,null,null,null,null,null,null,null,{"$f":"VLOOKUP(Tabelle1[[#This Row],[Budgetlinie]],Ausfüllhilfe!$A$1:$D$23,4,0)","v":{"$error":"#N/A"}}]
[{"$f":"INDEX(Tabelle2[[#All],[Budgetlinie]],MATCH(Tabelle1[[#This Row],[Maßnahme]],Ausfüllhilfe!$C$1:$C$22,0))","v":{"$error":"#N/A"}},null,null,null,null,null,null,null,null,{"$f":"VLOOKUP(Tabelle1[[#This Row],[Budgetlinie]],Ausfüllhilfe!$A$1:$D$23,4,0)","v":{"$error":"#N/A"}}]
[{"$f":"INDEX(Tabelle2[[#All],[Budgetlinie]],MATCH(Tabelle1[[#This Row],[Maßnahme]],Ausfüllhilfe!$C$1:$C$22,0))","v":{"$error":"#N/A"}},null,null,null,null,null,null,null,null,{"$f":"VLOOKUP(Tabelle1[[#This Row],[Budgetlinie]],Ausfüllhilfe!$A$1:$D$23,4,0)","v":{"$error":"#N/A"}}]
[{"$f":"INDEX(Tabelle2[[#All],[Budgetlinie]],MATCH(Tabelle1[[#This Row],[Maßnahme]],Ausfüllhilfe!$C$1:$C$22,0))","v":{"$error":"#N/A"}},null,null,null,null,null,null,null,null,{"$f":"VLOOKUP(Tabelle1[[#This Row],[Budgetlinie]],Ausfüllhilfe!$A$1:$D$23,4,0)","v":{"$error":"#N/A"}}]
[{"$f":"INDEX(Tabelle2[[#All],[Budgetlinie]],MATCH(Tabelle1[[#This Row],[Maßnahme]],Ausfüllhilfe!$C$1:$C$22,0))","v":{"$error":"#N/A"}},null,null,null,null,null,null,null,null,{"$f":"VLOOKUP(Tabelle1[[#This Row],[Budgetlinie]],Ausfüllhilfe!$A$1:$D$23,4,0)","v":{"$error":"#N/A"}}]
[{"$f":"INDEX(Tabelle2[[#All],[Budgetlinie]],MATCH(Tabelle1[[#This Row],[Maßnahme]],Ausfüllhilfe!$C$1:$C$22,0))","v":{"$error":"#N/A"}},null,null,null,null,null,null,null,null,{"$f":"VLOOKUP(Tabelle1[[#This Row],[Budgetlinie]],Ausfüllhilfe!$A$1:$D$23,4,0)","v":{"$error":"#N/A"}}]
[{"$f":"INDEX(Tabelle2[[#All],[Budgetlinie]],MATCH(Tabelle1[[#This Row],[Maßnahme]],Ausfüllhilfe!$C$1:$C$22,0))","v":{"$error":"#N/A"}},null,null,null,null,null,null,null,null,{"$f":"VLOOKUP(Tabelle1[[#This Row],[Budgetlinie]],Ausfüllhilfe!$A$1:$D$23,4,0)","v":{"$error":"#N/A"}}]
[{"$f":"INDEX(Tabelle2[[#All],[Budgetlinie]],MATCH(Tabelle1[[#This Row],[Maßnahme]],Ausfüllhilfe!$C$1:$C$22,0))","v":{"$error":"#N/A"}},null,null,null,null,null,null,null,null,{"$f":"VLOOKUP(Tabelle1[[#This Row],[Budgetlinie]],Ausfüllhilfe!$A$1:$D$23,4,0)","v":{"$error":"#N/A"}}]
[{"$f":"INDEX(Tabelle2[[#All],[Budgetlinie]],MATCH(Tabelle1[[#This Row],[Maßnahme]],Ausfüllhilfe!$C$1:$C$22,0))","v":{"$error":"#N/A"}},null,null,null,null,null,null,null,null,{"$f":"VLOOKUP(Tabelle1[[#This Row],[Budgetlinie]],Ausfüllhilfe!$A$1:$D$23,4,0)","v":{"$error":"#N/A"}}]
[{"$f":"INDEX(Tabelle2[[#All],[Budgetlinie]],MATCH(Tabelle1[[#This Row],[Maßnahme]],Ausfüllhilfe!$C$1:$C$22,0))","v":{"$error":"#N/A"}},null,null,null,null,null,null,null,null,{"$f":"VLOOKUP(Tabelle1[[#This Row],[Budgetlinie]],Ausfüllhilfe!$A$1:$D$23,4,0)","v":{"$error":"#N/A"}}]
[{"$f":"INDEX(Tabelle2[[#All],[Budgetlinie]],MATCH(Tabelle1[[#This Row],[Maßnahme]],Ausfüllhilfe!$C$1:$C$22,0))","v":{"$error":"#N/A"}},null,null,null,null,null,null,null,null,{"$f":"VLOOKUP(Tabelle1[[#This Row],[Budgetlinie]],Ausfüllhilfe!$A$1:$D$23,4,0)","v":{"$error":"#N/A"}}]
[{"$f":"INDEX(Tabelle2[[#All],[Budgetlinie]],MATCH(Tabelle1[[#This Row],[Maßnahme]],Ausfüllhilfe!$C$1:$C$22,0))","v":{"$error":"#N/A"}},null,null,null,null,null,null,null,null,{"$f":"VLOOKUP(Tabelle1[[#This Row],[Budgetlinie]],Ausfüllhilfe!$A$1:$D$23,4,0)","v":{"$error":"#N/A"}}]
[{"$f":"INDEX(Tabelle2[[#All],[Budgetlinie]],MATCH(Tabelle1[[#This Row],[Maßnahme]],Ausfüllhilfe!$C$1:$C$22,0))","v":{"$error":"#N/A"}},null,null,null,null,null,null,null,null,{"$f":"VLOOKUP(Tabelle1[[#This Row],[Budgetlinie]],Ausfüllhilfe!$A$1:$D$23,4,0)","v":{"$error":"#N/A"}}]
[{"$f":"INDEX(Tabelle2[[#All],[Budgetlinie]],MATCH(Tabelle1[[#This Row],[Maßnahme]],Ausfüllhilfe!$C$1:$C$22,0))","v":{"$error":"#N/A"}},null,null,null,null,null,null,null,null,{"$f":"VLOOKUP(Tabelle1[[#This Row],[Budgetlinie]],Ausfüllhilfe!$A$1:$D$23,4,0)","v":{"$error":"#N/A"}}]
[{"$f":"INDEX(Tabelle2[[#All],[Budgetlinie]],MATCH(Tabelle1[[#This Row],[Maßnahme]],Ausfüllhilfe!$C$1:$C$22,0))","v":{"$error":"#N/A"}},null,null,null,null,null,null,null,null,{"$f":"VLOOKUP(Tabelle1[[#This Row],[Budgetlinie]],Ausfüllhilfe!$A$1:$D$23,4,0)","v":{"$error":"#N/A"}}]
[{"$f":"INDEX(Tabelle2[[#All],[Budgetlinie]],MATCH(Tabelle1[[#This Row],[Maßnahme]],Ausfüllhilfe!$C$1:$C$22,0))","v":{"$error":"#N/A"}},null,null,null,null,null,null,null,null,{"$f":"VLOOKUP(Tabelle1[[#This Row],[Budgetlinie]],Ausfüllhilfe!$A$1:$D$23,4,0)","v":{"$error":"#N/A"}}]
[{"$f":"INDEX(Tabelle2[[#All],[Budgetlinie]],MATCH(Tabelle1[[#This Row],[Maßnahme]],Ausfüllhilfe!$C$1:$C$22,0))","v":{"$error":"#N/A"}},null,null,null,null,null,null,null,null,{"$f":"VLOOKUP(Tabelle1[[#This Row],[Budgetlinie]],Ausfüllhilfe!$A$1:$D$23,4,0)","v":{"$error":"#N/A"}}]
[{"$f":"INDEX(Tabelle2[[#All],[Budgetlinie]],MATCH(Tabelle1[[#This Row],[Maßnahme]],Ausfüllhilfe!$C$1:$C$22,0))","v":{"$error":"#N/A"}},null,null,null,null,null,null,null,null,{"$f":"VLOOKUP(Tabelle1[[#This Row],[Budgetlinie]],Ausfüllhilfe!$A$1:$D$23,4,0)","v":{"$error":"#N/A"}}]
[{"$f":"INDEX(Tabelle2[[#All],[Budgetlinie]],MATCH(Tabelle1[[#This Row],[Maßnahme]],Ausfüllhilfe!$C$1:$C$22,0))","v":{"$error":"#N/A"}},null,null,null,null,null,null,null,null,{"$f":"VLOOKUP(Tabelle1[[#This Row],[Budgetlinie]],Ausfüllhilfe!$A$1:$D$23,4,0)","v":{"$error":"#N/A"}}]
[{"$f":"INDEX(Tabelle2[[#All],[Budgetlinie]],MATCH(Tabelle1[[#This Row],[Maßnahme]],Ausfüllhilfe!$C$1:$C$22,0))","v":{"$error":"#N/A"}},null,null,null,null,null,null,null,null,{"$f":"VLOOKUP(Tabelle1[[#This Row],[Budgetlinie]],Ausfüllhilfe!$A$1:$D$23,4,0)","v":{"$error":"#N/A"}}]
[{"$f":"INDEX(Tabelle2[[#All],[Budgetlinie]],MATCH(Tabelle1[[#This Row],[Maßnahme]],Ausfüllhilfe!$C$1:$C$22,0))","v":{"$error":"#N/A"}},null,null,null,null,null,null,null,null,{"$f":"VLOOKUP(Tabelle1[[#This Row],[Budgetlinie]],Ausfüllhilfe!$A$1:$D$23,4,0)","v":{"$error":"#N/A"}}]
[{"$f":"INDEX(Tabelle2[[#All],[Budgetlinie]],MATCH(Tabelle1[[#This Row],[Maßnahme]],Ausfüllhilfe!$C$1:$C$22,0))","v":{"$error":"#N/A"}},null,null,null,null,null,null,null,null,{"$f":"VLOOKUP(Tabelle1[[#This Row],[Budgetlinie]],Ausfüllhilfe!$A$1:$D$23,4,0)","v":{"$error":"#N/A"}}]
[{"$f":"INDEX(Tabelle2[[#All],[Budgetlinie]],MATCH(Tabelle1[[#This Row],[Maßnahme]],Ausfüllhilfe!$C$1:$C$22,0))","v":{"$error":"#N/A"}},null,null,null,null,null,null,null,null,{"$f":"VLOOKUP(Tabelle1[[#This Row],[Budgetlinie]],Ausfüllhilfe!$A$1:$D$23,4,0)","v":{"$error":"#N/A"}}]
[{"$f":"INDEX(Tabelle2[[#All],[Budgetlinie]],MATCH(Tabelle1[[#This Row],[Maßnahme]],Ausfüllhilfe!$C$1:$C$22,0))","v":{"$error":"#N/A"}},null,null,null,null,null,null,null,null,{"$f":"VLOOKUP(Tabelle1[[#This Row],[Budgetlinie]],Ausfüllhilfe!$A$1:$D$23,4,0)","v":{"$error":"#N/A"}}]
[{"$f":"INDEX(Tabelle2[[#All],[Budgetlinie]],MATCH(Tabelle1[[#This Row],[Maßnahme]],Ausfüllhilfe!$C$1:$C$22,0))","v":{"$error":"#N/A"}},null,null,null,null,null,null,null,null,{"$f":"VLOOKUP(Tabelle1[[#This Row],[Budgetlinie]],Ausfüllhilfe!$A$1:$D$23,4,0)","v":{"$error":"#N/A"}}]
[{"$f":"INDEX(Tabelle2[[#All],[Budgetlinie]],MATCH(Tabelle1[[#This Row],[Maßnahme]],Ausfüllhilfe!$C$1:$C$22,0))","v":{"$error":"#N/A"}},null,null,null,null,null,null,null,null,{"$f":"VLOOKUP(Tabelle1[[#This Row],[Budgetlinie]],Ausfüllhilfe!$A$1:$D$23,4,0)","v":{"$error":"#N/A"}}]
[{"$f":"INDEX(Tabelle2[[#All],[Budgetlinie]],MATCH(Tabelle1[[#This Row],[Maßnahme]],Ausfüllhilfe!$C$1:$C$22,0))","v":{"$error":"#N/A"}},null,null,null,null,null,null,null,null,{"$f":"VLOOKUP(Tabelle1[[#This Row],[Budgetlinie]],Ausfüllhilfe!$A$1:$D$23,4,0)","v":{"$error":"#N/A"}}]
[{"$f":"INDEX(Tabelle2[[#All],[Budgetlinie]],MATCH(Tabelle1[[#This Row],[Maßnahme]],Ausfüllhilfe!$C$1:$C$22,0))","v":{"$error":"#N/A"}},null,null,null,null,null,null,null,null,{"$f":"VLOOKUP(Tabelle1[[#This Row],[Budgetlinie]],Ausfüllhilfe!$A$1:$D$23,4,0)","v":{"$error":"#N/A"}}]
[{"$f":"INDEX(Tabelle2[[#All],[Budgetlinie]],MATCH(Tabelle1[[#This Row],[Maßnahme]],Ausfüllhilfe!$C$1:$C$22,0))","v":{"$error":"#N/A"}},null,null,null,null,null,null,null,null,{"$f":"VLOOKUP(Tabelle1[[#This Row],[Budgetlinie]],Ausfüllhilfe!$A$1:$D$23,4,0)","v":{"$error":"#N/A"}}]
[{"$f":"INDEX(Tabelle2[[#All],[Budgetlinie]],MATCH(Tabelle1[[#This Row],[Maßnahme]],Ausfüllhilfe!$C$1:$C$22,0))","v":{"$error":"#N/A"}},null,null,null,null,null,null,null,null,{"$f":"VLOOKUP(Tabelle1[[#This Row],[Budgetlinie]],Ausfüllhilfe!$A$1:$D$23,4,0)","v":{"$error":"#N/A"}}]
[{"$f":"INDEX(Tabelle2[[#All],[Budgetlinie]],MATCH(Tabelle1[[#This Row],[Maßnahme]],Ausfüllhilfe!$C$1:$C$22,0))","v":{"$error":"#N/A"}},null,null,null,null,null,null,null,null,{"$f":"VLOOKUP(Tabelle1[[#This Row],[Budgetlinie]],Ausfüllhilfe!$A$1:$D$23,4,0)","v":{"$error":"#N/A"}}]
[{"$f":"INDEX(Tabelle2[[#All],[Budgetlinie]],MATCH(Tabelle1[[#This Row],[Maßnahme]],Ausfüllhilfe!$C$1:$C$22,0))","v":{"$error":"#N/A"}},null,null,null,null,null,null,null,null,{"$f":"VLOOKUP(Tabelle1[[#This Row],[Budgetlinie]],Ausfüllhilfe!$A$1:$D$23,4,0)","v":{"$error":"#N/A"}}]
[{"$f":"INDEX(Tabelle2[[#All],[Budgetlinie]],MATCH(Tabelle1[[#This Row],[Maßnahme]],Ausfüllhilfe!$C$1:$C$22,0))","v":{"$error":"#N/A"}},null,null,null,null,null,null,null,null,{"$f":"VLOOKUP(Tabelle1[[#This Row],[Budgetlinie]],Ausfüllhilfe!$A$1:$D$23,4,0)","v":{"$error":"#N/A"}}]
[{"$f":"INDEX(Tabelle2[[#All],[Budgetlinie]],MATCH(Tabelle1[[#This Row],[Maßnahme]],Ausfüllhilfe!$C$1:$C$22,0))","v":{"$error":"#N/A"}},null,null,null,null,null,null,null,null,{"$f":"VLOOKUP(Tabelle1[[#This Row],[Budgetlinie]],Ausfüllhilfe!$A$1:$D$23,4,0)","v":{"$error":"#N/A"}}]
[{"$f":"INDEX(Tabelle2[[#All],[Budgetlinie]],MATCH(Tabelle1[[#This Row],[Maßnahme]],Ausfüllhilfe!$C$1:$C$22,0))","v":{"$error":"#N/A"}},null,null,null,null,null,null,null,null,{"$f":"VLOOKUP(Tabelle1[[#This Row],[Budgetlinie]],Ausfüllhilfe!$A$1:$D$23,4,0)","v":{"$error":"#N/A"}}]
[{"$f":"INDEX(Tabelle2[[#All],[Budgetlinie]],MATCH(Tabelle1[[#This Row],[Maßnahme]],Ausfüllhilfe!$C$1:$C$22,0))","v":{"$error":"#N/A"}},null,null,null,null,null,null,null,null,{"$f":"VLOOKUP(Tabelle1[[#This Row],[Budgetlinie]],Ausfüllhilfe!$A$1:$D$23,4,0)","v":{"$error":"#N/A"}}]
[{"$f":"INDEX(Tabelle2[[#All],[Budgetlinie]],MATCH(Tabelle1[[#This Row],[Maßnahme]],Ausfüllhilfe!$C$1:$C$22,0))","v":{"$error":"#N/A"}},null,null,null,null,null,null,null,null,{"$f":"VLOOKUP(Tabelle1[[#This Row],[Budgetlinie]],Ausfüllhilfe!$A$1:$D$23,4,0)","v":{"$error":"#N/A"}}]
[{"$f":"INDEX(Tabelle2[[#All],[Budgetlinie]],MATCH(Tabelle1[[#This Row],[Maßnahme]],Ausfüllhilfe!$C$1:$C$22,0))","v":{"$error":"#N/A"}},null,null,null,null,null,null,null,null,{"$f":"VLOOKUP(Tabelle1[[#This Row],[Budgetlinie]],Ausfüllhilfe!$A$1:$D$23,4,0)","v":{"$error":"#N/A"}}]
[{"$f":"INDEX(Tabelle2[[#All],[Budgetlinie]],MATCH(Tabelle1[[#This Row],[Maßnahme]],Ausfüllhilfe!$C$1:$C$22,0))","v":{"$error":"#N/A"}},null,null,null,null,null,null,null,null,{"$f":"VLOOKUP(Tabelle1[[#This Row],[Budgetlinie]],Ausfüllhilfe!$A$1:$D$23,4,0)","v":{"$error":"#N/A"}}]
[{"$f":"INDEX(Tabelle2[[#All],[Budgetlinie]],MATCH(Tabelle1[[#This Row],[Maßnahme]],Ausfüllhilfe!$C$1:$C$22,0))","v":{"$error":"#N/A"}},null,null,null,null,null,null,null,null,{"$f":"VLOOKUP(Tabelle1[[#This Row],[Budgetlinie]],Ausfüllhilfe!$A$1:$D$23,4,0)","v":{"$error":"#N/A"}}]
[{"$f":"INDEX(Tabelle2[[#All],[Budgetlinie]],MATCH(Tabelle1[[#This Row],[Maßnahme]],Ausfüllhilfe!$C$1:$C$22,0))","v":{"$error":"#N/A"}},null,null,null,null,null,null,null,null,{"$f":"VLOOKUP(Tabelle1[[#This Row],[Budgetlinie]],Ausfüllhilfe!$A$1:$D$23,4,0)","v":{"$error":"#N/A"}}]
[{"$f":"INDEX(Tabelle2[[#All],[Budgetlinie]],MATCH(Tabelle1[[#This Row],[Maßnahme]],Ausfüllhilfe!$C$1:$C$22,0))","v":{"$error":"#N/A"}},null,null,null,null,null,null,null,null,{"$f":"VLOOKUP(Tabelle1[[#This Row],[Budgetlinie]],Ausfüllhilfe!$A$1:$D$23,4,0)","v":{"$error":"#N/A"}}]
[{"$f":"INDEX(Tabelle2[[#All],[Budgetlinie]],MATCH(Tabelle1[[#This Row],[Maßnahme]],Ausfüllhilfe!$C$1:$C$22,0))","v":{"$error":"#N/A"}},null,null,null,null,null,null,null,null,{"$f":"VLOOKUP(Tabelle1[[#This Row],[Budgetlinie]],Ausfüllhilfe!$A$1:$D$23,4,0)","v":{"$error":"#N/A"}}]
[{"$f":"INDEX(Tabelle2[[#All],[Budgetlinie]],MATCH(Tabelle1[[#This Row],[Maßnahme]],Ausfüllhilfe!$C$1:$C$22,0))","v":{"$error":"#N/A"}},null,null,null,null,null,null,null,null,{"$f":"VLOOKUP(Tabelle1[[#This Row],[Budgetlinie]],Ausfüllhilfe!$A$1:$D$23,4,0)","v":{"$error":"#N/A"}}]
[{"$f":"INDEX(Tabelle2[[#All],[Budgetlinie]],MATCH(Tabelle1[[#This Row],[Maßnahme]],Ausfüllhilfe!$C$1:$C$22,0))","v":{"$error":"#N/A"}},null,null,null,null,null,null,null,null,{"$f":"VLOOKUP(Tabelle1[[#This Row],[Budgetlinie]],Ausfüllhilfe!$A$1:$D$23,4,0)","v":{"$error":"#N/A"}}]
[{"$f":"INDEX(Tabelle2[[#All],[Budgetlinie]],MATCH(Tabelle1[[#This Row],[Maßnahme]],Ausfüllhilfe!$C$1:$C$22,0))","v":{"$error":"#N/A"}},null,null,null,null,null,null,null,null,{"$f":"VLOOKUP(Tabelle1[[#This Row],[Budgetlinie]],Ausfüllhilfe!$A$1:$D$23,4,0)","v":{"$error":"#N/A"}}]
[{"$f":"INDEX(Tabelle2[[#All],[Budgetlinie]],MATCH(Tabelle1[[#This Row],[Maßnahme]],Ausfüllhilfe!$C$1:$C$22,0))","v":{"$error":"#N/A"}},null,null,null,null,null,null,null,null,{"$f":"VLOOKUP(Tabelle1[[#This Row],[Budgetlinie]],Ausfüllhilfe!$A$1:$D$23,4,0)","v":{"$error":"#N/A"}}]
[{"$f":"INDEX(Tabelle2[[#All],[Budgetlinie]],MATCH(Tabelle1[[#This Row],[Maßnahme]],Ausfüllhilfe!$C$1:$C$22,0))","v":{"$error":"#N/A"}},null,null,null,null,null,null,null,null,{"$f":"VLOOKUP(Tabelle1[[#This Row],[Budgetlinie]],Ausfüllhilfe!$A$1:$D$23,4,0)","v":{"$error":"#N/A"}}]
[{"$f":"INDEX(Tabelle2[[#All],[Budgetlinie]],MATCH(Tabelle1[[#This Row],[Maßnahme]],Ausfüllhilfe!$C$1:$C$22,0))","v":{"$error":"#N/A"}},null,null,null,null,null,null,null,null,{"$f":"VLOOKUP(Tabelle1[[#This Row],[Budgetlinie]],Ausfüllhilfe!$A$1:$D$23,4,0)","v":{"$error":"#N/A"}}]
[{"$f":"INDEX(Tabelle2[[#All],[Budgetlinie]],MATCH(Tabelle1[[#This Row],[Maßnahme]],Ausfüllhilfe!$C$1:$C$22,0))","v":{"$error":"#N/A"}},null,null,null,null,null,null,null,null,{"$f":"VLOOKUP(Tabelle1[[#This Row],[Budgetlinie]],Ausfüllhilfe!$A$1:$D$23,4,0)","v":{"$error":"#N/A"}}]
[{"$f":"INDEX(Tabelle2[[#All],[Budgetlinie]],MATCH(Tabelle1[[#This Row],[Maßnahme]],Ausfüllhilfe!$C$1:$C$22,0))","v":{"$error":"#N/A"}},null,null,null,null,null,null,null,null,{"$f":"VLOOKUP(Tabelle1[[#This Row],[Budgetlinie]],Ausfüllhilfe!$A$1:$D$23,4,0)","v":{"$error":"#N/A"}}]
[{"$f":"INDEX(Tabelle2[[#All],[Budgetlinie]],MATCH(Tabelle1[[#This Row],[Maßnahme]],Ausfüllhilfe!$C$1:$C$22,0))","v":{"$error":"#N/A"}},null,null,null,null,null,null,null,null,{"$f":"VLOOKUP(Tabelle1[[#This Row],[Budgetlinie]],Ausfüllhilfe!$A$1:$D$23,4,0)","v":{"$error":"#N/A"}}]
[{"$f":"INDEX(Tabelle2[[#All],[Budgetlinie]],MATCH(Tabelle1[[#This Row],[Maßnahme]],Ausfüllhilfe!$C$1:$C$22,0))","v":{"$error":"#N/A"}},null,null,null,null,null,null,null,null,{"$f":"VLOOKUP(Tabelle1[[#This Row],[Budgetlinie]],Ausfüllhilfe!$A$1:$D$23,4,0)","v":{"$error":"#N/A"}}]
[{"$f":"INDEX(Tabelle2[[#All],[Budgetlinie]],MATCH(Tabelle1[[#This Row],[Maßnahme]],Ausfüllhilfe!$C$1:$C$22,0))","v":{"$error":"#N/A"}},null,null,null,null,null,null,null,null,{"$f":"VLOOKUP(Tabelle1[[#This Row],[Budgetlinie]],Ausfüllhilfe!$A$1:$D$23,4,0)","v":{"$error":"#N/A"}}]
[{"$f":"INDEX(Tabelle2[[#All],[Budgetlinie]],MATCH(Tabelle1[[#This Row],[Maßnahme]],Ausfüllhilfe!$C$1:$C$22,0))","v":{"$error":"#N/A"}},null,null,null,null,null,null,null,null,{"$f":"VLOOKUP(Tabelle1[[#This Row],[Budgetlinie]],Ausfüllhilfe!$A$1:$D$23,4,0)","v":{"$error":"#N/A"}}]
[{"$f":"INDEX(Tabelle2[[#All],[Budgetlinie]],MATCH(Tabelle1[[#This Row],[Maßnahme]],Ausfüllhilfe!$C$1:$C$22,0))","v":{"$error":"#N/A"}},null,null,null,null,null,null,null,null,{"$f":"VLOOKUP(Tabelle1[[#This Row],[Budgetlinie]],Ausfüllhilfe!$A$1:$D$23,4,0)","v":{"$error":"#N/A"}}]
[{"$f":"INDEX(Tabelle2[[#All],[Budgetlinie]],MATCH(Tabelle1[[#This Row],[Maßnahme]],Ausfüllhilfe!$C$1:$C$22,0))","v":{"$error":"#N/A"}},null,null,null,null,null,null,null,null,{"$f":"VLOOKUP(Tabelle1[[#This Row],[Budgetlinie]],Ausfüllhilfe!$A$1:$D$23,4,0)","v":{"$error":"#N/A"}}]
[{"$f":"INDEX(Tabelle2[[#All],[Budgetlinie]],MATCH(Tabelle1[[#This Row],[Maßnahme]],Ausfüllhilfe!$C$1:$C$22,0))","v":{"$error":"#N/A"}},null,null,null,null,null,null,null,null,{"$f":"VLOOKUP(Tabelle1[[#This Row],[Budgetlinie]],Ausfüllhilfe!$A$1:$D$23,4,0)","v":{"$error":"#N/A"}}]
[{"$f":"INDEX(Tabelle2[[#All],[Budgetlinie]],MATCH(Tabelle1[[#This Row],[Maßnahme]],Ausfüllhilfe!$C$1:$C$22,0))","v":{"$error":"#N/A"}},null,null,null,null,null,null,null,null,{"$f":"VLOOKUP(Tabelle1[[#This Row],[Budgetlinie]],Ausfüllhilfe!$A$1:$D$23,4,0)","v":{"$error":"#N/A"}}]
[{"$f":"INDEX(Tabelle2[[#All],[Budgetlinie]],MATCH(Tabelle1[[#This Row],[Maßnahme]],Ausfüllhilfe!$C$1:$C$22,0))","v":{"$error":"#N/A"}},null,null,null,null,null,null,null,null,{"$f":"VLOOKUP(Tabelle1[[#This Row],[Budgetlinie]],Ausfüllhilfe!$A$1:$D$23,4,0)","v":{"$error":"#N/A"}}]
[{"$f":"INDEX(Tabelle2[[#All],[Budgetlinie]],MATCH(Tabelle1[[#This Row],[Maßnahme]],Ausfüllhilfe!$C$1:$C$22,0))","v":{"$error":"#N/A"}},null,null,null,null,null,null,null,null,{"$f":"VLOOKUP(Tabelle1[[#This Row],[Budgetlinie]],Ausfüllhilfe!$A$1:$D$23,4,0)","v":{"$error":"#N/A"}}]
[{"$f":"INDEX(Tabelle2[[#All],[Budgetlinie]],MATCH(Tabelle1[[#This Row],[Maßnahme]],Ausfüllhilfe!$C$1:$C$22,0))","v":{"$error":"#N/A"}},null,null,null,null,null,null,null,null,{"$f":"VLOOKUP(Tabelle1[[#This Row],[Budgetlinie]],Ausfüllhilfe!$A$1:$D$23,4,0)","v":{"$error":"#N/A"}}]
[{"$f":"INDEX(Tabelle2[[#All],[Budgetlinie]],MATCH(Tabelle1[[#This Row],[Maßnahme]],Ausfüllhilfe!$C$1:$C$22,0))","v":{"$error":"#N/A"}},null,null,null,null,null,null,null,null,{"$f":"VLOOKUP(Tabelle1[[#This Row],[Budgetlinie]],Ausfüllhilfe!$A$1:$D$23,4,0)","v":{"$error":"#N/A"}}]
[{"$f":"INDEX(Tabelle2[[#All],[Budgetlinie]],MATCH(Tabelle1[[#This Row],[Maßnahme]],Ausfüllhilfe!$C$1:$C$22,0))","v":{"$error":"#N/A"}},null,null,null,null,null,null,null,null,{"$f":"VLOOKUP(Tabelle1[[#This Row],[Budgetlinie]],Ausfüllhilfe!$A$1:$D$23,4,0)","v":{"$error":"#N/A"}}]
[{"$f":"INDEX(Tabelle2[[#All],[Budgetlinie]],MATCH(Tabelle1[[#This Row],[Maßnahme]],Ausfüllhilfe!$C$1:$C$22,0))","v":{"$error":"#N/A"}},null,null,null,null,null,null,null,null,{"$f":"VLOOKUP(Tabelle1[[#This Row],[Budgetlinie]],Ausfüllhilfe!$A$1:$D$23,4,0)","v":{"$error":"#N/A"}}]
[{"$f":"INDEX(Tabelle2[[#All],[Budgetlinie]],MATCH(Tabelle1[[#This Row],[Maßnahme]],Ausfüllhilfe!$C$1:$C$22,0))","v":{"$error":"#N/A"}},null,null,null,null,null,null,null,null,{"$f":"VLOOKUP(Tabelle1[[#This Row],[Budgetlinie]],Ausfüllhilfe!$A$1:$D$23,4,0)","v":{"$error":"#N/A"}}]
[{"$f":"INDEX(Tabelle2[[#All],[Budgetlinie]],MATCH(Tabelle1[[#This Row],[Maßnahme]],Ausfüllhilfe!$C$1:$C$22,0))","v":{"$error":"#N/A"}},null,null,null,null,null,null,null,null,{"$f":"VLOOKUP(Tabelle1[[#This Row],[Budgetlinie]],Ausfüllhilfe!$A$1:$D$23,4,0)","v":{"$error":"#N/A"}}]
[{"$f":"INDEX(Tabelle2[[#All],[Budgetlinie]],MATCH(Tabelle1[[#This Row],[Maßnahme]],Ausfüllhilfe!$C$1:$C$22,0))","v":{"$error":"#N/A"}},null,null,null,null,null,null,null,null,{"$f":"VLOOKUP(Tabelle1[[#This Row],[Budgetlinie]],Ausfüllhilfe!$A$1:$D$23,4,0)","v":{"$error":"#N/A"}}]
[{"$f":"INDEX(Tabelle2[[#All],[Budgetlinie]],MATCH(Tabelle1[[#This Row],[Maßnahme]],Ausfüllhilfe!$C$1:$C$22,0))","v":{"$error":"#N/A"}},null,null,null,null,null,null,null,null,{"$f":"VLOOKUP(Tabelle1[[#This Row],[Budgetlinie]],Ausfüllhilfe!$A$1:$D$23,4,0)","v":{"$error":"#N/A"}}]
[{"$f":"INDEX(Tabelle2[[#All],[Budgetlinie]],MATCH(Tabelle1[[#This Row],[Maßnahme]],Ausfüllhilfe!$C$1:$C$22,0))","v":{"$error":"#N/A"}},null,null,null,null,null,null,null,null,{"$f":"VLOOKUP(Tabelle1[[#This Row],[Budgetlinie]],Ausfüllhilfe!$A$1:$D$23,4,0)","v":{"$error":"#N/A"}}]
[{"$f":"INDEX(Tabelle2[[#All],[Budgetlinie]],MATCH(Tabelle1[[#This Row],[Maßnahme]],Ausfüllhilfe!$C$1:$C$22,0))","v":{"$error":"#N/A"}},null,null,null,null,null,null,null,null,{"$f":"VLOOKUP(Tabelle1[[#This Row],[Budgetlinie]],Ausfüllhilfe!$A$1:$D$23,4,0)","v":{"$error":"#N/A"}}]
[{"$f":"INDEX(Tabelle2[[#All],[Budgetlinie]],MATCH(Tabelle1[[#This Row],[Maßnahme]],Ausfüllhilfe!$C$1:$C$22,0))","v":{"$error":"#N/A"}},null,null,null,null,null,null,null,null,{"$f":"VLOOKUP(Tabelle1[[#This Row],[Budgetlinie]],Ausfüllhilfe!$A$1:$D$23,4,0)","v":{"$error":"#N/A"}}]
[{"$f":"INDEX(Tabelle2[[#All],[Budgetlinie]],MATCH(Tabelle1[[#This Row],[Maßnahme]],Ausfüllhilfe!$C$1:$C$22,0))","v":{"$error":"#N/A"}},null,null,null,null,null,null,null,null,{"$f":"VLOOKUP(Tabelle1[[#This Row],[Budgetlinie]],Ausfüllhilfe!$A$1:$D$23,4,0)","v":{"$error":"#N/A"}}]
[{"$f":"INDEX(Tabelle2[[#All],[Budgetlinie]],MATCH(Tabelle1[[#This Row],[Maßnahme]],Ausfüllhilfe!$C$1:$C$22,0))","v":{"$error":"#N/A"}},null,null,null,null,null,null,null,null,{"$f":"VLOOKUP(Tabelle1[[#This Row],[Budgetlinie]],Ausfüllhilfe!$A$1:$D$23,4,0)","v":{"$error":"#N/A"}}]
[{"$f":"INDEX(Tabelle2[[#All],[Budgetlinie]],MATCH(Tabelle1[[#This Row],[Maßnahme]],Ausfüllhilfe!$C$1:$C$22,0))","v":{"$error":"#N/A"}},null,null,null,null,null,null,null,null,{"$f":"VLOOKUP(Tabelle1[[#This Row],[Budgetlinie]],Ausfüllhilfe!$A$1:$D$23,4,0)","v":{"$error":"#N/A"}}]
[{"$f":"INDEX(Tabelle2[[#All],[Budgetlinie]],MATCH(Tabelle1[[#This Row],[Maßnahme]],Ausfüllhilfe!$C$1:$C$22,0))","v":{"$error":"#N/A"}},null,null,null,null,null,null,null,null,{"$f":"VLOOKUP(Tabelle1[[#This Row],[Budgetlinie]],Ausfüllhilfe!$A$1:$D$23,4,0)","v":{"$error":"#N/A"}}]
[{"$f":"INDEX(Tabelle2[[#All],[Budgetlinie]],MATCH(Tabelle1[[#This Row],[Maßnahme]],Ausfüllhilfe!$C$1:$C$22,0))","v":{"$error":"#N/A"}},null,null,null,null,null,null,null,null,{"$f":"VLOOKUP(Tabelle1[[#This Row],[Budgetlinie]],Ausfüllhilfe!$A$1:$D$23,4,0)","v":{"$error":"#N/A"}}]
[{"$f":"INDEX(Tabelle2[[#All],[Budgetlinie]],MATCH(Tabelle1[[#This Row],[Maßnahme]],Ausfüllhilfe!$C$1:$C$22,0))","v":{"$error":"#N/A"}},null,null,null,null,null,null,null,null,{"$f":"VLOOKUP(Tabelle1[[#This Row],[Budgetlinie]],Ausfüllhilfe!$A$1:$D$23,4,0)","v":{"$error":"#N/A"}}]
[{"$f":"INDEX(Tabelle2[[#All],[Budgetlinie]],MATCH(Tabelle1[[#This Row],[Maßnahme]],Ausfüllhilfe!$C$1:$C$22,0))","v":{"$error":"#N/A"}},null,null,null,null,null,null,null,null,{"$f":"VLOOKUP(Tabelle1[[#This Row],[Budgetlinie]],Ausfüllhilfe!$A$1:$D$23,4,0)","v":{"$error":"#N/A"}}]
[{"$f":"INDEX(Tabelle2[[#All],[Budgetlinie]],MATCH(Tabelle1[[#This Row],[Maßnahme]],Ausfüllhilfe!$C$1:$C$22,0))","v":{"$error":"#N/A"}},null,null,null,null,null,null,null,null,{"$f":"VLOOKUP(Tabelle1[[#This Row],[Budgetlinie]],Ausfüllhilfe!$A$1:$D$23,4,0)","v":{"$error":"#N/A"}}]
[{"$f":"INDEX(Tabelle2[[#All],[Budgetlinie]],MATCH(Tabelle1[[#This Row],[Maßnahme]],Ausfüllhilfe!$C$1:$C$22,0))","v":{"$error":"#N/A"}},null,null,null,null,null,null,null,null,{"$f":"VLOOKUP(Tabelle1[[#This Row],[Budgetlinie]],Ausfüllhilfe!$A$1:$D$23,4,0)","v":{"$error":"#N/A"}}]
[{"$f":"INDEX(Tabelle2[[#All],[Budgetlinie]],MATCH(Tabelle1[[#This Row],[Maßnahme]],Ausfüllhilfe!$C$1:$C$22,0))","v":{"$error":"#N/A"}},null,null,null,null,null,null,null,null,{"$f":"VLOOKUP(Tabelle1[[#This Row],[Budgetlinie]],Ausfüllhilfe!$A$1:$D$23,4,0)","v":{"$error":"#N/A"}}]
[{"$f":"INDEX(Tabelle2[[#All],[Budgetlinie]],MATCH(Tabelle1[[#This Row],[Maßnahme]],Ausfüllhilfe!$C$1:$C$22,0))","v":{"$error":"#N/A"}},null,null,null,null,null,null,null,null,{"$f":"VLOOKUP(Tabelle1[[#This Row],[Budgetlinie]],Ausfüllhilfe!$A$1:$D$23,4,0)","v":{"$error":"#N/A"}}]
[{"$f":"INDEX(Tabelle2[[#All],[Budgetlinie]],MATCH(Tabelle1[[#This Row],[Maßnahme]],Ausfüllhilfe!$C$1:$C$22,0))","v":{"$error":"#N/A"}},null,null,null,null,null,null,null,null,{"$f":"VLOOKUP(Tabelle1[[#This Row],[Budgetlinie]],Ausfüllhilfe!$A$1:$D$23,4,0)","v":{"$error":"#N/A"}}]
[{"$f":"INDEX(Tabelle2[[#All],[Budgetlinie]],MATCH(Tabelle1[[#This Row],[Maßnahme]],Ausfüllhilfe!$C$1:$C$22,0))","v":{"$error":"#N/A"}},null,null,null,null,null,null,null,null,{"$f":"VLOOKUP(Tabelle1[[#This Row],[Budgetlinie]],Ausfüllhilfe!$A$1:$D$23,4,0)","v":{"$error":"#N/A"}}]
[{"$f":"INDEX(Tabelle2[[#All],[Budgetlinie]],MATCH(Tabelle1[[#This Row],[Maßnahme]],Ausfüllhilfe!$C$1:$C$22,0))","v":{"$error":"#N/A"}},null,null,null,null,null,null,null,null,{"$f":"VLOOKUP(Tabelle1[[#This Row],[Budgetlinie]],Ausfüllhilfe!$A$1:$D$23,4,0)","v":{"$error":"#N/A"}}]
[{"$f":"INDEX(Tabelle2[[#All],[Budgetlinie]],MATCH(Tabelle1[[#This Row],[Maßnahme]],Ausfüllhilfe!$C$1:$C$22,0))","v":{"$error":"#N/A"}},null,null,null,null,null,null,null,null,{"$f":"VLOOKUP(Tabelle1[[#This Row],[Budgetlinie]],Ausfüllhilfe!$A$1:$D$23,4,0)","v":{"$error":"#N/A"}}]
[{"$f":"INDEX(Tabelle2[[#All],[Budgetlinie]],MATCH(Tabelle1[[#This Row],[Maßnahme]],Ausfüllhilfe!$C$1:$C$22,0))","v":{"$error":"#N/A"}},null,null,null,null,null,null,null,null,{"$f":"VLOOKUP(Tabelle1[[#This Row],[Budgetlinie]],Ausfüllhilfe!$A$1:$D$23,4,0)","v":{"$error":"#N/A"}}]
[{"$f":"INDEX(Tabelle2[[#All],[Budgetlinie]],MATCH(Tabelle1[[#This Row],[Maßnahme]],Ausfüllhilfe!$C$1:$C$22,0))","v":{"$error":"#N/A"}},null,null,null,null,null,null,null,null,{"$f":"VLOOKUP(Tabelle1[[#This Row],[Budgetlinie]],Ausfüllhilfe!$A$1:$D$23,4,0)","v":{"$error":"#N/A"}}]
[{"$f":"INDEX(Tabelle2[[#All],[Budgetlinie]],MATCH(Tabelle1[[#This Row],[Maßnahme]],Ausfüllhilfe!$C$1:$C$22,0))","v":{"$error":"#N/A"}},null,null,null,null,null,null,null,null,{"$f":"VLOOKUP(Tabelle1[[#This Row],[Budgetlinie]],Ausfüllhilfe!$A$1:$D$23,4,0)","v":{"$error":"#N/A"}}]
[{"$f":"INDEX(Tabelle2[[#All],[Budgetlinie]],MATCH(Tabelle1[[#This Row],[Maßnahme]],Ausfüllhilfe!$C$1:$C$22,0))","v":{"$error":"#N/A"}},null,null,null,null,null,null,null,null,{"$f":"VLOOKUP(Tabelle1[[#This Row],[Budgetlinie]],Ausfüllhilfe!$A$1:$D$23,4,0)","v":{"$error":"#N/A"}}]
[{"$f":"INDEX(Tabelle2[[#All],[Budgetlinie]],MATCH(Tabelle1[[#This Row],[Maßnahme]],Ausfüllhilfe!$C$1:$C$22,0))","v":{"$error":"#N/A"}},null,null,null,null,null,null,null,null,{"$f":"VLOOKUP(Tabelle1[[#This Row],[Budgetlinie]],Ausfüllhilfe!$A$1:$D$23,4,0)","v":{"$error":"#N/A"}}]
[{"$f":"INDEX(Tabelle2[[#All],[Budgetlinie]],MATCH(Tabelle1[[#This Row],[Maßnahme]],Ausfüllhilfe!$C$1:$C$22,0))","v":{"$error":"#N/A"}},null,null,null,null,null,null,null,null,{"$f":"VLOOKUP(Tabelle1[[#This Row],[Budgetlinie]],Ausfüllhilfe!$A$1:$D$23,4,0)","v":{"$error":"#N/A"}}]
[{"$f":"INDEX(Tabelle2[[#All],[Budgetlinie]],MATCH(Tabelle1[[#This Row],[Maßnahme]],Ausfüllhilfe!$C$1:$C$22,0))","v":{"$error":"#N/A"}},null,null,null,null,null,null,null,null,{"$f":"VLOOKUP(Tabelle1[[#This Row],[Budgetlinie]],Ausfüllhilfe!$A$1:$D$23,4,0)","v":{"$error":"#N/A"}}]
[{"$f":"INDEX(Tabelle2[[#All],[Budgetlinie]],MATCH(Tabelle1[[#This Row],[Maßnahme]],Ausfüllhilfe!$C$1:$C$22,0))","v":{"$error":"#N/A"}},null,null,null,null,null,null,null,null,{"$f":"VLOOKUP(Tabelle1[[#This Row],[Budgetlinie]],Ausfüllhilfe!$A$1:$D$23,4,0)","v":{"$error":"#N/A"}}]
[{"$f":"INDEX(Tabelle2[[#All],[Budgetlinie]],MATCH(Tabelle1[[#This Row],[Maßnahme]],Ausfüllhilfe!$C$1:$C$22,0))","v":{"$error":"#N/A"}},null,null,null,null,null,null,null,null,{"$f":"VLOOKUP(Tabelle1[[#This Row],[Budgetlinie]],Ausfüllhilfe!$A$1:$D$23,4,0)","v":{"$error":"#N/A"}}]
[{"$f":"INDEX(Tabelle2[[#All],[Budgetlinie]],MATCH(Tabelle1[[#This Row],[Maßnahme]],Ausfüllhilfe!$C$1:$C$22,0))","v":{"$error":"#N/A"}},null,null,null,null,null,null,null,null,{"$f":"VLOOKUP(Tabelle1[[#This Row],[Budgetlinie]],Ausfüllhilfe!$A$1:$D$23,4,0)","v":{"$error":"#N/A"}}]
[{"$f":"INDEX(Tabelle2[[#All],[Budgetlinie]],MATCH(Tabelle1[[#This Row],[Maßnahme]],Ausfüllhilfe!$C$1:$C$22,0))","v":{"$error":"#N/A"}},null,null,null,null,null,null,null,null,{"$f":"VLOOKUP(Tabelle1[[#This Row],[Budgetlinie]],Ausfüllhilfe!$A$1:$D$23,4,0)","v":{"$error":"#N/A"}}]
[{"$f":"INDEX(Tabelle2[[#All],[Budgetlinie]],MATCH(Tabelle1[[#This Row],[Maßnahme]],Ausfüllhilfe!$C$1:$C$22,0))","v":{"$error":"#N/A"}},null,null,null,null,null,null,null,null,{"$f":"VLOOKUP(Tabelle1[[#This Row],[Budgetlinie]],Ausfüllhilfe!$A$1:$D$23,4,0)","v":{"$error":"#N/A"}}]
[{"$f":"INDEX(Tabelle2[[#All],[Budgetlinie]],MATCH(Tabelle1[[#This Row],[Maßnahme]],Ausfüllhilfe!$C$1:$C$22,0))","v":{"$error":"#N/A"}},null,null,null,null,null,null,null,null,{"$f":"VLOOKUP(Tabelle1[[#This Row],[Budgetlinie]],Ausfüllhilfe!$A$1:$D$23,4,0)","v":{"$error":"#N/A"}}]
[{"$f":"INDEX(Tabelle2[[#All],[Budgetlinie]],MATCH(Tabelle1[[#This Row],[Maßnahme]],Ausfüllhilfe!$C$1:$C$22,0))","v":{"$error":"#N/A"}},null,null,null,null,null,null,null,null,{"$f":"VLOOKUP(Tabelle1[[#This Row],[Budgetlinie]],Ausfüllhilfe!$A$1:$D$23,4,0)","v":{"$error":"#N/A"}}]
[{"$f":"INDEX(Tabelle2[[#All],[Budgetlinie]],MATCH(Tabelle1[[#This Row],[Maßnahme]],Ausfüllhilfe!$C$1:$C$22,0))","v":{"$error":"#N/A"}},null,null,null,null,null,null,null,null,{"$f":"VLOOKUP(Tabelle1[[#This Row],[Budgetlinie]],Ausfüllhilfe!$A$1:$D$23,4,0)","v":{"$error":"#N/A"}}]
[{"$f":"INDEX(Tabelle2[[#All],[Budgetlinie]],MATCH(Tabelle1[[#This Row],[Maßnahme]],Ausfüllhilfe!$C$1:$C$22,0))","v":{"$error":"#N/A"}},null,null,null,null,null,null,null,null,{"$f":"VLOOKUP(Tabelle1[[#This Row],[Budgetlinie]],Ausfüllhilfe!$A$1:$D$23,4,0)","v":{"$error":"#N/A"}}]
[{"$f":"INDEX(Tabelle2[[#All],[Budgetlinie]],MATCH(Tabelle1[[#This Row],[Maßnahme]],Ausfüllhilfe!$C$1:$C$22,0))","v":{"$error":"#N/A"}},null,null,null,null,null,null,null,null,{"$f":"VLOOKUP(Tabelle1[[#This Row],[Budgetlinie]],Ausfüllhilfe!$A$1:$D$23,4,0)","v":{"$error":"#N/A"}}]
[{"$f":"INDEX(Tabelle2[[#All],[Budgetlinie]],MATCH(Tabelle1[[#This Row],[Maßnahme]],Ausfüllhilfe!$C$1:$C$22,0))","v":{"$error":"#N/A"}},null,null,null,null,null,null,null,null,{"$f":"VLOOKUP(Tabelle1[[#This Row],[Budgetlinie]],Ausfüllhilfe!$A$1:$D$23,4,0)","v":{"$error":"#N/A"}}]
[{"$f":"INDEX(Tabelle2[[#All],[Budgetlinie]],MATCH(Tabelle1[[#This Row],[Maßnahme]],Ausfüllhilfe!$C$1:$C$22,0))","v":{"$error":"#N/A"}},null,null,null,null,null,null,null,null,{"$f":"VLOOKUP(Tabelle1[[#This Row],[Budgetlinie]],Ausfüllhilfe!$A$1:$D$23,4,0)","v":{"$error":"#N/A"}}]
[{"$f":"INDEX(Tabelle2[[#All],[Budgetlinie]],MATCH(Tabelle1[[#This Row],[Maßnahme]],Ausfüllhilfe!$C$1:$C$22,0))","v":{"$error":"#N/A"}},null,null,null,null,null,null,null,null,{"$f":"VLOOKUP(Tabelle1[[#This Row],[Budgetlinie]],Ausfüllhilfe!$A$1:$D$23,4,0)","v":{"$error":"#N/A"}}]
[{"$f":"INDEX(Tabelle2[[#All],[Budgetlinie]],MATCH(Tabelle1[[#This Row],[Maßnahme]],Ausfüllhilfe!$C$1:$C$22,0))","v":{"$error":"#N/A"}},null,null,null,null,null,null,null,null,{"$f":"VLOOKUP(Tabelle1[[#This Row],[Budgetlinie]],Ausfüllhilfe!$A$1:$D$23,4,0)","v":{"$error":"#N/A"}}]
[{"$f":"INDEX(Tabelle2[[#All],[Budgetlinie]],MATCH(Tabelle1[[#This Row],[Maßnahme]],Ausfüllhilfe!$C$1:$C$22,0))","v":{"$error":"#N/A"}},null,null,null,null,null,null,null,null,{"$f":"VLOOKUP(Tabelle1[[#This Row],[Budgetlinie]],Ausfüllhilfe!$A$1:$D$23,4,0)","v":{"$error":"#N/A"}}]
[{"$f":"INDEX(Tabelle2[[#All],[Budgetlinie]],MATCH(Tabelle1[[#This Row],[Maßnahme]],Ausfüllhilfe!$C$1:$C$22,0))","v":{"$error":"#N/A"}},null,null,null,null,null,null,null,null,{"$f":"VLOOKUP(Tabelle1[[#This Row],[Budgetlinie]],Ausfüllhilfe!$A$1:$D$23,4,0)","v":{"$error":"#N/A"}}]
[{"$f":"INDEX(Tabelle2[[#All],[Budgetlinie]],MATCH(Tabelle1[[#This Row],[Maßnahme]],Ausfüllhilfe!$C$1:$C$22,0))","v":{"$error":"#N/A"}},null,null,null,null,null,null,null,null,{"$f":"VLOOKUP(Tabelle1[[#This Row],[Budgetlinie]],Ausfüllhilfe!$A$1:$D$23,4,0)","v":{"$error":"#N/A"}}]
[{"$f":"INDEX(Tabelle2[[#All],[Budgetlinie]],MATCH(Tabelle1[[#This Row],[Maßnahme]],Ausfüllhilfe!$C$1:$C$22,0))","v":{"$error":"#N/A"}},null,null,null,null,null,null,null,null,{"$f":"VLOOKUP(Tabelle1[[#This Row],[Budgetlinie]],Ausfüllhilfe!$A$1:$D$23,4,0)","v":{"$error":"#N/A"}}]
[{"$f":"INDEX(Tabelle2[[#All],[Budgetlinie]],MATCH(Tabelle1[[#This Row],[Maßnahme]],Ausfüllhilfe!$C$1:$C$22,0))","v":{"$error":"#N/A"}},null,null,null,null,null,null,null,null,{"$f":"VLOOKUP(Tabelle1[[#This Row],[Budgetlinie]],Ausfüllhilfe!$A$1:$D$23,4,0)","v":{"$error":"#N/A"}}]
[{"$f":"INDEX(Tabelle2[[#All],[Budgetlinie]],MATCH(Tabelle1[[#This Row],[Maßnahme]],Ausfüllhilfe!$C$1:$C$22,0))","v":{"$error":"#N/A"}},null,null,null,null,null,null,null,null,{"$f":"VLOOKUP(Tabelle1[[#This Row],[Budgetlinie]],Ausfüllhilfe!$A$1:$D$23,4,0)","v":{"$error":"#N/A"}}]
[{"$f":"INDEX(Tabelle2[[#All],[Budgetlinie]],MATCH(Tabelle1[[#This Row],[Maßnahme]],Ausfüllhilfe!$C$1:$C$22,0))","v":{"$error":"#N/A"}},null,null,null,null,null,null,null,null,{"$f":"VLOOKUP(Tabelle1[[#This Row],[Budgetlinie]],Ausfüllhilfe!$A$1:$D$23,4,0)","v":{"$error":"#N/A"}}]
[{"$f":"INDEX(Tabelle2[[#All],[Budgetlinie]],MATCH(Tabelle1[[#This Row],[Maßnahme]],Ausfüllhilfe!$C$1:$C$22,0))","v":{"$error":"#N/A"}},null,null,null,null,null,null,null,null,{"$f":"VLOOKUP(Tabelle1[[#This Row],[Budgetlinie]],Ausfüllhilfe!$A$1:$D$23,4,0)","v":{"$error":"#N/A"}}]
[{"$f":"INDEX(Tabelle2[[#All],[Budgetlinie]],MATCH(Tabelle1[[#This Row],[Maßnahme]],Ausfüllhilfe!$C$1:$C$22,0))","v":{"$error":"#N/A"}},null,null,null,null,null,null,null,null,{"$f":"VLOOKUP(Tabelle1[[#This Row],[Budgetlinie]],Ausfüllhilfe!$A$1:$D$23,4,0)","v":{"$error":"#N/A"}}]
[{"$f":"INDEX(Tabelle2[[#All],[Budgetlinie]],MATCH(Tabelle1[[#This Row],[Maßnahme]],Ausfüllhilfe!$C$1:$C$22,0))","v":{"$error":"#N/A"}},null,null,null,null,null,null,null,null,{"$f":"VLOOKUP(Tabelle1[[#This Row],[Budgetlinie]],Ausfüllhilfe!$A$1:$D$23,4,0)","v":{"$error":"#N/A"}}]
[{"$f":"INDEX(Tabelle2[[#All],[Budgetlinie]],MATCH(Tabelle1[[#This Row],[Maßnahme]],Ausfüllhilfe!$C$1:$C$22,0))","v":{"$error":"#N/A"}},null,null,null,null,null,null,null,null,{"$f":"VLOOKUP(Tabelle1[[#This Row],[Budgetlinie]],Ausfüllhilfe!$A$1:$D$23,4,0)","v":{"$error":"#N/A"}}]
[{"$f":"INDEX(Tabelle2[[#All],[Budgetlinie]],MATCH(Tabelle1[[#This Row],[Maßnahme]],Ausfüllhilfe!$C$1:$C$22,0))","v":{"$error":"#N/A"}},null,null,null,null,null,null,null,null,{"$f":"VLOOKUP(Tabelle1[[#This Row],[Budgetlinie]],Ausfüllhilfe!$A$1:$D$23,4,0)","v":{"$error":"#N/A"}}]
[{"$f":"INDEX(Tabelle2[[#All],[Budgetlinie]],MATCH(Tabelle1[[#This Row],[Maßnahme]],Ausfüllhilfe!$C$1:$C$22,0))","v":{"$error":"#N/A"}},null,null,null,null,null,null,null,null,{"$f":"VLOOKUP(Tabelle1[[#This Row],[Budgetlinie]],Ausfüllhilfe!$A$1:$D$23,4,0)","v":{"$error":"#N/A"}}]
[{"$f":"INDEX(Tabelle2[[#All],[Budgetlinie]],MATCH(Tabelle1[[#This Row],[Maßnahme]],Ausfüllhilfe!$C$1:$C$22,0))","v":{"$error":"#N/A"}},null,null,null,null,null,null,null,null,{"$f":"VLOOKUP(Tabelle1[[#This Row],[Budgetlinie]],Ausfüllhilfe!$A$1:$D$23,4,0)","v":{"$error":"#N/A"}}]
[{"$f":"INDEX(Tabelle2[[#All],[Budgetlinie]],MATCH(Tabelle1[[#This Row],[Maßnahme]],Ausfüllhilfe!$C$1:$C$22,0))","v":{"$error":"#N/A"}},null,null,null,null,null,null,null,null,{"$f":"VLOOKUP(Tabelle1[[#This Row],[Budgetlinie]],Ausfüllhilfe!$A$1:$D$23,4,0)","v":{"$error":"#N/A"}}]
[{"$f":"INDEX(Tabelle2[[#All],[Budgetlinie]],MATCH(Tabelle1[[#This Row],[Maßnahme]],Ausfüllhilfe!$C$1:$C$22,0))","v":{"$error":"#N/A"}},null,null,null,null,null,null,null,null,{"$f":"VLOOKUP(Tabelle1[[#This Row],[Budgetlinie]],Ausfüllhilfe!$A$1:$D$23,4,0)","v":{"$error":"#N/A"}}]
[{"$f":"INDEX(Tabelle2[[#All],[Budgetlinie]],MATCH(Tabelle1[[#This Row],[Maßnahme]],Ausfüllhilfe!$C$1:$C$22,0))","v":{"$error":"#N/A"}},null,null,null,null,null,null,null,null,{"$f":"VLOOKUP(Tabelle1[[#This Row],[Budgetlinie]],Ausfüllhilfe!$A$1:$D$23,4,0)","v":{"$error":"#N/A"}}]
[{"$f":"INDEX(Tabelle2[[#All],[Budgetlinie]],MATCH(Tabelle1[[#This Row],[Maßnahme]],Ausfüllhilfe!$C$1:$C$22,0))","v":{"$error":"#N/A"}},null,null,null,null,null,null,null,null,{"$f":"VLOOKUP(Tabelle1[[#This Row],[Budgetlinie]],Ausfüllhilfe!$A$1:$D$23,4,0)","v":{"$error":"#N/A"}}]
[{"$f":"INDEX(Tabelle2[[#All],[Budgetlinie]],MATCH(Tabelle1[[#This Row],[Maßnahme]],Ausfüllhilfe!$C$1:$C$22,0))","v":{"$error":"#N/A"}},null,null,null,null,null,null,null,null,{"$f":"VLOOKUP(Tabelle1[[#This Row],[Budgetlinie]],Ausfüllhilfe!$A$1:$D$23,4,0)","v":{"$error":"#N/A"}}]
[{"$f":"INDEX(Tabelle2[[#All],[Budgetlinie]],MATCH(Tabelle1[[#This Row],[Maßnahme]],Ausfüllhilfe!$C$1:$C$22,0))","v":{"$error":"#N/A"}},null,null,null,null,null,null,null,null,{"$f":"VLOOKUP(Tabelle1[[#This Row],[Budgetlinie]],Ausfüllhilfe!$A$1:$D$23,4,0)","v":{"$error":"#N/A"}}]
[{"$f":"INDEX(Tabelle2[[#All],[Budgetlinie]],MATCH(Tabelle1[[#This Row],[Maßnahme]],Ausfüllhilfe!$C$1:$C$22,0))","v":{"$error":"#N/A"}},null,null,null,null,null,null,null,null,{"$f":"VLOOKUP(Tabelle1[[#This Row],[Budgetlinie]],Ausfüllhilfe!$A$1:$D$23,4,0)","v":{"$error":"#N/A"}}]
[{"$f":"INDEX(Tabelle2[[#All],[Budgetlinie]],MATCH(Tabelle1[[#This Row],[Maßnahme]],Ausfüllhilfe!$C$1:$C$22,0))","v":{"$error":"#N/A"}},null,null,null,null,null,null,null,null,{"$f":"VLOOKUP(Tabelle1[[#This Row],[Budgetlinie]],Ausfüllhilfe!$A$1:$D$23,4,0)","v":{"$error":"#N/A"}}]
[{"$f":"INDEX(Tabelle2[[#All],[Budgetlinie]],MATCH(Tabelle1[[#This Row],[Maßnahme]],Ausfüllhilfe!$C$1:$C$22,0))","v":{"$error":"#N/A"}},null,null,null,null,null,null,null,null,{"$f":"VLOOKUP(Tabelle1[[#This Row],[Budgetlinie]],Ausfüllhilfe!$A$1:$D$23,4,0)","v":{"$error":"#N/A"}}]
[{"$f":"INDEX(Tabelle2[[#All],[Budgetlinie]],MATCH(Tabelle1[[#This Row],[Maßnahme]],Ausfüllhilfe!$C$1:$C$22,0))","v":{"$error":"#N/A"}},null,null,null,null,null,null,null,null,{"$f":"VLOOKUP(Tabelle1[[#This Row],[Budgetlinie]],Ausfüllhilfe!$A$1:$D$23,4,0)","v":{"$error":"#N/A"}}]
[{"$f":"INDEX(Tabelle2[[#All],[Budgetlinie]],MATCH(Tabelle1[[#This Row],[Maßnahme]],Ausfüllhilfe!$C$1:$C$22,0))","v":{"$error":"#N/A"}},null,null,null,null,null,null,null,null,{"$f":"VLOOKUP(Tabelle1[[#This Row],[Budgetlinie]],Ausfüllhilfe!$A$1:$D$23,4,0)","v":{"$error":"#N/A"}}]
[{"$f":"INDEX(Tabelle2[[#All],[Budgetlinie]],MATCH(Tabelle1[[#This Row],[Maßnahme]],Ausfüllhilfe!$C$1:$C$22,0))","v":{"$error":"#N/A"}},null,null,null,null,null,null,null,null,{"$f":"VLOOKUP(Tabelle1[[#This Row],[Budgetlinie]],Ausfüllhilfe!$A$1:$D$23,4,0)","v":{"$error":"#N/A"}}]
[{"$f":"INDEX(Tabelle2[[#All],[Budgetlinie]],MATCH(Tabelle1[[#This Row],[Maßnahme]],Ausfüllhilfe!$C$1:$C$22,0))","v":{"$error":"#N/A"}},null,null,null,null,null,null,null,null,{"$f":"VLOOKUP(Tabelle1[[#This Row],[Budgetlinie]],Ausfüllhilfe!$A$1:$D$23,4,0)","v":{"$error":"#N/A"}}]
[{"$f":"INDEX(Tabelle2[[#All],[Budgetlinie]],MATCH(Tabelle1[[#This Row],[Maßnahme]],Ausfüllhilfe!$C$1:$C$22,0))","v":{"$error":"#N/A"}},null,null,null,null,null,null,null,null,{"$f":"VLOOKUP(Tabelle1[[#This Row],[Budgetlinie]],Ausfüllhilfe!$A$1:$D$23,4,0)","v":{"$error":"#N/A"}}]
[{"$f":"INDEX(Tabelle2[[#All],[Budgetlinie]],MATCH(Tabelle1[[#This Row],[Maßnahme]],Ausfüllhilfe!$C$1:$C$22,0))","v":{"$error":"#N/A"}},null,null,null,null,null,null,null,null,{"$f":"VLOOKUP(Tabelle1[[#This Row],[Budgetlinie]],Ausfüllhilfe!$A$1:$D$23,4,0)","v":{"$error":"#N/A"}}]
[{"$f":"INDEX(Tabelle2[[#All],[Budgetlinie]],MATCH(Tabelle1[[#This Row],[Maßnahme]],Ausfüllhilfe!$C$1:$C$22,0))","v":{"$error":"#N/A"}},null,null,null,null,null,null,null,null,{"$f":"VLOOKUP(Tabelle1[[#This Row],[Budgetlinie]],Ausfüllhilfe!$A$1:$D$23,4,0)","v":{"$error":"#N/A"}}]
[{"$f":"INDEX(Tabelle2[[#All],[Budgetlinie]],MATCH(Tabelle1[[#This Row],[Maßnahme]],Ausfüllhilfe!$C$1:$C$22,0))","v":{"$error":"#N/A"}},null,null,null,null,null,null,null,null,{"$f":"VLOOKUP(Tabelle1[[#This Row],[Budgetlinie]],Ausfüllhilfe!$A$1:$D$23,4,0)","v":{"$error":"#N/A"}}]
[{"$f":"INDEX(Tabelle2[[#All],[Budgetlinie]],MATCH(Tabelle1[[#This Row],[Maßnahme]],Ausfüllhilfe!$C$1:$C$22,0))","v":{"$error":"#N/A"}},null,null,null,null,null,null,null,null,{"$f":"VLOOKUP(Tabelle1[[#This Row],[Budgetlinie]],Ausfüllhilfe!$A$1:$D$23,4,0)","v":{"$error":"#N/A"}}]
[{"$f":"INDEX(Tabelle2[[#All],[Budgetlinie]],MATCH(Tabelle1[[#This Row],[Maßnahme]],Ausfüllhilfe!$C$1:$C$22,0))","v":{"$error":"#N/A"}},null,null,null,null,null,null,null,null,{"$f":"VLOOKUP(Tabelle1[[#This Row],[Budgetlinie]],Ausfüllhilfe!$A$1:$D$23,4,0)","v":{"$error":"#N/A"}}]
[{"$f":"INDEX(Tabelle2[[#All],[Budgetlinie]],MATCH(Tabelle1[[#This Row],[Maßnahme]],Ausfüllhilfe!$C$1:$C$22,0))","v":{"$error":"#N/A"}},null,null,null,null,null,null,null,null,{"$f":"VLOOKUP(Tabelle1[[#This Row],[Budgetlinie]],Ausfüllhilfe!$A$1:$D$23,4,0)","v":{"$error":"#N/A"}}]
[{"$f":"INDEX(Tabelle2[[#All],[Budgetlinie]],MATCH(Tabelle1[[#This Row],[Maßnahme]],Ausfüllhilfe!$C$1:$C$22,0))","v":{"$error":"#N/A"}},null,null,null,null,null,null,null,null,{"$f":"VLOOKUP(Tabelle1[[#This Row],[Budgetlinie]],Ausfüllhilfe!$A$1:$D$23,4,0)","v":{"$error":"#N/A"}}]
[{"$f":"INDEX(Tabelle2[[#All],[Budgetlinie]],MATCH(Tabelle1[[#This Row],[Maßnahme]],Ausfüllhilfe!$C$1:$C$22,0))","v":{"$error":"#N/A"}},null,null,null,null,null,null,null,null,{"$f":"VLOOKUP(Tabelle1[[#This Row],[Budgetlinie]],Ausfüllhilfe!$A$1:$D$23,4,0)","v":{"$error":"#N/A"}}]
[{"$f":"INDEX(Tabelle2[[#All],[Budgetlinie]],MATCH(Tabelle1[[#This Row],[Maßnahme]],Ausfüllhilfe!$C$1:$C$22,0))","v":{"$error":"#N/A"}},null,null,null,null,null,null,null,null,{"$f":"VLOOKUP(Tabelle1[[#This Row],[Budgetlinie]],Ausfüllhilfe!$A$1:$D$23,4,0)","v":{"$error":"#N/A"}}]
[{"$f":"INDEX(Tabelle2[[#All],[Budgetlinie]],MATCH(Tabelle1[[#This Row],[Maßnahme]],Ausfüllhilfe!$C$1:$C$22,0))","v":{"$error":"#N/A"}},null,null,null,null,null,null,null,null,{"$f":"VLOOKUP(Tabelle1[[#This Row],[Budgetlinie]],Ausfüllhilfe!$A$1:$D$23,4,0)","v":{"$error":"#N/A"}}]
[{"$f":"INDEX(Tabelle2[[#All],[Budgetlinie]],MATCH(Tabelle1[[#This Row],[Maßnahme]],Ausfüllhilfe!$C$1:$C$22,0))","v":{"$error":"#N/A"}},null,null,null,null,null,null,null,null,{"$f":"VLOOKUP(Tabelle1[[#This Row],[Budgetlinie]],Ausfüllhilfe!$A$1:$D$23,4,0)","v":{"$error":"#N/A"}}]
[{"$f":"INDEX(Tabelle2[[#All],[Budgetlinie]],MATCH(Tabelle1[[#This Row],[Maßnahme]],Ausfüllhilfe!$C$1:$C$22,0))","v":{"$error":"#N/A"}},null,null,null,null,null,null,null,null,{"$f":"VLOOKUP(Tabelle1[[#This Row],[Budgetlinie]],Ausfüllhilfe!$A$1:$D$23,4,0)","v":{"$error":"#N/A"}}]
[{"$f":"INDEX(Tabelle2[[#All],[Budgetlinie]],MATCH(Tabelle1[[#This Row],[Maßnahme]],Ausfüllhilfe!$C$1:$C$22,0))","v":{"$error":"#N/A"}},null,null,null,null,null,null,null,null,{"$f":"VLOOKUP(Tabelle1[[#This Row],[Budgetlinie]],Ausfüllhilfe!$A$1:$D$23,4,0)","v":{"$error":"#N/A"}}]
[{"$f":"INDEX(Tabelle2[[#All],[Budgetlinie]],MATCH(Tabelle1[[#This Row],[Maßnahme]],Ausfüllhilfe!$C$1:$C$22,0))","v":{"$error":"#N/A"}},null,null,null,null,null,null,null,null,{"$f":"VLOOKUP(Tabelle1[[#This Row],[Budgetlinie]],Ausfüllhilfe!$A$1:$D$23,4,0)","v":{"$error":"#N/A"}}]
[{"$f":"INDEX(Tabelle2[[#All],[Budgetlinie]],MATCH(Tabelle1[[#This Row],[Maßnahme]],Ausfüllhilfe!$C$1:$C$22,0))","v":{"$error":"#N/A"}},null,null,null,null,null,null,null,null,{"$f":"VLOOKUP(Tabelle1[[#This Row],[Budgetlinie]],Ausfüllhilfe!$A$1:$D$23,4,0)","v":{"$error":"#N/A"}}]
[{"$f":"INDEX(Tabelle2[[#All],[Budgetlinie]],MATCH(Tabelle1[[#This Row],[Maßnahme]],Ausfüllhilfe!$C$1:$C$22,0))","v":{"$error":"#N/A"}},null,null,null,null,null,null,null,null,{"$f":"VLOOKUP(Tabelle1[[#This Row],[Budgetlinie]],Ausfüllhilfe!$A$1:$D$23,4,0)","v":{"$error":"#N/A"}}]
[{"$f":"INDEX(Tabelle2[[#All],[Budgetlinie]],MATCH(Tabelle1[[#This Row],[Maßnahme]],Ausfüllhilfe!$C$1:$C$22,0))","v":{"$error":"#N/A"}},null,null,null,null,null,null,null,null,{"$f":"VLOOKUP(Tabelle1[[#This Row],[Budgetlinie]],Ausfüllhilfe!$A$1:$D$23,4,0)","v":{"$error":"#N/A"}}]
[{"$f":"INDEX(Tabelle2[[#All],[Budgetlinie]],MATCH(Tabelle1[[#This Row],[Maßnahme]],Ausfüllhilfe!$C$1:$C$22,0))","v":{"$error":"#N/A"}},null,null,null,null,null,null,null,null,{"$f":"VLOOKUP(Tabelle1[[#This Row],[Budgetlinie]],Ausfüllhilfe!$A$1:$D$23,4,0)","v":{"$error":"#N/A"}}]
[{"$f":"INDEX(Tabelle2[[#All],[Budgetlinie]],MATCH(Tabelle1[[#This Row],[Maßnahme]],Ausfüllhilfe!$C$1:$C$22,0))","v":{"$error":"#N/A"}},null,null,null,null,null,null,null,null,{"$f":"VLOOKUP(Tabelle1[[#This Row],[Budgetlinie]],Ausfüllhilfe!$A$1:$D$23,4,0)","v":{"$error":"#N/A"}}]
[{"$f":"INDEX(Tabelle2[[#All],[Budgetlinie]],MATCH(Tabelle1[[#This Row],[Maßnahme]],Ausfüllhilfe!$C$1:$C$22,0))","v":{"$error":"#N/A"}},null,null,null,null,null,null,null,null,{"$f":"VLOOKUP(Tabelle1[[#This Row],[Budgetlinie]],Ausfüllhilfe!$A$1:$D$23,4,0)","v":{"$error":"#N/A"}}]
[{"$f":"INDEX(Tabelle2[[#All],[Budgetlinie]],MATCH(Tabelle1[[#This Row],[Maßnahme]],Ausfüllhilfe!$C$1:$C$22,0))","v":{"$error":"#N/A"}},null,null,null,null,null,null,null,null,{"$f":"VLOOKUP(Tabelle1[[#This Row],[Budgetlinie]],Ausfüllhilfe!$A$1:$D$23,4,0)","v":{"$error":"#N/A"}}]
[{"$f":"INDEX(Tabelle2[[#All],[Budgetlinie]],MATCH(Tabelle1[[#This Row],[Maßnahme]],Ausfüllhilfe!$C$1:$C$22,0))","v":{"$error":"#N/A"}},null,null,null,null,null,null,null,null,{"$f":"VLOOKUP(Tabelle1[[#This Row],[Budgetlinie]],Ausfüllhilfe!$A$1:$D$23,4,0)","v":{"$error":"#N/A"}}]
[{"$f":"INDEX(Tabelle2[[#All],[Budgetlinie]],MATCH(Tabelle1[[#This Row],[Maßnahme]],Ausfüllhilfe!$C$1:$C$22,0))","v":{"$error":"#N/A"}},null,null,null,null,null,null,null,null,{"$f":"VLOOKUP(Tabelle1[[#This Row],[Budgetlinie]],Ausfüllhilfe!$A$1:$D$23,4,0)","v":{"$error":"#N/A"}}]
[{"$f":"INDEX(Tabelle2[[#All],[Budgetlinie]],MATCH(Tabelle1[[#This Row],[Maßnahme]],Ausfüllhilfe!$C$1:$C$22,0))","v":{"$error":"#N/A"}},null,null,null,null,null,null,null,null,{"$f":"VLOOKUP(Tabelle1[[#This Row],[Budgetlinie]],Ausfüllhilfe!$A$1:$D$23,4,0)","v":{"$error":"#N/A"}}]
[{"$f":"INDEX(Tabelle2[[#All],[Budgetlinie]],MATCH(Tabelle1[[#This Row],[Maßnahme]],Ausfüllhilfe!$C$1:$C$22,0))","v":{"$error":"#N/A"}},null,null,null,null,null,null,null,null,{"$f":"VLOOKUP(Tabelle1[[#This Row],[Budgetlinie]],Ausfüllhilfe!$A$1:$D$23,4,0)","v":{"$error":"#N/A"}}]
[{"$f":"INDEX(Tabelle2[[#All],[Budgetlinie]],MATCH(Tabelle1[[#This Row],[Maßnahme]],Ausfüllhilfe!$C$1:$C$22,0))","v":{"$error":"#N/A"}},null,null,null,null,null,null,null,null,{"$f":"VLOOKUP(Tabelle1[[#This Row],[Budgetlinie]],Ausfüllhilfe!$A$1:$D$23,4,0)","v":{"$error":"#N/A"}}]
[{"$f":"INDEX(Tabelle2[[#All],[Budgetlinie]],MATCH(Tabelle1[[#This Row],[Maßnahme]],Ausfüllhilfe!$C$1:$C$22,0))","v":{"$error":"#N/A"}},null,null,null,null,null,null,null,null,{"$f":"VLOOKUP(Tabelle1[[#This Row],[Budgetlinie]],Ausfüllhilfe!$A$1:$D$23,4,0)","v":{"$error":"#N/A"}}]
[{"$f":"INDEX(Tabelle2[[#All],[Budgetlinie]],MATCH(Tabelle1[[#This Row],[Maßnahme]],Ausfüllhilfe!$C$1:$C$22,0))","v":{"$error":"#N/A"}},null,null,null,null,null,null,null,null,{"$f":"VLOOKUP(Tabelle1[[#This Row],[Budgetlinie]],Ausfüllhilfe!$A$1:$D$23,4,0)","v":{"$error":"#N/A"}}]
[{"$f":"INDEX(Tabelle2[[#All],[Budgetlinie]],MATCH(Tabelle1[[#This Row],[Maßnahme]],Ausfüllhilfe!$C$1:$C$22,0))","v":{"$error":"#N/A"}},null,null,null,null,null,null,null,null,{"$f":"VLOOKUP(Tabelle1[[#This Row],[Budgetlinie]],Ausfüllhilfe!$A$1:$D$23,4,0)","v":{"$error":"#N/A"}}]
[{"$f":"INDEX(Tabelle2[[#All],[Budgetlinie]],MATCH(Tabelle1[[#This Row],[Maßnahme]],Ausfüllhilfe!$C$1:$C$22,0))","v":{"$error":"#N/A"}},null,null,null,null,null,null,null,null,{"$f":"VLOOKUP(Tabelle1[[#This Row],[Budgetlinie]],Ausfüllhilfe!$A$1:$D$23,4,0)","v":{"$error":"#N/A"}}]
[{"$f":"INDEX(Tabelle2[[#All],[Budgetlinie]],MATCH(Tabelle1[[#This Row],[Maßnahme]],Ausfüllhilfe!$C$1:$C$22,0))","v":{"$error":"#N/A"}},null,null,null,null,null,null,null,null,{"$f":"VLOOKUP(Tabelle1[[#This Row],[Budgetlinie]],Ausfüllhilfe!$A$1:$D$23,4,0)","v":{"$error":"#N/A"}}]
[{"$f":"INDEX(Tabelle2[[#All],[Budgetlinie]],MATCH(Tabelle1[[#This Row],[Maßnahme]],Ausfüllhilfe!$C$1:$C$22,0))","v":{"$error":"#N/A"}},null,null,null,null,null,null,null,null,{"$f":"VLOOKUP(Tabelle1[[#This Row],[Budgetlinie]],Ausfüllhilfe!$A$1:$D$23,4,0)","v":{"$error":"#N/A"}}]
[{"$f":"INDEX(Tabelle2[[#All],[Budgetlinie]],MATCH(Tabelle1[[#This Row],[Maßnahme]],Ausfüllhilfe!$C$1:$C$22,0))","v":{"$error":"#N/A"}},null,null,null,null,null,null,null,null,{"$f":"VLOOKUP(Tabelle1[[#This Row],[Budgetlinie]],Ausfüllhilfe!$A$1:$D$23,4,0)","v":{"$error":"#N/A"}}]
[{"$f":"INDEX(Tabelle2[[#All],[Budgetlinie]],MATCH(Tabelle1[[#This Row],[Maßnahme]],Ausfüllhilfe!$C$1:$C$22,0))","v":{"$error":"#N/A"}},null,null,null,null,null,null,null,null,{"$f":"VLOOKUP(Tabelle1[[#This Row],[Budgetlinie]],Ausfüllhilfe!$A$1:$D$23,4,0)","v":{"$error":"#N/A"}}]
[{"$f":"INDEX(Tabelle2[[#All],[Budgetlinie]],MATCH(Tabelle1[[#This Row],[Maßnahme]],Ausfüllhilfe!$C$1:$C$22,0))","v":{"$error":"#N/A"}},null,null,null,null,null,null,null,null,{"$f":"VLOOKUP(Tabelle1[[#This Row],[Budgetlinie]],Ausfüllhilfe!$A$1:$D$23,4,0)","v":{"$error":"#N/A"}}]
[{"$f":"INDEX(Tabelle2[[#All],[Budgetlinie]],MATCH(Tabelle1[[#This Row],[Maßnahme]],Ausfüllhilfe!$C$1:$C$22,0))","v":{"$error":"#N/A"}},null,null,null,null,null,null,null,null,{"$f":"VLOOKUP(Tabelle1[[#This Row],[Budgetlinie]],Ausfüllhilfe!$A$1:$D$23,4,0)","v":{"$error":"#N/A"}}]
[{"$f":"INDEX(Tabelle2[[#All],[Budgetlinie]],MATCH(Tabelle1[[#This Row],[Maßnahme]],Ausfüllhilfe!$C$1:$C$22,0))","v":{"$error":"#N/A"}},null,null,null,null,null,null,null,null,{"$f":"VLOOKUP(Tabelle1[[#This Row],[Budgetlinie]],Ausfüllhilfe!$A$1:$D$23,4,0)","v":{"$error":"#N/A"}}]
[{"$f":"INDEX(Tabelle2[[#All],[Budgetlinie]],MATCH(Tabelle1[[#This Row],[Maßnahme]],Ausfüllhilfe!$C$1:$C$22,0))","v":{"$error":"#N/A"}},null,null,null,null,null,null,null,null,{"$f":"VLOOKUP(Tabelle1[[#This Row],[Budgetlinie]],Ausfüllhilfe!$A$1:$D$23,4,0)","v":{"$error":"#N/A"}}]
[{"$f":"INDEX(Tabelle2[[#All],[Budgetlinie]],MATCH(Tabelle1[[#This Row],[Maßnahme]],Ausfüllhilfe!$C$1:$C$22,0))","v":{"$error":"#N/A"}},null,null,null,null,null,null,null,null,{"$f":"VLOOKUP(Tabelle1[[#This Row],[Budgetlinie]],Ausfüllhilfe!$A$1:$D$23,4,0)","v":{"$error":"#N/A"}}]
[{"$f":"INDEX(Tabelle2[[#All],[Budgetlinie]],MATCH(Tabelle1[[#This Row],[Maßnahme]],Ausfüllhilfe!$C$1:$C$22,0))","v":{"$error":"#N/A"}},null,null,null,null,null,null,null,null,{"$f":"VLOOKUP(Tabelle1[[#This Row],[Budgetlinie]],Ausfüllhilfe!$A$1:$D$23,4,0)","v":{"$error":"#N/A"}}]
[{"$f":"INDEX(Tabelle2[[#All],[Budgetlinie]],MATCH(Tabelle1[[#This Row],[Maßnahme]],Ausfüllhilfe!$C$1:$C$22,0))","v":{"$error":"#N/A"}},null,null,null,null,null,null,null,null,{"$f":"VLOOKUP(Tabelle1[[#This Row],[Budgetlinie]],Ausfüllhilfe!$A$1:$D$23,4,0)","v":{"$error":"#N/A"}}]
[{"$f":"INDEX(Tabelle2[[#All],[Budgetlinie]],MATCH(Tabelle1[[#This Row],[Maßnahme]],Ausfüllhilfe!$C$1:$C$22,0))","v":{"$error":"#N/A"}},null,null,null,null,null,null,null,null,{"$f":"VLOOKUP(Tabelle1[[#This Row],[Budgetlinie]],Ausfüllhilfe!$A$1:$D$23,4,0)","v":{"$error":"#N/A"}}]
[{"$f":"INDEX(Tabelle2[[#All],[Budgetlinie]],MATCH(Tabelle1[[#This Row],[Maßnahme]],Ausfüllhilfe!$C$1:$C$22,0))","v":{"$error":"#N/A"}},null,null,null,null,null,null,null,null,{"$f":"VLOOKUP(Tabelle1[[#This Row],[Budgetlinie]],Ausfüllhilfe!$A$1:$D$23,4,0)","v":{"$error":"#N/A"}}]
[{"$f":"INDEX(Tabelle2[[#All],[Budgetlinie]],MATCH(Tabelle1[[#This Row],[Maßnahme]],Ausfüllhilfe!$C$1:$C$22,0))","v":{"$error":"#N/A"}},null,null,null,null,null,null,null,null,{"$f":"VLOOKUP(Tabelle1[[#This Row],[Budgetlinie]],Ausfüllhilfe!$A$1:$D$23,4,0)","v":{"$error":"#N/A"}}]
[{"$f":"INDEX(Tabelle2[[#All],[Budgetlinie]],MATCH(Tabelle1[[#This Row],[Maßnahme]],Ausfüllhilfe!$C$1:$C$22,0))","v":{"$error":"#N/A"}},null,null,null,null,null,null,null,null,{"$f":"VLOOKUP(Tabelle1[[#This Row],[Budgetlinie]],Ausfüllhilfe!$A$1:$D$23,4,0)","v":{"$error":"#N/A"}}]
[{"$f":"INDEX(Tabelle2[[#All],[Budgetlinie]],MATCH(Tabelle1[[#This Row],[Maßnahme]],Ausfüllhilfe!$C$1:$C$22,0))","v":{"$error":"#N/A"}},null,null,null,null,null,null,null,null,{"$f":"VLOOKUP(Tabelle1[[#This Row],[Budgetlinie]],Ausfüllhilfe!$A$1:$D$23,4,0)","v":{"$error":"#N/A"}}]
[{"$f":"INDEX(Tabelle2[[#All],[Budgetlinie]],MATCH(Tabelle1[[#This Row],[Maßnahme]],Ausfüllhilfe!$C$1:$C$22,0))","v":{"$error":"#N/A"}},null,null,null,null,null,null,null,null,{"$f":"VLOOKUP(Tabelle1[[#This Row],[Budgetlinie]],Ausfüllhilfe!$A$1:$D$23,4,0)","v":{"$error":"#N/A"}}]
[{"$f":"INDEX(Tabelle2[[#All],[Budgetlinie]],MATCH(Tabelle1[[#This Row],[Maßnahme]],Ausfüllhilfe!$C$1:$C$22,0))","v":{"$error":"#N/A"}},null,null,null,null,null,null,null,null,{"$f":"VLOOKUP(Tabelle1[[#This Row],[Budgetlinie]],Ausfüllhilfe!$A$1:$D$23,4,0)","v":{"$error":"#N/A"}}]
[{"$f":"INDEX(Tabelle2[[#All],[Budgetlinie]],MATCH(Tabelle1[[#This Row],[Maßnahme]],Ausfüllhilfe!$C$1:$C$22,0))","v":{"$error":"#N/A"}},null,null,null,null,null,null,null,null,{"$f":"VLOOKUP(Tabelle1[[#This Row],[Budgetlinie]],Ausfüllhilfe!$A$1:$D$23,4,0)","v":{"$error":"#N/A"}}]
[{"$f":"INDEX(Tabelle2[[#All],[Budgetlinie]],MATCH(Tabelle1[[#This Row],[Maßnahme]],Ausfüllhilfe!$C$1:$C$22,0))","v":{"$error":"#N/A"}},null,null,null,null,null,null,null,null,{"$f":"VLOOKUP(Tabelle1[[#This Row],[Budgetlinie]],Ausfüllhilfe!$A$1:$D$23,4,0)","v":{"$error":"#N/A"}}]
[{"$f":"INDEX(Tabelle2[[#All],[Budgetlinie]],MATCH(Tabelle1[[#This Row],[Maßnahme]],Ausfüllhilfe!$C$1:$C$22,0))","v":{"$error":"#N/A"}},null,null,null,null,null,null,null,null,{"$f":"VLOOKUP(Tabelle1[[#This Row],[Budgetlinie]],Ausfüllhilfe!$A$1:$D$23,4,0)","v":{"$error":"#N/A"}}]
[{"$f":"INDEX(Tabelle2[[#All],[Budgetlinie]],MATCH(Tabelle1[[#This Row],[Maßnahme]],Ausfüllhilfe!$C$1:$C$22,0))","v":{"$error":"#N/A"}},null,null,null,null,null,null,null,null,{"$f":"VLOOKUP(Tabelle1[[#This Row],[Budgetlinie]],Ausfüllhilfe!$A$1:$D$23,4,0)","v":{"$error":"#N/A"}}]
[{"$f":"INDEX(Tabelle2[[#All],[Budgetlinie]],MATCH(Tabelle1[[#This Row],[Maßnahme]],Ausfüllhilfe!$C$1:$C$22,0))","v":{"$error":"#N/A"}},null,null,null,null,null,null,null,null,{"$f":"VLOOKUP(Tabelle1[[#This Row],[Budgetlinie]],Ausfüllhilfe!$A$1:$D$23,4,0)","v":{"$error":"#N/A"}}]
[{"$f":"INDEX(Tabelle2[[#All],[Budgetlinie]],MATCH(Tabelle1[[#This Row],[Maßnahme]],Ausfüllhilfe!$C$1:$C$22,0))","v":{"$error":"#N/A"}},null,null,null,null,null,null,null,null,{"$f":"VLOOKUP(Tabelle1[[#This Row],[Budgetlinie]],Ausfüllhilfe!$A$1:$D$23,4,0)","v":{"$error":"#N/A"}}]
[{"$f":"INDEX(Tabelle2[[#All],[Budgetlinie]],MATCH(Tabelle1[[#This Row],[Maßnahme]],Ausfüllhilfe!$C$1:$C$22,0))","v":{"$error":"#N/A"}},null,null,null,null,null,null,null,null,{"$f":"VLOOKUP(Tabelle1[[#This Row],[Budgetlinie]],Ausfüllhilfe!$A$1:$D$23,4,0)","v":{"$error":"#N/A"}}]
[{"$f":"INDEX(Tabelle2[[#All],[Budgetlinie]],MATCH(Tabelle1[[#This Row],[Maßnahme]],Ausfüllhilfe!$C$1:$C$22,0))","v":{"$error":"#N/A"}},null,null,null,null,null,null,null,null,{"$f":"VLOOKUP(Tabelle1[[#This Row],[Budgetlinie]],Ausfüllhilfe!$A$1:$D$23,4,0)","v":{"$error":"#N/A"}}]
[{"$f":"INDEX(Tabelle2[[#All],[Budgetlinie]],MATCH(Tabelle1[[#This Row],[Maßnahme]],Ausfüllhilfe!$C$1:$C$22,0))","v":{"$error":"#N/A"}},null,null,null,null,null,null,null,null,{"$f":"VLOOKUP(Tabelle1[[#This Row],[Budgetlinie]],Ausfüllhilfe!$A$1:$D$23,4,0)","v":{"$error":"#N/A"}}]
[{"$f":"INDEX(Tabelle2[[#All],[Budgetlinie]],MATCH(Tabelle1[[#This Row],[Maßnahme]],Ausfüllhilfe!$C$1:$C$22,0))","v":{"$error":"#N/A"}},null,null,null,null,null,null,null,null,{"$f":"VLOOKUP(Tabelle1[[#This Row],[Budgetlinie]],Ausfüllhilfe!$A$1:$D$23,4,0)","v":{"$error":"#N/A"}}]
[{"$f":"INDEX(Tabelle2[[#All],[Budgetlinie]],MATCH(Tabelle1[[#This Row],[Maßnahme]],Ausfüllhilfe!$C$1:$C$22,0))","v":{"$error":"#N/A"}},null,null,null,null,null,null,null,null,{"$f":"VLOOKUP(Tabelle1[[#This Row],[Budgetlinie]],Ausfüllhilfe!$A$1:$D$23,4,0)","v":{"$error":"#N/A"}}]
[{"$f":"INDEX(Tabelle2[[#All],[Budgetlinie]],MATCH(Tabelle1[[#This Row],[Maßnahme]],Ausfüllhilfe!$C$1:$C$22,0))","v":{"$error":"#N/A"}},null,null,null,null,null,null,null,null,{"$f":"VLOOKUP(Tabelle1[[#This Row],[Budgetlinie]],Ausfüllhilfe!$A$1:$D$23,4,0)","v":{"$error":"#N/A"}}]
[{"$f":"INDEX(Tabelle2[[#All],[Budgetlinie]],MATCH(Tabelle1[[#This Row],[Maßnahme]],Ausfüllhilfe!$C$1:$C$22,0))","v":{"$error":"#N/A"}},null,null,null,null,null,null,null,null,{"$f":"VLOOKUP(Tabelle1[[#This Row],[Budgetlinie]],Ausfüllhilfe!$A$1:$D$23,4,0)","v":{"$error":"#N/A"}}]
[{"$f":"INDEX(Tabelle2[[#All],[Budgetlinie]],MATCH(Tabelle1[[#This Row],[Maßnahme]],Ausfüllhilfe!$C$1:$C$22,0))","v":{"$error":"#N/A"}},null,null,null,null,null,null,null,null,{"$f":"VLOOKUP(Tabelle1[[#This Row],[Budgetlinie]],Ausfüllhilfe!$A$1:$D$23,4,0)","v":{"$error":"#N/A"}}]
[{"$f":"INDEX(Tabelle2[[#All],[Budgetlinie]],MATCH(Tabelle1[[#This Row],[Maßnahme]],Ausfüllhilfe!$C$1:$C$22,0))","v":{"$error":"#N/A"}},null,null,null,null,null,null,null,null,{"$f":"VLOOKUP(Tabelle1[[#This Row],[Budgetlinie]],Ausfüllhilfe!$A$1:$D$23,4,0)","v":{"$error":"#N/A"}}]
[{"$f":"INDEX(Tabelle2[[#All],[Budgetlinie]],MATCH(Tabelle1[[#This Row],[Maßnahme]],Ausfüllhilfe!$C$1:$C$22,0))","v":{"$error":"#N/A"}},null,null,null,null,null,null,null,null,{"$f":"VLOOKUP(Tabelle1[[#This Row],[Budgetlinie]],Ausfüllhilfe!$A$1:$D$23,4,0)","v":{"$error":"#N/A"}}]
[{"$f":"INDEX(Tabelle2[[#All],[Budgetlinie]],MATCH(Tabelle1[[#This Row],[Maßnahme]],Ausfüllhilfe!$C$1:$C$22,0))","v":{"$error":"#N/A"}},null,null,null,null,null,null,null,null,{"$f":"VLOOKUP(Tabelle1[[#This Row],[Budgetlinie]],Ausfüllhilfe!$A$1:$D$23,4,0)","v":{"$error":"#N/A"}}]
[{"$f":"INDEX(Tabelle2[[#All],[Budgetlinie]],MATCH(Tabelle1[[#This Row],[Maßnahme]],Ausfüllhilfe!$C$1:$C$22,0))","v":{"$error":"#N/A"}},null,null,null,null,null,null,null,null,{"$f":"VLOOKUP(Tabelle1[[#This Row],[Budgetlinie]],Ausfüllhilfe!$A$1:$D$23,4,0)","v":{"$error":"#N/A"}}]
[{"$f":"INDEX(Tabelle2[[#All],[Budgetlinie]],MATCH(Tabelle1[[#This Row],[Maßnahme]],Ausfüllhilfe!$C$1:$C$22,0))","v":{"$error":"#N/A"}},null,null,null,null,null,null,null,null,{"$f":"VLOOKUP(Tabelle1[[#This Row],[Budgetlinie]],Ausfüllhilfe!$A$1:$D$23,4,0)","v":{"$error":"#N/A"}}]
[{"$f":"INDEX(Tabelle2[[#All],[Budgetlinie]],MATCH(Tabelle1[[#This Row],[Maßnahme]],Ausfüllhilfe!$C$1:$C$22,0))","v":{"$error":"#N/A"}},null,null,null,null,null,null,null,null,{"$f":"VLOOKUP(Tabelle1[[#This Row],[Budgetlinie]],Ausfüllhilfe!$A$1:$D$23,4,0)","v":{"$error":"#N/A"}}]
[{"$f":"INDEX(Tabelle2[[#All],[Budgetlinie]],MATCH(Tabelle1[[#This Row],[Maßnahme]],Ausfüllhilfe!$C$1:$C$22,0))","v":{"$error":"#N/A"}},null,null,null,null,null,null,null,null,{"$f":"VLOOKUP(Tabelle1[[#This Row],[Budgetlinie]],Ausfüllhilfe!$A$1:$D$23,4,0)","v":{"$error":"#N/A"}}]
[{"$f":"INDEX(Tabelle2[[#All],[Budgetlinie]],MATCH(Tabelle1[[#This Row],[Maßnahme]],Ausfüllhilfe!$C$1:$C$22,0))","v":{"$error":"#N/A"}},null,null,null,null,null,null,null,null,{"$f":"VLOOKUP(Tabelle1[[#This Row],[Budgetlinie]],Ausfüllhilfe!$A$1:$D$23,4,0)","v":{"$error":"#N/A"}}]
[{"$f":"INDEX(Tabelle2[[#All],[Budgetlinie]],MATCH(Tabelle1[[#This Row],[Maßnahme]],Ausfüllhilfe!$C$1:$C$22,0))","v":{"$error":"#N/A"}},null,null,null,null,null,null,null,null,{"$f":"VLOOKUP(Tabelle1[[#This Row],[Budgetlinie]],Ausfüllhilfe!$A$1:$D$23,4,0)","v":{"$error":"#N/A"}}]
[{"$f":"INDEX(Tabelle2[[#All],[Budgetlinie]],MATCH(Tabelle1[[#This Row],[Maßnahme]],Ausfüllhilfe!$C$1:$C$22,0))","v":{"$error":"#N/A"}},null,null,null,null,null,null,null,null,{"$f":"VLOOKUP(Tabelle1[[#This Row],[Budgetlinie]],Ausfüllhilfe!$A$1:$D$23,4,0)","v":{"$error":"#N/A"}}]
[{"$f":"INDEX(Tabelle2[[#All],[Budgetlinie]],MATCH(Tabelle1[[#This Row],[Maßnahme]],Ausfüllhilfe!$C$1:$C$22,0))","v":{"$error":"#N/A"}},null,null,null,null,null,null,null,null,{"$f":"VLOOKUP(Tabelle1[[#This Row],[Budgetlinie]],Ausfüllhilfe!$A$1:$D$23,4,0)","v":{"$error":"#N/A"}}]
[{"$f":"INDEX(Tabelle2[[#All],[Budgetlinie]],MATCH(Tabelle1[[#This Row],[Maßnahme]],Ausfüllhilfe!$C$1:$C$22,0))","v":{"$error":"#N/A"}},null,null,null,null,null,null,null,null,{"$f":"VLOOKUP(Tabelle1[[#This Row],[Budgetlinie]],Ausfüllhilfe!$A$1:$D$23,4,0)","v":{"$error":"#N/A"}}]
[{"$f":"INDEX(Tabelle2[[#All],[Budgetlinie]],MATCH(Tabelle1[[#This Row],[Maßnahme]],Ausfüllhilfe!$C$1:$C$22,0))","v":{"$error":"#N/A"}},null,null,null,null,null,null,null,null,{"$f":"VLOOKUP(Tabelle1[[#This Row],[Budgetlinie]],Ausfüllhilfe!$A$1:$D$23,4,0)","v":{"$error":"#N/A"}}]
[{"$f":"INDEX(Tabelle2[[#All],[Budgetlinie]],MATCH(Tabelle1[[#This Row],[Maßnahme]],Ausfüllhilfe!$C$1:$C$22,0))","v":{"$error":"#N/A"}},null,null,null,null,null,null,null,null,{"$f":"VLOOKUP(Tabelle1[[#This Row],[Budgetlinie]],Ausfüllhilfe!$A$1:$D$23,4,0)","v":{"$error":"#N/A"}}]
[{"$f":"INDEX(Tabelle2[[#All],[Budgetlinie]],MATCH(Tabelle1[[#This Row],[Maßnahme]],Ausfüllhilfe!$C$1:$C$22,0))","v":{"$error":"#N/A"}},null,null,null,null,null,null,null,null,{"$f":"VLOOKUP(Tabelle1[[#This Row],[Budgetlinie]],Ausfüllhilfe!$A$1:$D$23,4,0)","v":{"$error":"#N/A"}}]
[{"$f":"INDEX(Tabelle2[[#All],[Budgetlinie]],MATCH(Tabelle1[[#This Row],[Maßnahme]],Ausfüllhilfe!$C$1:$C$22,0))","v":{"$error":"#N/A"}},null,null,null,null,null,null,null,null,{"$f":"VLOOKUP(Tabelle1[[#This Row],[Budgetlinie]],Ausfüllhilfe!$A$1:$D$23,4,0)","v":{"$error":"#N/A"}}]
[{"$f":"INDEX(Tabelle2[[#All],[Budgetlinie]],MATCH(Tabelle1[[#This Row],[Maßnahme]],Ausfüllhilfe!$C$1:$C$22,0))","v":{"$error":"#N/A"}},null,null,null,null,null,null,null,null,{"$f":"VLOOKUP(Tabelle1[[#This Row],[Budgetlinie]],Ausfüllhilfe!$A$1:$D$23,4,0)","v":{"$error":"#N/A"}}]
[{"$f":"INDEX(Tabelle2[[#All],[Budgetlinie]],MATCH(Tabelle1[[#This Row],[Maßnahme]],Ausfüllhilfe!$C$1:$C$22,0))","v":{"$error":"#N/A"}},null,null,null,null,null,null,null,null,{"$f":"VLOOKUP(Tabelle1[[#This Row],[Budgetlinie]],Ausfüllhilfe!$A$1:$D$23,4,0)","v":{"$error":"#N/A"}}]
[{"$f":"INDEX(Tabelle2[[#All],[Budgetlinie]],MATCH(Tabelle1[[#This Row],[Maßnahme]],Ausfüllhilfe!$C$1:$C$22,0))","v":{"$error":"#N/A"}},null,null,null,null,null,null,null,null,{"$f":"VLOOKUP(Tabelle1[[#This Row],[Budgetlinie]],Ausfüllhilfe!$A$1:$D$23,4,0)","v":{"$error":"#N/A"}}]
[{"$f":"INDEX(Tabelle2[[#All],[Budgetlinie]],MATCH(Tabelle1[[#This Row],[Maßnahme]],Ausfüllhilfe!$C$1:$C$22,0))","v":{"$error":"#N/A"}},null,null,null,null,null,null,null,null,{"$f":"VLOOKUP(Tabelle1[[#This Row],[Budgetlinie]],Ausfüllhilfe!$A$1:$D$23,4,0)","v":{"$error":"#N/A"}}]
[{"$f":"INDEX(Tabelle2[[#All],[Budgetlinie]],MATCH(Tabelle1[[#This Row],[Maßnahme]],Ausfüllhilfe!$C$1:$C$22,0))","v":{"$error":"#N/A"}},null,null,null,null,null,null,null,null,{"$f":"VLOOKUP(Tabelle1[[#This Row],[Budgetlinie]],Ausfüllhilfe!$A$1:$D$23,4,0)","v":{"$error":"#N/A"}}]
[{"$f":"INDEX(Tabelle2[[#All],[Budgetlinie]],MATCH(Tabelle1[[#This Row],[Maßnahme]],Ausfüllhilfe!$C$1:$C$22,0))","v":{"$error":"#N/A"}},null,null,null,null,null,null,null,null,{"$f":"VLOOKUP(Tabelle1[[#This Row],[Budgetlinie]],Ausfüllhilfe!$A$1:$D$23,4,0)","v":{"$error":"#N/A"}}]
[{"$f":"INDEX(Tabelle2[[#All],[Budgetlinie]],MATCH(Tabelle1[[#This Row],[Maßnahme]],Ausfüllhilfe!$C$1:$C$22,0))","v":{"$error":"#N/A"}},null,null,null,null,null,null,null,null,{"$f":"VLOOKUP(Tabelle1[[#This Row],[Budgetlinie]],Ausfüllhilfe!$A$1:$D$23,4,0)","v":{"$error":"#N/A"}}]
[{"$f":"INDEX(Tabelle2[[#All],[Budgetlinie]],MATCH(Tabelle1[[#This Row],[Maßnahme]],Ausfüllhilfe!$C$1:$C$22,0))","v":{"$error":"#N/A"}},null,null,null,null,null,null,null,null,{"$f":"VLOOKUP(Tabelle1[[#This Row],[Budgetlinie]],Ausfüllhilfe!$A$1:$D$23,4,0)","v":{"$error":"#N/A"}}]
[{"$f":"INDEX(Tabelle2[[#All],[Budgetlinie]],MATCH(Tabelle1[[#This Row],[Maßnahme]],Ausfüllhilfe!$C$1:$C$22,0))","v":{"$error":"#N/A"}},null,null,null,null,null,null,null,null,{"$f":"VLOOKUP(Tabelle1[[#This Row],[Budgetlinie]],Ausfüllhilfe!$A$1:$D$23,4,0)","v":{"$error":"#N/A"}}]
[{"$f":"INDEX(Tabelle2[[#All],[Budgetlinie]],MATCH(Tabelle1[[#This Row],[Maßnahme]],Ausfüllhilfe!$C$1:$C$22,0))","v":{"$error":"#N/A"}},null,null,null,null,null,null,null,null,{"$f":"VLOOKUP(Tabelle1[[#This Row],[Budgetlinie]],Ausfüllhilfe!$A$1:$D$23,4,0)","v":{"$error":"#N/A"}}]
[{"$f":"INDEX(Tabelle2[[#All],[Budgetlinie]],MATCH(Tabelle1[[#This Row],[Maßnahme]],Ausfüllhilfe!$C$1:$C$22,0))","v":{"$error":"#N/A"}},null,null,null,null,null,null,null,null,{"$f":"VLOOKUP(Tabelle1[[#This Row],[Budgetlinie]],Ausfüllhilfe!$A$1:$D$23,4,0)","v":{"$error":"#N/A"}}]
[{"$f":"INDEX(Tabelle2[[#All],[Budgetlinie]],MATCH(Tabelle1[[#This Row],[Maßnahme]],Ausfüllhilfe!$C$1:$C$22,0))","v":{"$error":"#N/A"}},null,null,null,null,null,null,null,null,{"$f":"VLOOKUP(Tabelle1[[#This Row],[Budgetlinie]],Ausfüllhilfe!$A$1:$D$23,4,0)","v":{"$error":"#N/A"}}]
[{"$f":"INDEX(Tabelle2[[#All],[Budgetlinie]],MATCH(Tabelle1[[#This Row],[Maßnahme]],Ausfüllhilfe!$C$1:$C$22,0))","v":{"$error":"#N/A"}},null,null,null,null,null,null,null,null,{"$f":"VLOOKUP(Tabelle1[[#This Row],[Budgetlinie]],Ausfüllhilfe!$A$1:$D$23,4,0)","v":{"$error":"#N/A"}}]
[{"$f":"INDEX(Tabelle2[[#All],[Budgetlinie]],MATCH(Tabelle1[[#This Row],[Maßnahme]],Ausfüllhilfe!$C$1:$C$22,0))","v":{"$error":"#N/A"}},null,null,null,null,null,null,null,null,{"$f":"VLOOKUP(Tabelle1[[#This Row],[Budgetlinie]],Ausfüllhilfe!$A$1:$D$23,4,0)","v":{"$error":"#N/A"}}]
[{"$f":"INDEX(Tabelle2[[#All],[Budgetlinie]],MATCH(Tabelle1[[#This Row],[Maßnahme]],Ausfüllhilfe!$C$1:$C$22,0))","v":{"$error":"#N/A"}},null,null,null,null,null,null,null,null,{"$f":"VLOOKUP(Tabelle1[[#This Row],[Budgetlinie]],Ausfüllhilfe!$A$1:$D$23,4,0)","v":{"$error":"#N/A"}}]
[{"$f":"INDEX(Tabelle2[[#All],[Budgetlinie]],MATCH(Tabelle1[[#This Row],[Maßnahme]],Ausfüllhilfe!$C$1:$C$22,0))","v":{"$error":"#N/A"}},null,null,null,null,null,null,null,null,{"$f":"VLOOKUP(Tabelle1[[#This Row],[Budgetlinie]],Ausfüllhilfe!$A$1:$D$23,4,0)","v":{"$error":"#N/A"}}]
[{"$f":"INDEX(Tabelle2[[#All],[Budgetlinie]],MATCH(Tabelle1[[#This Row],[Maßnahme]],Ausfüllhilfe!$C$1:$C$22,0))","v":{"$error":"#N/A"}},null,null,null,null,null,null,null,null,{"$f":"VLOOKUP(Tabelle1[[#This Row],[Budgetlinie]],Ausfüllhilfe!$A$1:$D$23,4,0)","v":{"$error":"#N/A"}}]
[{"$f":"INDEX(Tabelle2[[#All],[Budgetlinie]],MATCH(Tabelle1[[#This Row],[Maßnahme]],Ausfüllhilfe!$C$1:$C$22,0))","v":{"$error":"#N/A"}},null,null,null,null,null,null,null,null,{"$f":"VLOOKUP(Tabelle1[[#This Row],[Budgetlinie]],Ausfüllhilfe!$A$1:$D$23,4,0)","v":{"$error":"#N/A"}}]
[{"$f":"INDEX(Tabelle2[[#All],[Budgetlinie]],MATCH(Tabelle1[[#This Row],[Maßnahme]],Ausfüllhilfe!$C$1:$C$22,0))","v":{"$error":"#N/A"}},null,null,null,null,null,null,null,null,{"$f":"VLOOKUP(Tabelle1[[#This Row],[Budgetlinie]],Ausfüllhilfe!$A$1:$D$23,4,0)","v":{"$error":"#N/A"}}]
[{"$f":"INDEX(Tabelle2[[#All],[Budgetlinie]],MATCH(Tabelle1[[#This Row],[Maßnahme]],Ausfüllhilfe!$C$1:$C$22,0))","v":{"$error":"#N/A"}},null,null,null,null,null,null,null,null,{"$f":"VLOOKUP(Tabelle1[[#This Row],[Budgetlinie]],Ausfüllhilfe!$A$1:$D$23,4,0)","v":{"$error":"#N/A"}}]
[{"$f":"INDEX(Tabelle2[[#All],[Budgetlinie]],MATCH(Tabelle1[[#This Row],[Maßnahme]],Ausfüllhilfe!$C$1:$C$22,0))","v":{"$error":"#N/A"}},null,null,null,null,null,null,null,null,{"$f":"VLOOKUP(Tabelle1[[#This Row],[Budgetlinie]],Ausfüllhilfe!$A$1:$D$23,4,0)","v":{"$error":"#N/A"}}]
[{"$f":"INDEX(Tabelle2[[#All],[Budgetlinie]],MATCH(Tabelle1[[#This Row],[Maßnahme]],Ausfüllhilfe!$C$1:$C$22,0))","v":{"$error":"#N/A"}},null,null,null,null,null,null,null,null,{"$f":"VLOOKUP(Tabelle1[[#This Row],[Budgetlinie]],Ausfüllhilfe!$A$1:$D$23,4,0)","v":{"$error":"#N/A"}}]
[{"$f":"INDEX(Tabelle2[[#All],[Budgetlinie]],MATCH(Tabelle1[[#This Row],[Maßnahme]],Ausfüllhilfe!$C$1:$C$22,0))","v":{"$error":"#N/A"}},null,null,null,null,null,null,null,null,{"$f":"VLOOKUP(Tabelle1[[#This Row],[Budgetlinie]],Ausfüllhilfe!$A$1:$D$23,4,0)","v":{"$error":"#N/A"}}]
[{"$f":"INDEX(Tabelle2[[#All],[Budgetlinie]],MATCH(Tabelle1[[#This Row],[Maßnahme]],Ausfüllhilfe!$C$1:$C$22,0))","v":{"$error":"#N/A"}},null,null,null,null,null,null,null,null,{"$f":"VLOOKUP(Tabelle1[[#This Row],[Budgetlinie]],Ausfüllhilfe!$A$1:$D$23,4,0)","v":{"$error":"#N/A"}}]
[{"$f":"INDEX(Tabelle2[[#All],[Budgetlinie]],MATCH(Tabelle1[[#This Row],[Maßnahme]],Ausfüllhilfe!$C$1:$C$22,0))","v":{"$error":"#N/A"}},null,null,null,null,null,null,null,null,{"$f":"VLOOKUP(Tabelle1[[#This Row],[Budgetlinie]],Ausfüllhilfe!$A$1:$D$23,4,0)","v":{"$error":"#N/A"}}]
[{"$f":"INDEX(Tabelle2[[#All],[Budgetlinie]],MATCH(Tabelle1[[#This Row],[Maßnahme]],Ausfüllhilfe!$C$1:$C$22,0))","v":{"$error":"#N/A"}},null,null,null,null,null,null,null,null,{"$f":"VLOOKUP(Tabelle1[[#This Row],[Budgetlinie]],Ausfüllhilfe!$A$1:$D$23,4,0)","v":{"$error":"#N/A"}}]
[{"$f":"INDEX(Tabelle2[[#All],[Budgetlinie]],MATCH(Tabelle1[[#This Row],[Maßnahme]],Ausfüllhilfe!$C$1:$C$22,0))","v":{"$error":"#N/A"}},null,null,null,null,null,null,null,null,{"$f":"VLOOKUP(Tabelle1[[#This Row],[Budgetlinie]],Ausfüllhilfe!$A$1:$D$23,4,0)","v":{"$error":"#N/A"}}]
[{"$f":"INDEX(Tabelle2[[#All],[Budgetlinie]],MATCH(Tabelle1[[#This Row],[Maßnahme]],Ausfüllhilfe!$C$1:$C$22,0))","v":{"$error":"#N/A"}},null,null,null,null,null,null,null,null,{"$f":"VLOOKUP(Tabelle1[[#This Row],[Budgetlinie]],Ausfüllhilfe!$A$1:$D$23,4,0)","v":{"$error":"#N/A"}}]
[{"$f":"INDEX(Tabelle2[[#All],[Budgetlinie]],MATCH(Tabelle1[[#This Row],[Maßnahme]],Ausfüllhilfe!$C$1:$C$22,0))","v":{"$error":"#N/A"}},null,null,null,null,null,null,null,null,{"$f":"VLOOKUP(Tabelle1[[#This Row],[Budgetlinie]],Ausfüllhilfe!$A$1:$D$23,4,0)","v":{"$error":"#N/A"}}]
[{"$f":"INDEX(Tabelle2[[#All],[Budgetlinie]],MATCH(Tabelle1[[#This Row],[Maßnahme]],Ausfüllhilfe!$C$1:$C$22,0))","v":{"$error":"#N/A"}},null,null,null,null,null,null,null,null,{"$f":"VLOOKUP(Tabelle1[[#This Row],[Budgetlinie]],Ausfüllhilfe!$A$1:$D$23,4,0)","v":{"$error":"#N/A"}}]
[{"$f":"INDEX(Tabelle2[[#All],[Budgetlinie]],MATCH(Tabelle1[[#This Row],[Maßnahme]],Ausfüllhilfe!$C$1:$C$22,0))","v":{"$error":"#N/A"}},null,null,null,null,null,null,null,null,{"$f":"VLOOKUP(Tabelle1[[#This Row],[Budgetlinie]],Ausfüllhilfe!$A$1:$D$23,4,0)","v":{"$error":"#N/A"}}]
[{"$f":"INDEX(Tabelle2[[#All],[Budgetlinie]],MATCH(Tabelle1[[#This Row],[Maßnahme]],Ausfüllhilfe!$C$1:$C$22,0))","v":{"$error":"#N/A"}},null,null,null,null,null,null,null,null,{"$f":"VLOOKUP(Tabelle1[[#This Row],[Budgetlinie]],Ausfüllhilfe!$A$1:$D$23,4,0)","v":{"$error":"#N/A"}}]
[{"$f":"INDEX(Tabelle2[[#All],[Budgetlinie]],MATCH(Tabelle1[[#This Row],[Maßnahme]],Ausfüllhilfe!$C$1:$C$22,0))","v":{"$error":"#N/A"}},null,null,null,null,null,null,null,null,{"$f":"VLOOKUP(Tabelle1[[#This Row],[Budgetlinie]],Ausfüllhilfe!$A$1:$D$23,4,0)","v":{"$error":"#N/A"}}]
[{"$f":"INDEX(Tabelle2[[#All],[Budgetlinie]],MATCH(Tabelle1[[#This Row],[Maßnahme]],Ausfüllhilfe!$C$1:$C$22,0))","v":{"$error":"#N/A"}},null,null,null,null,null,null,null,null,{"$f":"VLOOKUP(Tabelle1[[#This Row],[Budgetlinie]],Ausfüllhilfe!$A$1:$D$23,4,0)","v":{"$error":"#N/A"}}]
[{"$f":"INDEX(Tabelle2[[#All],[Budgetlinie]],MATCH(Tabelle1[[#This Row],[Maßnahme]],Ausfüllhilfe!$C$1:$C$22,0))","v":{"$error":"#N/A"}},null,null,null,null,null,null,null,null,{"$f":"VLOOKUP(Tabelle1[[#This Row],[Budgetlinie]],Ausfüllhilfe!$A$1:$D$23,4,0)","v":{"$error":"#N/A"}}]
[{"$f":"INDEX(Tabelle2[[#All],[Budgetlinie]],MATCH(Tabelle1[[#This Row],[Maßnahme]],Ausfüllhilfe!$C$1:$C$22,0))","v":{"$error":"#N/A"}},null,null,null,null,null,null,null,null,{"$f":"VLOOKUP(Tabelle1[[#This Row],[Budgetlinie]],Ausfüllhilfe!$A$1:$D$23,4,0)","v":{"$error":"#N/A"}}]
[{"$f":"INDEX(Tabelle2[[#All],[Budgetlinie]],MATCH(Tabelle1[[#This Row],[Maßnahme]],Ausfüllhilfe!$C$1:$C$22,0))","v":{"$error":"#N/A"}},null,null,null,null,null,null,null,null,{"$f":"VLOOKUP(Tabelle1[[#This Row],[Budgetlinie]],Ausfüllhilfe!$A$1:$D$23,4,0)","v":{"$error":"#N/A"}}]
[{"$f":"INDEX(Tabelle2[[#All],[Budgetlinie]],MATCH(Tabelle1[[#This Row],[Maßnahme]],Ausfüllhilfe!$C$1:$C$22,0))","v":{"$error":"#N/A"}},null,null,null,null,null,null,null,null,{"$f":"VLOOKUP(Tabelle1[[#This Row],[Budgetlinie]],Ausfüllhilfe!$A$1:$D$23,4,0)","v":{"$error":"#N/A"}}]
[{"$f":"INDEX(Tabelle2[[#All],[Budgetlinie]],MATCH(Tabelle1[[#This Row],[Maßnahme]],Ausfüllhilfe!$C$1:$C$22,0))","v":{"$error":"#N/A"}},null,null,null,null,null,null,null,null,{"$f":"VLOOKUP(Tabelle1[[#This Row],[Budgetlinie]],Ausfüllhilfe!$A$1:$D$23,4,0)","v":{"$error":"#N/A"}}]
[{"$f":"INDEX(Tabelle2[[#All],[Budgetlinie]],MATCH(Tabelle1[[#This Row],[Maßnahme]],Ausfüllhilfe!$C$1:$C$22,0))","v":{"$error":"#N/A"}},null,null,null,null,null,null,null,null,{"$f":"VLOOKUP(Tabelle1[[#This Row],[Budgetlinie]],Ausfüllhilfe!$A$1:$D$23,4,0)","v":{"$error":"#N/A"}}]
[{"$f":"INDEX(Tabelle2[[#All],[Budgetlinie]],MATCH(Tabelle1[[#This Row],[Maßnahme]],Ausfüllhilfe!$C$1:$C$22,0))","v":{"$error":"#N/A"}},null,null,null,null,null,null,null,null,{"$f":"VLOOKUP(Tabelle1[[#This Row],[Budgetlinie]],Ausfüllhilfe!$A$1:$D$23,4,0)","v":{"$error":"#N/A"}}]
[{"$f":"INDEX(Tabelle2[[#All],[Budgetlinie]],MATCH(Tabelle1[[#This Row],[Maßnahme]],Ausfüllhilfe!$C$1:$C$22,0))","v":{"$error":"#N/A"}},null,null,null,null,null,null,null,null,{"$f":"VLOOKUP(Tabelle1[[#This Row],[Budgetlinie]],Ausfüllhilfe!$A$1:$D$23,4,0)","v":{"$error":"#N/A"}}]
[{"$f":"INDEX(Tabelle2[[#All],[Budgetlinie]],MATCH(Tabelle1[[#This Row],[Maßnahme]],Ausfüllhilfe!$C$1:$C$22,0))","v":{"$error":"#N/A"}},null,null,null,null,null,null,null,null,{"$f":"VLOOKUP(Tabelle1[[#This Row],[Budgetlinie]],Ausfüllhilfe!$A$1:$D$23,4,0)","v":{"$error":"#N/A"}}]
[{"$f":"INDEX(Tabelle2[[#All],[Budgetlinie]],MATCH(Tabelle1[[#This Row],[Maßnahme]],Ausfüllhilfe!$C$1:$C$22,0))","v":{"$error":"#N/A"}},null,null,null,null,null,null,null,null,{"$f":"VLOOKUP(Tabelle1[[#This Row],[Budgetlinie]],Ausfüllhilfe!$A$1:$D$23,4,0)","v":{"$error":"#N/A"}}]
[{"$f":"INDEX(Tabelle2[[#All],[Budgetlinie]],MATCH(Tabelle1[[#This Row],[Maßnahme]],Ausfüllhilfe!$C$1:$C$22,0))","v":{"$error":"#N/A"}},null,null,null,null,null,null,null,null,{"$f":"VLOOKUP(Tabelle1[[#This Row],[Budgetlinie]],Ausfüllhilfe!$A$1:$D$23,4,0)","v":{"$error":"#N/A"}}]
[{"$f":"INDEX(Tabelle2[[#All],[Budgetlinie]],MATCH(Tabelle1[[#This Row],[Maßnahme]],Ausfüllhilfe!$C$1:$C$22,0))","v":{"$error":"#N/A"}},null,null,null,null,null,null,null,null,{"$f":"VLOOKUP(Tabelle1[[#This Row],[Budgetlinie]],Ausfüllhilfe!$A$1:$D$23,4,0)","v":{"$error":"#N/A"}}]
[{"$f":"INDEX(Tabelle2[[#All],[Budgetlinie]],MATCH(Tabelle1[[#This Row],[Maßnahme]],Ausfüllhilfe!$C$1:$C$22,0))","v":{"$error":"#N/A"}},null,null,null,null,null,null,null,null,{"$f":"VLOOKUP(Tabelle1[[#This Row],[Budgetlinie]],Ausfüllhilfe!$A$1:$D$23,4,0)","v":{"$error":"#N/A"}}]
[{"$f":"INDEX(Tabelle2[[#All],[Budgetlinie]],MATCH(Tabelle1[[#This Row],[Maßnahme]],Ausfüllhilfe!$C$1:$C$22,0))","v":{"$error":"#N/A"}},null,null,null,null,null,null,null,null,{"$f":"VLOOKUP(Tabelle1[[#This Row],[Budgetlinie]],Ausfüllhilfe!$A$1:$D$23,4,0)","v":{"$error":"#N/A"}}]
[{"$f":"INDEX(Tabelle2[[#All],[Budgetlinie]],MATCH(Tabelle1[[#This Row],[Maßnahme]],Ausfüllhilfe!$C$1:$C$22,0))","v":{"$error":"#N/A"}},null,null,null,null,null,null,null,null,{"$f":"VLOOKUP(Tabelle1[[#This Row],[Budgetlinie]],Ausfüllhilfe!$A$1:$D$23,4,0)","v":{"$error":"#N/A"}}]
[{"$f":"INDEX(Tabelle2[[#All],[Budgetlinie]],MATCH(Tabelle1[[#This Row],[Maßnahme]],Ausfüllhilfe!$C$1:$C$22,0))","v":{"$error":"#N/A"}},null,null,null,null,null,null,null,null,{"$f":"VLOOKUP(Tabelle1[[#This Row],[Budgetlinie]],Ausfüllhilfe!$A$1:$D$23,4,0)","v":{"$error":"#N/A"}}]
[{"$f":"INDEX(Tabelle2[[#All],[Budgetlinie]],MATCH(Tabelle1[[#This Row],[Maßnahme]],Ausfüllhilfe!$C$1:$C$22,0))","v":{"$error":"#N/A"}},null,null,null,null,null,null,null,null,{"$f":"VLOOKUP(Tabelle1[[#This Row],[Budgetlinie]],Ausfüllhilfe!$A$1:$D$23,4,0)","v":{"$error":"#N/A"}}]
[{"$f":"INDEX(Tabelle2[[#All],[Budgetlinie]],MATCH(Tabelle1[[#This Row],[Maßnahme]],Ausfüllhilfe!$C$1:$C$22,0))","v":{"$error":"#N/A"}},null,null,null,null,null,null,null,null,{"$f":"VLOOKUP(Tabelle1[[#This Row],[Budgetlinie]],Ausfüllhilfe!$A$1:$D$23,4,0)","v":{"$error":"#N/A"}}]
[{"$f":"INDEX(Tabelle2[[#All],[Budgetlinie]],MATCH(Tabelle1[[#This Row],[Maßnahme]],Ausfüllhilfe!$C$1:$C$22,0))","v":{"$error":"#N/A"}},null,null,null,null,null,null,null,null,{"$f":"VLOOKUP(Tabelle1[[#This Row],[Budgetlinie]],Ausfüllhilfe!$A$1:$D$23,4,0)","v":{"$error":"#N/A"}}]
[{"$f":"INDEX(Tabelle2[[#All],[Budgetlinie]],MATCH(Tabelle1[[#This Row],[Maßnahme]],Ausfüllhilfe!$C$1:$C$22,0))","v":{"$error":"#N/A"}},null,null,null,null,null,null,null,null,{"$f":"VLOOKUP(Tabelle1[[#This Row],[Budgetlinie]],Ausfüllhilfe!$A$1:$D$23,4,0)","v":{"$error":"#N/A"}}]
[{"$f":"INDEX(Tabelle2[[#All],[Budgetlinie]],MATCH(Tabelle1[[#This Row],[Maßnahme]],Ausfüllhilfe!$C$1:$C$22,0))","v":{"$error":"#N/A"}},null,null,null,null,null,null,null,null,{"$f":"VLOOKUP(Tabelle1[[#This Row],[Budgetlinie]],Ausfüllhilfe!$A$1:$D$23,4,0)","v":{"$error":"#N/A"}}]
[{"$f":"INDEX(Tabelle2[[#All],[Budgetlinie]],MATCH(Tabelle1[[#This Row],[Maßnahme]],Ausfüllhilfe!$C$1:$C$22,0))","v":{"$error":"#N/A"}},null,null,null,null,null,null,null,null,{"$f":"VLOOKUP(Tabelle1[[#This Row],[Budgetlinie]],Ausfüllhilfe!$A$1:$D$23,4,0)","v":{"$error":"#N/A"}}]
[{"$f":"INDEX(Tabelle2[[#All],[Budgetlinie]],MATCH(Tabelle1[[#This Row],[Maßnahme]],Ausfüllhilfe!$C$1:$C$22,0))","v":{"$error":"#N/A"}},null,null,null,null,null,null,null,null,{"$f":"VLOOKUP(Tabelle1[[#This Row],[Budgetlinie]],Ausfüllhilfe!$A$1:$D$23,4,0)","v":{"$error":"#N/A"}}]
[{"$f":"INDEX(Tabelle2[[#All],[Budgetlinie]],MATCH(Tabelle1[[#This Row],[Maßnahme]],Ausfüllhilfe!$C$1:$C$22,0))","v":{"$error":"#N/A"}},null,null,null,null,null,null,null,null,{"$f":"VLOOKUP(Tabelle1[[#This Row],[Budgetlinie]],Ausfüllhilfe!$A$1:$D$23,4,0)","v":{"$error":"#N/A"}}]
[{"$f":"INDEX(Tabelle2[[#All],[Budgetlinie]],MATCH(Tabelle1[[#This Row],[Maßnahme]],Ausfüllhilfe!$C$1:$C$22,0))","v":{"$error":"#N/A"}},null,null,null,null,null,null,null,null,{"$f":"VLOOKUP(Tabelle1[[#This Row],[Budgetlinie]],Ausfüllhilfe!$A$1:$D$23,4,0)","v":{"$error":"#N/A"}}]
[{"$f":"INDEX(Tabelle2[[#All],[Budgetlinie]],MATCH(Tabelle1[[#This Row],[Maßnahme]],Ausfüllhilfe!$C$1:$C$22,0))","v":{"$error":"#N/A"}},null,null,null,null,null,null,null,null,{"$f":"VLOOKUP(Tabelle1[[#This Row],[Budgetlinie]],Ausfüllhilfe!$A$1:$D$23,4,0)","v":{"$error":"#N/A"}}]
[{"$f":"INDEX(Tabelle2[[#All],[Budgetlinie]],MATCH(Tabelle1[[#This Row],[Maßnahme]],Ausfüllhilfe!$C$1:$C$22,0))","v":{"$error":"#N/A"}},null,null,null,null,null,null,null,null,{"$f":"VLOOKUP(Tabelle1[[#This Row],[Budgetlinie]],Ausfüllhilfe!$A$1:$D$23,4,0)","v":{"$error":"#N/A"}}]
[{"$f":"INDEX(Tabelle2[[#All],[Budgetlinie]],MATCH(Tabelle1[[#This Row],[Maßnahme]],Ausfüllhilfe!$C$1:$C$22,0))","v":{"$error":"#N/A"}},null,null,null,null,null,null,null,null,{"$f":"VLOOKUP(Tabelle1[[#This Row],[Budgetlinie]],Ausfüllhilfe!$A$1:$D$23,4,0)","v":{"$error":"#N/A"}}]
[{"$f":"INDEX(Tabelle2[[#All],[Budgetlinie]],MATCH(Tabelle1[[#This Row],[Maßnahme]],Ausfüllhilfe!$C$1:$C$22,0))","v":{"$error":"#N/A"}},null,null,null,null,null,null,null,null,{"$f":"VLOOKUP(Tabelle1[[#This Row],[Budgetlinie]],Ausfüllhilfe!$A$1:$D$23,4,0)","v":{"$error":"#N/A"}}]
[{"$f":"INDEX(Tabelle2[[#All],[Budgetlinie]],MATCH(Tabelle1[[#This Row],[Maßnahme]],Ausfüllhilfe!$C$1:$C$22,0))","v":{"$error":"#N/A"}},null,null,null,null,null,null,null,null,{"$f":"VLOOKUP(Tabelle1[[#This Row],[Budgetlinie]],Ausfüllhilfe!$A$1:$D$23,4,0)","v":{"$error":"#N/A"}}]
[{"$f":"INDEX(Tabelle2[[#All],[Budgetlinie]],MATCH(Tabelle1[[#This Row],[Maßnahme]],Ausfüllhilfe!$C$1:$C$22,0))","v":{"$error":"#N/A"}},null,null,null,null,null,null,null,null,{"$f":"VLOOKUP(Tabelle1[[#This Row],[Budgetlinie]],Ausfüllhilfe!$A$1:$D$23,4,0)","v":{"$error":"#N/A"}}]
[{"$f":"INDEX(Tabelle2[[#All],[Budgetlinie]],MATCH(Tabelle1[[#This Row],[Maßnahme]],Ausfüllhilfe!$C$1:$C$22,0))","v":{"$error":"#N/A"}},null,null,null,null,null,null,null,null,{"$f":"VLOOKUP(Tabelle1[[#This Row],[Budgetlinie]],Ausfüllhilfe!$A$1:$D$23,4,0)","v":{"$error":"#N/A"}}]
[{"$f":"INDEX(Tabelle2[[#All],[Budgetlinie]],MATCH(Tabelle1[[#This Row],[Maßnahme]],Ausfüllhilfe!$C$1:$C$22,0))","v":{"$error":"#N/A"}},null,null,null,null,null,null,null,null,{"$f":"VLOOKUP(Tabelle1[[#This Row],[Budgetlinie]],Ausfüllhilfe!$A$1:$D$23,4,0)","v":{"$error":"#N/A"}}]
[{"$f":"INDEX(Tabelle2[[#All],[Budgetlinie]],MATCH(Tabelle1[[#This Row],[Maßnahme]],Ausfüllhilfe!$C$1:$C$22,0))","v":{"$error":"#N/A"}},null,null,null,null,null,null,null,null,{"$f":"VLOOKUP(Tabelle1[[#This Row],[Budgetlinie]],Ausfüllhilfe!$A$1:$D$23,4,0)","v":{"$error":"#N/A"}}]
[{"$f":"INDEX(Tabelle2[[#All],[Budgetlinie]],MATCH(Tabelle1[[#This Row],[Maßnahme]],Ausfüllhilfe!$C$1:$C$22,0))","v":{"$error":"#N/A"}},null,null,null,null,null,null,null,null,{"$f":"VLOOKUP(Tabelle1[[#This Row],[Budgetlinie]],Ausfüllhilfe!$A$1:$D$23,4,0)","v":{"$error":"#N/A"}}]
[{"$f":"INDEX(Tabelle2[[#All],[Budgetlinie]],MATCH(Tabelle1[[#This Row],[Maßnahme]],Ausfüllhilfe!$C$1:$C$22,0))","v":{"$error":"#N/A"}},null,null,null,null,null,null,null,null,{"$f":"VLOOKUP(Tabelle1[[#This Row],[Budgetlinie]],Ausfüllhilfe!$A$1:$D$23,4,0)","v":{"$error":"#N/A"}}]
[{"$f":"INDEX(Tabelle2[[#All],[Budgetlinie]],MATCH(Tabelle1[[#This Row],[Maßnahme]],Ausfüllhilfe!$C$1:$C$22,0))","v":{"$error":"#N/A"}},null,null,null,null,null,null,null,null,{"$f":"VLOOKUP(Tabelle1[[#This Row],[Budgetlinie]],Ausfüllhilfe!$A$1:$D$23,4,0)","v":{"$error":"#N/A"}}]
[{"$f":"INDEX(Tabelle2[[#All],[Budgetlinie]],MATCH(Tabelle1[[#This Row],[Maßnahme]],Ausfüllhilfe!$C$1:$C$22,0))","v":{"$error":"#N/A"}},null,null,null,null,null,null,null,null,{"$f":"VLOOKUP(Tabelle1[[#This Row],[Budgetlinie]],Ausfüllhilfe!$A$1:$D$23,4,0)","v":{"$error":"#N/A"}}]
[{"$f":"INDEX(Tabelle2[[#All],[Budgetlinie]],MATCH(Tabelle1[[#This Row],[Maßnahme]],Ausfüllhilfe!$C$1:$C$22,0))","v":{"$error":"#N/A"}},null,null,null,null,null,null,null,null,{"$f":"VLOOKUP(Tabelle1[[#This Row],[Budgetlinie]],Ausfüllhilfe!$A$1:$D$23,4,0)","v":{"$error":"#N/A"}}]
[{"$f":"INDEX(Tabelle2[[#All],[Budgetlinie]],MATCH(Tabelle1[[#This Row],[Maßnahme]],Ausfüllhilfe!$C$1:$C$22,0))","v":{"$error":"#N/A"}},null,null,null,null,null,null,null,null,{"$f":"VLOOKUP(Tabelle1[[#This Row],[Budgetlinie]],Ausfüllhilfe!$A$1:$D$23,4,0)","v":{"$error":"#N/A"}}]
[{"$f":"INDEX(Tabelle2[[#All],[Budgetlinie]],MATCH(Tabelle1[[#This Row],[Maßnahme]],Ausfüllhilfe!$C$1:$C$22,0))","v":{"$error":"#N/A"}},null,null,null,null,null,null,null,null,{"$f":"VLOOKUP(Tabelle1[[#This Row],[Budgetlinie]],Ausfüllhilfe!$A$1:$D$23,4,0)","v":{"$error":"#N/A"}}]
[{"$f":"INDEX(Tabelle2[[#All],[Budgetlinie]],MATCH(Tabelle1[[#This Row],[Maßnahme]],Ausfüllhilfe!$C$1:$C$22,0))","v":{"$error":"#N/A"}},null,null,null,null,null,null,null,null,{"$f":"VLOOKUP(Tabelle1[[#This Row],[Budgetlinie]],Ausfüllhilfe!$A$1:$D$23,4,0)","v":{"$error":"#N/A"}}]
[{"$f":"INDEX(Tabelle2[[#All],[Budgetlinie]],MATCH(Tabelle1[[#This Row],[Maßnahme]],Ausfüllhilfe!$C$1:$C$22,0))","v":{"$error":"#N/A"}},null,null,null,null,null,null,null,null,{"$f":"VLOOKUP(Tabelle1[[#This Row],[Budgetlinie]],Ausfüllhilfe!$A$1:$D$23,4,0)","v":{"$error":"#N/A"}}]
[{"$f":"INDEX(Tabelle2[[#All],[Budgetlinie]],MATCH(Tabelle1[[#This Row],[Maßnahme]],Ausfüllhilfe!$C$1:$C$22,0))","v":{"$error":"#N/A"}},null,null,null,null,null,null,null,null,{"$f":"VLOOKUP(Tabelle1[[#This Row],[Budgetlinie]],Ausfüllhilfe!$A$1:$D$23,4,0)","v":{"$error":"#N/A"}}]
[{"$f":"INDEX(Tabelle2[[#All],[Budgetlinie]],MATCH(Tabelle1[[#This Row],[Maßnahme]],Ausfüllhilfe!$C$1:$C$22,0))","v":{"$error":"#N/A"}},null,null,null,null,null,null,null,null,{"$f":"VLOOKUP(Tabelle1[[#This Row],[Budgetlinie]],Ausfüllhilfe!$A$1:$D$23,4,0)","v":{"$error":"#N/A"}}]
[{"$f":"INDEX(Tabelle2[[#All],[Budgetlinie]],MATCH(Tabelle1[[#This Row],[Maßnahme]],Ausfüllhilfe!$C$1:$C$22,0))","v":{"$error":"#N/A"}},null,null,null,null,null,null,null,null,{"$f":"VLOOKUP(Tabelle1[[#This Row],[Budgetlinie]],Ausfüllhilfe!$A$1:$D$23,4,0)","v":{"$error":"#N/A"}}]
[{"$f":"INDEX(Tabelle2[[#All],[Budgetlinie]],MATCH(Tabelle1[[#This Row],[Maßnahme]],Ausfüllhilfe!$C$1:$C$22,0))","v":{"$error":"#N/A"}},null,null,null,null,null,null,null,null,{"$f":"VLOOKUP(Tabelle1[[#This Row],[Budgetlinie]],Ausfüllhilfe!$A$1:$D$23,4,0)","v":{"$error":"#N/A"}}]
[{"$f":"INDEX(Tabelle2[[#All],[Budgetlinie]],MATCH(Tabelle1[[#This Row],[Maßnahme]],Ausfüllhilfe!$C$1:$C$22,0))","v":{"$error":"#N/A"}},null,null,null,null,null,null,null,null,{"$f":"VLOOKUP(Tabelle1[[#This Row],[Budgetlinie]],Ausfüllhilfe!$A$1:$D$23,4,0)","v":{"$error":"#N/A"}}]
[{"$f":"INDEX(Tabelle2[[#All],[Budgetlinie]],MATCH(Tabelle1[[#This Row],[Maßnahme]],Ausfüllhilfe!$C$1:$C$22,0))","v":{"$error":"#N/A"}},null,null,null,null,null,null,null,null,{"$f":"VLOOKUP(Tabelle1[[#This Row],[Budgetlinie]],Ausfüllhilfe!$A$1:$D$23,4,0)","v":{"$error":"#N/A"}}]
[{"$f":"INDEX(Tabelle2[[#All],[Budgetlinie]],MATCH(Tabelle1[[#This Row],[Maßnahme]],Ausfüllhilfe!$C$1:$C$22,0))","v":{"$error":"#N/A"}},null,null,null,null,null,null,null,null,{"$f":"VLOOKUP(Tabelle1[[#This Row],[Budgetlinie]],Ausfüllhilfe!$A$1:$D$23,4,0)","v":{"$error":"#N/A"}}]
[{"$f":"INDEX(Tabelle2[[#All],[Budgetlinie]],MATCH(Tabelle1[[#This Row],[Maßnahme]],Ausfüllhilfe!$C$1:$C$22,0))","v":{"$error":"#N/A"}},null,null,null,null,null,null,null,null,{"$f":"VLOOKUP(Tabelle1[[#This Row],[Budgetlinie]],Ausfüllhilfe!$A$1:$D$23,4,0)","v":{"$error":"#N/A"}}]
[{"$f":"INDEX(Tabelle2[[#All],[Budgetlinie]],MATCH(Tabelle1[[#This Row],[Maßnahme]],Ausfüllhilfe!$C$1:$C$22,0))","v":{"$error":"#N/A"}},null,null,null,null,null,null,null,null,{"$f":"VLOOKUP(Tabelle1[[#This Row],[Budgetlinie]],Ausfüllhilfe!$A$1:$D$23,4,0)","v":{"$error":"#N/A"}}]
[{"$f":"INDEX(Tabelle2[[#All],[Budgetlinie]],MATCH(Tabelle1[[#This Row],[Maßnahme]],Ausfüllhilfe!$C$1:$C$22,0))","v":{"$error":"#N/A"}},null,null,null,null,null,null,null,null,{"$f":"VLOOKUP(Tabelle1[[#This Row],[Budgetlinie]],Ausfüllhilfe!$A$1:$D$23,4,0)","v":{"$error":"#N/A"}}]
[{"$f":"INDEX(Tabelle2[[#All],[Budgetlinie]],MATCH(Tabelle1[[#This Row],[Maßnahme]],Ausfüllhilfe!$C$1:$C$22,0))","v":{"$error":"#N/A"}},null,null,null,null,null,null,null,null,{"$f":"VLOOKUP(Tabelle1[[#This Row],[Budgetlinie]],Ausfüllhilfe!$A$1:$D$23,4,0)","v":{"$error":"#N/A"}}]
[{"$f":"INDEX(Tabelle2[[#All],[Budgetlinie]],MATCH(Tabelle1[[#This Row],[Maßnahme]],Ausfüllhilfe!$C$1:$C$22,0))","v":{"$error":"#N/A"}},null,null,null,null,null,null,null,null,{"$f":"VLOOKUP(Tabelle1[[#This Row],[Budgetlinie]],Ausfüllhilfe!$A$1:$D$23,4,0)","v":{"$error":"#N/A"}}]
[{"$f":"INDEX(Tabelle2[[#All],[Budgetlinie]],MATCH(Tabelle1[[#This Row],[Maßnahme]],Ausfüllhilfe!$C$1:$C$22,0))","v":{"$error":"#N/A"}},null,null,null,null,null,null,null,null,{"$f":"VLOOKUP(Tabelle1[[#This Row],[Budgetlinie]],Ausfüllhilfe!$A$1:$D$23,4,0)","v":{"$error":"#N/A"}}]
[{"$f":"INDEX(Tabelle2[[#All],[Budgetlinie]],MATCH(Tabelle1[[#This Row],[Maßnahme]],Ausfüllhilfe!$C$1:$C$22,0))","v":{"$error":"#N/A"}},null,null,null,null,null,null,null,null,{"$f":"VLOOKUP(Tabelle1[[#This Row],[Budgetlinie]],Ausfüllhilfe!$A$1:$D$23,4,0)","v":{"$error":"#N/A"}}]
[{"$f":"INDEX(Tabelle2[[#All],[Budgetlinie]],MATCH(Tabelle1[[#This Row],[Maßnahme]],Ausfüllhilfe!$C$1:$C$22,0))","v":{"$error":"#N/A"}},null,null,null,null,null,null,null,null,{"$f":"VLOOKUP(Tabelle1[[#This Row],[Budgetlinie]],Ausfüllhilfe!$A$1:$D$23,4,0)","v":{"$error":"#N/A"}}]
[{"$f":"INDEX(Tabelle2[[#All],[Budgetlinie]],MATCH(Tabelle1[[#This Row],[Maßnahme]],Ausfüllhilfe!$C$1:$C$22,0))","v":{"$error":"#N/A"}},null,null,null,null,null,null,null,null,{"$f":"VLOOKUP(Tabelle1[[#This Row],[Budgetlinie]],Ausfüllhilfe!$A$1:$D$23,4,0)","v":{"$error":"#N/A"}}]
[{"$f":"INDEX(Tabelle2[[#All],[Budgetlinie]],MATCH(Tabelle1[[#This Row],[Maßnahme]],Ausfüllhilfe!$C$1:$C$22,0))","v":{"$error":"#N/A"}},null,null,null,null,null,null,null,null,{"$f":"VLOOKUP(Tabelle1[[#This Row],[Budgetlinie]],Ausfüllhilfe!$A$1:$D$23,4,0)","v":{"$error":"#N/A"}}]
[{"$f":"INDEX(Tabelle2[[#All],[Budgetlinie]],MATCH(Tabelle1[[#This Row],[Maßnahme]],Ausfüllhilfe!$C$1:$C$22,0))","v":{"$error":"#N/A"}},null,null,null,null,null,null,null,null,{"$f":"VLOOKUP(Tabelle1[[#This Row],[Budgetlinie]],Ausfüllhilfe!$A$1:$D$23,4,0)","v":{"$error":"#N/A"}}]
[{"$f":"INDEX(Tabelle2[[#All],[Budgetlinie]],MATCH(Tabelle1[[#This Row],[Maßnahme]],Ausfüllhilfe!$C$1:$C$22,0))","v":{"$error":"#N/A"}},null,null,null,null,null,null,null,null,{"$f":"VLOOKUP(Tabelle1[[#This Row],[Budgetlinie]],Ausfüllhilfe!$A$1:$D$23,4,0)","v":{"$error":"#N/A"}}]
[{"$f":"INDEX(Tabelle2[[#All],[Budgetlinie]],MATCH(Tabelle1[[#This Row],[Maßnahme]],Ausfüllhilfe!$C$1:$C$22,0))","v":{"$error":"#N/A"}},null,null,null,null,null,null,null,null,{"$f":"VLOOKUP(Tabelle1[[#This Row],[Budgetlinie]],Ausfüllhilfe!$A$1:$D$23,4,0)","v":{"$error":"#N/A"}}]
[{"$f":"INDEX(Tabelle2[[#All],[Budgetlinie]],MATCH(Tabelle1[[#This Row],[Maßnahme]],Ausfüllhilfe!$C$1:$C$22,0))","v":{"$error":"#N/A"}},null,null,null,null,null,null,null,null,{"$f":"VLOOKUP(Tabelle1[[#This Row],[Budgetlinie]],Ausfüllhilfe!$A$1:$D$23,4,0)","v":{"$error":"#N/A"}}]
[{"$f":"INDEX(Tabelle2[[#All],[Budgetlinie]],MATCH(Tabelle1[[#This Row],[Maßnahme]],Ausfüllhilfe!$C$1:$C$22,0))","v":{"$error":"#N/A"}},null,null,null,null,null,null,null,null,{"$f":"VLOOKUP(Tabelle1[[#This Row],[Budgetlinie]],Ausfüllhilfe!$A$1:$D$23,4,0)","v":{"$error":"#N/A"}}]
[{"$f":"INDEX(Tabelle2[[#All],[Budgetlinie]],MATCH(Tabelle1[[#This Row],[Maßnahme]],Ausfüllhilfe!$C$1:$C$22,0))","v":{"$error":"#N/A"}},null,null,null,null,null,null,null,null,{"$f":"VLOOKUP(Tabelle1[[#This Row],[Budgetlinie]],Ausfüllhilfe!$A$1:$D$23,4,0)","v":{"$error":"#N/A"}}]
[{"$f":"INDEX(Tabelle2[[#All],[Budgetlinie]],MATCH(Tabelle1[[#This Row],[Maßnahme]],Ausfüllhilfe!$C$1:$C$22,0))","v":{"$error":"#N/A"}},null,null,null,null,null,null,null,null,{"$f":"VLOOKUP(Tabelle1[[#This Row],[Budgetlinie]],Ausfüllhilfe!$A$1:$D$23,4,0)","v":{"$error":"#N/A"}}]
[{"$f":"INDEX(Tabelle2[[#All],[Budgetlinie]],MATCH(Tabelle1[[#This Row],[Maßnahme]],Ausfüllhilfe!$C$1:$C$22,0))","v":{"$error":"#N/A"}},null,null,null,null,null,null,null,null,{"$f":"VLOOKUP(Tabelle1[[#This Row],[Budgetlinie]],Ausfüllhilfe!$A$1:$D$23,4,0)","v":{"$error":"#N/A"}}]
[{"$f":"INDEX(Tabelle2[[#All],[Budgetlinie]],MATCH(Tabelle1[[#This Row],[Maßnahme]],Ausfüllhilfe!$C$1:$C$22,0))","v":{"$error":"#N/A"}},null,null,null,null,null,null,null,null,{"$f":"VLOOKUP(Tabelle1[[#This Row],[Budgetlinie]],Ausfüllhilfe!$A$1:$D$23,4,0)","v":{"$error":"#N/A"}}]
[{"$f":"INDEX(Tabelle2[[#All],[Budgetlinie]],MATCH(Tabelle1[[#This Row],[Maßnahme]],Ausfüllhilfe!$C$1:$C$22,0))","v":{"$error":"#N/A"}},null,null,null,null,null,null,null,null,{"$f":"VLOOKUP(Tabelle1[[#This Row],[Budgetlinie]],Ausfüllhilfe!$A$1:$D$23,4,0)","v":{"$error":"#N/A"}}]
[{"$f":"INDEX(Tabelle2[[#All],[Budgetlinie]],MATCH(Tabelle1[[#This Row],[Maßnahme]],Ausfüllhilfe!$C$1:$C$22,0))","v":{"$error":"#N/A"}},null,null,null,null,null,null,null,null,{"$f":"VLOOKUP(Tabelle1[[#This Row],[Budgetlinie]],Ausfüllhilfe!$A$1:$D$23,4,0)","v":{"$error":"#N/A"}}]
[{"$f":"INDEX(Tabelle2[[#All],[Budgetlinie]],MATCH(Tabelle1[[#This Row],[Maßnahme]],Ausfüllhilfe!$C$1:$C$22,0))","v":{"$error":"#N/A"}},null,null,null,null,null,null,null,null,{"$f":"VLOOKUP(Tabelle1[[#This Row],[Budgetlinie]],Ausfüllhilfe!$A$1:$D$23,4,0)","v":{"$error":"#N/A"}}]
[{"$f":"INDEX(Tabelle2[[#All],[Budgetlinie]],MATCH(Tabelle1[[#This Row],[Maßnahme]],Ausfüllhilfe!$C$1:$C$22,0))","v":{"$error":"#N/A"}},null,null,null,null,null,null,null,null,{"$f":"VLOOKUP(Tabelle1[[#This Row],[Budgetlinie]],Ausfüllhilfe!$A$1:$D$23,4,0)","v":{"$error":"#N/A"}}]
[{"$f":"INDEX(Tabelle2[[#All],[Budgetlinie]],MATCH(Tabelle1[[#This Row],[Maßnahme]],Ausfüllhilfe!$C$1:$C$22,0))","v":{"$error":"#N/A"}},null,null,null,null,null,null,null,null,{"$f":"VLOOKUP(Tabelle1[[#This Row],[Budgetlinie]],Ausfüllhilfe!$A$1:$D$23,4,0)","v":{"$error":"#N/A"}}]
[{"$f":"INDEX(Tabelle2[[#All],[Budgetlinie]],MATCH(Tabelle1[[#This Row],[Maßnahme]],Ausfüllhilfe!$C$1:$C$22,0))","v":{"$error":"#N/A"}},null,null,null,null,null,null,null,null,{"$f":"VLOOKUP(Tabelle1[[#This Row],[Budgetlinie]],Ausfüllhilfe!$A$1:$D$23,4,0)","v":{"$error":"#N/A"}}]
[{"$f":"INDEX(Tabelle2[[#All],[Budgetlinie]],MATCH(Tabelle1[[#This Row],[Maßnahme]],Ausfüllhilfe!$C$1:$C$22,0))","v":{"$error":"#N/A"}},null,null,null,null,null,null,null,null,{"$f":"VLOOKUP(Tabelle1[[#This Row],[Budgetlinie]],Ausfüllhilfe!$A$1:$D$23,4,0)","v":{"$error":"#N/A"}}]
[{"$f":"INDEX(Tabelle2[[#All],[Budgetlinie]],MATCH(Tabelle1[[#This Row],[Maßnahme]],Ausfüllhilfe!$C$1:$C$22,0))","v":{"$error":"#N/A"}},null,null,null,null,null,null,null,null,{"$f":"VLOOKUP(Tabelle1[[#This Row],[Budgetlinie]],Ausfüllhilfe!$A$1:$D$23,4,0)","v":{"$error":"#N/A"}}]
[{"$f":"INDEX(Tabelle2[[#All],[Budgetlinie]],MATCH(Tabelle1[[#This Row],[Maßnahme]],Ausfüllhilfe!$C$1:$C$22,0))","v":{"$error":"#N/A"}},null,null,null,null,null,null,null,null,{"$f":"VLOOKUP(Tabelle1[[#This Row],[Budgetlinie]],Ausfüllhilfe!$A$1:$D$23,4,0)","v":{"$error":"#N/A"}}]
[{"$f":"INDEX(Tabelle2[[#All],[Budgetlinie]],MATCH(Tabelle1[[#This Row],[Maßnahme]],Ausfüllhilfe!$C$1:$C$22,0))","v":{"$error":"#N/A"}},null,null,null,null,null,null,null,null,{"$f":"VLOOKUP(Tabelle1[[#This Row],[Budgetlinie]],Ausfüllhilfe!$A$1:$D$23,4,0)","v":{"$error":"#N/A"}}]
[{"$f":"INDEX(Tabelle2[[#All],[Budgetlinie]],MATCH(Tabelle1[[#This Row],[Maßnahme]],Ausfüllhilfe!$C$1:$C$22,0))","v":{"$error":"#N/A"}},null,null,null,null,null,null,null,null,{"$f":"VLOOKUP(Tabelle1[[#This Row],[Budgetlinie]],Ausfüllhilfe!$A$1:$D$23,4,0)","v":{"$error":"#N/A"}}]
[{"$f":"INDEX(Tabelle2[[#All],[Budgetlinie]],MATCH(Tabelle1[[#This Row],[Maßnahme]],Ausfüllhilfe!$C$1:$C$22,0))","v":{"$error":"#N/A"}},null,null,null,null,null,null,null,null,{"$f":"VLOOKUP(Tabelle1[[#This Row],[Budgetlinie]],Ausfüllhilfe!$A$1:$D$23,4,0)","v":{"$error":"#N/A"}}]
[{"$f":"INDEX(Tabelle2[[#All],[Budgetlinie]],MATCH(Tabelle1[[#This Row],[Maßnahme]],Ausfüllhilfe!$C$1:$C$22,0))","v":{"$error":"#N/A"}},null,null,null,null,null,null,null,null,{"$f":"VLOOKUP(Tabelle1[[#This Row],[Budgetlinie]],Ausfüllhilfe!$A$1:$D$23,4,0)","v":{"$error":"#N/A"}}]
[{"$f":"INDEX(Tabelle2[[#All],[Budgetlinie]],MATCH(Tabelle1[[#This Row],[Maßnahme]],Ausfüllhilfe!$C$1:$C$22,0))","v":{"$error":"#N/A"}},null,null,null,null,null,null,null,null,{"$f":"VLOOKUP(Tabelle1[[#This Row],[Budgetlinie]],Ausfüllhilfe!$A$1:$D$23,4,0)","v":{"$error":"#N/A"}}]
[{"$f":"INDEX(Tabelle2[[#All],[Budgetlinie]],MATCH(Tabelle1[[#This Row],[Maßnahme]],Ausfüllhilfe!$C$1:$C$22,0))","v":{"$error":"#N/A"}},null,null,null,null,null,null,null,null,{"$f":"VLOOKUP(Tabelle1[[#This Row],[Budgetlinie]],Ausfüllhilfe!$A$1:$D$23,4,0)","v":{"$error":"#N/A"}}]
[{"$f":"INDEX(Tabelle2[[#All],[Budgetlinie]],MATCH(Tabelle1[[#This Row],[Maßnahme]],Ausfüllhilfe!$C$1:$C$22,0))","v":{"$error":"#N/A"}},null,null,null,null,null,null,null,null,{"$f":"VLOOKUP(Tabelle1[[#This Row],[Budgetlinie]],Ausfüllhilfe!$A$1:$D$23,4,0)","v":{"$error":"#N/A"}}]
[{"$f":"INDEX(Tabelle2[[#All],[Budgetlinie]],MATCH(Tabelle1[[#This Row],[Maßnahme]],Ausfüllhilfe!$C$1:$C$22,0))","v":{"$error":"#N/A"}},null,null,null,null,null,null,null,null,{"$f":"VLOOKUP(Tabelle1[[#This Row],[Budgetlinie]],Ausfüllhilfe!$A$1:$D$23,4,0)","v":{"$error":"#N/A"}}]
[{"$f":"INDEX(Tabelle2[[#All],[Budgetlinie]],MATCH(Tabelle1[[#This Row],[Maßnahme]],Ausfüllhilfe!$C$1:$C$22,0))","v":{"$error":"#N/A"}},null,null,null,null,null,null,null,null,{"$f":"VLOOKUP(Tabelle1[[#This Row],[Budgetlinie]],Ausfüllhilfe!$A$1:$D$23,4,0)","v":{"$error":"#N/A"}}]
[{"$f":"INDEX(Tabelle2[[#All],[Budgetlinie]],MATCH(Tabelle1[[#This Row],[Maßnahme]],Ausfüllhilfe!$C$1:$C$22,0))","v":{"$error":"#N/A"}},null,null,null,null,null,null,null,null,{"$f":"VLOOKUP(Tabelle1[[#This Row],[Budgetlinie]],Ausfüllhilfe!$A$1:$D$23,4,0)","v":{"$error":"#N/A"}}]
[{"$f":"INDEX(Tabelle2[[#All],[Budgetlinie]],MATCH(Tabelle1[[#This Row],[Maßnahme]],Ausfüllhilfe!$C$1:$C$22,0))","v":{"$error":"#N/A"}},null,null,null,null,null,null,null,null,{"$f":"VLOOKUP(Tabelle1[[#This Row],[Budgetlinie]],Ausfüllhilfe!$A$1:$D$23,4,0)","v":{"$error":"#N/A"}}]
[{"$f":"INDEX(Tabelle2[[#All],[Budgetlinie]],MATCH(Tabelle1[[#This Row],[Maßnahme]],Ausfüllhilfe!$C$1:$C$22,0))","v":{"$error":"#N/A"}},null,null,null,null,null,null,null,null,{"$f":"VLOOKUP(Tabelle1[[#This Row],[Budgetlinie]],Ausfüllhilfe!$A$1:$D$23,4,0)","v":{"$error":"#N/A"}}]
[{"$f":"INDEX(Tabelle2[[#All],[Budgetlinie]],MATCH(Tabelle1[[#This Row],[Maßnahme]],Ausfüllhilfe!$C$1:$C$22,0))","v":{"$error":"#N/A"}},null,null,null,null,null,null,null,null,{"$f":"VLOOKUP(Tabelle1[[#This Row],[Budgetlinie]],Ausfüllhilfe!$A$1:$D$23,4,0)","v":{"$error":"#N/A"}}]
[{"$f":"INDEX(Tabelle2[[#All],[Budgetlinie]],MATCH(Tabelle1[[#This Row],[Maßnahme]],Ausfüllhilfe!$C$1:$C$22,0))","v":{"$error":"#N/A"}},null,null,null,null,null,null,null,null,{"$f":"VLOOKUP(Tabelle1[[#This Row],[Budgetlinie]],Ausfüllhilfe!$A$1:$D$23,4,0)","v":{"$error":"#N/A"}}]
[{"$f":"INDEX(Tabelle2[[#All],[Budgetlinie]],MATCH(Tabelle1[[#This Row],[Maßnahme]],Ausfüllhilfe!$C$1:$C$22,0))","v":{"$error":"#N/A"}},null,null,null,null,null,null,null,null,{"$f":"VLOOKUP(Tabelle1[[#This Row],[Budgetlinie]],Ausfüllhilfe!$A$1:$D$23,4,0)","v":{"$error":"#N/A"}}]
[{"$f":"INDEX(Tabelle2[[#All],[Budgetlinie]],MATCH(Tabelle1[[#This Row],[Maßnahme]],Ausfüllhilfe!$C$1:$C$22,0))","v":{"$error":"#N/A"}},null,null,null,null,null,null,null,null,{"$f":"VLOOKUP(Tabelle1[[#This Row],[Budgetlinie]],Ausfüllhilfe!$A$1:$D$23,4,0)","v":{"$error":"#N/A"}}]
[{"$f":"INDEX(Tabelle2[[#All],[Budgetlinie]],MATCH(Tabelle1[[#This Row],[Maßnahme]],Ausfüllhilfe!$C$1:$C$22,0))","v":{"$error":"#N/A"}},null,null,null,null,null,null,null,null,{"$f":"VLOOKUP(Tabelle1[[#This Row],[Budgetlinie]],Ausfüllhilfe!$A$1:$D$23,4,0)","v":{"$error":"#N/A"}}]
[{"$f":"INDEX(Tabelle2[[#All],[Budgetlinie]],MATCH(Tabelle1[[#This Row],[Maßnahme]],Ausfüllhilfe!$C$1:$C$22,0))","v":{"$error":"#N/A"}},null,null,null,null,null,null,null,null,{"$f":"VLOOKUP(Tabelle1[[#This Row],[Budgetlinie]],Ausfüllhilfe!$A$1:$D$23,4,0)","v":{"$error":"#N/A"}}]
[{"$f":"INDEX(Tabelle2[[#All],[Budgetlinie]],MATCH(Tabelle1[[#This Row],[Maßnahme]],Ausfüllhilfe!$C$1:$C$22,0))","v":{"$error":"#N/A"}},null,null,null,null,null,null,null,null,{"$f":"VLOOKUP(Tabelle1[[#This Row],[Budgetlinie]],Ausfüllhilfe!$A$1:$D$23,4,0)","v":{"$error":"#N/A"}}]
[{"$f":"INDEX(Tabelle2[[#All],[Budgetlinie]],MATCH(Tabelle1[[#This Row],[Maßnahme]],Ausfüllhilfe!$C$1:$C$22,0))","v":{"$error":"#N/A"}},null,null,null,null,null,null,null,null,{"$f":"VLOOKUP(Tabelle1[[#This Row],[Budgetlinie]],Ausfüllhilfe!$A$1:$D$23,4,0)","v":{"$error":"#N/A"}}]
[{"$f":"INDEX(Tabelle2[[#All],[Budgetlinie]],MATCH(Tabelle1[[#This Row],[Maßnahme]],Ausfüllhilfe!$C$1:$C$22,0))","v":{"$error":"#N/A"}},null,null,null,null,null,null,null,null,{"$f":"VLOOKUP(Tabelle1[[#This Row],[Budgetlinie]],Ausfüllhilfe!$A$1:$D$23,4,0)","v":{"$error":"#N/A"}}]
[{"$f":"INDEX(Tabelle2[[#All],[Budgetlinie]],MATCH(Tabelle1[[#This Row],[Maßnahme]],Ausfüllhilfe!$C$1:$C$22,0))","v":{"$error":"#N/A"}},null,null,null,null,null,null,null,null,{"$f":"VLOOKUP(Tabelle1[[#This Row],[Budgetlinie]],Ausfüllhilfe!$A$1:$D$23,4,0)","v":{"$error":"#N/A"}}]
[{"$f":"INDEX(Tabelle2[[#All],[Budgetlinie]],MATCH(Tabelle1[[#This Row],[Maßnahme]],Ausfüllhilfe!$C$1:$C$22,0))","v":{"$error":"#N/A"}},null,null,null,null,null,null,null,null,{"$f":"VLOOKUP(Tabelle1[[#This Row],[Budgetlinie]],Ausfüllhilfe!$A$1:$D$23,4,0)","v":{"$error":"#N/A"}}]
[{"$f":"INDEX(Tabelle2[[#All],[Budgetlinie]],MATCH(Tabelle1[[#This Row],[Maßnahme]],Ausfüllhilfe!$C$1:$C$22,0))","v":{"$error":"#N/A"}},null,null,null,null,null,null,null,null,{"$f":"VLOOKUP(Tabelle1[[#This Row],[Budgetlinie]],Ausfüllhilfe!$A$1:$D$23,4,0)","v":{"$error":"#N/A"}}]
[{"$f":"INDEX(Tabelle2[[#All],[Budgetlinie]],MATCH(Tabelle1[[#This Row],[Maßnahme]],Ausfüllhilfe!$C$1:$C$22,0))","v":{"$error":"#N/A"}},null,null,null,null,null,null,null,null,{"$f":"VLOOKUP(Tabelle1[[#This Row],[Budgetlinie]],Ausfüllhilfe!$A$1:$D$23,4,0)","v":{"$error":"#N/A"}}]
[{"$f":"INDEX(Tabelle2[[#All],[Budgetlinie]],MATCH(Tabelle1[[#This Row],[Maßnahme]],Ausfüllhilfe!$C$1:$C$22,0))","v":{"$error":"#N/A"}},null,null,null,null,null,null,null,null,{"$f":"VLOOKUP(Tabelle1[[#This Row],[Budgetlinie]],Ausfüllhilfe!$A$1:$D$23,4,0)","v":{"$error":"#N/A"}}]
[{"$f":"INDEX(Tabelle2[[#All],[Budgetlinie]],MATCH(Tabelle1[[#This Row],[Maßnahme]],Ausfüllhilfe!$C$1:$C$22,0))","v":{"$error":"#N/A"}},null,null,null,null,null,null,null,null,{"$f":"VLOOKUP(Tabelle1[[#This Row],[Budgetlinie]],Ausfüllhilfe!$A$1:$D$23,4,0)","v":{"$error":"#N/A"}}]
[{"$f":"INDEX(Tabelle2[[#All],[Budgetlinie]],MATCH(Tabelle1[[#This Row],[Maßnahme]],Ausfüllhilfe!$C$1:$C$22,0))","v":{"$error":"#N/A"}},null,null,null,null,null,null,null,null,{"$f":"VLOOKUP(Tabelle1[[#This Row],[Budgetlinie]],Ausfüllhilfe!$A$1:$D$23,4,0)","v":{"$error":"#N/A"}}]
[{"$f":"INDEX(Tabelle2[[#All],[Budgetlinie]],MATCH(Tabelle1[[#This Row],[Maßnahme]],Ausfüllhilfe!$C$1:$C$22,0))","v":{"$error":"#N/A"}},null,null,null,null,null,null,null,null,{"$f":"VLOOKUP(Tabelle1[[#This Row],[Budgetlinie]],Ausfüllhilfe!$A$1:$D$23,4,0)","v":{"$error":"#N/A"}}]
[{"$f":"INDEX(Tabelle2[[#All],[Budgetlinie]],MATCH(Tabelle1[[#This Row],[Maßnahme]],Ausfüllhilfe!$C$1:$C$22,0))","v":{"$error":"#N/A"}},null,null,null,null,null,null,null,null,{"$f":"VLOOKUP(Tabelle1[[#This Row],[Budgetlinie]],Ausfüllhilfe!$A$1:$D$23,4,0)","v":{"$error":"#N/A"}}]
[{"$f":"INDEX(Tabelle2[[#All],[Budgetlinie]],MATCH(Tabelle1[[#This Row],[Maßnahme]],Ausfüllhilfe!$C$1:$C$22,0))","v":{"$error":"#N/A"}},null,null,null,null,null,null,null,null,{"$f":"VLOOKUP(Tabelle1[[#This Row],[Budgetlinie]],Ausfüllhilfe!$A$1:$D$23,4,0)","v":{"$error":"#N/A"}}]
[{"$f":"INDEX(Tabelle2[[#All],[Budgetlinie]],MATCH(Tabelle1[[#This Row],[Maßnahme]],Ausfüllhilfe!$C$1:$C$22,0))","v":{"$error":"#N/A"}},null,null,null,null,null,null,null,null,{"$f":"VLOOKUP(Tabelle1[[#This Row],[Budgetlinie]],Ausfüllhilfe!$A$1:$D$23,4,0)","v":{"$error":"#N/A"}}]
[{"$f":"INDEX(Tabelle2[[#All],[Budgetlinie]],MATCH(Tabelle1[[#This Row],[Maßnahme]],Ausfüllhilfe!$C$1:$C$22,0))","v":{"$error":"#N/A"}},null,null,null,null,null,null,null,null,{"$f":"VLOOKUP(Tabelle1[[#This Row],[Budgetlinie]],Ausfüllhilfe!$A$1:$D$23,4,0)","v":{"$error":"#N/A"}}]
[{"$f":"INDEX(Tabelle2[[#All],[Budgetlinie]],MATCH(Tabelle1[[#This Row],[Maßnahme]],Ausfüllhilfe!$C$1:$C$22,0))","v":{"$error":"#N/A"}},null,null,null,null,null,null,null,null,{"$f":"VLOOKUP(Tabelle1[[#This Row],[Budgetlinie]],Ausfüllhilfe!$A$1:$D$23,4,0)","v":{"$error":"#N/A"}}]
[{"$f":"INDEX(Tabelle2[[#All],[Budgetlinie]],MATCH(Tabelle1[[#This Row],[Maßnahme]],Ausfüllhilfe!$C$1:$C$22,0))","v":{"$error":"#N/A"}},null,null,null,null,null,null,null,null,{"$f":"VLOOKUP(Tabelle1[[#This Row],[Budgetlinie]],Ausfüllhilfe!$A$1:$D$23,4,0)","v":{"$error":"#N/A"}}]
[{"$f":"INDEX(Tabelle2[[#All],[Budgetlinie]],MATCH(Tabelle1[[#This Row],[Maßnahme]],Ausfüllhilfe!$C$1:$C$22,0))","v":{"$error":"#N/A"}},null,null,null,null,null,null,null,null,{"$f":"VLOOKUP(Tabelle1[[#This Row],[Budgetlinie]],Ausfüllhilfe!$A$1:$D$23,4,0)","v":{"$error":"#N/A"}}]
[{"$f":"INDEX(Tabelle2[[#All],[Budgetlinie]],MATCH(Tabelle1[[#This Row],[Maßnahme]],Ausfüllhilfe!$C$1:$C$22,0))","v":{"$error":"#N/A"}},null,null,null,null,null,null,null,null,{"$f":"VLOOKUP(Tabelle1[[#This Row],[Budgetlinie]],Ausfüllhilfe!$A$1:$D$23,4,0)","v":{"$error":"#N/A"}}]
[{"$f":"INDEX(Tabelle2[[#All],[Budgetlinie]],MATCH(Tabelle1[[#This Row],[Maßnahme]],Ausfüllhilfe!$C$1:$C$22,0))","v":{"$error":"#N/A"}},null,null,null,null,null,null,null,null,{"$f":"VLOOKUP(Tabelle1[[#This Row],[Budgetlinie]],Ausfüllhilfe!$A$1:$D$23,4,0)","v":{"$error":"#N/A"}}]
[{"$f":"INDEX(Tabelle2[[#All],[Budgetlinie]],MATCH(Tabelle1[[#This Row],[Maßnahme]],Ausfüllhilfe!$C$1:$C$22,0))","v":{"$error":"#N/A"}},null,null,null,null,null,null,null,null,{"$f":"VLOOKUP(Tabelle1[[#This Row],[Budgetlinie]],Ausfüllhilfe!$A$1:$D$23,4,0)","v":{"$error":"#N/A"}}]
[{"$f":"INDEX(Tabelle2[[#All],[Budgetlinie]],MATCH(Tabelle1[[#This Row],[Maßnahme]],Ausfüllhilfe!$C$1:$C$22,0))","v":{"$error":"#N/A"}},null,null,null,null,null,null,null,null,{"$f":"VLOOKUP(Tabelle1[[#This Row],[Budgetlinie]],Ausfüllhilfe!$A$1:$D$23,4,0)","v":{"$error":"#N/A"}}]
[{"$f":"INDEX(Tabelle2[[#All],[Budgetlinie]],MATCH(Tabelle1[[#This Row],[Maßnahme]],Ausfüllhilfe!$C$1:$C$22,0))","v":{"$error":"#N/A"}},null,null,null,null,null,null,null,null,{"$f":"VLOOKUP(Tabelle1[[#This Row],[Budgetlinie]],Ausfüllhilfe!$A$1:$D$23,4,0)","v":{"$error":"#N/A"}}]
[{"$f":"INDEX(Tabelle2[[#All],[Budgetlinie]],MATCH(Tabelle1[[#This Row],[Maßnahme]],Ausfüllhilfe!$C$1:$C$22,0))","v":{"$error":"#N/A"}},null,null,null,null,null,null,null,null,{"$f":"VLOOKUP(Tabelle1[[#This Row],[Budgetlinie]],Ausfüllhilfe!$A$1:$D$23,4,0)","v":{"$error":"#N/A"}}]
[{"$f":"INDEX(Tabelle2[[#All],[Budgetlinie]],MATCH(Tabelle1[[#This Row],[Maßnahme]],Ausfüllhilfe!$C$1:$C$22,0))","v":{"$error":"#N/A"}},null,null,null,null,null,null,null,null,{"$f":"VLOOKUP(Tabelle1[[#This Row],[Budgetlinie]],Ausfüllhilfe!$A$1:$D$23,4,0)","v":{"$error":"#N/A"}}]
[{"$f":"INDEX(Tabelle2[[#All],[Budgetlinie]],MATCH(Tabelle1[[#This Row],[Maßnahme]],Ausfüllhilfe!$C$1:$C$22,0))","v":{"$error":"#N/A"}},null,null,null,null,null,null,null,null,{"$f":"VLOOKUP(Tabelle1[[#This Row],[Budgetlinie]],Ausfüllhilfe!$A$1:$D$23,4,0)","v":{"$error":"#N/A"}}]
[{"$f":"INDEX(Tabelle2[[#All],[Budgetlinie]],MATCH(Tabelle1[[#This Row],[Maßnahme]],Ausfüllhilfe!$C$1:$C$22,0))","v":{"$error":"#N/A"}},null,null,null,null,null,null,null,null,{"$f":"VLOOKUP(Tabelle1[[#This Row],[Budgetlinie]],Ausfüllhilfe!$A$1:$D$23,4,0)","v":{"$error":"#N/A"}}]
[{"$f":"INDEX(Tabelle2[[#All],[Budgetlinie]],MATCH(Tabelle1[[#This Row],[Maßnahme]],Ausfüllhilfe!$C$1:$C$22,0))","v":{"$error":"#N/A"}},null,null,null,null,null,null,null,null,{"$f":"VLOOKUP(Tabelle1[[#This Row],[Budgetlinie]],Ausfüllhilfe!$A$1:$D$23,4,0)","v":{"$error":"#N/A"}}]
[{"$f":"INDEX(Tabelle2[[#All],[Budgetlinie]],MATCH(Tabelle1[[#This Row],[Maßnahme]],Ausfüllhilfe!$C$1:$C$22,0))","v":{"$error":"#N/A"}},null,null,null,null,null,null,null,null,{"$f":"VLOOKUP(Tabelle1[[#This Row],[Budgetlinie]],Ausfüllhilfe!$A$1:$D$23,4,0)","v":{"$error":"#N/A"}}]
[{"$f":"INDEX(Tabelle2[[#All],[Budgetlinie]],MATCH(Tabelle1[[#This Row],[Maßnahme]],Ausfüllhilfe!$C$1:$C$22,0))","v":{"$error":"#N/A"}},null,null,null,null,null,null,null,null,{"$f":"VLOOKUP(Tabelle1[[#This Row],[Budgetlinie]],Ausfüllhilfe!$A$1:$D$23,4,0)","v":{"$error":"#N/A"}}]
[{"$f":"INDEX(Tabelle2[[#All],[Budgetlinie]],MATCH(Tabelle1[[#This Row],[Maßnahme]],Ausfüllhilfe!$C$1:$C$22,0))","v":{"$error":"#N/A"}},null,null,null,null,null,null,null,null,{"$f":"VLOOKUP(Tabelle1[[#This Row],[Budgetlinie]],Ausfüllhilfe!$A$1:$D$23,4,0)","v":{"$error":"#N/A"}}]
[{"$f":"INDEX(Tabelle2[[#All],[Budgetlinie]],MATCH(Tabelle1[[#This Row],[Maßnahme]],Ausfüllhilfe!$C$1:$C$22,0))","v":{"$error":"#N/A"}},null,null,null,null,null,null,null,null,{"$f":"VLOOKUP(Tabelle1[[#This Row],[Budgetlinie]],Ausfüllhilfe!$A$1:$D$23,4,0)","v":{"$error":"#N/A"}}]
[{"$f":"INDEX(Tabelle2[[#All],[Budgetlinie]],MATCH(Tabelle1[[#This Row],[Maßnahme]],Ausfüllhilfe!$C$1:$C$22,0))","v":{"$error":"#N/A"}},null,null,null,null,null,null,null,null,{"$f":"VLOOKUP(Tabelle1[[#This Row],[Budgetlinie]],Ausfüllhilfe!$A$1:$D$23,4,0)","v":{"$error":"#N/A"}}]
[{"$f":"INDEX(Tabelle2[[#All],[Budgetlinie]],MATCH(Tabelle1[[#This Row],[Maßnahme]],Ausfüllhilfe!$C$1:$C$22,0))","v":{"$error":"#N/A"}},null,null,null,null,null,null,null,null,{"$f":"VLOOKUP(Tabelle1[[#This Row],[Budgetlinie]],Ausfüllhilfe!$A$1:$D$23,4,0)","v":{"$error":"#N/A"}}]
[{"$f":"INDEX(Tabelle2[[#All],[Budgetlinie]],MATCH(Tabelle1[[#This Row],[Maßnahme]],Ausfüllhilfe!$C$1:$C$22,0))","v":{"$error":"#N/A"}},null,null,null,null,null,null,null,null,{"$f":"VLOOKUP(Tabelle1[[#This Row],[Budgetlinie]],Ausfüllhilfe!$A$1:$D$23,4,0)","v":{"$error":"#N/A"}}]
[{"$f":"INDEX(Tabelle2[[#All],[Budgetlinie]],MATCH(Tabelle1[[#This Row],[Maßnahme]],Ausfüllhilfe!$C$1:$C$22,0))","v":{"$error":"#N/A"}},null,null,null,null,null,null,null,null,{"$f":"VLOOKUP(Tabelle1[[#This Row],[Budgetlinie]],Ausfüllhilfe!$A$1:$D$23,4,0)","v":{"$error":"#N/A"}}]
[{"$f":"INDEX(Tabelle2[[#All],[Budgetlinie]],MATCH(Tabelle1[[#This Row],[Maßnahme]],Ausfüllhilfe!$C$1:$C$22,0))","v":{"$error":"#N/A"}},null,null,null,null,null,null,null,null,{"$f":"VLOOKUP(Tabelle1[[#This Row],[Budgetlinie]],Ausfüllhilfe!$A$1:$D$23,4,0)","v":{"$error":"#N/A"}}]
[{"$f":"INDEX(Tabelle2[[#All],[Budgetlinie]],MATCH(Tabelle1[[#This Row],[Maßnahme]],Ausfüllhilfe!$C$1:$C$22,0))","v":{"$error":"#N/A"}},null,null,null,null,null,null,null,null,{"$f":"VLOOKUP(Tabelle1[[#This Row],[Budgetlinie]],Ausfüllhilfe!$A$1:$D$23,4,0)","v":{"$error":"#N/A"}}]
[{"$f":"INDEX(Tabelle2[[#All],[Budgetlinie]],MATCH(Tabelle1[[#This Row],[Maßnahme]],Ausfüllhilfe!$C$1:$C$22,0))","v":{"$error":"#N/A"}},null,null,null,null,null,null,null,null,{"$f":"VLOOKUP(Tabelle1[[#This Row],[Budgetlinie]],Ausfüllhilfe!$A$1:$D$23,4,0)","v":{"$error":"#N/A"}}]
[{"$f":"INDEX(Tabelle2[[#All],[Budgetlinie]],MATCH(Tabelle1[[#This Row],[Maßnahme]],Ausfüllhilfe!$C$1:$C$22,0))","v":{"$error":"#N/A"}},null,null,null,null,null,null,null,null,{"$f":"VLOOKUP(Tabelle1[[#This Row],[Budgetlinie]],Ausfüllhilfe!$A$1:$D$23,4,0)","v":{"$error":"#N/A"}}]
[{"$f":"INDEX(Tabelle2[[#All],[Budgetlinie]],MATCH(Tabelle1[[#This Row],[Maßnahme]],Ausfüllhilfe!$C$1:$C$22,0))","v":{"$error":"#N/A"}},null,null,null,null,null,null,null,null,{"$f":"VLOOKUP(Tabelle1[[#This Row],[Budgetlinie]],Ausfüllhilfe!$A$1:$D$23,4,0)","v":{"$error":"#N/A"}}]
[{"$f":"INDEX(Tabelle2[[#All],[Budgetlinie]],MATCH(Tabelle1[[#This Row],[Maßnahme]],Ausfüllhilfe!$C$1:$C$22,0))","v":{"$error":"#N/A"}},null,null,null,null,null,null,null,null,{"$f":"VLOOKUP(Tabelle1[[#This Row],[Budgetlinie]],Ausfüllhilfe!$A$1:$D$23,4,0)","v":{"$error":"#N/A"}}]
[{"$f":"INDEX(Tabelle2[[#All],[Budgetlinie]],MATCH(Tabelle1[[#This Row],[Maßnahme]],Ausfüllhilfe!$C$1:$C$22,0))","v":{"$error":"#N/A"}},null,null,null,null,null,null,null,null,{"$f":"VLOOKUP(Tabelle1[[#This Row],[Budgetlinie]],Ausfüllhilfe!$A$1:$D$23,4,0)","v":{"$error":"#N/A"}}]
[{"$f":"INDEX(Tabelle2[[#All],[Budgetlinie]],MATCH(Tabelle1[[#This Row],[Maßnahme]],Ausfüllhilfe!$C$1:$C$22,0))","v":{"$error":"#N/A"}},null,null,null,null,null,null,null,null,{"$f":"VLOOKUP(Tabelle1[[#This Row],[Budgetlinie]],Ausfüllhilfe!$A$1:$D$23,4,0)","v":{"$error":"#N/A"}}]
[{"$f":"INDEX(Tabelle2[[#All],[Budgetlinie]],MATCH(Tabelle1[[#This Row],[Maßnahme]],Ausfüllhilfe!$C$1:$C$22,0))","v":{"$error":"#N/A"}},null,null,null,null,null,null,null,null,{"$f":"VLOOKUP(Tabelle1[[#This Row],[Budgetlinie]],Ausfüllhilfe!$A$1:$D$23,4,0)","v":{"$error":"#N/A"}}]
[{"$f":"INDEX(Tabelle2[[#All],[Budgetlinie]],MATCH(Tabelle1[[#This Row],[Maßnahme]],Ausfüllhilfe!$C$1:$C$22,0))","v":{"$error":"#N/A"}},null,null,null,null,null,null,null,null,{"$f":"VLOOKUP(Tabelle1[[#This Row],[Budgetlinie]],Ausfüllhilfe!$A$1:$D$23,4,0)","v":{"$error":"#N/A"}}]
[{"$f":"INDEX(Tabelle2[[#All],[Budgetlinie]],MATCH(Tabelle1[[#This Row],[Maßnahme]],Ausfüllhilfe!$C$1:$C$22,0))","v":{"$error":"#N/A"}},null,null,null,null,null,null,null,null,{"$f":"VLOOKUP(Tabelle1[[#This Row],[Budgetlinie]],Ausfüllhilfe!$A$1:$D$23,4,0)","v":{"$error":"#N/A"}}]
[{"$f":"INDEX(Tabelle2[[#All],[Budgetlinie]],MATCH(Tabelle1[[#This Row],[Maßnahme]],Ausfüllhilfe!$C$1:$C$22,0))","v":{"$error":"#N/A"}},null,null,null,null,null,null,null,null,{"$f":"VLOOKUP(Tabelle1[[#This Row],[Budgetlinie]],Ausfüllhilfe!$A$1:$D$23,4,0)","v":{"$error":"#N/A"}}]
[{"$f":"INDEX(Tabelle2[[#All],[Budgetlinie]],MATCH(Tabelle1[[#This Row],[Maßnahme]],Ausfüllhilfe!$C$1:$C$22,0))","v":{"$error":"#N/A"}},null,null,null,null,null,null,null,null,{"$f":"VLOOKUP(Tabelle1[[#This Row],[Budgetlinie]],Ausfüllhilfe!$A$1:$D$23,4,0)","v":{"$error":"#N/A"}}]
[{"$f":"INDEX(Tabelle2[[#All],[Budgetlinie]],MATCH(Tabelle1[[#This Row],[Maßnahme]],Ausfüllhilfe!$C$1:$C$22,0))","v":{"$error":"#N/A"}},null,null,null,null,null,null,null,null,{"$f":"VLOOKUP(Tabelle1[[#This Row],[Budgetlinie]],Ausfüllhilfe!$A$1:$D$23,4,0)","v":{"$error":"#N/A"}}]
[{"$f":"INDEX(Tabelle2[[#All],[Budgetlinie]],MATCH(Tabelle1[[#This Row],[Maßnahme]],Ausfüllhilfe!$C$1:$C$22,0))","v":{"$error":"#N/A"}},null,null,null,null,null,null,null,null,{"$f":"VLOOKUP(Tabelle1[[#This Row],[Budgetlinie]],Ausfüllhilfe!$A$1:$D$23,4,0)","v":{"$error":"#N/A"}}]
[{"$f":"INDEX(Tabelle2[[#All],[Budgetlinie]],MATCH(Tabelle1[[#This Row],[Maßnahme]],Ausfüllhilfe!$C$1:$C$22,0))","v":{"$error":"#N/A"}},null,null,null,null,null,null,null,null,{"$f":"VLOOKUP(Tabelle1[[#This Row],[Budgetlinie]],Ausfüllhilfe!$A$1:$D$23,4,0)","v":{"$error":"#N/A"}}]
[{"$f":"INDEX(Tabelle2[[#All],[Budgetlinie]],MATCH(Tabelle1[[#This Row],[Maßnahme]],Ausfüllhilfe!$C$1:$C$22,0))","v":{"$error":"#N/A"}},null,null,null,null,null,null,null,null,{"$f":"VLOOKUP(Tabelle1[[#This Row],[Budgetlinie]],Ausfüllhilfe!$A$1:$D$23,4,0)","v":{"$error":"#N/A"}}]
[{"$f":"INDEX(Tabelle2[[#All],[Budgetlinie]],MATCH(Tabelle1[[#This Row],[Maßnahme]],Ausfüllhilfe!$C$1:$C$22,0))","v":{"$error":"#N/A"}},null,null,null,null,null,null,null,null,{"$f":"VLOOKUP(Tabelle1[[#This Row],[Budgetlinie]],Ausfüllhilfe!$A$1:$D$23,4,0)","v":{"$error":"#N/A"}}]
[{"$f":"INDEX(Tabelle2[[#All],[Budgetlinie]],MATCH(Tabelle1[[#This Row],[Maßnahme]],Ausfüllhilfe!$C$1:$C$22,0))","v":{"$error":"#N/A"}},null,null,null,null,null,null,null,null,{"$f":"VLOOKUP(Tabelle1[[#This Row],[Budgetlinie]],Ausfüllhilfe!$A$1:$D$23,4,0)","v":{"$error":"#N/A"}}]
[{"$f":"INDEX(Tabelle2[[#All],[Budgetlinie]],MATCH(Tabelle1[[#This Row],[Maßnahme]],Ausfüllhilfe!$C$1:$C$22,0))","v":{"$error":"#N/A"}},null,null,null,null,null,null,null,null,{"$f":"VLOOKUP(Tabelle1[[#This Row],[Budgetlinie]],Ausfüllhilfe!$A$1:$D$23,4,0)","v":{"$error":"#N/A"}}]
[{"$f":"INDEX(Tabelle2[[#All],[Budgetlinie]],MATCH(Tabelle1[[#This Row],[Maßnahme]],Ausfüllhilfe!$C$1:$C$22,0))","v":{"$error":"#N/A"}},null,null,null,null,null,null,null,null,{"$f":"VLOOKUP(Tabelle1[[#This Row],[Budgetlinie]],Ausfüllhilfe!$A$1:$D$23,4,0)","v":{"$error":"#N/A"}}]
[{"$f":"INDEX(Tabelle2[[#All],[Budgetlinie]],MATCH(Tabelle1[[#This Row],[Maßnahme]],Ausfüllhilfe!$C$1:$C$22,0))","v":{"$error":"#N/A"}},null,null,null,null,null,null,null,null,{"$f":"VLOOKUP(Tabelle1[[#This Row],[Budgetlinie]],Ausfüllhilfe!$A$1:$D$23,4,0)","v":{"$error":"#N/A"}}]
[{"$f":"INDEX(Tabelle2[[#All],[Budgetlinie]],MATCH(Tabelle1[[#This Row],[Maßnahme]],Ausfüllhilfe!$C$1:$C$22,0))","v":{"$error":"#N/A"}},null,null,null,null,null,null,null,null,{"$f":"VLOOKUP(Tabelle1[[#This Row],[Budgetlinie]],Ausfüllhilfe!$A$1:$D$23,4,0)","v":{"$error":"#N/A"}}]
[{"$f":"INDEX(Tabelle2[[#All],[Budgetlinie]],MATCH(Tabelle1[[#This Row],[Maßnahme]],Ausfüllhilfe!$C$1:$C$22,0))","v":{"$error":"#N/A"}},null,null,null,null,null,null,null,null,{"$f":"VLOOKUP(Tabelle1[[#This Row],[Budgetlinie]],Ausfüllhilfe!$A$1:$D$23,4,0)","v":{"$error":"#N/A"}}]
[{"$f":"INDEX(Tabelle2[[#All],[Budgetlinie]],MATCH(Tabelle1[[#This Row],[Maßnahme]],Ausfüllhilfe!$C$1:$C$22,0))","v":{"$error":"#N/A"}},null,null,null,null,null,null,null,null,{"$f":"VLOOKUP(Tabelle1[[#This Row],[Budgetlinie]],Ausfüllhilfe!$A$1:$D$23,4,0)","v":{"$error":"#N/A"}}]
[{"$f":"INDEX(Tabelle2[[#All],[Budgetlinie]],MATCH(Tabelle1[[#This Row],[Maßnahme]],Ausfüllhilfe!$C$1:$C$22,0))","v":{"$error":"#N/A"}},null,null,null,null,null,null,null,null,{"$f":"VLOOKUP(Tabelle1[[#This Row],[Budgetlinie]],Ausfüllhilfe!$A$1:$D$23,4,0)","v":{"$error":"#N/A"}}]
[{"$f":"INDEX(Tabelle2[[#All],[Budgetlinie]],MATCH(Tabelle1[[#This Row],[Maßnahme]],Ausfüllhilfe!$C$1:$C$22,0))","v":{"$error":"#N/A"}},null,null,null,null,null,null,null,null,{"$f":"VLOOKUP(Tabelle1[[#This Row],[Budgetlinie]],Ausfüllhilfe!$A$1:$D$23,4,0)","v":{"$error":"#N/A"}}]
[{"$f":"INDEX(Tabelle2[[#All],[Budgetlinie]],MATCH(Tabelle1[[#This Row],[Maßnahme]],Ausfüllhilfe!$C$1:$C$22,0))","v":{"$error":"#N/A"}},null,null,null,null,null,null,null,null,{"$f":"VLOOKUP(Tabelle1[[#This Row],[Budgetlinie]],Ausfüllhilfe!$A$1:$D$23,4,0)","v":{"$error":"#N/A"}}]
[{"$f":"INDEX(Tabelle2[[#All],[Budgetlinie]],MATCH(Tabelle1[[#This Row],[Maßnahme]],Ausfüllhilfe!$C$1:$C$22,0))","v":{"$error":"#N/A"}},null,null,null,null,null,null,null,null,{"$f":"VLOOKUP(Tabelle1[[#This Row],[Budgetlinie]],Ausfüllhilfe!$A$1:$D$23,4,0)","v":{"$error":"#N/A"}}]
[{"$f":"INDEX(Tabelle2[[#All],[Budgetlinie]],MATCH(Tabelle1[[#This Row],[Maßnahme]],Ausfüllhilfe!$C$1:$C$22,0))","v":{"$error":"#N/A"}},null,null,null,null,null,null,null,null,{"$f":"VLOOKUP(Tabelle1[[#This Row],[Budgetlinie]],Ausfüllhilfe!$A$1:$D$23,4,0)","v":{"$error":"#N/A"}}]
[{"$f":"INDEX(Tabelle2[[#All],[Budgetlinie]],MATCH(Tabelle1[[#This Row],[Maßnahme]],Ausfüllhilfe!$C$1:$C$22,0))","v":{"$error":"#N/A"}},null,null,null,null,null,null,null,null,{"$f":"VLOOKUP(Tabelle1[[#This Row],[Budgetlinie]],Ausfüllhilfe!$A$1:$D$23,4,0)","v":{"$error":"#N/A"}}]
[{"$f":"INDEX(Tabelle2[[#All],[Budgetlinie]],MATCH(Tabelle1[[#This Row],[Maßnahme]],Ausfüllhilfe!$C$1:$C$22,0))","v":{"$error":"#N/A"}},null,null,null,null,null,null,null,null,{"$f":"VLOOKUP(Tabelle1[[#This Row],[Budgetlinie]],Ausfüllhilfe!$A$1:$D$23,4,0)","v":{"$error":"#N/A"}}]
[{"$f":"INDEX(Tabelle2[[#All],[Budgetlinie]],MATCH(Tabelle1[[#This Row],[Maßnahme]],Ausfüllhilfe!$C$1:$C$22,0))","v":{"$error":"#N/A"}},null,null,null,null,null,null,null,null,{"$f":"VLOOKUP(Tabelle1[[#This Row],[Budgetlinie]],Ausfüllhilfe!$A$1:$D$23,4,0)","v":{"$error":"#N/A"}}]
[{"$f":"INDEX(Tabelle2[[#All],[Budgetlinie]],MATCH(Tabelle1[[#This Row],[Maßnahme]],Ausfüllhilfe!$C$1:$C$22,0))","v":{"$error":"#N/A"}},null,null,null,null,null,null,null,null,{"$f":"VLOOKUP(Tabelle1[[#This Row],[Budgetlinie]],Ausfüllhilfe!$A$1:$D$23,4,0)","v":{"$error":"#N/A"}}]
[{"$f":"INDEX(Tabelle2[[#All],[Budgetlinie]],MATCH(Tabelle1[[#This Row],[Maßnahme]],Ausfüllhilfe!$C$1:$C$22,0))","v":{"$error":"#N/A"}},null,null,null,null,null,null,null,null,{"$f":"VLOOKUP(Tabelle1[[#This Row],[Budgetlinie]],Ausfüllhilfe!$A$1:$D$23,4,0)","v":{"$error":"#N/A"}}]
[{"$f":"INDEX(Tabelle2[[#All],[Budgetlinie]],MATCH(Tabelle1[[#This Row],[Maßnahme]],Ausfüllhilfe!$C$1:$C$22,0))","v":{"$error":"#N/A"}},null,null,null,null,null,null,null,null,{"$f":"VLOOKUP(Tabelle1[[#This Row],[Budgetlinie]],Ausfüllhilfe!$A$1:$D$23,4,0)","v":{"$error":"#N/A"}}]
[{"$f":"INDEX(Tabelle2[[#All],[Budgetlinie]],MATCH(Tabelle1[[#This Row],[Maßnahme]],Ausfüllhilfe!$C$1:$C$22,0))","v":{"$error":"#N/A"}},null,null,null,null,null,null,null,null,{"$f":"VLOOKUP(Tabelle1[[#This Row],[Budgetlinie]],Ausfüllhilfe!$A$1:$D$23,4,0)","v":{"$error":"#N/A"}}]
[{"$f":"INDEX(Tabelle2[[#All],[Budgetlinie]],MATCH(Tabelle1[[#This Row],[Maßnahme]],Ausfüllhilfe!$C$1:$C$22,0))","v":{"$error":"#N/A"}},null,null,null,null,null,null,null,null,{"$f":"VLOOKUP(Tabelle1[[#This Row],[Budgetlinie]],Ausfüllhilfe!$A$1:$D$23,4,0)","v":{"$error":"#N/A"}}]
[{"$f":"INDEX(Tabelle2[[#All],[Budgetlinie]],MATCH(Tabelle1[[#This Row],[Maßnahme]],Ausfüllhilfe!$C$1:$C$22,0))","v":{"$error":"#N/A"}},null,null,null,null,null,null,null,null,{"$f":"VLOOKUP(Tabelle1[[#This Row],[Budgetlinie]],Ausfüllhilfe!$A$1:$D$23,4,0)","v":{"$error":"#N/A"}}]
[{"$f":"INDEX(Tabelle2[[#All],[Budgetlinie]],MATCH(Tabelle1[[#This Row],[Maßnahme]],Ausfüllhilfe!$C$1:$C$22,0))","v":{"$error":"#N/A"}},null,null,null,null,null,null,null,null,{"$f":"VLOOKUP(Tabelle1[[#This Row],[Budgetlinie]],Ausfüllhilfe!$A$1:$D$23,4,0)","v":{"$error":"#N/A"}}]
[{"$f":"INDEX(Tabelle2[[#All],[Budgetlinie]],MATCH(Tabelle1[[#This Row],[Maßnahme]],Ausfüllhilfe!$C$1:$C$22,0))","v":{"$error":"#N/A"}},null,null,null,null,null,null,null,null,{"$f":"VLOOKUP(Tabelle1[[#This Row],[Budgetlinie]],Ausfüllhilfe!$A$1:$D$23,4,0)","v":{"$error":"#N/A"}}]
[{"$f":"INDEX(Tabelle2[[#All],[Budgetlinie]],MATCH(Tabelle1[[#This Row],[Maßnahme]],Ausfüllhilfe!$C$1:$C$22,0))","v":{"$error":"#N/A"}},null,null,null,null,null,null,null,null,{"$f":"VLOOKUP(Tabelle1[[#This Row],[Budgetlinie]],Ausfüllhilfe!$A$1:$D$23,4,0)","v":{"$error":"#N/A"}}]
[{"$f":"INDEX(Tabelle2[[#All],[Budgetlinie]],MATCH(Tabelle1[[#This Row],[Maßnahme]],Ausfüllhilfe!$C$1:$C$22,0))","v":{"$error":"#N/A"}},null,null,null,null,null,null,null,null,{"$f":"VLOOKUP(Tabelle1[[#This Row],[Budgetlinie]],Ausfüllhilfe!$A$1:$D$23,4,0)","v":{"$error":"#N/A"}}]
[{"$f":"INDEX(Tabelle2[[#All],[Budgetlinie]],MATCH(Tabelle1[[#This Row],[Maßnahme]],Ausfüllhilfe!$C$1:$C$22,0))","v":{"$error":"#N/A"}},null,null,null,null,null,null,null,null,{"$f":"VLOOKUP(Tabelle1[[#This Row],[Budgetlinie]],Ausfüllhilfe!$A$1:$D$23,4,0)","v":{"$error":"#N/A"}}]
[{"$f":"INDEX(Tabelle2[[#All],[Budgetlinie]],MATCH(Tabelle1[[#This Row],[Maßnahme]],Ausfüllhilfe!$C$1:$C$22,0))","v":{"$error":"#N/A"}},null,null,null,null,null,null,null,null,{"$f":"VLOOKUP(Tabelle1[[#This Row],[Budgetlinie]],Ausfüllhilfe!$A$1:$D$23,4,0)","v":{"$error":"#N/A"}}]
[{"$f":"INDEX(Tabelle2[[#All],[Budgetlinie]],MATCH(Tabelle1[[#This Row],[Maßnahme]],Ausfüllhilfe!$C$1:$C$22,0))","v":{"$error":"#N/A"}},null,null,null,null,null,null,null,null,{"$f":"VLOOKUP(Tabelle1[[#This Row],[Budgetlinie]],Ausfüllhilfe!$A$1:$D$23,4,0)","v":{"$error":"#N/A"}}]
[{"$f":"INDEX(Tabelle2[[#All],[Budgetlinie]],MATCH(Tabelle1[[#This Row],[Maßnahme]],Ausfüllhilfe!$C$1:$C$22,0))","v":{"$error":"#N/A"}},null,null,null,null,null,null,null,null,{"$f":"VLOOKUP(Tabelle1[[#This Row],[Budgetlinie]],Ausfüllhilfe!$A$1:$D$23,4,0)","v":{"$error":"#N/A"}}]
[{"$f":"INDEX(Tabelle2[[#All],[Budgetlinie]],MATCH(Tabelle1[[#This Row],[Maßnahme]],Ausfüllhilfe!$C$1:$C$22,0))","v":{"$error":"#N/A"}},null,null,null,null,null,null,null,null,{"$f":"VLOOKUP(Tabelle1[[#This Row],[Budgetlinie]],Ausfüllhilfe!$A$1:$D$23,4,0)","v":{"$error":"#N/A"}}]
[{"$f":"INDEX(Tabelle2[[#All],[Budgetlinie]],MATCH(Tabelle1[[#This Row],[Maßnahme]],Ausfüllhilfe!$C$1:$C$22,0))","v":{"$error":"#N/A"}},null,null,null,null,null,null,null,null,{"$f":"VLOOKUP(Tabelle1[[#This Row],[Budgetlinie]],Ausfüllhilfe!$A$1:$D$23,4,0)","v":{"$error":"#N/A"}}]
[{"$f":"INDEX(Tabelle2[[#All],[Budgetlinie]],MATCH(Tabelle1[[#This Row],[Maßnahme]],Ausfüllhilfe!$C$1:$C$22,0))","v":{"$error":"#N/A"}},null,null,null,null,null,null,null,null,{"$f":"VLOOKUP(Tabelle1[[#This Row],[Budgetlinie]],Ausfüllhilfe!$A$1:$D$23,4,0)","v":{"$error":"#N/A"}}]
[{"$f":"INDEX(Tabelle2[[#All],[Budgetlinie]],MATCH(Tabelle1[[#This Row],[Maßnahme]],Ausfüllhilfe!$C$1:$C$22,0))","v":{"$error":"#N/A"}},null,null,null,null,null,null,null,null,{"$f":"VLOOKUP(Tabelle1[[#This Row],[Budgetlinie]],Ausfüllhilfe!$A$1:$D$23,4,0)","v":{"$error":"#N/A"}}]
[{"$f":"INDEX(Tabelle2[[#All],[Budgetlinie]],MATCH(Tabelle1[[#This Row],[Maßnahme]],Ausfüllhilfe!$C$1:$C$22,0))","v":{"$error":"#N/A"}},null,null,null,null,null,null,null,null,{"$f":"VLOOKUP(Tabelle1[[#This Row],[Budgetlinie]],Ausfüllhilfe!$A$1:$D$23,4,0)","v":{"$error":"#N/A"}}]
[{"$f":"INDEX(Tabelle2[[#All],[Budgetlinie]],MATCH(Tabelle1[[#This Row],[Maßnahme]],Ausfüllhilfe!$C$1:$C$22,0))","v":{"$error":"#N/A"}},null,null,null,null,null,null,null,null,{"$f":"VLOOKUP(Tabelle1[[#This Row],[Budgetlinie]],Ausfüllhilfe!$A$1:$D$23,4,0)","v":{"$error":"#N/A"}}]
[{"$f":"INDEX(Tabelle2[[#All],[Budgetlinie]],MATCH(Tabelle1[[#This Row],[Maßnahme]],Ausfüllhilfe!$C$1:$C$22,0))","v":{"$error":"#N/A"}},null,null,null,null,null,null,null,null,{"$f":"VLOOKUP(Tabelle1[[#This Row],[Budgetlinie]],Ausfüllhilfe!$A$1:$D$23,4,0)","v":{"$error":"#N/A"}}]
[{"$f":"INDEX(Tabelle2[[#All],[Budgetlinie]],MATCH(Tabelle1[[#This Row],[Maßnahme]],Ausfüllhilfe!$C$1:$C$22,0))","v":{"$error":"#N/A"}},null,null,null,null,null,null,null,null,{"$f":"VLOOKUP(Tabelle1[[#This Row],[Budgetlinie]],Ausfüllhilfe!$A$1:$D$23,4,0)","v":{"$error":"#N/A"}}]
[{"$f":"INDEX(Tabelle2[[#All],[Budgetlinie]],MATCH(Tabelle1[[#This Row],[Maßnahme]],Ausfüllhilfe!$C$1:$C$22,0))","v":{"$error":"#N/A"}},null,null,null,null,null,null,null,null,{"$f":"VLOOKUP(Tabelle1[[#This Row],[Budgetlinie]],Ausfüllhilfe!$A$1:$D$23,4,0)","v":{"$error":"#N/A"}}]
[{"$f":"INDEX(Tabelle2[[#All],[Budgetlinie]],MATCH(Tabelle1[[#This Row],[Maßnahme]],Ausfüllhilfe!$C$1:$C$22,0))","v":{"$error":"#N/A"}},null,null,null,null,null,null,null,null,{"$f":"VLOOKUP(Tabelle1[[#This Row],[Budgetlinie]],Ausfüllhilfe!$A$1:$D$23,4,0)","v":{"$error":"#N/A"}}]
[{"$f":"INDEX(Tabelle2[[#All],[Budgetlinie]],MATCH(Tabelle1[[#This Row],[Maßnahme]],Ausfüllhilfe!$C$1:$C$22,0))","v":{"$error":"#N/A"}},null,null,null,null,null,null,null,null,{"$f":"VLOOKUP(Tabelle1[[#This Row],[Budgetlinie]],Ausfüllhilfe!$A$1:$D$23,4,0)","v":{"$error":"#N/A"}}]
[{"$f":"INDEX(Tabelle2[[#All],[Budgetlinie]],MATCH(Tabelle1[[#This Row],[Maßnahme]],Ausfüllhilfe!$C$1:$C$22,0))","v":{"$error":"#N/A"}},null,null,null,null,null,null,null,null,{"$f":"VLOOKUP(Tabelle1[[#This Row],[Budgetlinie]],Ausfüllhilfe!$A$1:$D$23,4,0)","v":{"$error":"#N/A"}}]
[{"$f":"INDEX(Tabelle2[[#All],[Budgetlinie]],MATCH(Tabelle1[[#This Row],[Maßnahme]],Ausfüllhilfe!$C$1:$C$22,0))","v":{"$error":"#N/A"}},null,null,null,null,null,null,null,null,{"$f":"VLOOKUP(Tabelle1[[#This Row],[Budgetlinie]],Ausfüllhilfe!$A$1:$D$23,4,0)","v":{"$error":"#N/A"}}]
[{"$f":"INDEX(Tabelle2[[#All],[Budgetlinie]],MATCH(Tabelle1[[#This Row],[Maßnahme]],Ausfüllhilfe!$C$1:$C$22,0))","v":{"$error":"#N/A"}},null,null,null,null,null,null,null,null,{"$f":"VLOOKUP(Tabelle1[[#This Row],[Budgetlinie]],Ausfüllhilfe!$A$1:$D$23,4,0)","v":{"$error":"#N/A"}}]
[{"$f":"INDEX(Tabelle2[[#All],[Budgetlinie]],MATCH(Tabelle1[[#This Row],[Maßnahme]],Ausfüllhilfe!$C$1:$C$22,0))","v":{"$error":"#N/A"}},null,null,null,null,null,null,null,null,{"$f":"VLOOKUP(Tabelle1[[#This Row],[Budgetlinie]],Ausfüllhilfe!$A$1:$D$23,4,0)","v":{"$error":"#N/A"}}]
[{"$f":"INDEX(Tabelle2[[#All],[Budgetlinie]],MATCH(Tabelle1[[#This Row],[Maßnahme]],Ausfüllhilfe!$C$1:$C$22,0))","v":{"$error":"#N/A"}},null,null,null,null,null,null,null,null,{"$f":"VLOOKUP(Tabelle1[[#This Row],[Budgetlinie]],Ausfüllhilfe!$A$1:$D$23,4,0)","v":{"$error":"#N/A"}}]
[{"$f":"INDEX(Tabelle2[[#All],[Budgetlinie]],MATCH(Tabelle1[[#This Row],[Maßnahme]],Ausfüllhilfe!$C$1:$C$22,0))","v":{"$error":"#N/A"}},null,null,null,null,null,null,null,null,{"$f":"VLOOKUP(Tabelle1[[#This Row],[Budgetlinie]],Ausfüllhilfe!$A$1:$D$23,4,0)","v":{"$error":"#N/A"}}]
[{"$f":"INDEX(Tabelle2[[#All],[Budgetlinie]],MATCH(Tabelle1[[#This Row],[Maßnahme]],Ausfüllhilfe!$C$1:$C$22,0))","v":{"$error":"#N/A"}},null,null,null,null,null,null,null,null,{"$f":"VLOOKUP(Tabelle1[[#This Row],[Budgetlinie]],Ausfüllhilfe!$A$1:$D$23,4,0)","v":{"$error":"#N/A"}}]
[{"$f":"INDEX(Tabelle2[[#All],[Budgetlinie]],MATCH(Tabelle1[[#This Row],[Maßnahme]],Ausfüllhilfe!$C$1:$C$22,0))","v":{"$error":"#N/A"}},null,null,null,null,null,null,null,null,{"$f":"VLOOKUP(Tabelle1[[#This Row],[Budgetlinie]],Ausfüllhilfe!$A$1:$D$23,4,0)","v":{"$error":"#N/A"}}]
[{"$f":"INDEX(Tabelle2[[#All],[Budgetlinie]],MATCH(Tabelle1[[#This Row],[Maßnahme]],Ausfüllhilfe!$C$1:$C$22,0))","v":{"$error":"#N/A"}},null,null,null,null,null,null,null,null,{"$f":"VLOOKUP(Tabelle1[[#This Row],[Budgetlinie]],Ausfüllhilfe!$A$1:$D$23,4,0)","v":{"$error":"#N/A"}}]
[{"$f":"INDEX(Tabelle2[[#All],[Budgetlinie]],MATCH(Tabelle1[[#This Row],[Maßnahme]],Ausfüllhilfe!$C$1:$C$22,0))","v":{"$error":"#N/A"}},null,null,null,null,null,null,null,null,{"$f":"VLOOKUP(Tabelle1[[#This Row],[Budgetlinie]],Ausfüllhilfe!$A$1:$D$23,4,0)","v":{"$error":"#N/A"}}]
[{"$f":"INDEX(Tabelle2[[#All],[Budgetlinie]],MATCH(Tabelle1[[#This Row],[Maßnahme]],Ausfüllhilfe!$C$1:$C$22,0))","v":{"$error":"#N/A"}},null,null,null,null,null,null,null,null,{"$f":"VLOOKUP(Tabelle1[[#This Row],[Budgetlinie]],Ausfüllhilfe!$A$1:$D$23,4,0)","v":{"$error":"#N/A"}}]
[{"$f":"INDEX(Tabelle2[[#All],[Budgetlinie]],MATCH(Tabelle1[[#This Row],[Maßnahme]],Ausfüllhilfe!$C$1:$C$22,0))","v":{"$error":"#N/A"}},null,null,null,null,null,null,null,null,{"$f":"VLOOKUP(Tabelle1[[#This Row],[Budgetlinie]],Ausfüllhilfe!$A$1:$D$23,4,0)","v":{"$error":"#N/A"}}]
[{"$f":"INDEX(Tabelle2[[#All],[Budgetlinie]],MATCH(Tabelle1[[#This Row],[Maßnahme]],Ausfüllhilfe!$C$1:$C$22,0))","v":{"$error":"#N/A"}},null,null,null,null,null,null,null,null,{"$f":"VLOOKUP(Tabelle1[[#This Row],[Budgetlinie]],Ausfüllhilfe!$A$1:$D$23,4,0)","v":{"$error":"#N/A"}}]
[{"$f":"INDEX(Tabelle2[[#All],[Budgetlinie]],MATCH(Tabelle1[[#This Row],[Maßnahme]],Ausfüllhilfe!$C$1:$C$22,0))","v":{"$error":"#N/A"}},null,null,null,null,null,null,null,null,{"$f":"VLOOKUP(Tabelle1[[#This Row],[Budgetlinie]],Ausfüllhilfe!$A$1:$D$23,4,0)","v":{"$error":"#N/A"}}]
[{"$f":"INDEX(Tabelle2[[#All],[Budgetlinie]],MATCH(Tabelle1[[#This Row],[Maßnahme]],Ausfüllhilfe!$C$1:$C$22,0))","v":{"$error":"#N/A"}},null,null,null,null,null,null,null,null,{"$f":"VLOOKUP(Tabelle1[[#This Row],[Budgetlinie]],Ausfüllhilfe!$A$1:$D$23,4,0)","v":{"$error":"#N/A"}}]
[{"$f":"INDEX(Tabelle2[[#All],[Budgetlinie]],MATCH(Tabelle1[[#This Row],[Maßnahme]],Ausfüllhilfe!$C$1:$C$22,0))","v":{"$error":"#N/A"}},null,null,null,null,null,null,null,null,{"$f":"VLOOKUP(Tabelle1[[#This Row],[Budgetlinie]],Ausfüllhilfe!$A$1:$D$23,4,0)","v":{"$error":"#N/A"}}]
[{"$f":"INDEX(Tabelle2[[#All],[Budgetlinie]],MATCH(Tabelle1[[#This Row],[Maßnahme]],Ausfüllhilfe!$C$1:$C$22,0))","v":{"$error":"#N/A"}},null,null,null,null,null,null,null,null,{"$f":"VLOOKUP(Tabelle1[[#This Row],[Budgetlinie]],Ausfüllhilfe!$A$1:$D$23,4,0)","v":{"$error":"#N/A"}}]
[{"$f":"INDEX(Tabelle2[[#All],[Budgetlinie]],MATCH(Tabelle1[[#This Row],[Maßnahme]],Ausfüllhilfe!$C$1:$C$22,0))","v":{"$error":"#N/A"}},null,null,null,null,null,null,null,null,{"$f":"VLOOKUP(Tabelle1[[#This Row],[Budgetlinie]],Ausfüllhilfe!$A$1:$D$23,4,0)","v":{"$error":"#N/A"}}]
[{"$f":"INDEX(Tabelle2[[#All],[Budgetlinie]],MATCH(Tabelle1[[#This Row],[Maßnahme]],Ausfüllhilfe!$C$1:$C$22,0))","v":{"$error":"#N/A"}},null,null,null,null,null,null,null,null,{"$f":"VLOOKUP(Tabelle1[[#This Row],[Budgetlinie]],Ausfüllhilfe!$A$1:$D$23,4,0)","v":{"$error":"#N/A"}}]
[{"$f":"INDEX(Tabelle2[[#All],[Budgetlinie]],MATCH(Tabelle1[[#This Row],[Maßnahme]],Ausfüllhilfe!$C$1:$C$22,0))","v":{"$error":"#N/A"}},null,null,null,null,null,null,null,null,{"$f":"VLOOKUP(Tabelle1[[#This Row],[Budgetlinie]],Ausfüllhilfe!$A$1:$D$23,4,0)","v":{"$error":"#N/A"}}]
[{"$f":"INDEX(Tabelle2[[#All],[Budgetlinie]],MATCH(Tabelle1[[#This Row],[Maßnahme]],Ausfüllhilfe!$C$1:$C$22,0))","v":{"$error":"#N/A"}},null,null,null,null,null,null,null,null,{"$f":"VLOOKUP(Tabelle1[[#This Row],[Budgetlinie]],Ausfüllhilfe!$A$1:$D$23,4,0)","v":{"$error":"#N/A"}}]
[{"$f":"INDEX(Tabelle2[[#All],[Budgetlinie]],MATCH(Tabelle1[[#This Row],[Maßnahme]],Ausfüllhilfe!$C$1:$C$22,0))","v":{"$error":"#N/A"}},null,null,null,null,null,null,null,null,{"$f":"VLOOKUP(Tabelle1[[#This Row],[Budgetlinie]],Ausfüllhilfe!$A$1:$D$23,4,0)","v":{"$error":"#N/A"}}]
[{"$f":"INDEX(Tabelle2[[#All],[Budgetlinie]],MATCH(Tabelle1[[#This Row],[Maßnahme]],Ausfüllhilfe!$C$1:$C$22,0))","v":{"$error":"#N/A"}},null,null,null,null,null,null,null,null,{"$f":"VLOOKUP(Tabelle1[[#This Row],[Budgetlinie]],Ausfüllhilfe!$A$1:$D$23,4,0)","v":{"$error":"#N/A"}}]
[{"$f":"INDEX(Tabelle2[[#All],[Budgetlinie]],MATCH(Tabelle1[[#This Row],[Maßnahme]],Ausfüllhilfe!$C$1:$C$22,0))","v":{"$error":"#N/A"}},null,null,null,null,null,null,null,null,{"$f":"VLOOKUP(Tabelle1[[#This Row],[Budgetlinie]],Ausfüllhilfe!$A$1:$D$23,4,0)","v":{"$error":"#N/A"}}]
[{"$f":"INDEX(Tabelle2[[#All],[Budgetlinie]],MATCH(Tabelle1[[#This Row],[Maßnahme]],Ausfüllhilfe!$C$1:$C$22,0))","v":{"$error":"#N/A"}},null,null,null,null,null,null,null,null,{"$f":"VLOOKUP(Tabelle1[[#This Row],[Budgetlinie]],Ausfüllhilfe!$A$1:$D$23,4,0)","v":{"$error":"#N/A"}}]
[{"$f":"INDEX(Tabelle2[[#All],[Budgetlinie]],MATCH(Tabelle1[[#This Row],[Maßnahme]],Ausfüllhilfe!$C$1:$C$22,0))","v":{"$error":"#N/A"}},null,null,null,null,null,null,null,null,{"$f":"VLOOKUP(Tabelle1[[#This Row],[Budgetlinie]],Ausfüllhilfe!$A$1:$D$23,4,0)","v":{"$error":"#N/A"}}]
[{"$f":"INDEX(Tabelle2[[#All],[Budgetlinie]],MATCH(Tabelle1[[#This Row],[Maßnahme]],Ausfüllhilfe!$C$1:$C$22,0))","v":{"$error":"#N/A"}},null,null,null,null,null,null,null,null,{"$f":"VLOOKUP(Tabelle1[[#This Row],[Budgetlinie]],Ausfüllhilfe!$A$1:$D$23,4,0)","v":{"$error":"#N/A"}}]
[{"$f":"INDEX(Tabelle2[[#All],[Budgetlinie]],MATCH(Tabelle1[[#This Row],[Maßnahme]],Ausfüllhilfe!$C$1:$C$22,0))","v":{"$error":"#N/A"}},null,null,null,null,null,null,null,null,{"$f":"VLOOKUP(Tabelle1[[#This Row],[Budgetlinie]],Ausfüllhilfe!$A$1:$D$23,4,0)","v":{"$error":"#N/A"}}]
[{"$f":"INDEX(Tabelle2[[#All],[Budgetlinie]],MATCH(Tabelle1[[#This Row],[Maßnahme]],Ausfüllhilfe!$C$1:$C$22,0))","v":{"$error":"#N/A"}},null,null,null,null,null,null,null,null,{"$f":"VLOOKUP(Tabelle1[[#This Row],[Budgetlinie]],Ausfüllhilfe!$A$1:$D$23,4,0)","v":{"$error":"#N/A"}}]
[{"$f":"INDEX(Tabelle2[[#All],[Budgetlinie]],MATCH(Tabelle1[[#This Row],[Maßnahme]],Ausfüllhilfe!$C$1:$C$22,0))","v":{"$error":"#N/A"}},null,null,null,null,null,null,null,null,{"$f":"VLOOKUP(Tabelle1[[#This Row],[Budgetlinie]],Ausfüllhilfe!$A$1:$D$23,4,0)","v":{"$error":"#N/A"}}]
[{"$f":"INDEX(Tabelle2[[#All],[Budgetlinie]],MATCH(Tabelle1[[#This Row],[Maßnahme]],Ausfüllhilfe!$C$1:$C$22,0))","v":{"$error":"#N/A"}},null,null,null,null,null,null,null,null,{"$f":"VLOOKUP(Tabelle1[[#This Row],[Budgetlinie]],Ausfüllhilfe!$A$1:$D$23,4,0)","v":{"$error":"#N/A"}}]
[{"$f":"INDEX(Tabelle2[[#All],[Budgetlinie]],MATCH(Tabelle1[[#This Row],[Maßnahme]],Ausfüllhilfe!$C$1:$C$22,0))","v":{"$error":"#N/A"}},null,null,null,null,null,null,null,null,{"$f":"VLOOKUP(Tabelle1[[#This Row],[Budgetlinie]],Ausfüllhilfe!$A$1:$D$23,4,0)","v":{"$error":"#N/A"}}]
[{"$f":"INDEX(Tabelle2[[#All],[Budgetlinie]],MATCH(Tabelle1[[#This Row],[Maßnahme]],Ausfüllhilfe!$C$1:$C$22,0))","v":{"$error":"#N/A"}},null,null,null,null,null,null,null,null,{"$f":"VLOOKUP(Tabelle1[[#This Row],[Budgetlinie]],Ausfüllhilfe!$A$1:$D$23,4,0)","v":{"$error":"#N/A"}}]
[{"$f":"INDEX(Tabelle2[[#All],[Budgetlinie]],MATCH(Tabelle1[[#This Row],[Maßnahme]],Ausfüllhilfe!$C$1:$C$22,0))","v":{"$error":"#N/A"}},null,null,null,null,null,null,null,null,{"$f":"VLOOKUP(Tabelle1[[#This Row],[Budgetlinie]],Ausfüllhilfe!$A$1:$D$23,4,0)","v":{"$error":"#N/A"}}]
[{"$f":"INDEX(Tabelle2[[#All],[Budgetlinie]],MATCH(Tabelle1[[#This Row],[Maßnahme]],Ausfüllhilfe!$C$1:$C$22,0))","v":{"$error":"#N/A"}},null,null,null,null,null,null,null,null,{"$f":"VLOOKUP(Tabelle1[[#This Row],[Budgetlinie]],Ausfüllhilfe!$A$1:$D$23,4,0)","v":{"$error":"#N/A"}}]
[{"$f":"INDEX(Tabelle2[[#All],[Budgetlinie]],MATCH(Tabelle1[[#This Row],[Maßnahme]],Ausfüllhilfe!$C$1:$C$22,0))","v":{"$error":"#N/A"}},null,null,null,null,null,null,null,null,{"$f":"VLOOKUP(Tabelle1[[#This Row],[Budgetlinie]],Ausfüllhilfe!$A$1:$D$23,4,0)","v":{"$error":"#N/A"}}]
[{"$f":"INDEX(Tabelle2[[#All],[Budgetlinie]],MATCH(Tabelle1[[#This Row],[Maßnahme]],Ausfüllhilfe!$C$1:$C$22,0))","v":{"$error":"#N/A"}},null,null,null,null,null,null,null,null,{"$f":"VLOOKUP(Tabelle1[[#This Row],[Budgetlinie]],Ausfüllhilfe!$A$1:$D$23,4,0)","v":{"$error":"#N/A"}}]
[{"$f":"INDEX(Tabelle2[[#All],[Budgetlinie]],MATCH(Tabelle1[[#This Row],[Maßnahme]],Ausfüllhilfe!$C$1:$C$22,0))","v":{"$error":"#N/A"}},null,null,null,null,null,null,null,null,{"$f":"VLOOKUP(Tabelle1[[#This Row],[Budgetlinie]],Ausfüllhilfe!$A$1:$D$23,4,0)","v":{"$error":"#N/A"}}]
[{"$f":"INDEX(Tabelle2[[#All],[Budgetlinie]],MATCH(Tabelle1[[#This Row],[Maßnahme]],Ausfüllhilfe!$C$1:$C$22,0))","v":{"$error":"#N/A"}},null,null,null,null,null,null,null,null,{"$f":"VLOOKUP(Tabelle1[[#This Row],[Budgetlinie]],Ausfüllhilfe!$A$1:$D$23,4,0)","v":{"$error":"#N/A"}}]
[{"$f":"INDEX(Tabelle2[[#All],[Budgetlinie]],MATCH(Tabelle1[[#This Row],[Maßnahme]],Ausfüllhilfe!$C$1:$C$22,0))","v":{"$error":"#N/A"}},null,null,null,null,null,null,null,null,{"$f":"VLOOKUP(Tabelle1[[#This Row],[Budgetlinie]],Ausfüllhilfe!$A$1:$D$23,4,0)","v":{"$error":"#N/A"}}]
[{"$f":"INDEX(Tabelle2[[#All],[Budgetlinie]],MATCH(Tabelle1[[#This Row],[Maßnahme]],Ausfüllhilfe!$C$1:$C$22,0))","v":{"$error":"#N/A"}},null,null,null,null,null,null,null,null,{"$f":"VLOOKUP(Tabelle1[[#This Row],[Budgetlinie]],Ausfüllhilfe!$A$1:$D$23,4,0)","v":{"$error":"#N/A"}}]
[{"$f":"INDEX(Tabelle2[[#All],[Budgetlinie]],MATCH(Tabelle1[[#This Row],[Maßnahme]],Ausfüllhilfe!$C$1:$C$22,0))","v":{"$error":"#N/A"}},null,null,null,null,null,null,null,null,{"$f":"VLOOKUP(Tabelle1[[#This Row],[Budgetlinie]],Ausfüllhilfe!$A$1:$D$23,4,0)","v":{"$error":"#N/A"}}]
[{"$f":"INDEX(Tabelle2[[#All],[Budgetlinie]],MATCH(Tabelle1[[#This Row],[Maßnahme]],Ausfüllhilfe!$C$1:$C$22,0))","v":{"$error":"#N/A"}},null,null,null,null,null,null,null,null,{"$f":"VLOOKUP(Tabelle1[[#This Row],[Budgetlinie]],Ausfüllhilfe!$A$1:$D$23,4,0)","v":{"$error":"#N/A"}}]
[{"$f":"INDEX(Tabelle2[[#All],[Budgetlinie]],MATCH(Tabelle1[[#This Row],[Maßnahme]],Ausfüllhilfe!$C$1:$C$22,0))","v":{"$error":"#N/A"}},null,null,null,null,null,null,null,null,{"$f":"VLOOKUP(Tabelle1[[#This Row],[Budgetlinie]],Ausfüllhilfe!$A$1:$D$23,4,0)","v":{"$error":"#N/A"}}]
[{"$f":"INDEX(Tabelle2[[#All],[Budgetlinie]],MATCH(Tabelle1[[#This Row],[Maßnahme]],Ausfüllhilfe!$C$1:$C$22,0))","v":{"$error":"#N/A"}},null,null,null,null,null,null,null,null,{"$f":"VLOOKUP(Tabelle1[[#This Row],[Budgetlinie]],Ausfüllhilfe!$A$1:$D$23,4,0)","v":{"$error":"#N/A"}}]
[{"$f":"INDEX(Tabelle2[[#All],[Budgetlinie]],MATCH(Tabelle1[[#This Row],[Maßnahme]],Ausfüllhilfe!$C$1:$C$22,0))","v":{"$error":"#N/A"}},null,null,null,null,null,null,null,null,{"$f":"VLOOKUP(Tabelle1[[#This Row],[Budgetlinie]],Ausfüllhilfe!$A$1:$D$23,4,0)","v":{"$error":"#N/A"}}]
[{"$f":"INDEX(Tabelle2[[#All],[Budgetlinie]],MATCH(Tabelle1[[#This Row],[Maßnahme]],Ausfüllhilfe!$C$1:$C$22,0))","v":{"$error":"#N/A"}},null,null,null,null,null,null,null,null,{"$f":"VLOOKUP(Tabelle1[[#This Row],[Budgetlinie]],Ausfüllhilfe!$A$1:$D$23,4,0)","v":{"$error":"#N/A"}}]
[{"$f":"INDEX(Tabelle2[[#All],[Budgetlinie]],MATCH(Tabelle1[[#This Row],[Maßnahme]],Ausfüllhilfe!$C$1:$C$22,0))","v":{"$error":"#N/A"}},null,null,null,null,null,null,null,null,{"$f":"VLOOKUP(Tabelle1[[#This Row],[Budgetlinie]],Ausfüllhilfe!$A$1:$D$23,4,0)","v":{"$error":"#N/A"}}]
[{"$f":"INDEX(Tabelle2[[#All],[Budgetlinie]],MATCH(Tabelle1[[#This Row],[Maßnahme]],Ausfüllhilfe!$C$1:$C$22,0))","v":{"$error":"#N/A"}},null,null,null,null,null,null,null,null,{"$f":"VLOOKUP(Tabelle1[[#This Row],[Budgetlinie]],Ausfüllhilfe!$A$1:$D$23,4,0)","v":{"$error":"#N/A"}}]
[{"$f":"INDEX(Tabelle2[[#All],[Budgetlinie]],MATCH(Tabelle1[[#This Row],[Maßnahme]],Ausfüllhilfe!$C$1:$C$22,0))","v":{"$error":"#N/A"}},null,null,null,null,null,null,null,null,{"$f":"VLOOKUP(Tabelle1[[#This Row],[Budgetlinie]],Ausfüllhilfe!$A$1:$D$23,4,0)","v":{"$error":"#N/A"}}]
[{"$f":"INDEX(Tabelle2[[#All],[Budgetlinie]],MATCH(Tabelle1[[#This Row],[Maßnahme]],Ausfüllhilfe!$C$1:$C$22,0))","v":{"$error":"#N/A"}},null,null,null,null,null,null,null,null,{"$f":"VLOOKUP(Tabelle1[[#This Row],[Budgetlinie]],Ausfüllhilfe!$A$1:$D$23,4,0)","v":{"$error":"#N/A"}}]
[{"$f":"INDEX(Tabelle2[[#All],[Budgetlinie]],MATCH(Tabelle1[[#This Row],[Maßnahme]],Ausfüllhilfe!$C$1:$C$22,0))","v":{"$error":"#N/A"}},null,null,null,null,null,null,null,null,{"$f":"VLOOKUP(Tabelle1[[#This Row],[Budgetlinie]],Ausfüllhilfe!$A$1:$D$23,4,0)","v":{"$error":"#N/A"}}]
[{"$f":"INDEX(Tabelle2[[#All],[Budgetlinie]],MATCH(Tabelle1[[#This Row],[Maßnahme]],Ausfüllhilfe!$C$1:$C$22,0))","v":{"$error":"#N/A"}},null,null,null,null,null,null,null,null,{"$f":"VLOOKUP(Tabelle1[[#This Row],[Budgetlinie]],Ausfüllhilfe!$A$1:$D$23,4,0)","v":{"$error":"#N/A"}}]
[{"$f":"INDEX(Tabelle2[[#All],[Budgetlinie]],MATCH(Tabelle1[[#This Row],[Maßnahme]],Ausfüllhilfe!$C$1:$C$22,0))","v":{"$error":"#N/A"}},null,null,null,null,null,null,null,null,{"$f":"VLOOKUP(Tabelle1[[#This Row],[Budgetlinie]],Ausfüllhilfe!$A$1:$D$23,4,0)","v":{"$error":"#N/A"}}]
[{"$f":"INDEX(Tabelle2[[#All],[Budgetlinie]],MATCH(Tabelle1[[#This Row],[Maßnahme]],Ausfüllhilfe!$C$1:$C$22,0))","v":{"$error":"#N/A"}},null,null,null,null,null,null,null,null,{"$f":"VLOOKUP(Tabelle1[[#This Row],[Budgetlinie]],Ausfüllhilfe!$A$1:$D$23,4,0)","v":{"$error":"#N/A"}}]
[{"$f":"INDEX(Tabelle2[[#All],[Budgetlinie]],MATCH(Tabelle1[[#This Row],[Maßnahme]],Ausfüllhilfe!$C$1:$C$22,0))","v":{"$error":"#N/A"}},null,null,null,null,null,null,null,null,{"$f":"VLOOKUP(Tabelle1[[#This Row],[Budgetlinie]],Ausfüllhilfe!$A$1:$D$23,4,0)","v":{"$error":"#N/A"}}]
[{"$f":"INDEX(Tabelle2[[#All],[Budgetlinie]],MATCH(Tabelle1[[#This Row],[Maßnahme]],Ausfüllhilfe!$C$1:$C$22,0))","v":{"$error":"#N/A"}},null,null,null,null,null,null,null,null,{"$f":"VLOOKUP(Tabelle1[[#This Row],[Budgetlinie]],Ausfüllhilfe!$A$1:$D$23,4,0)","v":{"$error":"#N/A"}}]
[{"$f":"INDEX(Tabelle2[[#All],[Budgetlinie]],MATCH(Tabelle1[[#This Row],[Maßnahme]],Ausfüllhilfe!$C$1:$C$22,0))","v":{"$error":"#N/A"}},null,null,null,null,null,null,null,null,{"$f":"VLOOKUP(Tabelle1[[#This Row],[Budgetlinie]],Ausfüllhilfe!$A$1:$D$23,4,0)","v":{"$error":"#N/A"}}]
[{"$f":"INDEX(Tabelle2[[#All],[Budgetlinie]],MATCH(Tabelle1[[#This Row],[Maßnahme]],Ausfüllhilfe!$C$1:$C$22,0))","v":{"$error":"#N/A"}},null,null,null,null,null,null,null,null,{"$f":"VLOOKUP(Tabelle1[[#This Row],[Budgetlinie]],Ausfüllhilfe!$A$1:$D$23,4,0)","v":{"$error":"#N/A"}}]
[{"$f":"INDEX(Tabelle2[[#All],[Budgetlinie]],MATCH(Tabelle1[[#This Row],[Maßnahme]],Ausfüllhilfe!$C$1:$C$22,0))","v":{"$error":"#N/A"}},null,null,null,null,null,null,null,null,{"$f":"VLOOKUP(Tabelle1[[#This Row],[Budgetlinie]],Ausfüllhilfe!$A$1:$D$23,4,0)","v":{"$error":"#N/A"}}]
[{"$f":"INDEX(Tabelle2[[#All],[Budgetlinie]],MATCH(Tabelle1[[#This Row],[Maßnahme]],Ausfüllhilfe!$C$1:$C$22,0))","v":{"$error":"#N/A"}},null,null,null,null,null,null,null,null,{"$f":"VLOOKUP(Tabelle1[[#This Row],[Budgetlinie]],Ausfüllhilfe!$A$1:$D$23,4,0)","v":{"$error":"#N/A"}}]
[{"$f":"INDEX(Tabelle2[[#All],[Budgetlinie]],MATCH(Tabelle1[[#This Row],[Maßnahme]],Ausfüllhilfe!$C$1:$C$22,0))","v":{"$error":"#N/A"}},null,null,null,null,null,null,null,null,{"$f":"VLOOKUP(Tabelle1[[#This Row],[Budgetlinie]],Ausfüllhilfe!$A$1:$D$23,4,0)","v":{"$error":"#N/A"}}]
[{"$f":"INDEX(Tabelle2[[#All],[Budgetlinie]],MATCH(Tabelle1[[#This Row],[Maßnahme]],Ausfüllhilfe!$C$1:$C$22,0))","v":{"$error":"#N/A"}},null,null,null,null,null,null,null,null,{"$f":"VLOOKUP(Tabelle1[[#This Row],[Budgetlinie]],Ausfüllhilfe!$A$1:$D$23,4,0)","v":{"$error":"#N/A"}}]
[{"$f":"INDEX(Tabelle2[[#All],[Budgetlinie]],MATCH(Tabelle1[[#This Row],[Maßnahme]],Ausfüllhilfe!$C$1:$C$22,0))","v":{"$error":"#N/A"}},null,null,null,null,null,null,null,null,{"$f":"VLOOKUP(Tabelle1[[#This Row],[Budgetlinie]],Ausfüllhilfe!$A$1:$D$23,4,0)","v":{"$error":"#N/A"}}]
[{"$f":"INDEX(Tabelle2[[#All],[Budgetlinie]],MATCH(Tabelle1[[#This Row],[Maßnahme]],Ausfüllhilfe!$C$1:$C$22,0))","v":{"$error":"#N/A"}},null,null,null,null,null,null,null,null,{"$f":"VLOOKUP(Tabelle1[[#This Row],[Budgetlinie]],Ausfüllhilfe!$A$1:$D$23,4,0)","v":{"$error":"#N/A"}}]
[{"$f":"INDEX(Tabelle2[[#All],[Budgetlinie]],MATCH(Tabelle1[[#This Row],[Maßnahme]],Ausfüllhilfe!$C$1:$C$22,0))","v":{"$error":"#N/A"}},null,null,null,null,null,null,null,null,{"$f":"VLOOKUP(Tabelle1[[#This Row],[Budgetlinie]],Ausfüllhilfe!$A$1:$D$23,4,0)","v":{"$error":"#N/A"}}]
[{"$f":"INDEX(Tabelle2[[#All],[Budgetlinie]],MATCH(Tabelle1[[#This Row],[Maßnahme]],Ausfüllhilfe!$C$1:$C$22,0))","v":{"$error":"#N/A"}},null,null,null,null,null,null,null,null,{"$f":"VLOOKUP(Tabelle1[[#This Row],[Budgetlinie]],Ausfüllhilfe!$A$1:$D$23,4,0)","v":{"$error":"#N/A"}}]
[{"$f":"INDEX(Tabelle2[[#All],[Budgetlinie]],MATCH(Tabelle1[[#This Row],[Maßnahme]],Ausfüllhilfe!$C$1:$C$22,0))","v":{"$error":"#N/A"}},null,null,null,null,null,null,null,null,{"$f":"VLOOKUP(Tabelle1[[#This Row],[Budgetlinie]],Ausfüllhilfe!$A$1:$D$23,4,0)","v":{"$error":"#N/A"}}]
[{"$f":"INDEX(Tabelle2[[#All],[Budgetlinie]],MATCH(Tabelle1[[#This Row],[Maßnahme]],Ausfüllhilfe!$C$1:$C$22,0))","v":{"$error":"#N/A"}},null,null,null,null,null,null,null,null,{"$f":"VLOOKUP(Tabelle1[[#This Row],[Budgetlinie]],Ausfüllhilfe!$A$1:$D$23,4,0)","v":{"$error":"#N/A"}}]
[{"$f":"INDEX(Tabelle2[[#All],[Budgetlinie]],MATCH(Tabelle1[[#This Row],[Maßnahme]],Ausfüllhilfe!$C$1:$C$22,0))","v":{"$error":"#N/A"}},null,null,null,null,null,null,null,null,{"$f":"VLOOKUP(Tabelle1[[#This Row],[Budgetlinie]],Ausfüllhilfe!$A$1:$D$23,4,0)","v":{"$error":"#N/A"}}]
[{"$f":"INDEX(Tabelle2[[#All],[Budgetlinie]],MATCH(Tabelle1[[#This Row],[Maßnahme]],Ausfüllhilfe!$C$1:$C$22,0))","v":{"$error":"#N/A"}},null,null,null,null,null,null,null,null,{"$f":"VLOOKUP(Tabelle1[[#This Row],[Budgetlinie]],Ausfüllhilfe!$A$1:$D$23,4,0)","v":{"$error":"#N/A"}}]
[{"$f":"INDEX(Tabelle2[[#All],[Budgetlinie]],MATCH(Tabelle1[[#This Row],[Maßnahme]],Ausfüllhilfe!$C$1:$C$22,0))","v":{"$error":"#N/A"}},null,null,null,null,null,null,null,null,{"$f":"VLOOKUP(Tabelle1[[#This Row],[Budgetlinie]],Ausfüllhilfe!$A$1:$D$23,4,0)","v":{"$error":"#N/A"}}]
[{"$f":"INDEX(Tabelle2[[#All],[Budgetlinie]],MATCH(Tabelle1[[#This Row],[Maßnahme]],Ausfüllhilfe!$C$1:$C$22,0))","v":{"$error":"#N/A"}},null,null,null,null,null,null,null,null,{"$f":"VLOOKUP(Tabelle1[[#This Row],[Budgetlinie]],Ausfüllhilfe!$A$1:$D$23,4,0)","v":{"$error":"#N/A"}}]
[{"$f":"INDEX(Tabelle2[[#All],[Budgetlinie]],MATCH(Tabelle1[[#This Row],[Maßnahme]],Ausfüllhilfe!$C$1:$C$22,0))","v":{"$error":"#N/A"}},null,null,null,null,null,null,null,null,{"$f":"VLOOKUP(Tabelle1[[#This Row],[Budgetlinie]],Ausfüllhilfe!$A$1:$D$23,4,0)","v":{"$error":"#N/A"}}]
[{"$f":"INDEX(Tabelle2[[#All],[Budgetlinie]],MATCH(Tabelle1[[#This Row],[Maßnahme]],Ausfüllhilfe!$C$1:$C$22,0))","v":{"$error":"#N/A"}},null,null,null,null,null,null,null,null,{"$f":"VLOOKUP(Tabelle1[[#This Row],[Budgetlinie]],Ausfüllhilfe!$A$1:$D$23,4,0)","v":{"$error":"#N/A"}}]
[{"$f":"INDEX(Tabelle2[[#All],[Budgetlinie]],MATCH(Tabelle1[[#This Row],[Maßnahme]],Ausfüllhilfe!$C$1:$C$22,0))","v":{"$error":"#N/A"}},null,null,null,null,null,null,null,null,{"$f":"VLOOKUP(Tabelle1[[#This Row],[Budgetlinie]],Ausfüllhilfe!$A$1:$D$23,4,0)","v":{"$error":"#N/A"}}]
[{"$f":"INDEX(Tabelle2[[#All],[Budgetlinie]],MATCH(Tabelle1[[#This Row],[Maßnahme]],Ausfüllhilfe!$C$1:$C$22,0))","v":{"$error":"#N/A"}},null,null,null,null,null,null,null,null,{"$f":"VLOOKUP(Tabelle1[[#This Row],[Budgetlinie]],Ausfüllhilfe!$A$1:$D$23,4,0)","v":{"$error":"#N/A"}}]
[{"$f":"INDEX(Tabelle2[[#All],[Budgetlinie]],MATCH(Tabelle1[[#This Row],[Maßnahme]],Ausfüllhilfe!$C$1:$C$22,0))","v":{"$error":"#N/A"}},null,null,null,null,null,null,null,null,{"$f":"VLOOKUP(Tabelle1[[#This Row],[Budgetlinie]],Ausfüllhilfe!$A$1:$D$23,4,0)","v":{"$error":"#N/A"}}]
[{"$f":"INDEX(Tabelle2[[#All],[Budgetlinie]],MATCH(Tabelle1[[#This Row],[Maßnahme]],Ausfüllhilfe!$C$1:$C$22,0))","v":{"$error":"#N/A"}},null,null,null,null,null,null,null,null,{"$f":"VLOOKUP(Tabelle1[[#This Row],[Budgetlinie]],Ausfüllhilfe!$A$1:$D$23,4,0)","v":{"$error":"#N/A"}}]
[{"$f":"INDEX(Tabelle2[[#All],[Budgetlinie]],MATCH(Tabelle1[[#This Row],[Maßnahme]],Ausfüllhilfe!$C$1:$C$22,0))","v":{"$error":"#N/A"}},null,null,null,null,null,null,null,null,{"$f":"VLOOKUP(Tabelle1[[#This Row],[Budgetlinie]],Ausfüllhilfe!$A$1:$D$23,4,0)","v":{"$error":"#N/A"}}]
[{"$f":"INDEX(Tabelle2[[#All],[Budgetlinie]],MATCH(Tabelle1[[#This Row],[Maßnahme]],Ausfüllhilfe!$C$1:$C$22,0))","v":{"$error":"#N/A"}},null,null,null,null,null,null,null,null,{"$f":"VLOOKUP(Tabelle1[[#This Row],[Budgetlinie]],Ausfüllhilfe!$A$1:$D$23,4,0)","v":{"$error":"#N/A"}}]
[{"$f":"INDEX(Tabelle2[[#All],[Budgetlinie]],MATCH(Tabelle1[[#This Row],[Maßnahme]],Ausfüllhilfe!$C$1:$C$22,0))","v":{"$error":"#N/A"}},null,null,null,null,null,null,null,null,{"$f":"VLOOKUP(Tabelle1[[#This Row],[Budgetlinie]],Ausfüllhilfe!$A$1:$D$23,4,0)","v":{"$error":"#N/A"}}]
[{"$f":"INDEX(Tabelle2[[#All],[Budgetlinie]],MATCH(Tabelle1[[#This Row],[Maßnahme]],Ausfüllhilfe!$C$1:$C$22,0))","v":{"$error":"#N/A"}},null,null,null,null,null,null,null,null,{"$f":"VLOOKUP(Tabelle1[[#This Row],[Budgetlinie]],Ausfüllhilfe!$A$1:$D$23,4,0)","v":{"$error":"#N/A"}}]
[{"$f":"INDEX(Tabelle2[[#All],[Budgetlinie]],MATCH(Tabelle1[[#This Row],[Maßnahme]],Ausfüllhilfe!$C$1:$C$22,0))","v":{"$error":"#N/A"}},null,null,null,null,null,null,null,null,{"$f":"VLOOKUP(Tabelle1[[#This Row],[Budgetlinie]],Ausfüllhilfe!$A$1:$D$23,4,0)","v":{"$error":"#N/A"}}]
[{"$f":"INDEX(Tabelle2[[#All],[Budgetlinie]],MATCH(Tabelle1[[#This Row],[Maßnahme]],Ausfüllhilfe!$C$1:$C$22,0))","v":{"$error":"#N/A"}},null,null,null,null,null,null,null,null,{"$f":"VLOOKUP(Tabelle1[[#This Row],[Budgetlinie]],Ausfüllhilfe!$A$1:$D$23,4,0)","v":{"$error":"#N/A"}}]
[{"$f":"INDEX(Tabelle2[[#All],[Budgetlinie]],MATCH(Tabelle1[[#This Row],[Maßnahme]],Ausfüllhilfe!$C$1:$C$22,0))","v":{"$error":"#N/A"}},null,null,null,null,null,null,null,null,{"$f":"VLOOKUP(Tabelle1[[#This Row],[Budgetlinie]],Ausfüllhilfe!$A$1:$D$23,4,0)","v":{"$error":"#N/A"}}]
[{"$f":"INDEX(Tabelle2[[#All],[Budgetlinie]],MATCH(Tabelle1[[#This Row],[Maßnahme]],Ausfüllhilfe!$C$1:$C$22,0))","v":{"$error":"#N/A"}},null,null,null,null,null,null,null,null,{"$f":"VLOOKUP(Tabelle1[[#This Row],[Budgetlinie]],Ausfüllhilfe!$A$1:$D$23,4,0)","v":{"$error":"#N/A"}}]
[{"$f":"INDEX(Tabelle2[[#All],[Budgetlinie]],MATCH(Tabelle1[[#This Row],[Maßnahme]],Ausfüllhilfe!$C$1:$C$22,0))","v":{"$error":"#N/A"}},null,null,null,null,null,null,null,null,{"$f":"VLOOKUP(Tabelle1[[#This Row],[Budgetlinie]],Ausfüllhilfe!$A$1:$D$23,4,0)","v":{"$error":"#N/A"}}]
[{"$f":"INDEX(Tabelle2[[#All],[Budgetlinie]],MATCH(Tabelle1[[#This Row],[Maßnahme]],Ausfüllhilfe!$C$1:$C$22,0))","v":{"$error":"#N/A"}},null,null,null,null,null,null,null,null,{"$f":"VLOOKUP(Tabelle1[[#This Row],[Budgetlinie]],Ausfüllhilfe!$A$1:$D$23,4,0)","v":{"$error":"#N/A"}}]
[{"$f":"INDEX(Tabelle2[[#All],[Budgetlinie]],MATCH(Tabelle1[[#This Row],[Maßnahme]],Ausfüllhilfe!$C$1:$C$22,0))","v":{"$error":"#N/A"}},null,null,null,null,null,null,null,null,{"$f":"VLOOKUP(Tabelle1[[#This Row],[Budgetlinie]],Ausfüllhilfe!$A$1:$D$23,4,0)","v":{"$error":"#N/A"}}]
[{"$f":"INDEX(Tabelle2[[#All],[Budgetlinie]],MATCH(Tabelle1[[#This Row],[Maßnahme]],Ausfüllhilfe!$C$1:$C$22,0))","v":{"$error":"#N/A"}},null,null,null,null,null,null,null,null,{"$f":"VLOOKUP(Tabelle1[[#This Row],[Budgetlinie]],Ausfüllhilfe!$A$1:$D$23,4,0)","v":{"$error":"#N/A"}}]
[{"$f":"INDEX(Tabelle2[[#All],[Budgetlinie]],MATCH(Tabelle1[[#This Row],[Maßnahme]],Ausfüllhilfe!$C$1:$C$22,0))","v":{"$error":"#N/A"}},null,null,null,null,null,null,null,null,{"$f":"VLOOKUP(Tabelle1[[#This Row],[Budgetlinie]],Ausfüllhilfe!$A$1:$D$23,4,0)","v":{"$error":"#N/A"}}]
[{"$f":"INDEX(Tabelle2[[#All],[Budgetlinie]],MATCH(Tabelle1[[#This Row],[Maßnahme]],Ausfüllhilfe!$C$1:$C$22,0))","v":{"$error":"#N/A"}},null,null,null,null,null,null,null,null,{"$f":"VLOOKUP(Tabelle1[[#This Row],[Budgetlinie]],Ausfüllhilfe!$A$1:$D$23,4,0)","v":{"$error":"#N/A"}}]
[{"$f":"INDEX(Tabelle2[[#All],[Budgetlinie]],MATCH(Tabelle1[[#This Row],[Maßnahme]],Ausfüllhilfe!$C$1:$C$22,0))","v":{"$error":"#N/A"}},null,null,null,null,null,null,null,null,{"$f":"VLOOKUP(Tabelle1[[#This Row],[Budgetlinie]],Ausfüllhilfe!$A$1:$D$23,4,0)","v":{"$error":"#N/A"}}]
[{"$f":"INDEX(Tabelle2[[#All],[Budgetlinie]],MATCH(Tabelle1[[#This Row],[Maßnahme]],Ausfüllhilfe!$C$1:$C$22,0))","v":{"$error":"#N/A"}},null,null,null,null,null,null,null,null,{"$f":"VLOOKUP(Tabelle1[[#This Row],[Budgetlinie]],Ausfüllhilfe!$A$1:$D$23,4,0)","v":{"$error":"#N/A"}}]
[{"$f":"INDEX(Tabelle2[[#All],[Budgetlinie]],MATCH(Tabelle1[[#This Row],[Maßnahme]],Ausfüllhilfe!$C$1:$C$22,0))","v":{"$error":"#N/A"}},null,null,null,null,null,null,null,null,{"$f":"VLOOKUP(Tabelle1[[#This Row],[Budgetlinie]],Ausfüllhilfe!$A$1:$D$23,4,0)","v":{"$error":"#N/A"}}]
[{"$f":"INDEX(Tabelle2[[#All],[Budgetlinie]],MATCH(Tabelle1[[#This Row],[Maßnahme]],Ausfüllhilfe!$C$1:$C$22,0))","v":{"$error":"#N/A"}},null,null,null,null,null,null,null,null,{"$f":"VLOOKUP(Tabelle1[[#This Row],[Budgetlinie]],Ausfüllhilfe!$A$1:$D$23,4,0)","v":{"$error":"#N/A"}}]
[{"$f":"INDEX(Tabelle2[[#All],[Budgetlinie]],MATCH(Tabelle1[[#This Row],[Maßnahme]],Ausfüllhilfe!$C$1:$C$22,0))","v":{"$error":"#N/A"}},null,null,null,null,null,null,null,null,{"$f":"VLOOKUP(Tabelle1[[#This Row],[Budgetlinie]],Ausfüllhilfe!$A$1:$D$23,4,0)","v":{"$error":"#N/A"}}]
[{"$f":"INDEX(Tabelle2[[#All],[Budgetlinie]],MATCH(Tabelle1[[#This Row],[Maßnahme]],Ausfüllhilfe!$C$1:$C$22,0))","v":{"$error":"#N/A"}},null,null,null,null,null,null,null,null,{"$f":"VLOOKUP(Tabelle1[[#This Row],[Budgetlinie]],Ausfüllhilfe!$A$1:$D$23,4,0)","v":{"$error":"#N/A"}}]
[{"$f":"INDEX(Tabelle2[[#All],[Budgetlinie]],MATCH(Tabelle1[[#This Row],[Maßnahme]],Ausfüllhilfe!$C$1:$C$22,0))","v":{"$error":"#N/A"}},null,null,null,null,null,null,null,null,{"$f":"VLOOKUP(Tabelle1[[#This Row],[Budgetlinie]],Ausfüllhilfe!$A$1:$D$23,4,0)","v":{"$error":"#N/A"}}]
[{"$f":"INDEX(Tabelle2[[#All],[Budgetlinie]],MATCH(Tabelle1[[#This Row],[Maßnahme]],Ausfüllhilfe!$C$1:$C$22,0))","v":{"$error":"#N/A"}},null,null,null,null,null,null,null,null,{"$f":"VLOOKUP(Tabelle1[[#This Row],[Budgetlinie]],Ausfüllhilfe!$A$1:$D$23,4,0)","v":{"$error":"#N/A"}}]
[{"$f":"INDEX(Tabelle2[[#All],[Budgetlinie]],MATCH(Tabelle1[[#This Row],[Maßnahme]],Ausfüllhilfe!$C$1:$C$22,0))","v":{"$error":"#N/A"}},null,null,null,null,null,null,null,null,{"$f":"VLOOKUP(Tabelle1[[#This Row],[Budgetlinie]],Ausfüllhilfe!$A$1:$D$23,4,0)","v":{"$error":"#N/A"}}]
[{"$f":"INDEX(Tabelle2[[#All],[Budgetlinie]],MATCH(Tabelle1[[#This Row],[Maßnahme]],Ausfüllhilfe!$C$1:$C$22,0))","v":{"$error":"#N/A"}},null,null,null,null,null,null,null,null,{"$f":"VLOOKUP(Tabelle1[[#This Row],[Budgetlinie]],Ausfüllhilfe!$A$1:$D$23,4,0)","v":{"$error":"#N/A"}}]
[{"$f":"INDEX(Tabelle2[[#All],[Budgetlinie]],MATCH(Tabelle1[[#This Row],[Maßnahme]],Ausfüllhilfe!$C$1:$C$22,0))","v":{"$error":"#N/A"}},null,null,null,null,null,null,null,null,{"$f":"VLOOKUP(Tabelle1[[#This Row],[Budgetlinie]],Ausfüllhilfe!$A$1:$D$23,4,0)","v":{"$error":"#N/A"}}]
[{"$f":"INDEX(Tabelle2[[#All],[Budgetlinie]],MATCH(Tabelle1[[#This Row],[Maßnahme]],Ausfüllhilfe!$C$1:$C$22,0))","v":{"$error":"#N/A"}},null,null,null,null,null,null,null,null,{"$f":"VLOOKUP(Tabelle1[[#This Row],[Budgetlinie]],Ausfüllhilfe!$A$1:$D$23,4,0)","v":{"$error":"#N/A"}}]
[{"$f":"INDEX(Tabelle2[[#All],[Budgetlinie]],MATCH(Tabelle1[[#This Row],[Maßnahme]],Ausfüllhilfe!$C$1:$C$22,0))","v":{"$error":"#N/A"}},null,null,null,null,null,null,null,null,{"$f":"VLOOKUP(Tabelle1[[#This Row],[Budgetlinie]],Ausfüllhilfe!$A$1:$D$23,4,0)","v":{"$error":"#N/A"}}]
[{"$f":"INDEX(Tabelle2[[#All],[Budgetlinie]],MATCH(Tabelle1[[#This Row],[Maßnahme]],Ausfüllhilfe!$C$1:$C$22,0))","v":{"$error":"#N/A"}},null,null,null,null,null,null,null,null,{"$f":"VLOOKUP(Tabelle1[[#This Row],[Budgetlinie]],Ausfüllhilfe!$A$1:$D$23,4,0)","v":{"$error":"#N/A"}}]
[{"$f":"INDEX(Tabelle2[[#All],[Budgetlinie]],MATCH(Tabelle1[[#This Row],[Maßnahme]],Ausfüllhilfe!$C$1:$C$22,0))","v":{"$error":"#N/A"}},null,null,null,null,null,null,null,null,{"$f":"VLOOKUP(Tabelle1[[#This Row],[Budgetlinie]],Ausfüllhilfe!$A$1:$D$23,4,0)","v":{"$error":"#N/A"}}]
[{"$f":"INDEX(Tabelle2[[#All],[Budgetlinie]],MATCH(Tabelle1[[#This Row],[Maßnahme]],Ausfüllhilfe!$C$1:$C$22,0))","v":{"$error":"#N/A"}},null,null,null,null,null,null,null,null,{"$f":"VLOOKUP(Tabelle1[[#This Row],[Budgetlinie]],Ausfüllhilfe!$A$1:$D$23,4,0)","v":{"$error":"#N/A"}}]
[{"$f":"INDEX(Tabelle2[[#All],[Budgetlinie]],MATCH(Tabelle1[[#This Row],[Maßnahme]],Ausfüllhilfe!$C$1:$C$22,0))","v":{"$error":"#N/A"}},null,null,null,null,null,null,null,null,{"$f":"VLOOKUP(Tabelle1[[#This Row],[Budgetlinie]],Ausfüllhilfe!$A$1:$D$23,4,0)","v":{"$error":"#N/A"}}]
[{"$f":"INDEX(Tabelle2[[#All],[Budgetlinie]],MATCH(Tabelle1[[#This Row],[Maßnahme]],Ausfüllhilfe!$C$1:$C$22,0))","v":{"$error":"#N/A"}},null,null,null,null,null,null,null,null,{"$f":"VLOOKUP(Tabelle1[[#This Row],[Budgetlinie]],Ausfüllhilfe!$A$1:$D$23,4,0)","v":{"$error":"#N/A"}}]
[{"$f":"INDEX(Tabelle2[[#All],[Budgetlinie]],MATCH(Tabelle1[[#This Row],[Maßnahme]],Ausfüllhilfe!$C$1:$C$22,0))","v":{"$error":"#N/A"}},null,null,null,null,null,null,null,null,{"$f":"VLOOKUP(Tabelle1[[#This Row],[Budgetlinie]],Ausfüllhilfe!$A$1:$D$23,4,0)","v":{"$error":"#N/A"}}]
[{"$f":"INDEX(Tabelle2[[#All],[Budgetlinie]],MATCH(Tabelle1[[#This Row],[Maßnahme]],Ausfüllhilfe!$C$1:$C$22,0))","v":{"$error":"#N/A"}},null,null,null,null,null,null,null,null,{"$f":"VLOOKUP(Tabelle1[[#This Row],[Budgetlinie]],Ausfüllhilfe!$A$1:$D$23,4,0)","v":{"$error":"#N/A"}}]
[{"$f":"INDEX(Tabelle2[[#All],[Budgetlinie]],MATCH(Tabelle1[[#This Row],[Maßnahme]],Ausfüllhilfe!$C$1:$C$22,0))","v":{"$error":"#N/A"}},null,null,null,null,null,null,null,null,{"$f":"VLOOKUP(Tabelle1[[#This Row],[Budgetlinie]],Ausfüllhilfe!$A$1:$D$23,4,0)","v":{"$error":"#N/A"}}]
[{"$f":"INDEX(Tabelle2[[#All],[Budgetlinie]],MATCH(Tabelle1[[#This Row],[Maßnahme]],Ausfüllhilfe!$C$1:$C$22,0))","v":{"$error":"#N/A"}},null,null,null,null,null,null,null,null,{"$f":"VLOOKUP(Tabelle1[[#This Row],[Budgetlinie]],Ausfüllhilfe!$A$1:$D$23,4,0)","v":{"$error":"#N/A"}}]
[{"$f":"INDEX(Tabelle2[[#All],[Budgetlinie]],MATCH(Tabelle1[[#This Row],[Maßnahme]],Ausfüllhilfe!$C$1:$C$22,0))","v":{"$error":"#N/A"}},null,null,null,null,null,null,null,null,{"$f":"VLOOKUP(Tabelle1[[#This Row],[Budgetlinie]],Ausfüllhilfe!$A$1:$D$23,4,0)","v":{"$error":"#N/A"}}]
[{"$f":"INDEX(Tabelle2[[#All],[Budgetlinie]],MATCH(Tabelle1[[#This Row],[Maßnahme]],Ausfüllhilfe!$C$1:$C$22,0))","v":{"$error":"#N/A"}},null,null,null,null,null,null,null,null,{"$f":"VLOOKUP(Tabelle1[[#This Row],[Budgetlinie]],Ausfüllhilfe!$A$1:$D$23,4,0)","v":{"$error":"#N/A"}}]
[{"$f":"INDEX(Tabelle2[[#All],[Budgetlinie]],MATCH(Tabelle1[[#This Row],[Maßnahme]],Ausfüllhilfe!$C$1:$C$22,0))","v":{"$error":"#N/A"}},null,null,null,null,null,null,null,null,{"$f":"VLOOKUP(Tabelle1[[#This Row],[Budgetlinie]],Ausfüllhilfe!$A$1:$D$23,4,0)","v":{"$error":"#N/A"}}]
[{"$f":"INDEX(Tabelle2[[#All],[Budgetlinie]],MATCH(Tabelle1[[#This Row],[Maßnahme]],Ausfüllhilfe!$C$1:$C$22,0))","v":{"$error":"#N/A"}},null,null,null,null,null,null,null,null,{"$f":"VLOOKUP(Tabelle1[[#This Row],[Budgetlinie]],Ausfüllhilfe!$A$1:$D$23,4,0)","v":{"$error":"#N/A"}}]
[{"$f":"INDEX(Tabelle2[[#All],[Budgetlinie]],MATCH(Tabelle1[[#This Row],[Maßnahme]],Ausfüllhilfe!$C$1:$C$22,0))","v":{"$error":"#N/A"}},null,null,null,null,null,null,null,null,{"$f":"VLOOKUP(Tabelle1[[#This Row],[Budgetlinie]],Ausfüllhilfe!$A$1:$D$23,4,0)","v":{"$error":"#N/A"}}]
[{"$f":"INDEX(Tabelle2[[#All],[Budgetlinie]],MATCH(Tabelle1[[#This Row],[Maßnahme]],Ausfüllhilfe!$C$1:$C$22,0))","v":{"$error":"#N/A"}},null,null,null,null,null,null,null,null,{"$f":"VLOOKUP(Tabelle1[[#This Row],[Budgetlinie]],Ausfüllhilfe!$A$1:$D$23,4,0)","v":{"$error":"#N/A"}}]
[{"$f":"INDEX(Tabelle2[[#All],[Budgetlinie]],MATCH(Tabelle1[[#This Row],[Maßnahme]],Ausfüllhilfe!$C$1:$C$22,0))","v":{"$error":"#N/A"}},null,null,null,null,null,null,null,null,{"$f":"VLOOKUP(Tabelle1[[#This Row],[Budgetlinie]],Ausfüllhilfe!$A$1:$D$23,4,0)","v":{"$error":"#N/A"}}]
[{"$f":"INDEX(Tabelle2[[#All],[Budgetlinie]],MATCH(Tabelle1[[#This Row],[Maßnahme]],Ausfüllhilfe!$C$1:$C$22,0))","v":{"$error":"#N/A"}},null,null,null,null,null,null,null,null,{"$f":"VLOOKUP(Tabelle1[[#This Row],[Budgetlinie]],Ausfüllhilfe!$A$1:$D$23,4,0)","v":{"$error":"#N/A"}}]
[{"$f":"INDEX(Tabelle2[[#All],[Budgetlinie]],MATCH(Tabelle1[[#This Row],[Maßnahme]],Ausfüllhilfe!$C$1:$C$22,0))","v":{"$error":"#N/A"}},null,null,null,null,null,null,null,null,{"$f":"VLOOKUP(Tabelle1[[#This Row],[Budgetlinie]],Ausfüllhilfe!$A$1:$D$23,4,0)","v":{"$error":"#N/A"}}]
[{"$f":"INDEX(Tabelle2[[#All],[Budgetlinie]],MATCH(Tabelle1[[#This Row],[Maßnahme]],Ausfüllhilfe!$C$1:$C$22,0))","v":{"$error":"#N/A"}},null,null,null,null,null,null,null,null,{"$f":"VLOOKUP(Tabelle1[[#This Row],[Budgetlinie]],Ausfüllhilfe!$A$1:$D$23,4,0)","v":{"$error":"#N/A"}}]
[{"$f":"INDEX(Tabelle2[[#All],[Budgetlinie]],MATCH(Tabelle1[[#This Row],[Maßnahme]],Ausfüllhilfe!$C$1:$C$22,0))","v":{"$error":"#N/A"}},null,null,null,null,null,null,null,null,{"$f":"VLOOKUP(Tabelle1[[#This Row],[Budgetlinie]],Ausfüllhilfe!$A$1:$D$23,4,0)","v":{"$error":"#N/A"}}]
[{"$f":"INDEX(Tabelle2[[#All],[Budgetlinie]],MATCH(Tabelle1[[#This Row],[Maßnahme]],Ausfüllhilfe!$C$1:$C$22,0))","v":{"$error":"#N/A"}},null,null,null,null,null,null,null,null,{"$f":"VLOOKUP(Tabelle1[[#This Row],[Budgetlinie]],Ausfüllhilfe!$A$1:$D$23,4,0)","v":{"$error":"#N/A"}}]
[{"$f":"INDEX(Tabelle2[[#All],[Budgetlinie]],MATCH(Tabelle1[[#This Row],[Maßnahme]],Ausfüllhilfe!$C$1:$C$22,0))","v":{"$error":"#N/A"}},null,null,null,null,null,null,null,null,{"$f":"VLOOKUP(Tabelle1[[#This Row],[Budgetlinie]],Ausfüllhilfe!$A$1:$D$23,4,0)","v":{"$error":"#N/A"}}]
[{"$f":"INDEX(Tabelle2[[#All],[Budgetlinie]],MATCH(Tabelle1[[#This Row],[Maßnahme]],Ausfüllhilfe!$C$1:$C$22,0))","v":{"$error":"#N/A"}},null,null,null,null,null,null,null,null,{"$f":"VLOOKUP(Tabelle1[[#This Row],[Budgetlinie]],Ausfüllhilfe!$A$1:$D$23,4,0)","v":{"$error":"#N/A"}}]
[{"$f":"INDEX(Tabelle2[[#All],[Budgetlinie]],MATCH(Tabelle1[[#This Row],[Maßnahme]],Ausfüllhilfe!$C$1:$C$22,0))","v":{"$error":"#N/A"}},null,null,null,null,null,null,null,null,{"$f":"VLOOKUP(Tabelle1[[#This Row],[Budgetlinie]],Ausfüllhilfe!$A$1:$D$23,4,0)","v":{"$error":"#N/A"}}]
[{"$f":"INDEX(Tabelle2[[#All],[Budgetlinie]],MATCH(Tabelle1[[#This Row],[Maßnahme]],Ausfüllhilfe!$C$1:$C$22,0))","v":{"$error":"#N/A"}},null,null,null,null,null,null,null,null,{"$f":"VLOOKUP(Tabelle1[[#This Row],[Budgetlinie]],Ausfüllhilfe!$A$1:$D$23,4,0)","v":{"$error":"#N/A"}}]
[{"$f":"INDEX(Tabelle2[[#All],[Budgetlinie]],MATCH(Tabelle1[[#This Row],[Maßnahme]],Ausfüllhilfe!$C$1:$C$22,0))","v":{"$error":"#N/A"}},null,null,null,null,null,null,null,null,{"$f":"VLOOKUP(Tabelle1[[#This Row],[Budgetlinie]],Ausfüllhilfe!$A$1:$D$23,4,0)","v":{"$error":"#N/A"}}]
[{"$f":"INDEX(Tabelle2[[#All],[Budgetlinie]],MATCH(Tabelle1[[#This Row],[Maßnahme]],Ausfüllhilfe!$C$1:$C$22,0))","v":{"$error":"#N/A"}},null,null,null,null,null,null,null,null,{"$f":"VLOOKUP(Tabelle1[[#This Row],[Budgetlinie]],Ausfüllhilfe!$A$1:$D$23,4,0)","v":{"$error":"#N/A"}}]
[{"$f":"INDEX(Tabelle2[[#All],[Budgetlinie]],MATCH(Tabelle1[[#This Row],[Maßnahme]],Ausfüllhilfe!$C$1:$C$22,0))","v":{"$error":"#N/A"}},null,null,null,null,null,null,null,null,{"$f":"VLOOKUP(Tabelle1[[#This Row],[Budgetlinie]],Ausfüllhilfe!$A$1:$D$23,4,0)","v":{"$error":"#N/A"}}]
[{"$f":"INDEX(Tabelle2[[#All],[Budgetlinie]],MATCH(Tabelle1[[#This Row],[Maßnahme]],Ausfüllhilfe!$C$1:$C$22,0))","v":{"$error":"#N/A"}},null,null,null,null,null,null,null,null,{"$f":"VLOOKUP(Tabelle1[[#This Row],[Budgetlinie]],Ausfüllhilfe!$A$1:$D$23,4,0)","v":{"$error":"#N/A"}}]
[{"$f":"INDEX(Tabelle2[[#All],[Budgetlinie]],MATCH(Tabelle1[[#This Row],[Maßnahme]],Ausfüllhilfe!$C$1:$C$22,0))","v":{"$error":"#N/A"}},null,null,null,null,null,null,null,null,{"$f":"VLOOKUP(Tabelle1[[#This Row],[Budgetlinie]],Ausfüllhilfe!$A$1:$D$23,4,0)","v":{"$error":"#N/A"}}]
[{"$f":"INDEX(Tabelle2[[#All],[Budgetlinie]],MATCH(Tabelle1[[#This Row],[Maßnahme]],Ausfüllhilfe!$C$1:$C$22,0))","v":{"$error":"#N/A"}},null,null,null,null,null,null,null,null,{"$f":"VLOOKUP(Tabelle1[[#This Row],[Budgetlinie]],Ausfüllhilfe!$A$1:$D$23,4,0)","v":{"$error":"#N/A"}}]
[{"$f":"INDEX(Tabelle2[[#All],[Budgetlinie]],MATCH(Tabelle1[[#This Row],[Maßnahme]],Ausfüllhilfe!$C$1:$C$22,0))","v":{"$error":"#N/A"}},null,null,null,null,null,null,null,null,{"$f":"VLOOKUP(Tabelle1[[#This Row],[Budgetlinie]],Ausfüllhilfe!$A$1:$D$23,4,0)","v":{"$error":"#N/A"}}]
[{"$f":"INDEX(Tabelle2[[#All],[Budgetlinie]],MATCH(Tabelle1[[#This Row],[Maßnahme]],Ausfüllhilfe!$C$1:$C$22,0))","v":{"$error":"#N/A"}},null,null,null,null,null,null,null,null,{"$f":"VLOOKUP(Tabelle1[[#This Row],[Budgetlinie]],Ausfüllhilfe!$A$1:$D$23,4,0)","v":{"$error":"#N/A"}}]
[{"$f":"INDEX(Tabelle2[[#All],[Budgetlinie]],MATCH(Tabelle1[[#This Row],[Maßnahme]],Ausfüllhilfe!$C$1:$C$22,0))","v":{"$error":"#N/A"}},null,null,null,null,null,null,null,null,{"$f":"VLOOKUP(Tabelle1[[#This Row],[Budgetlinie]],Ausfüllhilfe!$A$1:$D$23,4,0)","v":{"$error":"#N/A"}}]
[{"$f":"INDEX(Tabelle2[[#All],[Budgetlinie]],MATCH(Tabelle1[[#This Row],[Maßnahme]],Ausfüllhilfe!$C$1:$C$22,0))","v":{"$error":"#N/A"}},null,null,null,null,null,null,null,null,{"$f":"VLOOKUP(Tabelle1[[#This Row],[Budgetlinie]],Ausfüllhilfe!$A$1:$D$23,4,0)","v":{"$error":"#N/A"}}]
[{"$f":"INDEX(Tabelle2[[#All],[Budgetlinie]],MATCH(Tabelle1[[#This Row],[Maßnahme]],Ausfüllhilfe!$C$1:$C$22,0))","v":{"$error":"#N/A"}},null,null,null,null,null,null,null,null,{"$f":"VLOOKUP(Tabelle1[[#This Row],[Budgetlinie]],Ausfüllhilfe!$A$1:$D$23,4,0)","v":{"$error":"#N/A"}}]
[{"$f":"INDEX(Tabelle2[[#All],[Budgetlinie]],MATCH(Tabelle1[[#This Row],[Maßnahme]],Ausfüllhilfe!$C$1:$C$22,0))","v":{"$error":"#N/A"}},null,null,null,null,null,null,null,null,{"$f":"VLOOKUP(Tabelle1[[#This Row],[Budgetlinie]],Ausfüllhilfe!$A$1:$D$23,4,0)","v":{"$error":"#N/A"}}]
[{"$f":"INDEX(Tabelle2[[#All],[Budgetlinie]],MATCH(Tabelle1[[#This Row],[Maßnahme]],Ausfüllhilfe!$C$1:$C$22,0))","v":{"$error":"#N/A"}},null,null,null,null,null,null,null,null,{"$f":"VLOOKUP(Tabelle1[[#This Row],[Budgetlinie]],Ausfüllhilfe!$A$1:$D$23,4,0)","v":{"$error":"#N/A"}}]
[{"$f":"INDEX(Tabelle2[[#All],[Budgetlinie]],MATCH(Tabelle1[[#This Row],[Maßnahme]],Ausfüllhilfe!$C$1:$C$22,0))","v":{"$error":"#N/A"}},null,null,null,null,null,null,null,null,{"$f":"VLOOKUP(Tabelle1[[#This Row],[Budgetlinie]],Ausfüllhilfe!$A$1:$D$23,4,0)","v":{"$error":"#N/A"}}]
[{"$f":"INDEX(Tabelle2[[#All],[Budgetlinie]],MATCH(Tabelle1[[#This Row],[Maßnahme]],Ausfüllhilfe!$C$1:$C$22,0))","v":{"$error":"#N/A"}},null,null,null,null,null,null,null,null,{"$f":"VLOOKUP(Tabelle1[[#This Row],[Budgetlinie]],Ausfüllhilfe!$A$1:$D$23,4,0)","v":{"$error":"#N/A"}}]
[{"$f":"INDEX(Tabelle2[[#All],[Budgetlinie]],MATCH(Tabelle1[[#This Row],[Maßnahme]],Ausfüllhilfe!$C$1:$C$22,0))","v":{"$error":"#N/A"}},null,null,null,null,null,null,null,null,{"$f":"VLOOKUP(Tabelle1[[#This Row],[Budgetlinie]],Ausfüllhilfe!$A$1:$D$23,4,0)","v":{"$error":"#N/A"}}]
[{"$f":"INDEX(Tabelle2[[#All],[Budgetlinie]],MATCH(Tabelle1[[#This Row],[Maßnahme]],Ausfüllhilfe!$C$1:$C$22,0))","v":{"$error":"#N/A"}},null,null,null,null,null,null,null,null,{"$f":"VLOOKUP(Tabelle1[[#This Row],[Budgetlinie]],Ausfüllhilfe!$A$1:$D$23,4,0)","v":{"$error":"#N/A"}}]
[{"$f":"INDEX(Tabelle2[[#All],[Budgetlinie]],MATCH(Tabelle1[[#This Row],[Maßnahme]],Ausfüllhilfe!$C$1:$C$22,0))","v":{"$error":"#N/A"}},null,null,null,null,null,null,null,null,{"$f":"VLOOKUP(Tabelle1[[#This Row],[Budgetlinie]],Ausfüllhilfe!$A$1:$D$23,4,0)","v":{"$error":"#N/A"}}]
[{"$f":"INDEX(Tabelle2[[#All],[Budgetlinie]],MATCH(Tabelle1[[#This Row],[Maßnahme]],Ausfüllhilfe!$C$1:$C$22,0))","v":{"$error":"#N/A"}},null,null,null,null,null,null,null,null,{"$f":"VLOOKUP(Tabelle1[[#This Row],[Budgetlinie]],Ausfüllhilfe!$A$1:$D$23,4,0)","v":{"$error":"#N/A"}}]
[{"$f":"INDEX(Tabelle2[[#All],[Budgetlinie]],MATCH(Tabelle1[[#This Row],[Maßnahme]],Ausfüllhilfe!$C$1:$C$22,0))","v":{"$error":"#N/A"}},null,null,null,null,null,null,null,null,{"$f":"VLOOKUP(Tabelle1[[#This Row],[Budgetlinie]],Ausfüllhilfe!$A$1:$D$23,4,0)","v":{"$error":"#N/A"}}]
[{"$f":"INDEX(Tabelle2[[#All],[Budgetlinie]],MATCH(Tabelle1[[#This Row],[Maßnahme]],Ausfüllhilfe!$C$1:$C$22,0))","v":{"$error":"#N/A"}},null,null,null,null,null,null,null,null,{"$f":"VLOOKUP(Tabelle1[[#This Row],[Budgetlinie]],Ausfüllhilfe!$A$1:$D$23,4,0)","v":{"$error":"#N/A"}}]
[{"$f":"INDEX(Tabelle2[[#All],[Budgetlinie]],MATCH(Tabelle1[[#This Row],[Maßnahme]],Ausfüllhilfe!$C$1:$C$22,0))","v":{"$error":"#N/A"}},null,null,null,null,null,null,null,null,{"$f":"VLOOKUP(Tabelle1[[#This Row],[Budgetlinie]],Ausfüllhilfe!$A$1:$D$23,4,0)","v":{"$error":"#N/A"}}]
[{"$f":"INDEX(Tabelle2[[#All],[Budgetlinie]],MATCH(Tabelle1[[#This Row],[Maßnahme]],Ausfüllhilfe!$C$1:$C$22,0))","v":{"$error":"#N/A"}},null,null,null,null,null,null,null,null,{"$f":"VLOOKUP(Tabelle1[[#This Row],[Budgetlinie]],Ausfüllhilfe!$A$1:$D$23,4,0)","v":{"$error":"#N/A"}}]
[{"$f":"INDEX(Tabelle2[[#All],[Budgetlinie]],MATCH(Tabelle1[[#This Row],[Maßnahme]],Ausfüllhilfe!$C$1:$C$22,0))","v":{"$error":"#N/A"}},null,null,null,null,null,null,null,null,{"$f":"VLOOKUP(Tabelle1[[#This Row],[Budgetlinie]],Ausfüllhilfe!$A$1:$D$23,4,0)","v":{"$error":"#N/A"}}]
[{"$f":"INDEX(Tabelle2[[#All],[Budgetlinie]],MATCH(Tabelle1[[#This Row],[Maßnahme]],Ausfüllhilfe!$C$1:$C$22,0))","v":{"$error":"#N/A"}},null,null,null,null,null,null,null,null,{"$f":"VLOOKUP(Tabelle1[[#This Row],[Budgetlinie]],Ausfüllhilfe!$A$1:$D$23,4,0)","v":{"$error":"#N/A"}}]
[{"$f":"INDEX(Tabelle2[[#All],[Budgetlinie]],MATCH(Tabelle1[[#This Row],[Maßnahme]],Ausfüllhilfe!$C$1:$C$22,0))","v":{"$error":"#N/A"}},null,null,null,null,null,null,null,null,{"$f":"VLOOKUP(Tabelle1[[#This Row],[Budgetlinie]],Ausfüllhilfe!$A$1:$D$23,4,0)","v":{"$error":"#N/A"}}]
[{"$f":"INDEX(Tabelle2[[#All],[Budgetlinie]],MATCH(Tabelle1[[#This Row],[Maßnahme]],Ausfüllhilfe!$C$1:$C$22,0))","v":{"$error":"#N/A"}},null,null,null,null,null,null,null,null,{"$f":"VLOOKUP(Tabelle1[[#This Row],[Budgetlinie]],Ausfüllhilfe!$A$1:$D$23,4,0)","v":{"$error":"#N/A"}}]
[{"$f":"INDEX(Tabelle2[[#All],[Budgetlinie]],MATCH(Tabelle1[[#This Row],[Maßnahme]],Ausfüllhilfe!$C$1:$C$22,0))","v":{"$error":"#N/A"}},null,null,null,null,null,null,null,null,{"$f":"VLOOKUP(Tabelle1[[#This Row],[Budgetlinie]],Ausfüllhilfe!$A$1:$D$23,4,0)","v":{"$error":"#N/A"}}]
[{"$f":"INDEX(Tabelle2[[#All],[Budgetlinie]],MATCH(Tabelle1[[#This Row],[Maßnahme]],Ausfüllhilfe!$C$1:$C$22,0))","v":{"$error":"#N/A"}},null,null,null,null,null,null,null,null,{"$f":"VLOOKUP(Tabelle1[[#This Row],[Budgetlinie]],Ausfüllhilfe!$A$1:$D$23,4,0)","v":{"$error":"#N/A"}}]
[{"$f":"INDEX(Tabelle2[[#All],[Budgetlinie]],MATCH(Tabelle1[[#This Row],[Maßnahme]],Ausfüllhilfe!$C$1:$C$22,0))","v":{"$error":"#N/A"}},null,null,null,null,null,null,null,null,{"$f":"VLOOKUP(Tabelle1[[#This Row],[Budgetlinie]],Ausfüllhilfe!$A$1:$D$23,4,0)","v":{"$error":"#N/A"}}]
[{"$f":"INDEX(Tabelle2[[#All],[Budgetlinie]],MATCH(Tabelle1[[#This Row],[Maßnahme]],Ausfüllhilfe!$C$1:$C$22,0))","v":{"$error":"#N/A"}},null,null,null,null,null,null,null,null,{"$f":"VLOOKUP(Tabelle1[[#This Row],[Budgetlinie]],Ausfüllhilfe!$A$1:$D$23,4,0)","v":{"$error":"#N/A"}}]
[{"$f":"INDEX(Tabelle2[[#All],[Budgetlinie]],MATCH(Tabelle1[[#This Row],[Maßnahme]],Ausfüllhilfe!$C$1:$C$22,0))","v":{"$error":"#N/A"}},null,null,null,null,null,null,null,null,{"$f":"VLOOKUP(Tabelle1[[#This Row],[Budgetlinie]],Ausfüllhilfe!$A$1:$D$23,4,0)","v":{"$error":"#N/A"}}]
[{"$f":"INDEX(Tabelle2[[#All],[Budgetlinie]],MATCH(Tabelle1[[#This Row],[Maßnahme]],Ausfüllhilfe!$C$1:$C$22,0))","v":{"$error":"#N/A"}},null,null,null,null,null,null,null,null,{"$f":"VLOOKUP(Tabelle1[[#This Row],[Budgetlinie]],Ausfüllhilfe!$A$1:$D$23,4,0)","v":{"$error":"#N/A"}}]
[{"$f":"INDEX(Tabelle2[[#All],[Budgetlinie]],MATCH(Tabelle1[[#This Row],[Maßnahme]],Ausfüllhilfe!$C$1:$C$22,0))","v":{"$error":"#N/A"}},null,null,null,null,null,null,null,null,{"$f":"VLOOKUP(Tabelle1[[#This Row],[Budgetlinie]],Ausfüllhilfe!$A$1:$D$23,4,0)","v":{"$error":"#N/A"}}]
[{"$f":"INDEX(Tabelle2[[#All],[Budgetlinie]],MATCH(Tabelle1[[#This Row],[Maßnahme]],Ausfüllhilfe!$C$1:$C$22,0))","v":{"$error":"#N/A"}},null,null,null,null,null,null,null,null,{"$f":"VLOOKUP(Tabelle1[[#This Row],[Budgetlinie]],Ausfüllhilfe!$A$1:$D$23,4,0)","v":{"$error":"#N/A"}}]
[{"$f":"INDEX(Tabelle2[[#All],[Budgetlinie]],MATCH(Tabelle1[[#This Row],[Maßnahme]],Ausfüllhilfe!$C$1:$C$22,0))","v":{"$error":"#N/A"}},null,null,null,null,null,null,null,null,{"$f":"VLOOKUP(Tabelle1[[#This Row],[Budgetlinie]],Ausfüllhilfe!$A$1:$D$23,4,0)","v":{"$error":"#N/A"}}]
[{"$f":"INDEX(Tabelle2[[#All],[Budgetlinie]],MATCH(Tabelle1[[#This Row],[Maßnahme]],Ausfüllhilfe!$C$1:$C$22,0))","v":{"$error":"#N/A"}},null,null,null,null,null,null,null,null,{"$f":"VLOOKUP(Tabelle1[[#This Row],[Budgetlinie]],Ausfüllhilfe!$A$1:$D$23,4,0)","v":{"$error":"#N/A"}}]
[{"$f":"INDEX(Tabelle2[[#All],[Budgetlinie]],MATCH(Tabelle1[[#This Row],[Maßnahme]],Ausfüllhilfe!$C$1:$C$22,0))","v":{"$error":"#N/A"}},null,null,null,null,null,null,null,null,{"$f":"VLOOKUP(Tabelle1[[#This Row],[Budgetlinie]],Ausfüllhilfe!$A$1:$D$23,4,0)","v":{"$error":"#N/A"}}]
[{"$f":"INDEX(Tabelle2[[#All],[Budgetlinie]],MATCH(Tabelle1[[#This Row],[Maßnahme]],Ausfüllhilfe!$C$1:$C$22,0))","v":{"$error":"#N/A"}},null,null,null,null,null,null,null,null,{"$f":"VLOOKUP(Tabelle1[[#This Row],[Budgetlinie]],Ausfüllhilfe!$A$1:$D$23,4,0)","v":{"$error":"#N/A"}}]
[{"$f":"INDEX(Tabelle2[[#All],[Budgetlinie]],MATCH(Tabelle1[[#This Row],[Maßnahme]],Ausfüllhilfe!$C$1:$C$22,0))","v":{"$error":"#N/A"}},null,null,null,null,null,null,null,null,{"$f":"VLOOKUP(Tabelle1[[#This Row],[Budgetlinie]],Ausfüllhilfe!$A$1:$D$23,4,0)","v":{"$error":"#N/A"}}]
[{"$f":"INDEX(Tabelle2[[#All],[Budgetlinie]],MATCH(Tabelle1[[#This Row],[Maßnahme]],Ausfüllhilfe!$C$1:$C$22,0))","v":{"$error":"#N/A"}},null,null,null,null,null,null,null,null,{"$f":"VLOOKUP(Tabelle1[[#This Row],[Budgetlinie]],Ausfüllhilfe!$A$1:$D$23,4,0)","v":{"$error":"#N/A"}}]
[{"$f":"INDEX(Tabelle2[[#All],[Budgetlinie]],MATCH(Tabelle1[[#This Row],[Maßnahme]],Ausfüllhilfe!$C$1:$C$22,0))","v":{"$error":"#N/A"}},null,null,null,null,null,null,null,null,{"$f":"VLOOKUP(Tabelle1[[#This Row],[Budgetlinie]],Ausfüllhilfe!$A$1:$D$23,4,0)","v":{"$error":"#N/A"}}]
[{"$f":"INDEX(Tabelle2[[#All],[Budgetlinie]],MATCH(Tabelle1[[#This Row],[Maßnahme]],Ausfüllhilfe!$C$1:$C$22,0))","v":{"$error":"#N/A"}},null,null,null,null,null,null,null,null,{"$f":"VLOOKUP(Tabelle1[[#This Row],[Budgetlinie]],Ausfüllhilfe!$A$1:$D$23,4,0)","v":{"$error":"#N/A"}}]
[{"$f":"INDEX(Tabelle2[[#All],[Budgetlinie]],MATCH(Tabelle1[[#This Row],[Maßnahme]],Ausfüllhilfe!$C$1:$C$22,0))","v":{"$error":"#N/A"}},null,null,null,null,null,null,null,null,{"$f":"VLOOKUP(Tabelle1[[#This Row],[Budgetlinie]],Ausfüllhilfe!$A$1:$D$23,4,0)","v":{"$error":"#N/A"}}]
[{"$f":"INDEX(Tabelle2[[#All],[Budgetlinie]],MATCH(Tabelle1[[#This Row],[Maßnahme]],Ausfüllhilfe!$C$1:$C$22,0))","v":{"$error":"#N/A"}},null,null,null,null,null,null,null,null,{"$f":"VLOOKUP(Tabelle1[[#This Row],[Budgetlinie]],Ausfüllhilfe!$A$1:$D$23,4,0)","v":{"$error":"#N/A"}}]
[{"$f":"INDEX(Tabelle2[[#All],[Budgetlinie]],MATCH(Tabelle1[[#This Row],[Maßnahme]],Ausfüllhilfe!$C$1:$C$22,0))","v":{"$error":"#N/A"}},null,null,null,null,null,null,null,null,{"$f":"VLOOKUP(Tabelle1[[#This Row],[Budgetlinie]],Ausfüllhilfe!$A$1:$D$23,4,0)","v":{"$error":"#N/A"}}]
[{"$f":"INDEX(Tabelle2[[#All],[Budgetlinie]],MATCH(Tabelle1[[#This Row],[Maßnahme]],Ausfüllhilfe!$C$1:$C$22,0))","v":{"$error":"#N/A"}},null,null,null,null,null,null,null,null,{"$f":"VLOOKUP(Tabelle1[[#This Row],[Budgetlinie]],Ausfüllhilfe!$A$1:$D$23,4,0)","v":{"$error":"#N/A"}}]
[{"$f":"INDEX(Tabelle2[[#All],[Budgetlinie]],MATCH(Tabelle1[[#This Row],[Maßnahme]],Ausfüllhilfe!$C$1:$C$22,0))","v":{"$error":"#N/A"}},null,null,null,null,null,null,null,null,{"$f":"VLOOKUP(Tabelle1[[#This Row],[Budgetlinie]],Ausfüllhilfe!$A$1:$D$23,4,0)","v":{"$error":"#N/A"}}]
[{"$f":"INDEX(Tabelle2[[#All],[Budgetlinie]],MATCH(Tabelle1[[#This Row],[Maßnahme]],Ausfüllhilfe!$C$1:$C$22,0))","v":{"$error":"#N/A"}},null,null,null,null,null,null,null,null,{"$f":"VLOOKUP(Tabelle1[[#This Row],[Budgetlinie]],Ausfüllhilfe!$A$1:$D$23,4,0)","v":{"$error":"#N/A"}}]
[{"$f":"INDEX(Tabelle2[[#All],[Budgetlinie]],MATCH(Tabelle1[[#This Row],[Maßnahme]],Ausfüllhilfe!$C$1:$C$22,0))","v":{"$error":"#N/A"}},null,null,null,null,null,null,null,null,{"$f":"VLOOKUP(Tabelle1[[#This Row],[Budgetlinie]],Ausfüllhilfe!$A$1:$D$23,4,0)","v":{"$error":"#N/A"}}]
[{"$f":"INDEX(Tabelle2[[#All],[Budgetlinie]],MATCH(Tabelle1[[#This Row],[Maßnahme]],Ausfüllhilfe!$C$1:$C$22,0))","v":{"$error":"#N/A"}},null,null,null,null,null,null,null,null,{"$f":"VLOOKUP(Tabelle1[[#This Row],[Budgetlinie]],Ausfüllhilfe!$A$1:$D$23,4,0)","v":{"$error":"#N/A"}}]
[{"$f":"INDEX(Tabelle2[[#All],[Budgetlinie]],MATCH(Tabelle1[[#This Row],[Maßnahme]],Ausfüllhilfe!$C$1:$C$22,0))","v":{"$error":"#N/A"}},null,null,null,null,null,null,null,null,{"$f":"VLOOKUP(Tabelle1[[#This Row],[Budgetlinie]],Ausfüllhilfe!$A$1:$D$23,4,0)","v":{"$error":"#N/A"}}]
[{"$f":"INDEX(Tabelle2[[#All],[Budgetlinie]],MATCH(Tabelle1[[#This Row],[Maßnahme]],Ausfüllhilfe!$C$1:$C$22,0))","v":{"$error":"#N/A"}},null,null,null,null,null,null,null,null,{"$f":"VLOOKUP(Tabelle1[[#This Row],[Budgetlinie]],Ausfüllhilfe!$A$1:$D$23,4,0)","v":{"$error":"#N/A"}}]
[{"$f":"INDEX(Tabelle2[[#All],[Budgetlinie]],MATCH(Tabelle1[[#This Row],[Maßnahme]],Ausfüllhilfe!$C$1:$C$22,0))","v":{"$error":"#N/A"}},null,null,null,null,null,null,null,null,{"$f":"VLOOKUP(Tabelle1[[#This Row],[Budgetlinie]],Ausfüllhilfe!$A$1:$D$23,4,0)","v":{"$error":"#N/A"}}]
[{"$f":"INDEX(Tabelle2[[#All],[Budgetlinie]],MATCH(Tabelle1[[#This Row],[Maßnahme]],Ausfüllhilfe!$C$1:$C$22,0))","v":{"$error":"#N/A"}},null,null,null,null,null,null,null,null,{"$f":"VLOOKUP(Tabelle1[[#This Row],[Budgetlinie]],Ausfüllhilfe!$A$1:$D$23,4,0)","v":{"$error":"#N/A"}}]
[{"$f":"INDEX(Tabelle2[[#All],[Budgetlinie]],MATCH(Tabelle1[[#This Row],[Maßnahme]],Ausfüllhilfe!$C$1:$C$22,0))","v":{"$error":"#N/A"}},null,null,null,null,null,null,null,null,{"$f":"VLOOKUP(Tabelle1[[#This Row],[Budgetlinie]],Ausfüllhilfe!$A$1:$D$23,4,0)","v":{"$error":"#N/A"}}]
[{"$f":"INDEX(Tabelle2[[#All],[Budgetlinie]],MATCH(Tabelle1[[#This Row],[Maßnahme]],Ausfüllhilfe!$C$1:$C$22,0))","v":{"$error":"#N/A"}},null,null,null,null,null,null,null,null,{"$f":"VLOOKUP(Tabelle1[[#This Row],[Budgetlinie]],Ausfüllhilfe!$A$1:$D$23,4,0)","v":{"$error":"#N/A"}}]
[{"$f":"INDEX(Tabelle2[[#All],[Budgetlinie]],MATCH(Tabelle1[[#This Row],[Maßnahme]],Ausfüllhilfe!$C$1:$C$22,0))","v":{"$error":"#N/A"}},null,null,null,null,null,null,null,null,{"$f":"VLOOKUP(Tabelle1[[#This Row],[Budgetlinie]],Ausfüllhilfe!$A$1:$D$23,4,0)","v":{"$error":"#N/A"}}]
[{"$f":"INDEX(Tabelle2[[#All],[Budgetlinie]],MATCH(Tabelle1[[#This Row],[Maßnahme]],Ausfüllhilfe!$C$1:$C$22,0))","v":{"$error":"#N/A"}},null,null,null,null,null,null,null,null,{"$f":"VLOOKUP(Tabelle1[[#This Row],[Budgetlinie]],Ausfüllhilfe!$A$1:$D$23,4,0)","v":{"$error":"#N/A"}}]
[{"$f":"INDEX(Tabelle2[[#All],[Budgetlinie]],MATCH(Tabelle1[[#This Row],[Maßnahme]],Ausfüllhilfe!$C$1:$C$22,0))","v":{"$error":"#N/A"}},null,null,null,null,null,null,null,null,{"$f":"VLOOKUP(Tabelle1[[#This Row],[Budgetlinie]],Ausfüllhilfe!$A$1:$D$23,4,0)","v":{"$error":"#N/A"}}]
[{"$f":"INDEX(Tabelle2[[#All],[Budgetlinie]],MATCH(Tabelle1[[#This Row],[Maßnahme]],Ausfüllhilfe!$C$1:$C$22,0))","v":{"$error":"#N/A"}},null,null,null,null,null,null,null,null,{"$f":"VLOOKUP(Tabelle1[[#This Row],[Budgetlinie]],Ausfüllhilfe!$A$1:$D$23,4,0)","v":{"$error":"#N/A"}}]
[{"$f":"INDEX(Tabelle2[[#All],[Budgetlinie]],MATCH(Tabelle1[[#This Row],[Maßnahme]],Ausfüllhilfe!$C$1:$C$22,0))","v":{"$error":"#N/A"}},null,null,null,null,null,null,null,null,{"$f":"VLOOKUP(Tabelle1[[#This Row],[Budgetlinie]],Ausfüllhilfe!$A$1:$D$23,4,0)","v":{"$error":"#N/A"}}]
[{"$f":"INDEX(Tabelle2[[#All],[Budgetlinie]],MATCH(Tabelle1[[#This Row],[Maßnahme]],Ausfüllhilfe!$C$1:$C$22,0))","v":{"$error":"#N/A"}},null,null,null,null,null,null,null,null,{"$f":"VLOOKUP(Tabelle1[[#This Row],[Budgetlinie]],Ausfüllhilfe!$A$1:$D$23,4,0)","v":{"$error":"#N/A"}}]
[{"$f":"INDEX(Tabelle2[[#All],[Budgetlinie]],MATCH(Tabelle1[[#This Row],[Maßnahme]],Ausfüllhilfe!$C$1:$C$22,0))","v":{"$error":"#N/A"}},null,null,null,null,null,null,null,null,{"$f":"VLOOKUP(Tabelle1[[#This Row],[Budgetlinie]],Ausfüllhilfe!$A$1:$D$23,4,0)","v":{"$error":"#N/A"}}]
[{"$f":"INDEX(Tabelle2[[#All],[Budgetlinie]],MATCH(Tabelle1[[#This Row],[Maßnahme]],Ausfüllhilfe!$C$1:$C$22,0))","v":{"$error":"#N/A"}},null,null,null,null,null,null,null,null,{"$f":"VLOOKUP(Tabelle1[[#This Row],[Budgetlinie]],Ausfüllhilfe!$A$1:$D$23,4,0)","v":{"$error":"#N/A"}}]
[{"$f":"INDEX(Tabelle2[[#All],[Budgetlinie]],MATCH(Tabelle1[[#This Row],[Maßnahme]],Ausfüllhilfe!$C$1:$C$22,0))","v":{"$error":"#N/A"}},null,null,null,null,null,null,null,null,{"$f":"VLOOKUP(Tabelle1[[#This Row],[Budgetlinie]],Ausfüllhilfe!$A$1:$D$23,4,0)","v":{"$error":"#N/A"}}]
[{"$f":"INDEX(Tabelle2[[#All],[Budgetlinie]],MATCH(Tabelle1[[#This Row],[Maßnahme]],Ausfüllhilfe!$C$1:$C$22,0))","v":{"$error":"#N/A"}},null,null,null,null,null,null,null,null,{"$f":"VLOOKUP(Tabelle1[[#This Row],[Budgetlinie]],Ausfüllhilfe!$A$1:$D$23,4,0)","v":{"$error":"#N/A"}}]
[{"$f":"INDEX(Tabelle2[[#All],[Budgetlinie]],MATCH(Tabelle1[[#This Row],[Maßnahme]],Ausfüllhilfe!$C$1:$C$22,0))","v":{"$error":"#N/A"}},null,null,null,null,null,null,null,null,{"$f":"VLOOKUP(Tabelle1[[#This Row],[Budgetlinie]],Ausfüllhilfe!$A$1:$D$23,4,0)","v":{"$error":"#N/A"}}]
[{"$f":"INDEX(Tabelle2[[#All],[Budgetlinie]],MATCH(Tabelle1[[#This Row],[Maßnahme]],Ausfüllhilfe!$C$1:$C$22,0))","v":{"$error":"#N/A"}},null,null,null,null,null,null,null,null,{"$f":"VLOOKUP(Tabelle1[[#This Row],[Budgetlinie]],Ausfüllhilfe!$A$1:$D$23,4,0)","v":{"$error":"#N/A"}}]
[{"$f":"INDEX(Tabelle2[[#All],[Budgetlinie]],MATCH(Tabelle1[[#This Row],[Maßnahme]],Ausfüllhilfe!$C$1:$C$22,0))","v":{"$error":"#N/A"}},null,null,null,null,null,null,null,null,{"$f":"VLOOKUP(Tabelle1[[#This Row],[Budgetlinie]],Ausfüllhilfe!$A$1:$D$23,4,0)","v":{"$error":"#N/A"}}]
[{"$f":"INDEX(Tabelle2[[#All],[Budgetlinie]],MATCH(Tabelle1[[#This Row],[Maßnahme]],Ausfüllhilfe!$C$1:$C$22,0))","v":{"$error":"#N/A"}},null,null,null,null,null,null,null,null,{"$f":"VLOOKUP(Tabelle1[[#This Row],[Budgetlinie]],Ausfüllhilfe!$A$1:$D$23,4,0)","v":{"$error":"#N/A"}}]
[{"$f":"INDEX(Tabelle2[[#All],[Budgetlinie]],MATCH(Tabelle1[[#This Row],[Maßnahme]],Ausfüllhilfe!$C$1:$C$22,0))","v":{"$error":"#N/A"}},null,null,null,null,null,null,null,null,{"$f":"VLOOKUP(Tabelle1[[#This Row],[Budgetlinie]],Ausfüllhilfe!$A$1:$D$23,4,0)","v":{"$error":"#N/A"}}]
[{"$f":"INDEX(Tabelle2[[#All],[Budgetlinie]],MATCH(Tabelle1[[#This Row],[Maßnahme]],Ausfüllhilfe!$C$1:$C$22,0))","v":{"$error":"#N/A"}},null,null,null,null,null,null,null,null,{"$f":"VLOOKUP(Tabelle1[[#This Row],[Budgetlinie]],Ausfüllhilfe!$A$1:$D$23,4,0)","v":{"$error":"#N/A"}}]
[{"$f":"INDEX(Tabelle2[[#All],[Budgetlinie]],MATCH(Tabelle1[[#This Row],[Maßnahme]],Ausfüllhilfe!$C$1:$C$22,0))","v":{"$error":"#N/A"}},null,null,null,null,null,null,null,null,{"$f":"VLOOKUP(Tabelle1[[#This Row],[Budgetlinie]],Ausfüllhilfe!$A$1:$D$23,4,0)","v":{"$error":"#N/A"}}]
[{"$f":"INDEX(Tabelle2[[#All],[Budgetlinie]],MATCH(Tabelle1[[#This Row],[Maßnahme]],Ausfüllhilfe!$C$1:$C$22,0))","v":{"$error":"#N/A"}},null,null,null,null,null,null,null,null,{"$f":"VLOOKUP(Tabelle1[[#This Row],[Budgetlinie]],Ausfüllhilfe!$A$1:$D$23,4,0)","v":{"$error":"#N/A"}}]
[{"$f":"INDEX(Tabelle2[[#All],[Budgetlinie]],MATCH(Tabelle1[[#This Row],[Maßnahme]],Ausfüllhilfe!$C$1:$C$22,0))","v":{"$error":"#N/A"}},null,null,null,null,null,null,null,null,{"$f":"VLOOKUP(Tabelle1[[#This Row],[Budgetlinie]],Ausfüllhilfe!$A$1:$D$23,4,0)","v":{"$error":"#N/A"}}]
[{"$f":"INDEX(Tabelle2[[#All],[Budgetlinie]],MATCH(Tabelle1[[#This Row],[Maßnahme]],Ausfüllhilfe!$C$1:$C$22,0))","v":{"$error":"#N/A"}},null,null,null,null,null,null,null,null,{"$f":"VLOOKUP(Tabelle1[[#This Row],[Budgetlinie]],Ausfüllhilfe!$A$1:$D$23,4,0)","v":{"$error":"#N/A"}}]
[{"$f":"INDEX(Tabelle2[[#All],[Budgetlinie]],MATCH(Tabelle1[[#This Row],[Maßnahme]],Ausfüllhilfe!$C$1:$C$22,0))","v":{"$error":"#N/A"}},null,null,null,null,null,null,null,null,{"$f":"VLOOKUP(Tabelle1[[#This Row],[Budgetlinie]],Ausfüllhilfe!$A$1:$D$23,4,0)","v":{"$error":"#N/A"}}]
[{"$f":"INDEX(Tabelle2[[#All],[Budgetlinie]],MATCH(Tabelle1[[#This Row],[Maßnahme]],Ausfüllhilfe!$C$1:$C$22,0))","v":{"$error":"#N/A"}},null,null,null,null,null,null,null,null,{"$f":"VLOOKUP(Tabelle1[[#This Row],[Budgetlinie]],Ausfüllhilfe!$A$1:$D$23,4,0)","v":{"$error":"#N/A"}}]
[{"$f":"INDEX(Tabelle2[[#All],[Budgetlinie]],MATCH(Tabelle1[[#This Row],[Maßnahme]],Ausfüllhilfe!$C$1:$C$22,0))","v":{"$error":"#N/A"}},null,null,null,null,null,null,null,null,{"$f":"VLOOKUP(Tabelle1[[#This Row],[Budgetlinie]],Ausfüllhilfe!$A$1:$D$23,4,0)","v":{"$error":"#N/A"}}]
[{"$f":"INDEX(Tabelle2[[#All],[Budgetlinie]],MATCH(Tabelle1[[#This Row],[Maßnahme]],Ausfüllhilfe!$C$1:$C$22,0))","v":{"$error":"#N/A"}},null,null,null,null,null,null,null,null,{"$f":"VLOOKUP(Tabelle1[[#This Row],[Budgetlinie]],Ausfüllhilfe!$A$1:$D$23,4,0)","v":{"$error":"#N/A"}}]
[{"$f":"INDEX(Tabelle2[[#All],[Budgetlinie]],MATCH(Tabelle1[[#This Row],[Maßnahme]],Ausfüllhilfe!$C$1:$C$22,0))","v":{"$error":"#N/A"}},null,null,null,null,null,null,null,null,{"$f":"VLOOKUP(Tabelle1[[#This Row],[Budgetlinie]],Ausfüllhilfe!$A$1:$D$23,4,0)","v":{"$error":"#N/A"}}]
[{"$f":"INDEX(Tabelle2[[#All],[Budgetlinie]],MATCH(Tabelle1[[#This Row],[Maßnahme]],Ausfüllhilfe!$C$1:$C$22,0))","v":{"$error":"#N/A"}},null,null,null,null,null,null,null,null,{"$f":"VLOOKUP(Tabelle1[[#This Row],[Budgetlinie]],Ausfüllhilfe!$A$1:$D$23,4,0)","v":{"$error":"#N/A"}}]
[{"$f":"INDEX(Tabelle2[[#All],[Budgetlinie]],MATCH(Tabelle1[[#This Row],[Maßnahme]],Ausfüllhilfe!$C$1:$C$22,0))","v":{"$error":"#N/A"}},null,null,null,null,null,null,null,null,{"$f":"VLOOKUP(Tabelle1[[#This Row],[Budgetlinie]],Ausfüllhilfe!$A$1:$D$23,4,0)","v":{"$error":"#N/A"}}]
[{"$f":"INDEX(Tabelle2[[#All],[Budgetlinie]],MATCH(Tabelle1[[#This Row],[Maßnahme]],Ausfüllhilfe!$C$1:$C$22,0))","v":{"$error":"#N/A"}},null,null,null,null,null,null,null,null,{"$f":"VLOOKUP(Tabelle1[[#This Row],[Budgetlinie]],Ausfüllhilfe!$A$1:$D$23,4,0)","v":{"$error":"#N/A"}}]
[{"$f":"INDEX(Tabelle2[[#All],[Budgetlinie]],MATCH(Tabelle1[[#This Row],[Maßnahme]],Ausfüllhilfe!$C$1:$C$22,0))","v":{"$error":"#N/A"}},null,null,null,null,null,null,null,null,{"$f":"VLOOKUP(Tabelle1[[#This Row],[Budgetlinie]],Ausfüllhilfe!$A$1:$D$23,4,0)","v":{"$error":"#N/A"}}]
[{"$f":"INDEX(Tabelle2[[#All],[Budgetlinie]],MATCH(Tabelle1[[#This Row],[Maßnahme]],Ausfüllhilfe!$C$1:$C$22,0))","v":{"$error":"#N/A"}},null,null,null,null,null,null,null,null,{"$f":"VLOOKUP(Tabelle1[[#This Row],[Budgetlinie]],Ausfüllhilfe!$A$1:$D$23,4,0)","v":{"$error":"#N/A"}}]
[{"$f":"INDEX(Tabelle2[[#All],[Budgetlinie]],MATCH(Tabelle1[[#This Row],[Maßnahme]],Ausfüllhilfe!$C$1:$C$22,0))","v":{"$error":"#N/A"}},null,null,null,null,null,null,null,null,{"$f":"VLOOKUP(Tabelle1[[#This Row],[Budgetlinie]],Ausfüllhilfe!$A$1:$D$23,4,0)","v":{"$error":"#N/A"}}]
[{"$f":"INDEX(Tabelle2[[#All],[Budgetlinie]],MATCH(Tabelle1[[#This Row],[Maßnahme]],Ausfüllhilfe!$C$1:$C$22,0))","v":{"$error":"#N/A"}},null,null,null,null,null,null,null,null,{"$f":"VLOOKUP(Tabelle1[[#This Row],[Budgetlinie]],Ausfüllhilfe!$A$1:$D$23,4,0)","v":{"$error":"#N/A"}}]
[{"$f":"INDEX(Tabelle2[[#All],[Budgetlinie]],MATCH(Tabelle1[[#This Row],[Maßnahme]],Ausfüllhilfe!$C$1:$C$22,0))","v":{"$error":"#N/A"}},null,null,null,null,null,null,null,null,{"$f":"VLOOKUP(Tabelle1[[#This Row],[Budgetlinie]],Ausfüllhilfe!$A$1:$D$23,4,0)","v":{"$error":"#N/A"}}]
[{"$f":"INDEX(Tabelle2[[#All],[Budgetlinie]],MATCH(Tabelle1[[#This Row],[Maßnahme]],Ausfüllhilfe!$C$1:$C$22,0))","v":{"$error":"#N/A"}},null,null,null,null,null,null,null,null,{"$f":"VLOOKUP(Tabelle1[[#This Row],[Budgetlinie]],Ausfüllhilfe!$A$1:$D$23,4,0)","v":{"$error":"#N/A"}}]
[{"$f":"INDEX(Tabelle2[[#All],[Budgetlinie]],MATCH(Tabelle1[[#This Row],[Maßnahme]],Ausfüllhilfe!$C$1:$C$22,0))","v":{"$error":"#N/A"}},null,null,null,null,null,null,null,null,{"$f":"VLOOKUP(Tabelle1[[#This Row],[Budgetlinie]],Ausfüllhilfe!$A$1:$D$23,4,0)","v":{"$error":"#N/A"}}]
[{"$f":"INDEX(Tabelle2[[#All],[Budgetlinie]],MATCH(Tabelle1[[#This Row],[Maßnahme]],Ausfüllhilfe!$C$1:$C$22,0))","v":{"$error":"#N/A"}},null,null,null,null,null,null,null,null,{"$f":"VLOOKUP(Tabelle1[[#This Row],[Budgetlinie]],Ausfüllhilfe!$A$1:$D$23,4,0)","v":{"$error":"#N/A"}}]
[{"$f":"INDEX(Tabelle2[[#All],[Budgetlinie]],MATCH(Tabelle1[[#This Row],[Maßnahme]],Ausfüllhilfe!$C$1:$C$22,0))","v":{"$error":"#N/A"}},null,null,null,null,null,null,null,null,{"$f":"VLOOKUP(Tabelle1[[#This Row],[Budgetlinie]],Ausfüllhilfe!$A$1:$D$23,4,0)","v":{"$error":"#N/A"}}]
[{"$f":"INDEX(Tabelle2[[#All],[Budgetlinie]],MATCH(Tabelle1[[#This Row],[Maßnahme]],Ausfüllhilfe!$C$1:$C$22,0))","v":{"$error":"#N/A"}},null,null,null,null,null,null,null,null,{"$f":"VLOOKUP(Tabelle1[[#This Row],[Budgetlinie]],Ausfüllhilfe!$A$1:$D$23,4,0)","v":{"$error":"#N/A"}}]
[{"$f":"INDEX(Tabelle2[[#All],[Budgetlinie]],MATCH(Tabelle1[[#This Row],[Maßnahme]],Ausfüllhilfe!$C$1:$C$22,0))","v":{"$error":"#N/A"}},null,null,null,null,null,null,null,null,{"$f":"VLOOKUP(Tabelle1[[#This Row],[Budgetlinie]],Ausfüllhilfe!$A$1:$D$23,4,0)","v":{"$error":"#N/A"}}]
[{"$f":"INDEX(Tabelle2[[#All],[Budgetlinie]],MATCH(Tabelle1[[#This Row],[Maßnahme]],Ausfüllhilfe!$C$1:$C$22,0))","v":{"$error":"#N/A"}},null,null,null,null,null,null,null,null,{"$f":"VLOOKUP(Tabelle1[[#This Row],[Budgetlinie]],Ausfüllhilfe!$A$1:$D$23,4,0)","v":{"$error":"#N/A"}}]
[{"$f":"INDEX(Tabelle2[[#All],[Budgetlinie]],MATCH(Tabelle1[[#This Row],[Maßnahme]],Ausfüllhilfe!$C$1:$C$22,0))","v":{"$error":"#N/A"}},null,null,null,null,null,null,null,null,{"$f":"VLOOKUP(Tabelle1[[#This Row],[Budgetlinie]],Ausfüllhilfe!$A$1:$D$23,4,0)","v":{"$error":"#N/A"}}]
[{"$f":"INDEX(Tabelle2[[#All],[Budgetlinie]],MATCH(Tabelle1[[#This Row],[Maßnahme]],Ausfüllhilfe!$C$1:$C$22,0))","v":{"$error":"#N/A"}},null,null,null,null,null,null,null,null,{"$f":"VLOOKUP(Tabelle1[[#This Row],[Budgetlinie]],Ausfüllhilfe!$A$1:$D$23,4,0)","v":{"$error":"#N/A"}}]
[{"$f":"INDEX(Tabelle2[[#All],[Budgetlinie]],MATCH(Tabelle1[[#This Row],[Maßnahme]],Ausfüllhilfe!$C$1:$C$22,0))","v":{"$error":"#N/A"}},null,null,null,null,null,null,null,null,{"$f":"VLOOKUP(Tabelle1[[#This Row],[Budgetlinie]],Ausfüllhilfe!$A$1:$D$23,4,0)","v":{"$error":"#N/A"}}]
[{"$f":"INDEX(Tabelle2[[#All],[Budgetlinie]],MATCH(Tabelle1[[#This Row],[Maßnahme]],Ausfüllhilfe!$C$1:$C$22,0))","v":{"$error":"#N/A"}},null,null,null,null,null,null,null,null,{"$f":"VLOOKUP(Tabelle1[[#This Row],[Budgetlinie]],Ausfüllhilfe!$A$1:$D$23,4,0)","v":{"$error":"#N/A"}}]
[{"$f":"INDEX(Tabelle2[[#All],[Budgetlinie]],MATCH(Tabelle1[[#This Row],[Maßnahme]],Ausfüllhilfe!$C$1:$C$22,0))","v":{"$error":"#N/A"}},null,null,null,null,null,null,null,null,{"$f":"VLOOKUP(Tabelle1[[#This Row],[Budgetlinie]],Ausfüllhilfe!$A$1:$D$23,4,0)","v":{"$error":"#N/A"}}]
[{"$f":"INDEX(Tabelle2[[#All],[Budgetlinie]],MATCH(Tabelle1[[#This Row],[Maßnahme]],Ausfüllhilfe!$C$1:$C$22,0))","v":{"$error":"#N/A"}},null,null,null,null,null,null,null,null,{"$f":"VLOOKUP(Tabelle1[[#This Row],[Budgetlinie]],Ausfüllhilfe!$A$1:$D$23,4,0)","v":{"$error":"#N/A"}}]
[{"$f":"INDEX(Tabelle2[[#All],[Budgetlinie]],MATCH(Tabelle1[[#This Row],[Maßnahme]],Ausfüllhilfe!$C$1:$C$22,0))","v":{"$error":"#N/A"}},null,null,null,null,null,null,null,null,{"$f":"VLOOKUP(Tabelle1[[#This Row],[Budgetlinie]],Ausfüllhilfe!$A$1:$D$23,4,0)","v":{"$error":"#N/A"}}]
[{"$f":"INDEX(Tabelle2[[#All],[Budgetlinie]],MATCH(Tabelle1[[#This Row],[Maßnahme]],Ausfüllhilfe!$C$1:$C$22,0))","v":{"$error":"#N/A"}},null,null,null,null,null,null,null,null,{"$f":"VLOOKUP(Tabelle1[[#This Row],[Budgetlinie]],Ausfüllhilfe!$A$1:$D$23,4,0)","v":{"$error":"#N/A"}}]
[{"$f":"INDEX(Tabelle2[[#All],[Budgetlinie]],MATCH(Tabelle1[[#This Row],[Maßnahme]],Ausfüllhilfe!$C$1:$C$22,0))","v":{"$error":"#N/A"}},null,null,null,null,null,null,null,null,{"$f":"VLOOKUP(Tabelle1[[#This Row],[Budgetlinie]],Ausfüllhilfe!$A$1:$D$23,4,0)","v":{"$error":"#N/A"}}]
[{"$f":"INDEX(Tabelle2[[#All],[Budgetlinie]],MATCH(Tabelle1[[#This Row],[Maßnahme]],Ausfüllhilfe!$C$1:$C$22,0))","v":{"$error":"#N/A"}},null,null,null,null,null,null,null,null,{"$f":"VLOOKUP(Tabelle1[[#This Row],[Budgetlinie]],Ausfüllhilfe!$A$1:$D$23,4,0)","v":{"$error":"#N/A"}}]
[{"$f":"INDEX(Tabelle2[[#All],[Budgetlinie]],MATCH(Tabelle1[[#This Row],[Maßnahme]],Ausfüllhilfe!$C$1:$C$22,0))","v":{"$error":"#N/A"}},null,null,null,null,null,null,null,null,{"$f":"VLOOKUP(Tabelle1[[#This Row],[Budgetlinie]],Ausfüllhilfe!$A$1:$D$23,4,0)","v":{"$error":"#N/A"}}]
[{"$f":"INDEX(Tabelle2[[#All],[Budgetlinie]],MATCH(Tabelle1[[#This Row],[Maßnahme]],Ausfüllhilfe!$C$1:$C$22,0))","v":{"$error":"#N/A"}},null,null,null,null,null,null,null,null,{"$f":"VLOOKUP(Tabelle1[[#This Row],[Budgetlinie]],Ausfüllhilfe!$A$1:$D$23,4,0)","v":{"$error":"#N/A"}}]
[{"$f":"INDEX(Tabelle2[[#All],[Budgetlinie]],MATCH(Tabelle1[[#This Row],[Maßnahme]],Ausfüllhilfe!$C$1:$C$22,0))","v":{"$error":"#N/A"}},null,null,null,null,null,null,null,null,{"$f":"VLOOKUP(Tabelle1[[#This Row],[Budgetlinie]],Ausfüllhilfe!$A$1:$D$23,4,0)","v":{"$error":"#N/A"}}]
[{"$f":"INDEX(Tabelle2[[#All],[Budgetlinie]],MATCH(Tabelle1[[#This Row],[Maßnahme]],Ausfüllhilfe!$C$1:$C$22,0))","v":{"$error":"#N/A"}},null,null,null,null,null,null,null,null,{"$f":"VLOOKUP(Tabelle1[[#This Row],[Budgetlinie]],Ausfüllhilfe!$A$1:$D$23,4,0)","v":{"$error":"#N/A"}}]
[{"$f":"INDEX(Tabelle2[[#All],[Budgetlinie]],MATCH(Tabelle1[[#This Row],[Maßnahme]],Ausfüllhilfe!$C$1:$C$22,0))","v":{"$error":"#N/A"}},null,null,null,null,null,null,null,null,{"$f":"VLOOKUP(Tabelle1[[#This Row],[Budgetlinie]],Ausfüllhilfe!$A$1:$D$23,4,0)","v":{"$error":"#N/A"}}]
[{"$f":"INDEX(Tabelle2[[#All],[Budgetlinie]],MATCH(Tabelle1[[#This Row],[Maßnahme]],Ausfüllhilfe!$C$1:$C$22,0))","v":{"$error":"#N/A"}},null,null,null,null,null,null,null,null,{"$f":"VLOOKUP(Tabelle1[[#This Row],[Budgetlinie]],Ausfüllhilfe!$A$1:$D$23,4,0)","v":{"$error":"#N/A"}}]
[{"$f":"INDEX(Tabelle2[[#All],[Budgetlinie]],MATCH(Tabelle1[[#This Row],[Maßnahme]],Ausfüllhilfe!$C$1:$C$22,0))","v":{"$error":"#N/A"}},null,null,null,null,null,null,null,null,{"$f":"VLOOKUP(Tabelle1[[#This Row],[Budgetlinie]],Ausfüllhilfe!$A$1:$D$23,4,0)","v":{"$error":"#N/A"}}]
[{"$f":"INDEX(Tabelle2[[#All],[Budgetlinie]],MATCH(Tabelle1[[#This Row],[Maßnahme]],Ausfüllhilfe!$C$1:$C$22,0))","v":{"$error":"#N/A"}},null,null,null,null,null,null,null,null,{"$f":"VLOOKUP(Tabelle1[[#This Row],[Budgetlinie]],Ausfüllhilfe!$A$1:$D$23,4,0)","v":{"$error":"#N/A"}}]
[{"$f":"INDEX(Tabelle2[[#All],[Budgetlinie]],MATCH(Tabelle1[[#This Row],[Maßnahme]],Ausfüllhilfe!$C$1:$C$22,0))","v":{"$error":"#N/A"}},null,null,null,null,null,null,null,null,{"$f":"VLOOKUP(Tabelle1[[#This Row],[Budgetlinie]],Ausfüllhilfe!$A$1:$D$23,4,0)","v":{"$error":"#N/A"}}]
[{"$f":"INDEX(Tabelle2[[#All],[Budgetlinie]],MATCH(Tabelle1[[#This Row],[Maßnahme]],Ausfüllhilfe!$C$1:$C$22,0))","v":{"$error":"#N/A"}},null,null,null,null,null,null,null,null,{"$f":"VLOOKUP(Tabelle1[[#This Row],[Budgetlinie]],Ausfüllhilfe!$A$1:$D$23,4,0)","v":{"$error":"#N/A"}}]
[{"$f":"INDEX(Tabelle2[[#All],[Budgetlinie]],MATCH(Tabelle1[[#This Row],[Maßnahme]],Ausfüllhilfe!$C$1:$C$22,0))","v":{"$error":"#N/A"}},null,null,null,null,null,null,null,null,{"$f":"VLOOKUP(Tabelle1[[#This Row],[Budgetlinie]],Ausfüllhilfe!$A$1:$D$23,4,0)","v":{"$error":"#N/A"}}]
[{"$f":"INDEX(Tabelle2[[#All],[Budgetlinie]],MATCH(Tabelle1[[#This Row],[Maßnahme]],Ausfüllhilfe!$C$1:$C$22,0))","v":{"$error":"#N/A"}},null,null,null,null,null,null,null,null,{"$f":"VLOOKUP(Tabelle1[[#This Row],[Budgetlinie]],Ausfüllhilfe!$A$1:$D$23,4,0)","v":{"$error":"#N/A"}}]
[{"$f":"INDEX(Tabelle2[[#All],[Budgetlinie]],MATCH(Tabelle1[[#This Row],[Maßnahme]],Ausfüllhilfe!$C$1:$C$22,0))","v":{"$error":"#N/A"}},null,null,null,null,null,null,null,null,{"$f":"VLOOKUP(Tabelle1[[#This Row],[Budgetlinie]],Ausfüllhilfe!$A$1:$D$23,4,0)","v":{"$error":"#N/A"}}]
[{"$f":"INDEX(Tabelle2[[#All],[Budgetlinie]],MATCH(Tabelle1[[#This Row],[Maßnahme]],Ausfüllhilfe!$C$1:$C$22,0))","v":{"$error":"#N/A"}},null,null,null,null,null,null,null,null,{"$f":"VLOOKUP(Tabelle1[[#This Row],[Budgetlinie]],Ausfüllhilfe!$A$1:$D$23,4,0)","v":{"$error":"#N/A"}}]
[{"$f":"INDEX(Tabelle2[[#All],[Budgetlinie]],MATCH(Tabelle1[[#This Row],[Maßnahme]],Ausfüllhilfe!$C$1:$C$22,0))","v":{"$error":"#N/A"}},null,null,null,null,null,null,null,null,{"$f":"VLOOKUP(Tabelle1[[#This Row],[Budgetlinie]],Ausfüllhilfe!$A$1:$D$23,4,0)","v":{"$error":"#N/A"}}]
[{"$f":"INDEX(Tabelle2[[#All],[Budgetlinie]],MATCH(Tabelle1[[#This Row],[Maßnahme]],Ausfüllhilfe!$C$1:$C$22,0))","v":{"$error":"#N/A"}},null,null,null,null,null,null,null,null,{"$f":"VLOOKUP(Tabelle1[[#This Row],[Budgetlinie]],Ausfüllhilfe!$A$1:$D$23,4,0)","v":{"$error":"#N/A"}}]
[{"$f":"INDEX(Tabelle2[[#All],[Budgetlinie]],MATCH(Tabelle1[[#This Row],[Maßnahme]],Ausfüllhilfe!$C$1:$C$22,0))","v":{"$error":"#N/A"}},null,null,null,null,null,null,null,null,{"$f":"VLOOKUP(Tabelle1[[#This Row],[Budgetlinie]],Ausfüllhilfe!$A$1:$D$23,4,0)","v":{"$error":"#N/A"}}]
[{"$f":"INDEX(Tabelle2[[#All],[Budgetlinie]],MATCH(Tabelle1[[#This Row],[Maßnahme]],Ausfüllhilfe!$C$1:$C$22,0))","v":{"$error":"#N/A"}},null,null,null,null,null,null,null,null,{"$f":"VLOOKUP(Tabelle1[[#This Row],[Budgetlinie]],Ausfüllhilfe!$A$1:$D$23,4,0)","v":{"$error":"#N/A"}}]
[{"$f":"INDEX(Tabelle2[[#All],[Budgetlinie]],MATCH(Tabelle1[[#This Row],[Maßnahme]],Ausfüllhilfe!$C$1:$C$22,0))","v":{"$error":"#N/A"}},null,null,null,null,null,null,null,null,{"$f":"VLOOKUP(Tabelle1[[#This Row],[Budgetlinie]],Ausfüllhilfe!$A$1:$D$23,4,0)","v":{"$error":"#N/A"}}]
[{"$f":"INDEX(Tabelle2[[#All],[Budgetlinie]],MATCH(Tabelle1[[#This Row],[Maßnahme]],Ausfüllhilfe!$C$1:$C$22,0))","v":{"$error":"#N/A"}},null,null,null,null,null,null,null,null,{"$f":"VLOOKUP(Tabelle1[[#This Row],[Budgetlinie]],Ausfüllhilfe!$A$1:$D$23,4,0)","v":{"$error":"#N/A"}}]
[{"$f":"INDEX(Tabelle2[[#All],[Budgetlinie]],MATCH(Tabelle1[[#This Row],[Maßnahme]],Ausfüllhilfe!$C$1:$C$22,0))","v":{"$error":"#N/A"}},null,null,null,null,null,null,null,null,{"$f":"VLOOKUP(Tabelle1[[#This Row],[Budgetlinie]],Ausfüllhilfe!$A$1:$D$23,4,0)","v":{"$error":"#N/A"}}]
[{"$f":"INDEX(Tabelle2[[#All],[Budgetlinie]],MATCH(Tabelle1[[#This Row],[Maßnahme]],Ausfüllhilfe!$C$1:$C$22,0))","v":{"$error":"#N/A"}},null,null,null,null,null,null,null,null,{"$f":"VLOOKUP(Tabelle1[[#This Row],[Budgetlinie]],Ausfüllhilfe!$A$1:$D$23,4,0)","v":{"$error":"#N/A"}}]
[{"$f":"INDEX(Tabelle2[[#All],[Budgetlinie]],MATCH(Tabelle1[[#This Row],[Maßnahme]],Ausfüllhilfe!$C$1:$C$22,0))","v":{"$error":"#N/A"}},null,null,null,null,null,null,null,null,{"$f":"VLOOKUP(Tabelle1[[#This Row],[Budgetlinie]],Ausfüllhilfe!$A$1:$D$23,4,0)","v":{"$error":"#N/A"}}]
[{"$f":"INDEX(Tabelle2[[#All],[Budgetlinie]],MATCH(Tabelle1[[#This Row],[Maßnahme]],Ausfüllhilfe!$C$1:$C$22,0))","v":{"$error":"#N/A"}},null,null,null,null,null,null,null,null,{"$f":"VLOOKUP(Tabelle1[[#This Row],[Budgetlinie]],Ausfüllhilfe!$A$1:$D$23,4,0)","v":{"$error":"#N/A"}}]
[{"$f":"INDEX(Tabelle2[[#All],[Budgetlinie]],MATCH(Tabelle1[[#This Row],[Maßnahme]],Ausfüllhilfe!$C$1:$C$22,0))","v":{"$error":"#N/A"}},null,null,null,null,null,null,null,null,{"$f":"VLOOKUP(Tabelle1[[#This Row],[Budgetlinie]],Ausfüllhilfe!$A$1:$D$23,4,0)","v":{"$error":"#N/A"}}]
[{"$f":"INDEX(Tabelle2[[#All],[Budgetlinie]],MATCH(Tabelle1[[#This Row],[Maßnahme]],Ausfüllhilfe!$C$1:$C$22,0))","v":{"$error":"#N/A"}},null,null,null,null,null,null,null,null,{"$f":"VLOOKUP(Tabelle1[[#This Row],[Budgetlinie]],Ausfüllhilfe!$A$1:$D$23,4,0)","v":{"$error":"#N/A"}}]
[{"$f":"INDEX(Tabelle2[[#All],[Budgetlinie]],MATCH(Tabelle1[[#This Row],[Maßnahme]],Ausfüllhilfe!$C$1:$C$22,0))","v":{"$error":"#N/A"}},null,null,null,null,null,null,null,null,{"$f":"VLOOKUP(Tabelle1[[#This Row],[Budgetlinie]],Ausfüllhilfe!$A$1:$D$23,4,0)","v":{"$error":"#N/A"}}]
[{"$f":"INDEX(Tabelle2[[#All],[Budgetlinie]],MATCH(Tabelle1[[#This Row],[Maßnahme]],Ausfüllhilfe!$C$1:$C$22,0))","v":{"$error":"#N/A"}},null,null,null,null,null,null,null,null,{"$f":"VLOOKUP(Tabelle1[[#This Row],[Budgetlinie]],Ausfüllhilfe!$A$1:$D$23,4,0)","v":{"$error":"#N/A"}}]
[{"$f":"INDEX(Tabelle2[[#All],[Budgetlinie]],MATCH(Tabelle1[[#This Row],[Maßnahme]],Ausfüllhilfe!$C$1:$C$22,0))","v":{"$error":"#N/A"}},null,null,null,null,null,null,null,null,{"$f":"VLOOKUP(Tabelle1[[#This Row],[Budgetlinie]],Ausfüllhilfe!$A$1:$D$23,4,0)","v":{"$error":"#N/A"}}]
[{"$f":"INDEX(Tabelle2[[#All],[Budgetlinie]],MATCH(Tabelle1[[#This Row],[Maßnahme]],Ausfüllhilfe!$C$1:$C$22,0))","v":{"$error":"#N/A"}},null,null,null,null,null,null,null,null,{"$f":"VLOOKUP(Tabelle1[[#This Row],[Budgetlinie]],Ausfüllhilfe!$A$1:$D$23,4,0)","v":{"$error":"#N/A"}}]
[{"$f":"INDEX(Tabelle2[[#All],[Budgetlinie]],MATCH(Tabelle1[[#This Row],[Maßnahme]],Ausfüllhilfe!$C$1:$C$22,0))","v":{"$error":"#N/A"}},null,null,null,null,null,null,null,null,{"$f":"VLOOKUP(Tabelle1[[#This Row],[Budgetlinie]],Ausfüllhilfe!$A$1:$D$23,4,0)","v":{"$error":"#N/A"}}]
[{"$f":"INDEX(Tabelle2[[#All],[Budgetlinie]],MATCH(Tabelle1[[#This Row],[Maßnahme]],Ausfüllhilfe!$C$1:$C$22,0))","v":{"$error":"#N/A"}},null,null,null,null,null,null,null,null,{"$f":"VLOOKUP(Tabelle1[[#This Row],[Budgetlinie]],Ausfüllhilfe!$A$1:$D$23,4,0)","v":{"$error":"#N/A"}}]
[{"$f":"INDEX(Tabelle2[[#All],[Budgetlinie]],MATCH(Tabelle1[[#This Row],[Maßnahme]],Ausfüllhilfe!$C$1:$C$22,0))","v":{"$error":"#N/A"}},null,null,null,null,null,null,null,null,{"$f":"VLOOKUP(Tabelle1[[#This Row],[Budgetlinie]],Ausfüllhilfe!$A$1:$D$23,4,0)","v":{"$error":"#N/A"}}]
[{"$f":"INDEX(Tabelle2[[#All],[Budgetlinie]],MATCH(Tabelle1[[#This Row],[Maßnahme]],Ausfüllhilfe!$C$1:$C$22,0))","v":{"$error":"#N/A"}},null,null,null,null,null,null,null,null,{"$f":"VLOOKUP(Tabelle1[[#This Row],[Budgetlinie]],Ausfüllhilfe!$A$1:$D$23,4,0)","v":{"$error":"#N/A"}}]
[{"$f":"INDEX(Tabelle2[[#All],[Budgetlinie]],MATCH(Tabelle1[[#This Row],[Maßnahme]],Ausfüllhilfe!$C$1:$C$22,0))","v":{"$error":"#N/A"}},null,null,null,null,null,null,null,null,{"$f":"VLOOKUP(Tabelle1[[#This Row],[Budgetlinie]],Ausfüllhilfe!$A$1:$D$23,4,0)","v":{"$error":"#N/A"}}]
[{"$f":"INDEX(Tabelle2[[#All],[Budgetlinie]],MATCH(Tabelle1[[#This Row],[Maßnahme]],Ausfüllhilfe!$C$1:$C$22,0))","v":{"$error":"#N/A"}},null,null,null,null,null,null,null,null,{"$f":"VLOOKUP(Tabelle1[[#This Row],[Budgetlinie]],Ausfüllhilfe!$A$1:$D$23,4,0)","v":{"$error":"#N/A"}}]
[{"$f":"INDEX(Tabelle2[[#All],[Budgetlinie]],MATCH(Tabelle1[[#This Row],[Maßnahme]],Ausfüllhilfe!$C$1:$C$22,0))","v":{"$error":"#N/A"}},null,null,null,null,null,null,null,null,{"$f":"VLOOKUP(Tabelle1[[#This Row],[Budgetlinie]],Ausfüllhilfe!$A$1:$D$23,4,0)","v":{"$error":"#N/A"}}]
[{"$f":"INDEX(Tabelle2[[#All],[Budgetlinie]],MATCH(Tabelle1[[#This Row],[Maßnahme]],Ausfüllhilfe!$C$1:$C$22,0))","v":{"$error":"#N/A"}},null,null,null,null,null,null,null,null,{"$f":"VLOOKUP(Tabelle1[[#This Row],[Budgetlinie]],Ausfüllhilfe!$A$1:$D$23,4,0)","v":{"$error":"#N/A"}}]
[{"$f":"INDEX(Tabelle2[[#All],[Budgetlinie]],MATCH(Tabelle1[[#This Row],[Maßnahme]],Ausfüllhilfe!$C$1:$C$22,0))","v":{"$error":"#N/A"}},null,null,null,null,null,null,null,null,{"$f":"VLOOKUP(Tabelle1[[#This Row],[Budgetlinie]],Ausfüllhilfe!$A$1:$D$23,4,0)","v":{"$error":"#N/A"}}]
[{"$f":"INDEX(Tabelle2[[#All],[Budgetlinie]],MATCH(Tabelle1[[#This Row],[Maßnahme]],Ausfüllhilfe!$C$1:$C$22,0))","v":{"$error":"#N/A"}},null,null,null,null,null,null,null,null,{"$f":"VLOOKUP(Tabelle1[[#This Row],[Budgetlinie]],Ausfüllhilfe!$A$1:$D$23,4,0)","v":{"$error":"#N/A"}}]
[{"$f":"INDEX(Tabelle2[[#All],[Budgetlinie]],MATCH(Tabelle1[[#This Row],[Maßnahme]],Ausfüllhilfe!$C$1:$C$22,0))","v":{"$error":"#N/A"}},null,null,null,null,null,null,null,null,{"$f":"VLOOKUP(Tabelle1[[#This Row],[Budgetlinie]],Ausfüllhilfe!$A$1:$D$23,4,0)","v":{"$error":"#N/A"}}]
[{"$f":"INDEX(Tabelle2[[#All],[Budgetlinie]],MATCH(Tabelle1[[#This Row],[Maßnahme]],Ausfüllhilfe!$C$1:$C$22,0))","v":{"$error":"#N/A"}},null,null,null,null,null,null,null,null,{"$f":"VLOOKUP(Tabelle1[[#This Row],[Budgetlinie]],Ausfüllhilfe!$A$1:$D$23,4,0)","v":{"$error":"#N/A"}}]
[{"$f":"INDEX(Tabelle2[[#All],[Budgetlinie]],MATCH(Tabelle1[[#This Row],[Maßnahme]],Ausfüllhilfe!$C$1:$C$22,0))","v":{"$error":"#N/A"}},null,null,null,null,null,null,null,null,{"$f":"VLOOKUP(Tabelle1[[#This Row],[Budgetlinie]],Ausfüllhilfe!$A$1:$D$23,4,0)","v":{"$error":"#N/A"}}]
[{"$f":"INDEX(Tabelle2[[#All],[Budgetlinie]],MATCH(Tabelle1[[#This Row],[Maßnahme]],Ausfüllhilfe!$C$1:$C$22,0))","v":{"$error":"#N/A"}},null,null,null,null,null,null,null,null,{"$f":"VLOOKUP(Tabelle1[[#This Row],[Budgetlinie]],Ausfüllhilfe!$A$1:$D$23,4,0)","v":{"$error":"#N/A"}}]
[{"$f":"INDEX(Tabelle2[[#All],[Budgetlinie]],MATCH(Tabelle1[[#This Row],[Maßnahme]],Ausfüllhilfe!$C$1:$C$22,0))","v":{"$error":"#N/A"}},null,null,null,null,null,null,null,null,{"$f":"VLOOKUP(Tabelle1[[#This Row],[Budgetlinie]],Ausfüllhilfe!$A$1:$D$23,4,0)","v":{"$error":"#N/A"}}]
[{"$f":"INDEX(Tabelle2[[#All],[Budgetlinie]],MATCH(Tabelle1[[#This Row],[Maßnahme]],Ausfüllhilfe!$C$1:$C$22,0))","v":{"$error":"#N/A"}},null,null,null,null,null,null,null,null,{"$f":"VLOOKUP(Tabelle1[[#This Row],[Budgetlinie]],Ausfüllhilfe!$A$1:$D$23,4,0)","v":{"$error":"#N/A"}}]
[{"$f":"INDEX(Tabelle2[[#All],[Budgetlinie]],MATCH(Tabelle1[[#This Row],[Maßnahme]],Ausfüllhilfe!$C$1:$C$22,0))","v":{"$error":"#N/A"}},null,null,null,null,null,null,null,null,{"$f":"VLOOKUP(Tabelle1[[#This Row],[Budgetlinie]],Ausfüllhilfe!$A$1:$D$23,4,0)","v":{"$error":"#N/A"}}]
[{"$f":"INDEX(Tabelle2[[#All],[Budgetlinie]],MATCH(Tabelle1[[#This Row],[Maßnahme]],Ausfüllhilfe!$C$1:$C$22,0))","v":{"$error":"#N/A"}},null,null,null,null,null,null,null,null,{"$f":"VLOOKUP(Tabelle1[[#This Row],[Budgetlinie]],Ausfüllhilfe!$A$1:$D$23,4,0)","v":{"$error":"#N/A"}}]
[{"$f":"INDEX(Tabelle2[[#All],[Budgetlinie]],MATCH(Tabelle1[[#This Row],[Maßnahme]],Ausfüllhilfe!$C$1:$C$22,0))","v":{"$error":"#N/A"}},null,null,null,null,null,null,null,null,{"$f":"VLOOKUP(Tabelle1[[#This Row],[Budgetlinie]],Ausfüllhilfe!$A$1:$D$23,4,0)","v":{"$error":"#N/A"}}]
[{"$f":"INDEX(Tabelle2[[#All],[Budgetlinie]],MATCH(Tabelle1[[#This Row],[Maßnahme]],Ausfüllhilfe!$C$1:$C$22,0))","v":{"$error":"#N/A"}},null,null,null,null,null,null,null,null,{"$f":"VLOOKUP(Tabelle1[[#This Row],[Budgetlinie]],Ausfüllhilfe!$A$1:$D$23,4,0)","v":{"$error":"#N/A"}}]
[{"$f":"INDEX(Tabelle2[[#All],[Budgetlinie]],MATCH(Tabelle1[[#This Row],[Maßnahme]],Ausfüllhilfe!$C$1:$C$22,0))","v":{"$error":"#N/A"}},null,null,null,null,null,null,null,null,{"$f":"VLOOKUP(Tabelle1[[#This Row],[Budgetlinie]],Ausfüllhilfe!$A$1:$D$23,4,0)","v":{"$error":"#N/A"}}]
[{"$f":"INDEX(Tabelle2[[#All],[Budgetlinie]],MATCH(Tabelle1[[#This Row],[Maßnahme]],Ausfüllhilfe!$C$1:$C$22,0))","v":{"$error":"#N/A"}},null,null,null,null,null,null,null,null,{"$f":"VLOOKUP(Tabelle1[[#This Row],[Budgetlinie]],Ausfüllhilfe!$A$1:$D$23,4,0)","v":{"$error":"#N/A"}}]
[{"$f":"INDEX(Tabelle2[[#All],[Budgetlinie]],MATCH(Tabelle1[[#This Row],[Maßnahme]],Ausfüllhilfe!$C$1:$C$22,0))","v":{"$error":"#N/A"}},null,null,null,null,null,null,null,null,{"$f":"VLOOKUP(Tabelle1[[#This Row],[Budgetlinie]],Ausfüllhilfe!$A$1:$D$23,4,0)","v":{"$error":"#N/A"}}]
[{"$f":"INDEX(Tabelle2[[#All],[Budgetlinie]],MATCH(Tabelle1[[#This Row],[Maßnahme]],Ausfüllhilfe!$C$1:$C$22,0))","v":{"$error":"#N/A"}},null,null,null,null,null,null,null,null,{"$f":"VLOOKUP(Tabelle1[[#This Row],[Budgetlinie]],Ausfüllhilfe!$A$1:$D$23,4,0)","v":{"$error":"#N/A"}}]
[{"$f":"INDEX(Tabelle2[[#All],[Budgetlinie]],MATCH(Tabelle1[[#This Row],[Maßnahme]],Ausfüllhilfe!$C$1:$C$22,0))","v":{"$error":"#N/A"}},null,null,null,null,null,null,null,null,{"$f":"VLOOKUP(Tabelle1[[#This Row],[Budgetlinie]],Ausfüllhilfe!$A$1:$D$23,4,0)","v":{"$error":"#N/A"}}]
[{"$f":"INDEX(Tabelle2[[#All],[Budgetlinie]],MATCH(Tabelle1[[#This Row],[Maßnahme]],Ausfüllhilfe!$C$1:$C$22,0))","v":{"$error":"#N/A"}},null,null,null,null,null,null,null,null,{"$f":"VLOOKUP(Tabelle1[[#This Row],[Budgetlinie]],Ausfüllhilfe!$A$1:$D$23,4,0)","v":{"$error":"#N/A"}}]
[{"$f":"INDEX(Tabelle2[[#All],[Budgetlinie]],MATCH(Tabelle1[[#This Row],[Maßnahme]],Ausfüllhilfe!$C$1:$C$22,0))","v":{"$error":"#N/A"}},null,null,null,null,null,null,null,null,{"$f":"VLOOKUP(Tabelle1[[#This Row],[Budgetlinie]],Ausfüllhilfe!$A$1:$D$23,4,0)","v":{"$error":"#N/A"}}]
[{"$f":"INDEX(Tabelle2[[#All],[Budgetlinie]],MATCH(Tabelle1[[#This Row],[Maßnahme]],Ausfüllhilfe!$C$1:$C$22,0))","v":{"$error":"#N/A"}},null,null,null,null,null,null,null,null,{"$f":"VLOOKUP(Tabelle1[[#This Row],[Budgetlinie]],Ausfüllhilfe!$A$1:$D$23,4,0)","v":{"$error":"#N/A"}}]
[{"$f":"INDEX(Tabelle2[[#All],[Budgetlinie]],MATCH(Tabelle1[[#This Row],[Maßnahme]],Ausfüllhilfe!$C$1:$C$22,0))","v":{"$error":"#N/A"}},null,null,null,null,null,null,null,null,{"$f":"VLOOKUP(Tabelle1[[#This Row],[Budgetlinie]],Ausfüllhilfe!$A$1:$D$23,4,0)","v":{"$error":"#N/A"}}]
[{"$f":"INDEX(Tabelle2[[#All],[Budgetlinie]],MATCH(Tabelle1[[#This Row],[Maßnahme]],Ausfüllhilfe!$C$1:$C$22,0))","v":{"$error":"#N/A"}},null,null,null,null,null,null,null,null,{"$f":"VLOOKUP(Tabelle1[[#This Row],[Budgetlinie]],Ausfüllhilfe!$A$1:$D$23,4,0)","v":{"$error":"#N/A"}}]
[{"$f":"INDEX(Tabelle2[[#All],[Budgetlinie]],MATCH(Tabelle1[[#This Row],[Maßnahme]],Ausfüllhilfe!$C$1:$C$22,0))","v":{"$error":"#N/A"}},null,null,null,null,null,null,null,null,{"$f":"VLOOKUP(Tabelle1[[#This Row],[Budgetlinie]],Ausfüllhilfe!$A$1:$D$23,4,0)","v":{"$error":"#N/A"}}]
[{"$f":"INDEX(Tabelle2[[#All],[Budgetlinie]],MATCH(Tabelle1[[#This Row],[Maßnahme]],Ausfüllhilfe!$C$1:$C$22,0))","v":{"$error":"#N/A"}},null,null,null,null,null,null,null,null,{"$f":"VLOOKUP(Tabelle1[[#This Row],[Budgetlinie]],Ausfüllhilfe!$A$1:$D$23,4,0)","v":{"$error":"#N/A"}}]
[{"$f":"INDEX(Tabelle2[[#All],[Budgetlinie]],MATCH(Tabelle1[[#This Row],[Maßnahme]],Ausfüllhilfe!$C$1:$C$22,0))","v":{"$error":"#N/A"}},null,null,null,null,null,null,null,null,{"$f":"VLOOKUP(Tabelle1[[#This Row],[Budgetlinie]],Ausfüllhilfe!$A$1:$D$23,4,0)","v":{"$error":"#N/A"}}]
[{"$f":"INDEX(Tabelle2[[#All],[Budgetlinie]],MATCH(Tabelle1[[#This Row],[Maßnahme]],Ausfüllhilfe!$C$1:$C$22,0))","v":{"$error":"#N/A"}},null,null,null,null,null,null,null,null,{"$f":"VLOOKUP(Tabelle1[[#This Row],[Budgetlinie]],Ausfüllhilfe!$A$1:$D$23,4,0)","v":{"$error":"#N/A"}}]
[{"$f":"INDEX(Tabelle2[[#All],[Budgetlinie]],MATCH(Tabelle1[[#This Row],[Maßnahme]],Ausfüllhilfe!$C$1:$C$22,0))","v":{"$error":"#N/A"}},null,null,null,null,null,null,null,null,{"$f":"VLOOKUP(Tabelle1[[#This Row],[Budgetlinie]],Ausfüllhilfe!$A$1:$D$23,4,0)","v":{"$error":"#N/A"}}]
[{"$f":"INDEX(Tabelle2[[#All],[Budgetlinie]],MATCH(Tabelle1[[#This Row],[Maßnahme]],Ausfüllhilfe!$C$1:$C$22,0))","v":{"$error":"#N/A"}},null,null,null,null,null,null,null,null,{"$f":"VLOOKUP(Tabelle1[[#This Row],[Budgetlinie]],Ausfüllhilfe!$A$1:$D$23,4,0)","v":{"$error":"#N/A"}}]
[{"$f":"INDEX(Tabelle2[[#All],[Budgetlinie]],MATCH(Tabelle1[[#This Row],[Maßnahme]],Ausfüllhilfe!$C$1:$C$22,0))","v":{"$error":"#N/A"}},null,null,null,null,null,null,null,null,{"$f":"VLOOKUP(Tabelle1[[#This Row],[Budgetlinie]],Ausfüllhilfe!$A$1:$D$23,4,0)","v":{"$error":"#N/A"}}]
[{"$f":"INDEX(Tabelle2[[#All],[Budgetlinie]],MATCH(Tabelle1[[#This Row],[Maßnahme]],Ausfüllhilfe!$C$1:$C$22,0))","v":{"$error":"#N/A"}},null,null,null,null,null,null,null,null,{"$f":"VLOOKUP(Tabelle1[[#This Row],[Budgetlinie]],Ausfüllhilfe!$A$1:$D$23,4,0)","v":{"$error":"#N/A"}}]
[{"$f":"INDEX(Tabelle2[[#All],[Budgetlinie]],MATCH(Tabelle1[[#This Row],[Maßnahme]],Ausfüllhilfe!$C$1:$C$22,0))","v":{"$error":"#N/A"}},null,null,null,null,null,null,null,null,{"$f":"VLOOKUP(Tabelle1[[#This Row],[Budgetlinie]],Ausfüllhilfe!$A$1:$D$23,4,0)","v":{"$error":"#N/A"}}]
[{"$f":"INDEX(Tabelle2[[#All],[Budgetlinie]],MATCH(Tabelle1[[#This Row],[Maßnahme]],Ausfüllhilfe!$C$1:$C$22,0))","v":{"$error":"#N/A"}},null,null,null,null,null,null,null,null,{"$f":"VLOOKUP(Tabelle1[[#This Row],[Budgetlinie]],Ausfüllhilfe!$A$1:$D$23,4,0)","v":{"$error":"#N/A"}}]
[{"$f":"INDEX(Tabelle2[[#All],[Budgetlinie]],MATCH(Tabelle1[[#This Row],[Maßnahme]],Ausfüllhilfe!$C$1:$C$22,0))","v":{"$error":"#N/A"}},null,null,null,null,null,null,null,null,{"$f":"VLOOKUP(Tabelle1[[#This Row],[Budgetlinie]],Ausfüllhilfe!$A$1:$D$23,4,0)","v":{"$error":"#N/A"}}]
[{"$f":"INDEX(Tabelle2[[#All],[Budgetlinie]],MATCH(Tabelle1[[#This Row],[Maßnahme]],Ausfüllhilfe!$C$1:$C$22,0))","v":{"$error":"#N/A"}},null,null,null,null,null,null,null,null,{"$f":"VLOOKUP(Tabelle1[[#This Row],[Budgetlinie]],Ausfüllhilfe!$A$1:$D$23,4,0)","v":{"$error":"#N/A"}}]
[{"$f":"INDEX(Tabelle2[[#All],[Budgetlinie]],MATCH(Tabelle1[[#This Row],[Maßnahme]],Ausfüllhilfe!$C$1:$C$22,0))","v":{"$error":"#N/A"}},null,null,null,null,null,null,null,null,{"$f":"VLOOKUP(Tabelle1[[#This Row],[Budgetlinie]],Ausfüllhilfe!$A$1:$D$23,4,0)","v":{"$error":"#N/A"}}]
[{"$f":"INDEX(Tabelle2[[#All],[Budgetlinie]],MATCH(Tabelle1[[#This Row],[Maßnahme]],Ausfüllhilfe!$C$1:$C$22,0))","v":{"$error":"#N/A"}},null,null,null,null,null,null,null,null,{"$f":"VLOOKUP(Tabelle1[[#This Row],[Budgetlinie]],Ausfüllhilfe!$A$1:$D$23,4,0)","v":{"$error":"#N/A"}}]
[{"$f":"INDEX(Tabelle2[[#All],[Budgetlinie]],MATCH(Tabelle1[[#This Row],[Maßnahme]],Ausfüllhilfe!$C$1:$C$22,0))","v":{"$error":"#N/A"}},null,null,null,null,null,null,null,null,{"$f":"VLOOKUP(Tabelle1[[#This Row],[Budgetlinie]],Ausfüllhilfe!$A$1:$D$23,4,0)","v":{"$error":"#N/A"}}]
[{"$f":"INDEX(Tabelle2[[#All],[Budgetlinie]],MATCH(Tabelle1[[#This Row],[Maßnahme]],Ausfüllhilfe!$C$1:$C$22,0))","v":{"$error":"#N/A"}},null,null,null,null,null,null,null,null,{"$f":"VLOOKUP(Tabelle1[[#This Row],[Budgetlinie]],Ausfüllhilfe!$A$1:$D$23,4,0)","v":{"$error":"#N/A"}}]
[{"$f":"INDEX(Tabelle2[[#All],[Budgetlinie]],MATCH(Tabelle1[[#This Row],[Maßnahme]],Ausfüllhilfe!$C$1:$C$22,0))","v":{"$error":"#N/A"}},null,null,null,null,null,null,null,null,{"$f":"VLOOKUP(Tabelle1[[#This Row],[Budgetlinie]],Ausfüllhilfe!$A$1:$D$23,4,0)","v":{"$error":"#N/A"}}]
[{"$f":"INDEX(Tabelle2[[#All],[Budgetlinie]],MATCH(Tabelle1[[#This Row],[Maßnahme]],Ausfüllhilfe!$C$1:$C$22,0))","v":{"$error":"#N/A"}},null,null,null,null,null,null,null,null,{"$f":"VLOOKUP(Tabelle1[[#This Row],[Budgetlinie]],Ausfüllhilfe!$A$1:$D$23,4,0)","v":{"$error":"#N/A"}}]
[{"$f":"INDEX(Tabelle2[[#All],[Budgetlinie]],MATCH(Tabelle1[[#This Row],[Maßnahme]],Ausfüllhilfe!$C$1:$C$22,0))","v":{"$error":"#N/A"}},null,null,null,null,null,null,null,null,{"$f":"VLOOKUP(Tabelle1[[#This Row],[Budgetlinie]],Ausfüllhilfe!$A$1:$D$23,4,0)","v":{"$error":"#N/A"}}]
[{"$f":"INDEX(Tabelle2[[#All],[Budgetlinie]],MATCH(Tabelle1[[#This Row],[Maßnahme]],Ausfüllhilfe!$C$1:$C$22,0))","v":{"$error":"#N/A"}},null,null,null,null,null,null,null,null,{"$f":"VLOOKUP(Tabelle1[[#This Row],[Budgetlinie]],Ausfüllhilfe!$A$1:$D$23,4,0)","v":{"$error":"#N/A"}}]
[{"$f":"INDEX(Tabelle2[[#All],[Budgetlinie]],MATCH(Tabelle1[[#This Row],[Maßnahme]],Ausfüllhilfe!$C$1:$C$22,0))","v":{"$error":"#N/A"}},null,null,null,null,null,null,null,null,{"$f":"VLOOKUP(Tabelle1[[#This Row],[Budgetlinie]],Ausfüllhilfe!$A$1:$D$23,4,0)","v":{"$error":"#N/A"}}]
[{"$f":"INDEX(Tabelle2[[#All],[Budgetlinie]],MATCH(Tabelle1[[#This Row],[Maßnahme]],Ausfüllhilfe!$C$1:$C$22,0))","v":{"$error":"#N/A"}},null,null,null,null,null,null,null,null,{"$f":"VLOOKUP(Tabelle1[[#This Row],[Budgetlinie]],Ausfüllhilfe!$A$1:$D$23,4,0)","v":{"$error":"#N/A"}}]
[{"$f":"INDEX(Tabelle2[[#All],[Budgetlinie]],MATCH(Tabelle1[[#This Row],[Maßnahme]],Ausfüllhilfe!$C$1:$C$22,0))","v":{"$error":"#N/A"}},null,null,null,null,null,null,null,null,{"$f":"VLOOKUP(Tabelle1[[#This Row],[Budgetlinie]],Ausfüllhilfe!$A$1:$D$23,4,0)","v":{"$error":"#N/A"}}]
[{"$f":"INDEX(Tabelle2[[#All],[Budgetlinie]],MATCH(Tabelle1[[#This Row],[Maßnahme]],Ausfüllhilfe!$C$1:$C$22,0))","v":{"$error":"#N/A"}},null,null,null,null,null,null,null,null,{"$f":"VLOOKUP(Tabelle1[[#This Row],[Budgetlinie]],Ausfüllhilfe!$A$1:$D$23,4,0)","v":{"$error":"#N/A"}}]
[{"$f":"INDEX(Tabelle2[[#All],[Budgetlinie]],MATCH(Tabelle1[[#This Row],[Maßnahme]],Ausfüllhilfe!$C$1:$C$22,0))","v":{"$error":"#N/A"}},null,null,null,null,null,null,null,null,{"$f":"VLOOKUP(Tabelle1[[#This Row],[Budgetlinie]],Ausfüllhilfe!$A$1:$D$23,4,0)","v":{"$error":"#N/A"}}]
[{"$f":"INDEX(Tabelle2[[#All],[Budgetlinie]],MATCH(Tabelle1[[#This Row],[Maßnahme]],Ausfüllhilfe!$C$1:$C$22,0))","v":{"$error":"#N/A"}},null,null,null,null,null,null,null,null,{"$f":"VLOOKUP(Tabelle1[[#This Row],[Budgetlinie]],Ausfüllhilfe!$A$1:$D$23,4,0)","v":{"$error":"#N/A"}}]
[{"$f":"INDEX(Tabelle2[[#All],[Budgetlinie]],MATCH(Tabelle1[[#This Row],[Maßnahme]],Ausfüllhilfe!$C$1:$C$22,0))","v":{"$error":"#N/A"}},null,null,null,null,null,null,null,null,{"$f":"VLOOKUP(Tabelle1[[#This Row],[Budgetlinie]],Ausfüllhilfe!$A$1:$D$23,4,0)","v":{"$error":"#N/A"}}]
[{"$f":"INDEX(Tabelle2[[#All],[Budgetlinie]],MATCH(Tabelle1[[#This Row],[Maßnahme]],Ausfüllhilfe!$C$1:$C$22,0))","v":{"$error":"#N/A"}},null,null,null,null,null,null,null,null,{"$f":"VLOOKUP(Tabelle1[[#This Row],[Budgetlinie]],Ausfüllhilfe!$A$1:$D$23,4,0)","v":{"$error":"#N/A"}}]
[{"$f":"INDEX(Tabelle2[[#All],[Budgetlinie]],MATCH(Tabelle1[[#This Row],[Maßnahme]],Ausfüllhilfe!$C$1:$C$22,0))","v":{"$error":"#N/A"}},null,null,null,null,null,null,null,null,{"$f":"VLOOKUP(Tabelle1[[#This Row],[Budgetlinie]],Ausfüllhilfe!$A$1:$D$23,4,0)","v":{"$error":"#N/A"}}]
[{"$f":"INDEX(Tabelle2[[#All],[Budgetlinie]],MATCH(Tabelle1[[#This Row],[Maßnahme]],Ausfüllhilfe!$C$1:$C$22,0))","v":{"$error":"#N/A"}},null,null,null,null,null,null,null,null,{"$f":"VLOOKUP(Tabelle1[[#This Row],[Budgetlinie]],Ausfüllhilfe!$A$1:$D$23,4,0)","v":{"$error":"#N/A"}}]
[{"$f":"INDEX(Tabelle2[[#All],[Budgetlinie]],MATCH(Tabelle1[[#This Row],[Maßnahme]],Ausfüllhilfe!$C$1:$C$22,0))","v":{"$error":"#N/A"}},null,null,null,null,null,null,null,null,{"$f":"VLOOKUP(Tabelle1[[#This Row],[Budgetlinie]],Ausfüllhilfe!$A$1:$D$23,4,0)","v":{"$error":"#N/A"}}]
[{"$f":"INDEX(Tabelle2[[#All],[Budgetlinie]],MATCH(Tabelle1[[#This Row],[Maßnahme]],Ausfüllhilfe!$C$1:$C$22,0))","v":{"$error":"#N/A"}},null,null,null,null,null,null,null,null,{"$f":"VLOOKUP(Tabelle1[[#This Row],[Budgetlinie]],Ausfüllhilfe!$A$1:$D$23,4,0)","v":{"$error":"#N/A"}}]
[{"$f":"INDEX(Tabelle2[[#All],[Budgetlinie]],MATCH(Tabelle1[[#This Row],[Maßnahme]],Ausfüllhilfe!$C$1:$C$22,0))","v":{"$error":"#N/A"}},null,null,null,null,null,null,null,null,{"$f":"VLOOKUP(Tabelle1[[#This Row],[Budgetlinie]],Ausfüllhilfe!$A$1:$D$23,4,0)","v":{"$error":"#N/A"}}]
[{"$f":"INDEX(Tabelle2[[#All],[Budgetlinie]],MATCH(Tabelle1[[#This Row],[Maßnahme]],Ausfüllhilfe!$C$1:$C$22,0))","v":{"$error":"#N/A"}},null,null,null,null,null,null,null,null,{"$f":"VLOOKUP(Tabelle1[[#This Row],[Budgetlinie]],Ausfüllhilfe!$A$1:$D$23,4,0)","v":{"$error":"#N/A"}}]
[{"$f":"INDEX(Tabelle2[[#All],[Budgetlinie]],MATCH(Tabelle1[[#This Row],[Maßnahme]],Ausfüllhilfe!$C$1:$C$22,0))","v":{"$error":"#N/A"}},null,null,null,null,null,null,null,null,{"$f":"VLOOKUP(Tabelle1[[#This Row],[Budgetlinie]],Ausfüllhilfe!$A$1:$D$23,4,0)","v":{"$error":"#N/A"}}]
[{"$f":"INDEX(Tabelle2[[#All],[Budgetlinie]],MATCH(Tabelle1[[#This Row],[Maßnahme]],Ausfüllhilfe!$C$1:$C$22,0))","v":{"$error":"#N/A"}},null,null,null,null,null,null,null,null,{"$f":"VLOOKUP(Tabelle1[[#This Row],[Budgetlinie]],Ausfüllhilfe!$A$1:$D$23,4,0)","v":{"$error":"#N/A"}}]
[{"$f":"INDEX(Tabelle2[[#All],[Budgetlinie]],MATCH(Tabelle1[[#This Row],[Maßnahme]],Ausfüllhilfe!$C$1:$C$22,0))","v":{"$error":"#N/A"}},null,null,null,null,null,null,null,null,{"$f":"VLOOKUP(Tabelle1[[#This Row],[Budgetlinie]],Ausfüllhilfe!$A$1:$D$23,4,0)","v":{"$error":"#N/A"}}]
[{"$f":"INDEX(Tabelle2[[#All],[Budgetlinie]],MATCH(Tabelle1[[#This Row],[Maßnahme]],Ausfüllhilfe!$C$1:$C$22,0))","v":{"$error":"#N/A"}},null,null,null,null,null,null,null,null,{"$f":"VLOOKUP(Tabelle1[[#This Row],[Budgetlinie]],Ausfüllhilfe!$A$1:$D$23,4,0)","v":{"$error":"#N/A"}}]
[{"$f":"INDEX(Tabelle2[[#All],[Budgetlinie]],MATCH(Tabelle1[[#This Row],[Maßnahme]],Ausfüllhilfe!$C$1:$C$22,0))","v":{"$error":"#N/A"}},null,null,null,null,null,null,null,null,{"$f":"VLOOKUP(Tabelle1[[#This Row],[Budgetlinie]],Ausfüllhilfe!$A$1:$D$23,4,0)","v":{"$error":"#N/A"}}]
[{"$f":"INDEX(Tabelle2[[#All],[Budgetlinie]],MATCH(Tabelle1[[#This Row],[Maßnahme]],Ausfüllhilfe!$C$1:$C$22,0))","v":{"$error":"#N/A"}},null,null,null,null,null,null,null,null,{"$f":"VLOOKUP(Tabelle1[[#This Row],[Budgetlinie]],Ausfüllhilfe!$A$1:$D$23,4,0)","v":{"$error":"#N/A"}}]
[{"$f":"INDEX(Tabelle2[[#All],[Budgetlinie]],MATCH(Tabelle1[[#This Row],[Maßnahme]],Ausfüllhilfe!$C$1:$C$22,0))","v":{"$error":"#N/A"}},null,null,null,null,null,null,null,null,{"$f":"VLOOKUP(Tabelle1[[#This Row],[Budgetlinie]],Ausfüllhilfe!$A$1:$D$23,4,0)","v":{"$error":"#N/A"}}]
[{"$f":"INDEX(Tabelle2[[#All],[Budgetlinie]],MATCH(Tabelle1[[#This Row],[Maßnahme]],Ausfüllhilfe!$C$1:$C$22,0))","v":{"$error":"#N/A"}},null,null,null,null,null,null,null,null,{"$f":"VLOOKUP(Tabelle1[[#This Row],[Budgetlinie]],Ausfüllhilfe!$A$1:$D$23,4,0)","v":{"$error":"#N/A"}}]
[{"$f":"INDEX(Tabelle2[[#All],[Budgetlinie]],MATCH(Tabelle1[[#This Row],[Maßnahme]],Ausfüllhilfe!$C$1:$C$22,0))","v":{"$error":"#N/A"}},null,null,null,null,null,null,null,null,{"$f":"VLOOKUP(Tabelle1[[#This Row],[Budgetlinie]],Ausfüllhilfe!$A$1:$D$23,4,0)","v":{"$error":"#N/A"}}]
[{"$f":"INDEX(Tabelle2[[#All],[Budgetlinie]],MATCH(Tabelle1[[#This Row],[Maßnahme]],Ausfüllhilfe!$C$1:$C$22,0))","v":{"$error":"#N/A"}},null,null,null,null,null,null,null,null,{"$f":"VLOOKUP(Tabelle1[[#This Row],[Budgetlinie]],Ausfüllhilfe!$A$1:$D$23,4,0)","v":{"$error":"#N/A"}}]
[{"$f":"INDEX(Tabelle2[[#All],[Budgetlinie]],MATCH(Tabelle1[[#This Row],[Maßnahme]],Ausfüllhilfe!$C$1:$C$22,0))","v":{"$error":"#N/A"}},null,null,null,null,null,null,null,null,{"$f":"VLOOKUP(Tabelle1[[#This Row],[Budgetlinie]],Ausfüllhilfe!$A$1:$D$23,4,0)","v":{"$error":"#N/A"}}]
[{"$f":"INDEX(Tabelle2[[#All],[Budgetlinie]],MATCH(Tabelle1[[#This Row],[Maßnahme]],Ausfüllhilfe!$C$1:$C$22,0))","v":{"$error":"#N/A"}},null,null,null,null,null,null,null,null,{"$f":"VLOOKUP(Tabelle1[[#This Row],[Budgetlinie]],Ausfüllhilfe!$A$1:$D$23,4,0)","v":{"$error":"#N/A"}}]
[{"$f":"INDEX(Tabelle2[[#All],[Budgetlinie]],MATCH(Tabelle1[[#This Row],[Maßnahme]],Ausfüllhilfe!$C$1:$C$22,0))","v":{"$error":"#N/A"}},null,null,null,null,null,null,null,null,{"$f":"VLOOKUP(Tabelle1[[#This Row],[Budgetlinie]],Ausfüllhilfe!$A$1:$D$23,4,0)","v":{"$error":"#N/A"}}]
[{"$f":"INDEX(Tabelle2[[#All],[Budgetlinie]],MATCH(Tabelle1[[#This Row],[Maßnahme]],Ausfüllhilfe!$C$1:$C$22,0))","v":{"$error":"#N/A"}},null,null,null,null,null,null,null,null,{"$f":"VLOOKUP(Tabelle1[[#This Row],[Budgetlinie]],Ausfüllhilfe!$A$1:$D$23,4,0)","v":{"$error":"#N/A"}}]
[{"$f":"INDEX(Tabelle2[[#All],[Budgetlinie]],MATCH(Tabelle1[[#This Row],[Maßnahme]],Ausfüllhilfe!$C$1:$C$22,0))","v":{"$error":"#N/A"}},null,null,null,null,null,null,null,null,{"$f":"VLOOKUP(Tabelle1[[#This Row],[Budgetlinie]],Ausfüllhilfe!$A$1:$D$23,4,0)","v":{"$error":"#N/A"}}]
[{"$f":"INDEX(Tabelle2[[#All],[Budgetlinie]],MATCH(Tabelle1[[#This Row],[Maßnahme]],Ausfüllhilfe!$C$1:$C$22,0))","v":{"$error":"#N/A"}},null,null,null,null,null,null,null,null,{"$f":"VLOOKUP(Tabelle1[[#This Row],[Budgetlinie]],Ausfüllhilfe!$A$1:$D$23,4,0)","v":{"$error":"#N/A"}}]
[{"$f":"INDEX(Tabelle2[[#All],[Budgetlinie]],MATCH(Tabelle1[[#This Row],[Maßnahme]],Ausfüllhilfe!$C$1:$C$22,0))","v":{"$error":"#N/A"}},null,null,null,null,null,null,null,null,{"$f":"VLOOKUP(Tabelle1[[#This Row],[Budgetlinie]],Ausfüllhilfe!$A$1:$D$23,4,0)","v":{"$error":"#N/A"}}]
[{"$f":"INDEX(Tabelle2[[#All],[Budgetlinie]],MATCH(Tabelle1[[#This Row],[Maßnahme]],Ausfüllhilfe!$C$1:$C$22,0))","v":{"$error":"#N/A"}},null,null,null,null,null,null,null,null,{"$f":"VLOOKUP(Tabelle1[[#This Row],[Budgetlinie]],Ausfüllhilfe!$A$1:$D$23,4,0)","v":{"$error":"#N/A"}}]
[{"$f":"INDEX(Tabelle2[[#All],[Budgetlinie]],MATCH(Tabelle1[[#This Row],[Maßnahme]],Ausfüllhilfe!$C$1:$C$22,0))","v":{"$error":"#N/A"}},null,null,null,null,null,null,null,null,{"$f":"VLOOKUP(Tabelle1[[#This Row],[Budgetlinie]],Ausfüllhilfe!$A$1:$D$23,4,0)","v":{"$error":"#N/A"}}]
[{"$f":"INDEX(Tabelle2[[#All],[Budgetlinie]],MATCH(Tabelle1[[#This Row],[Maßnahme]],Ausfüllhilfe!$C$1:$C$22,0))","v":{"$error":"#N/A"}},null,null,null,null,null,null,null,null,{"$f":"VLOOKUP(Tabelle1[[#This Row],[Budgetlinie]],Ausfüllhilfe!$A$1:$D$23,4,0)","v":{"$error":"#N/A"}}]
[{"$f":"INDEX(Tabelle2[[#All],[Budgetlinie]],MATCH(Tabelle1[[#This Row],[Maßnahme]],Ausfüllhilfe!$C$1:$C$22,0))","v":{"$error":"#N/A"}},null,null,null,null,null,null,null,null,{"$f":"VLOOKUP(Tabelle1[[#This Row],[Budgetlinie]],Ausfüllhilfe!$A$1:$D$23,4,0)","v":{"$error":"#N/A"}}]
[{"$f":"INDEX(Tabelle2[[#All],[Budgetlinie]],MATCH(Tabelle1[[#This Row],[Maßnahme]],Ausfüllhilfe!$C$1:$C$22,0))","v":{"$error":"#N/A"}},null,null,null,null,null,null,null,null,{"$f":"VLOOKUP(Tabelle1[[#This Row],[Budgetlinie]],Ausfüllhilfe!$A$1:$D$23,4,0)","v":{"$error":"#N/A"}}]
[{"$f":"INDEX(Tabelle2[[#All],[Budgetlinie]],MATCH(Tabelle1[[#This Row],[Maßnahme]],Ausfüllhilfe!$C$1:$C$22,0))","v":{"$error":"#N/A"}},null,null,null,null,null,null,null,null,{"$f":"VLOOKUP(Tabelle1[[#This Row],[Budgetlinie]],Ausfüllhilfe!$A$1:$D$23,4,0)","v":{"$error":"#N/A"}}]
[{"$f":"INDEX(Tabelle2[[#All],[Budgetlinie]],MATCH(Tabelle1[[#This Row],[Maßnahme]],Ausfüllhilfe!$C$1:$C$22,0))","v":{"$error":"#N/A"}},null,null,null,null,null,null,null,null,{"$f":"VLOOKUP(Tabelle1[[#This Row],[Budgetlinie]],Ausfüllhilfe!$A$1:$D$23,4,0)","v":{"$error":"#N/A"}}]
[{"$f":"INDEX(Tabelle2[[#All],[Budgetlinie]],MATCH(Tabelle1[[#This Row],[Maßnahme]],Ausfüllhilfe!$C$1:$C$22,0))","v":{"$error":"#N/A"}},null,null,null,null,null,null,null,null,{"$f":"VLOOKUP(Tabelle1[[#This Row],[Budgetlinie]],Ausfüllhilfe!$A$1:$D$23,4,0)","v":{"$error":"#N/A"}}]
[{"$f":"INDEX(Tabelle2[[#All],[Budgetlinie]],MATCH(Tabelle1[[#This Row],[Maßnahme]],Ausfüllhilfe!$C$1:$C$22,0))","v":{"$error":"#N/A"}},null,null,null,null,null,null,null,null,{"$f":"VLOOKUP(Tabelle1[[#This Row],[Budgetlinie]],Ausfüllhilfe!$A$1:$D$23,4,0)","v":{"$error":"#N/A"}}]
[{"$f":"INDEX(Tabelle2[[#All],[Budgetlinie]],MATCH(Tabelle1[[#This Row],[Maßnahme]],Ausfüllhilfe!$C$1:$C$22,0))","v":{"$error":"#N/A"}},null,null,null,null,null,null,null,null,{"$f":"VLOOKUP(Tabelle1[[#This Row],[Budgetlinie]],Ausfüllhilfe!$A$1:$D$23,4,0)","v":{"$error":"#N/A"}}]
[{"$f":"INDEX(Tabelle2[[#All],[Budgetlinie]],MATCH(Tabelle1[[#This Row],[Maßnahme]],Ausfüllhilfe!$C$1:$C$22,0))","v":{"$error":"#N/A"}},null,null,null,null,null,null,null,null,{"$f":"VLOOKUP(Tabelle1[[#This Row],[Budgetlinie]],Ausfüllhilfe!$A$1:$D$23,4,0)","v":{"$error":"#N/A"}}]
[{"$f":"INDEX(Tabelle2[[#All],[Budgetlinie]],MATCH(Tabelle1[[#This Row],[Maßnahme]],Ausfüllhilfe!$C$1:$C$22,0))","v":{"$error":"#N/A"}},null,null,null,null,null,null,null,null,{"$f":"VLOOKUP(Tabelle1[[#This Row],[Budgetlinie]],Ausfüllhilfe!$A$1:$D$23,4,0)","v":{"$error":"#N/A"}}]
[{"$f":"INDEX(Tabelle2[[#All],[Budgetlinie]],MATCH(Tabelle1[[#This Row],[Maßnahme]],Ausfüllhilfe!$C$1:$C$22,0))","v":{"$error":"#N/A"}},null,null,null,null,null,null,null,null,{"$f":"VLOOKUP(Tabelle1[[#This Row],[Budgetlinie]],Ausfüllhilfe!$A$1:$D$23,4,0)","v":{"$error":"#N/A"}}]
[{"$f":"INDEX(Tabelle2[[#All],[Budgetlinie]],MATCH(Tabelle1[[#This Row],[Maßnahme]],Ausfüllhilfe!$C$1:$C$22,0))","v":{"$error":"#N/A"}},null,null,null,null,null,null,null,null,{"$f":"VLOOKUP(Tabelle1[[#This Row],[Budgetlinie]],Ausfüllhilfe!$A$1:$D$23,4,0)","v":{"$error":"#N/A"}}]
[{"$f":"INDEX(Tabelle2[[#All],[Budgetlinie]],MATCH(Tabelle1[[#This Row],[Maßnahme]],Ausfüllhilfe!$C$1:$C$22,0))","v":{"$error":"#N/A"}},null,null,null,null,null,null,null,null,{"$f":"VLOOKUP(Tabelle1[[#This Row],[Budgetlinie]],Ausfüllhilfe!$A$1:$D$23,4,0)","v":{"$error":"#N/A"}}]
[{"$f":"INDEX(Tabelle2[[#All],[Budgetlinie]],MATCH(Tabelle1[[#This Row],[Maßnahme]],Ausfüllhilfe!$C$1:$C$22,0))","v":{"$error":"#N/A"}},null,null,null,null,null,null,null,null,{"$f":"VLOOKUP(Tabelle1[[#This Row],[Budgetlinie]],Ausfüllhilfe!$A$1:$D$23,4,0)","v":{"$error":"#N/A"}}]
[{"$f":"INDEX(Tabelle2[[#All],[Budgetlinie]],MATCH(Tabelle1[[#This Row],[Maßnahme]],Ausfüllhilfe!$C$1:$C$22,0))","v":{"$error":"#N/A"}},null,null,null,null,null,null,null,null,{"$f":"VLOOKUP(Tabelle1[[#This Row],[Budgetlinie]],Ausfüllhilfe!$A$1:$D$23,4,0)","v":{"$error":"#N/A"}}]
[{"$f":"INDEX(Tabelle2[[#All],[Budgetlinie]],MATCH(Tabelle1[[#This Row],[Maßnahme]],Ausfüllhilfe!$C$1:$C$22,0))","v":{"$error":"#N/A"}},null,null,null,null,null,null,null,null,{"$f":"VLOOKUP(Tabelle1[[#This Row],[Budgetlinie]],Ausfüllhilfe!$A$1:$D$23,4,0)","v":{"$error":"#N/A"}}]
[{"$f":"INDEX(Tabelle2[[#All],[Budgetlinie]],MATCH(Tabelle1[[#This Row],[Maßnahme]],Ausfüllhilfe!$C$1:$C$22,0))","v":{"$error":"#N/A"}},null,null,null,null,null,null,null,null,{"$f":"VLOOKUP(Tabelle1[[#This Row],[Budgetlinie]],Ausfüllhilfe!$A$1:$D$23,4,0)","v":{"$error":"#N/A"}}]
[{"$f":"INDEX(Tabelle2[[#All],[Budgetlinie]],MATCH(Tabelle1[[#This Row],[Maßnahme]],Ausfüllhilfe!$C$1:$C$22,0))","v":{"$error":"#N/A"}},null,null,null,null,null,null,null,null,{"$f":"VLOOKUP(Tabelle1[[#This Row],[Budgetlinie]],Ausfüllhilfe!$A$1:$D$23,4,0)","v":{"$error":"#N/A"}}]
[{"$f":"INDEX(Tabelle2[[#All],[Budgetlinie]],MATCH(Tabelle1[[#This Row],[Maßnahme]],Ausfüllhilfe!$C$1:$C$22,0))","v":{"$error":"#N/A"}},null,null,null,null,null,null,null,null,{"$f":"VLOOKUP(Tabelle1[[#This Row],[Budgetlinie]],Ausfüllhilfe!$A$1:$D$23,4,0)","v":{"$error":"#N/A"}}]
[{"$f":"INDEX(Tabelle2[[#All],[Budgetlinie]],MATCH(Tabelle1[[#This Row],[Maßnahme]],Ausfüllhilfe!$C$1:$C$22,0))","v":{"$error":"#N/A"}},null,null,null,null,null,null,null,null,{"$f":"VLOOKUP(Tabelle1[[#This Row],[Budgetlinie]],Ausfüllhilfe!$A$1:$D$23,4,0)","v":{"$error":"#N/A"}}]
[{"$f":"INDEX(Tabelle2[[#All],[Budgetlinie]],MATCH(Tabelle1[[#This Row],[Maßnahme]],Ausfüllhilfe!$C$1:$C$22,0))","v":{"$error":"#N/A"}},null,null,null,null,null,null,null,null,{"$f":"VLOOKUP(Tabelle1[[#This Row],[Budgetlinie]],Ausfüllhilfe!$A$1:$D$23,4,0)","v":{"$error":"#N/A"}}]
[{"$f":"INDEX(Tabelle2[[#All],[Budgetlinie]],MATCH(Tabelle1[[#This Row],[Maßnahme]],Ausfüllhilfe!$C$1:$C$22,0))","v":{"$error":"#N/A"}},null,null,null,null,null,null,null,null,{"$f":"VLOOKUP(Tabelle1[[#This Row],[Budgetlinie]],Ausfüllhilfe!$A$1:$D$23,4,0)","v":{"$error":"#N/A"}}]
[{"$f":"INDEX(Tabelle2[[#All],[Budgetlinie]],MATCH(Tabelle1[[#This Row],[Maßnahme]],Ausfüllhilfe!$C$1:$C$22,0))","v":{"$error":"#N/A"}},null,null,null,null,null,null,null,null,{"$f":"VLOOKUP(Tabelle1[[#This Row],[Budgetlinie]],Ausfüllhilfe!$A$1:$D$23,4,0)","v":{"$error":"#N/A"}}]
[{"$f":"INDEX(Tabelle2[[#All],[Budgetlinie]],MATCH(Tabelle1[[#This Row],[Maßnahme]],Ausfüllhilfe!$C$1:$C$22,0))","v":{"$error":"#N/A"}},null,null,null,null,null,null,null,null,{"$f":"VLOOKUP(Tabelle1[[#This Row],[Budgetlinie]],Ausfüllhilfe!$A$1:$D$23,4,0)","v":{"$error":"#N/A"}}]
[{"$f":"INDEX(Tabelle2[[#All],[Budgetlinie]],MATCH(Tabelle1[[#This Row],[Maßnahme]],Ausfüllhilfe!$C$1:$C$22,0))","v":{"$error":"#N/A"}},null,null,null,null,null,null,null,null,{"$f":"VLOOKUP(Tabelle1[[#This Row],[Budgetlinie]],Ausfüllhilfe!$A$1:$D$23,4,0)","v":{"$error":"#N/A"}}]
[{"$f":"INDEX(Tabelle2[[#All],[Budgetlinie]],MATCH(Tabelle1[[#This Row],[Maßnahme]],Ausfüllhilfe!$C$1:$C$22,0))","v":{"$error":"#N/A"}},null,null,null,null,null,null,null,null,{"$f":"VLOOKUP(Tabelle1[[#This Row],[Budgetlinie]],Ausfüllhilfe!$A$1:$D$23,4,0)","v":{"$error":"#N/A"}}]
[{"$f":"INDEX(Tabelle2[[#All],[Budgetlinie]],MATCH(Tabelle1[[#This Row],[Maßnahme]],Ausfüllhilfe!$C$1:$C$22,0))","v":{"$error":"#N/A"}},null,null,null,null,null,null,null,null,{"$f":"VLOOKUP(Tabelle1[[#This Row],[Budgetlinie]],Ausfüllhilfe!$A$1:$D$23,4,0)","v":{"$error":"#N/A"}}]
[{"$f":"INDEX(Tabelle2[[#All],[Budgetlinie]],MATCH(Tabelle1[[#This Row],[Maßnahme]],Ausfüllhilfe!$C$1:$C$22,0))","v":{"$error":"#N/A"}},null,null,null,null,null,null,null,null,{"$f":"VLOOKUP(Tabelle1[[#This Row],[Budgetlinie]],Ausfüllhilfe!$A$1:$D$23,4,0)","v":{"$error":"#N/A"}}]
[{"$f":"INDEX(Tabelle2[[#All],[Budgetlinie]],MATCH(Tabelle1[[#This Row],[Maßnahme]],Ausfüllhilfe!$C$1:$C$22,0))","v":{"$error":"#N/A"}},null,null,null,null,null,null,null,null,{"$f":"VLOOKUP(Tabelle1[[#This Row],[Budgetlinie]],Ausfüllhilfe!$A$1:$D$23,4,0)","v":{"$error":"#N/A"}}]
[{"$f":"INDEX(Tabelle2[[#All],[Budgetlinie]],MATCH(Tabelle1[[#This Row],[Maßnahme]],Ausfüllhilfe!$C$1:$C$22,0))","v":{"$error":"#N/A"}},null,null,null,null,null,null,null,null,{"$f":"VLOOKUP(Tabelle1[[#This Row],[Budgetlinie]],Ausfüllhilfe!$A$1:$D$23,4,0)","v":{"$error":"#N/A"}}]
[{"$f":"INDEX(Tabelle2[[#All],[Budgetlinie]],MATCH(Tabelle1[[#This Row],[Maßnahme]],Ausfüllhilfe!$C$1:$C$22,0))","v":{"$error":"#N/A"}},null,null,null,null,null,null,null,null,{"$f":"VLOOKUP(Tabelle1[[#This Row],[Budgetlinie]],Ausfüllhilfe!$A$1:$D$23,4,0)","v":{"$error":"#N/A"}}]
[{"$f":"INDEX(Tabelle2[[#All],[Budgetlinie]],MATCH(Tabelle1[[#This Row],[Maßnahme]],Ausfüllhilfe!$C$1:$C$22,0))","v":{"$error":"#N/A"}},null,null,null,null,null,null,null,null,{"$f":"VLOOKUP(Tabelle1[[#This Row],[Budgetlinie]],Ausfüllhilfe!$A$1:$D$23,4,0)","v":{"$error":"#N/A"}}]
[{"$f":"INDEX(Tabelle2[[#All],[Budgetlinie]],MATCH(Tabelle1[[#This Row],[Maßnahme]],Ausfüllhilfe!$C$1:$C$22,0))","v":{"$error":"#N/A"}},null,null,null,null,null,null,null,null,{"$f":"VLOOKUP(Tabelle1[[#This Row],[Budgetlinie]],Ausfüllhilfe!$A$1:$D$23,4,0)","v":{"$error":"#N/A"}}]
[{"$f":"INDEX(Tabelle2[[#All],[Budgetlinie]],MATCH(Tabelle1[[#This Row],[Maßnahme]],Ausfüllhilfe!$C$1:$C$22,0))","v":{"$error":"#N/A"}},null,null,null,null,null,null,null,null,{"$f":"VLOOKUP(Tabelle1[[#This Row],[Budgetlinie]],Ausfüllhilfe!$A$1:$D$23,4,0)","v":{"$error":"#N/A"}}]
[{"$f":"INDEX(Tabelle2[[#All],[Budgetlinie]],MATCH(Tabelle1[[#This Row],[Maßnahme]],Ausfüllhilfe!$C$1:$C$22,0))","v":{"$error":"#N/A"}},null,null,null,null,null,null,null,null,{"$f":"VLOOKUP(Tabelle1[[#This Row],[Budgetlinie]],Ausfüllhilfe!$A$1:$D$23,4,0)","v":{"$error":"#N/A"}}]
[{"$f":"INDEX(Tabelle2[[#All],[Budgetlinie]],MATCH(Tabelle1[[#This Row],[Maßnahme]],Ausfüllhilfe!$C$1:$C$22,0))","v":{"$error":"#N/A"}},null,null,null,null,null,null,null,null,{"$f":"VLOOKUP(Tabelle1[[#This Row],[Budgetlinie]],Ausfüllhilfe!$A$1:$D$23,4,0)","v":{"$error":"#N/A"}}]
[{"$f":"INDEX(Tabelle2[[#All],[Budgetlinie]],MATCH(Tabelle1[[#This Row],[Maßnahme]],Ausfüllhilfe!$C$1:$C$22,0))","v":{"$error":"#N/A"}},null,null,null,null,null,null,null,null,{"$f":"VLOOKUP(Tabelle1[[#This Row],[Budgetlinie]],Ausfüllhilfe!$A$1:$D$23,4,0)","v":{"$error":"#N/A"}}]
[{"$f":"INDEX(Tabelle2[[#All],[Budgetlinie]],MATCH(Tabelle1[[#This Row],[Maßnahme]],Ausfüllhilfe!$C$1:$C$22,0))","v":{"$error":"#N/A"}},null,null,null,null,null,null,null,null,{"$f":"VLOOKUP(Tabelle1[[#This Row],[Budgetlinie]],Ausfüllhilfe!$A$1:$D$23,4,0)","v":{"$error":"#N/A"}}]
[{"$f":"INDEX(Tabelle2[[#All],[Budgetlinie]],MATCH(Tabelle1[[#This Row],[Maßnahme]],Ausfüllhilfe!$C$1:$C$22,0))","v":{"$error":"#N/A"}},null,null,null,null,null,null,null,null,{"$f":"VLOOKUP(Tabelle1[[#This Row],[Budgetlinie]],Ausfüllhilfe!$A$1:$D$23,4,0)","v":{"$error":"#N/A"}}]
[{"$f":"INDEX(Tabelle2[[#All],[Budgetlinie]],MATCH(Tabelle1[[#This Row],[Maßnahme]],Ausfüllhilfe!$C$1:$C$22,0))","v":{"$error":"#N/A"}},null,null,null,null,null,null,null,null,{"$f":"VLOOKUP(Tabelle1[[#This Row],[Budgetlinie]],Ausfüllhilfe!$A$1:$D$23,4,0)","v":{"$error":"#N/A"}}]
[{"$f":"INDEX(Tabelle2[[#All],[Budgetlinie]],MATCH(Tabelle1[[#This Row],[Maßnahme]],Ausfüllhilfe!$C$1:$C$22,0))","v":{"$error":"#N/A"}},null,null,null,null,null,null,null,null,{"$f":"VLOOKUP(Tabelle1[[#This Row],[Budgetlinie]],Ausfüllhilfe!$A$1:$D$23,4,0)","v":{"$error":"#N/A"}}]
[{"$f":"INDEX(Tabelle2[[#All],[Budgetlinie]],MATCH(Tabelle1[[#This Row],[Maßnahme]],Ausfüllhilfe!$C$1:$C$22,0))","v":{"$error":"#N/A"}},null,null,null,null,null,null,null,null,{"$f":"VLOOKUP(Tabelle1[[#This Row],[Budgetlinie]],Ausfüllhilfe!$A$1:$D$23,4,0)","v":{"$error":"#N/A"}}]
[{"$f":"INDEX(Tabelle2[[#All],[Budgetlinie]],MATCH(Tabelle1[[#This Row],[Maßnahme]],Ausfüllhilfe!$C$1:$C$22,0))","v":{"$error":"#N/A"}},null,null,null,null,null,null,null,null,{"$f":"VLOOKUP(Tabelle1[[#This Row],[Budgetlinie]],Ausfüllhilfe!$A$1:$D$23,4,0)","v":{"$error":"#N/A"}}]
[{"$f":"INDEX(Tabelle2[[#All],[Budgetlinie]],MATCH(Tabelle1[[#This Row],[Maßnahme]],Ausfüllhilfe!$C$1:$C$22,0))","v":{"$error":"#N/A"}},null,null,null,null,null,null,null,null,{"$f":"VLOOKUP(Tabelle1[[#This Row],[Budgetlinie]],Ausfüllhilfe!$A$1:$D$23,4,0)","v":{"$error":"#N/A"}}]
[{"$f":"INDEX(Tabelle2[[#All],[Budgetlinie]],MATCH(Tabelle1[[#This Row],[Maßnahme]],Ausfüllhilfe!$C$1:$C$22,0))","v":{"$error":"#N/A"}},null,null,null,null,null,null,null,null,{"$f":"VLOOKUP(Tabelle1[[#This Row],[Budgetlinie]],Ausfüllhilfe!$A$1:$D$23,4,0)","v":{"$error":"#N/A"}}]
[{"$f":"INDEX(Tabelle2[[#All],[Budgetlinie]],MATCH(Tabelle1[[#This Row],[Maßnahme]],Ausfüllhilfe!$C$1:$C$22,0))","v":{"$error":"#N/A"}},null,null,null,null,null,null,null,null,{"$f":"VLOOKUP(Tabelle1[[#This Row],[Budgetlinie]],Ausfüllhilfe!$A$1:$D$23,4,0)","v":{"$error":"#N/A"}}]
[{"$f":"INDEX(Tabelle2[[#All],[Budgetlinie]],MATCH(Tabelle1[[#This Row],[Maßnahme]],Ausfüllhilfe!$C$1:$C$22,0))","v":{"$error":"#N/A"}},null,null,null,null,null,null,null,null,{"$f":"VLOOKUP(Tabelle1[[#This Row],[Budgetlinie]],Ausfüllhilfe!$A$1:$D$23,4,0)","v":{"$error":"#N/A"}}]
[{"$f":"INDEX(Tabelle2[[#All],[Budgetlinie]],MATCH(Tabelle1[[#This Row],[Maßnahme]],Ausfüllhilfe!$C$1:$C$22,0))","v":{"$error":"#N/A"}},null,null,null,null,null,null,null,null,{"$f":"VLOOKUP(Tabelle1[[#This Row],[Budgetlinie]],Ausfüllhilfe!$A$1:$D$23,4,0)","v":{"$error":"#N/A"}}]
[{"$f":"INDEX(Tabelle2[[#All],[Budgetlinie]],MATCH(Tabelle1[[#This Row],[Maßnahme]],Ausfüllhilfe!$C$1:$C$22,0))","v":{"$error":"#N/A"}},null,null,null,null,null,null,null,null,{"$f":"VLOOKUP(Tabelle1[[#This Row],[Budgetlinie]],Ausfüllhilfe!$A$1:$D$23,4,0)","v":{"$error":"#N/A"}}]
[{"$f":"INDEX(Tabelle2[[#All],[Budgetlinie]],MATCH(Tabelle1[[#This Row],[Maßnahme]],Ausfüllhilfe!$C$1:$C$22,0))","v":{"$error":"#N/A"}},null,null,null,null,null,null,null,null,{"$f":"VLOOKUP(Tabelle1[[#This Row],[Budgetlinie]],Ausfüllhilfe!$A$1:$D$23,4,0)","v":{"$error":"#N/A"}}]
[{"$f":"INDEX(Tabelle2[[#All],[Budgetlinie]],MATCH(Tabelle1[[#This Row],[Maßnahme]],Ausfüllhilfe!$C$1:$C$22,0))","v":{"$error":"#N/A"}},null,null,null,null,null,null,null,null,{"$f":"VLOOKUP(Tabelle1[[#This Row],[Budgetlinie]],Ausfüllhilfe!$A$1:$D$23,4,0)","v":{"$error":"#N/A"}}]
[{"$f":"INDEX(Tabelle2[[#All],[Budgetlinie]],MATCH(Tabelle1[[#This Row],[Maßnahme]],Ausfüllhilfe!$C$1:$C$22,0))","v":{"$error":"#N/A"}},null,null,null,null,null,null,null,null,{"$f":"VLOOKUP(Tabelle1[[#This Row],[Budgetlinie]],Ausfüllhilfe!$A$1:$D$23,4,0)","v":{"$error":"#N/A"}}]
[{"$f":"INDEX(Tabelle2[[#All],[Budgetlinie]],MATCH(Tabelle1[[#This Row],[Maßnahme]],Ausfüllhilfe!$C$1:$C$22,0))","v":{"$error":"#N/A"}},null,null,null,null,null,null,null,null,{"$f":"VLOOKUP(Tabelle1[[#This Row],[Budgetlinie]],Ausfüllhilfe!$A$1:$D$23,4,0)","v":{"$error":"#N/A"}}]
[{"$f":"INDEX(Tabelle2[[#All],[Budgetlinie]],MATCH(Tabelle1[[#This Row],[Maßnahme]],Ausfüllhilfe!$C$1:$C$22,0))","v":{"$error":"#N/A"}},null,null,null,null,null,null,null,null,{"$f":"VLOOKUP(Tabelle1[[#This Row],[Budgetlinie]],Ausfüllhilfe!$A$1:$D$23,4,0)","v":{"$error":"#N/A"}}]
[{"$f":"INDEX(Tabelle2[[#All],[Budgetlinie]],MATCH(Tabelle1[[#This Row],[Maßnahme]],Ausfüllhilfe!$C$1:$C$22,0))","v":{"$error":"#N/A"}},null,null,null,null,null,null,null,null,{"$f":"VLOOKUP(Tabelle1[[#This Row],[Budgetlinie]],Ausfüllhilfe!$A$1:$D$23,4,0)","v":{"$error":"#N/A"}}]
[{"$f":"INDEX(Tabelle2[[#All],[Budgetlinie]],MATCH(Tabelle1[[#This Row],[Maßnahme]],Ausfüllhilfe!$C$1:$C$22,0))","v":{"$error":"#N/A"}},null,null,null,null,null,null,null,null,{"$f":"VLOOKUP(Tabelle1[[#This Row],[Budgetlinie]],Ausfüllhilfe!$A$1:$D$23,4,0)","v":{"$error":"#N/A"}}]
[{"$f":"INDEX(Tabelle2[[#All],[Budgetlinie]],MATCH(Tabelle1[[#This Row],[Maßnahme]],Ausfüllhilfe!$C$1:$C$22,0))","v":{"$error":"#N/A"}},null,null,null,null,null,null,null,null,{"$f":"VLOOKUP(Tabelle1[[#This Row],[Budgetlinie]],Ausfüllhilfe!$A$1:$D$23,4,0)","v":{"$error":"#N/A"}}]
[{"$f":"INDEX(Tabelle2[[#All],[Budgetlinie]],MATCH(Tabelle1[[#This Row],[Maßnahme]],Ausfüllhilfe!$C$1:$C$22,0))","v":{"$error":"#N/A"}},null,null,null,null,null,null,null,null,{"$f":"VLOOKUP(Tabelle1[[#This Row],[Budgetlinie]],Ausfüllhilfe!$A$1:$D$23,4,0)","v":{"$error":"#N/A"}}]
[{"$f":"INDEX(Tabelle2[[#All],[Budgetlinie]],MATCH(Tabelle1[[#This Row],[Maßnahme]],Ausfüllhilfe!$C$1:$C$22,0))","v":{"$error":"#N/A"}},null,null,null,null,null,null,null,null,{"$f":"VLOOKUP(Tabelle1[[#This Row],[Budgetlinie]],Ausfüllhilfe!$A$1:$D$23,4,0)","v":{"$error":"#N/A"}}]
[{"$f":"INDEX(Tabelle2[[#All],[Budgetlinie]],MATCH(Tabelle1[[#This Row],[Maßnahme]],Ausfüllhilfe!$C$1:$C$22,0))","v":{"$error":"#N/A"}},null,null,null,null,null,null,null,null,{"$f":"VLOOKUP(Tabelle1[[#This Row],[Budgetlinie]],Ausfüllhilfe!$A$1:$D$23,4,0)","v":{"$error":"#N/A"}}]
[{"$f":"INDEX(Tabelle2[[#All],[Budgetlinie]],MATCH(Tabelle1[[#This Row],[Maßnahme]],Ausfüllhilfe!$C$1:$C$22,0))","v":{"$error":"#N/A"}},null,null,null,null,null,null,null,null,{"$f":"VLOOKUP(Tabelle1[[#This Row],[Budgetlinie]],Ausfüllhilfe!$A$1:$D$23,4,0)","v":{"$error":"#N/A"}}]
[{"$f":"INDEX(Tabelle2[[#All],[Budgetlinie]],MATCH(Tabelle1[[#This Row],[Maßnahme]],Ausfüllhilfe!$C$1:$C$22,0))","v":{"$error":"#N/A"}},null,null,null,null,null,null,null,null,{"$f":"VLOOKUP(Tabelle1[[#This Row],[Budgetlinie]],Ausfüllhilfe!$A$1:$D$23,4,0)","v":{"$error":"#N/A"}}]
[{"$f":"INDEX(Tabelle2[[#All],[Budgetlinie]],MATCH(Tabelle1[[#This Row],[Maßnahme]],Ausfüllhilfe!$C$1:$C$22,0))","v":{"$error":"#N/A"}},null,null,null,null,null,null,null,null,{"$f":"VLOOKUP(Tabelle1[[#This Row],[Budgetlinie]],Ausfüllhilfe!$A$1:$D$23,4,0)","v":{"$error":"#N/A"}}]
[{"$f":"INDEX(Tabelle2[[#All],[Budgetlinie]],MATCH(Tabelle1[[#This Row],[Maßnahme]],Ausfüllhilfe!$C$1:$C$22,0))","v":{"$error":"#N/A"}},null,null,null,null,null,null,null,null,{"$f":"VLOOKUP(Tabelle1[[#This Row],[Budgetlinie]],Ausfüllhilfe!$A$1:$D$23,4,0)","v":{"$error":"#N/A"}}]
[{"$f":"INDEX(Tabelle2[[#All],[Budgetlinie]],MATCH(Tabelle1[[#This Row],[Maßnahme]],Ausfüllhilfe!$C$1:$C$22,0))","v":{"$error":"#N/A"}},null,null,null,null,null,null,null,null,{"$f":"VLOOKUP(Tabelle1[[#This Row],[Budgetlinie]],Ausfüllhilfe!$A$1:$D$23,4,0)","v":{"$error":"#N/A"}}]
[{"$f":"INDEX(Tabelle2[[#All],[Budgetlinie]],MATCH(Tabelle1[[#This Row],[Maßnahme]],Ausfüllhilfe!$C$1:$C$22,0))","v":{"$error":"#N/A"}},null,null,null,null,null,null,null,null,{"$f":"VLOOKUP(Tabelle1[[#This Row],[Budgetlinie]],Ausfüllhilfe!$A$1:$D$23,4,0)","v":{"$error":"#N/A"}}]
[{"$f":"INDEX(Tabelle2[[#All],[Budgetlinie]],MATCH(Tabelle1[[#This Row],[Maßnahme]],Ausfüllhilfe!$C$1:$C$22,0))","v":{"$error":"#N/A"}},null,null,null,null,null,null,null,null,{"$f":"VLOOKUP(Tabelle1[[#This Row],[Budgetlinie]],Ausfüllhilfe!$A$1:$D$23,4,0)","v":{"$error":"#N/A"}}]
[{"$f":"INDEX(Tabelle2[[#All],[Budgetlinie]],MATCH(Tabelle1[[#This Row],[Maßnahme]],Ausfüllhilfe!$C$1:$C$22,0))","v":{"$error":"#N/A"}},null,null,null,null,null,null,null,null,{"$f":"VLOOKUP(Tabelle1[[#This Row],[Budgetlinie]],Ausfüllhilfe!$A$1:$D$23,4,0)","v":{"$error":"#N/A"}}]
[{"$f":"INDEX(Tabelle2[[#All],[Budgetlinie]],MATCH(Tabelle1[[#This Row],[Maßnahme]],Ausfüllhilfe!$C$1:$C$22,0))","v":{"$error":"#N/A"}},null,null,null,null,null,null,null,null,{"$f":"VLOOKUP(Tabelle1[[#This Row],[Budgetlinie]],Ausfüllhilfe!$A$1:$D$23,4,0)","v":{"$error":"#N/A"}}]
[{"$f":"INDEX(Tabelle2[[#All],[Budgetlinie]],MATCH(Tabelle1[[#This Row],[Maßnahme]],Ausfüllhilfe!$C$1:$C$22,0))","v":{"$error":"#N/A"}},null,null,null,null,null,null,null,null,{"$f":"VLOOKUP(Tabelle1[[#This Row],[Budgetlinie]],Ausfüllhilfe!$A$1:$D$23,4,0)","v":{"$error":"#N/A"}}]
[{"$f":"INDEX(Tabelle2[[#All],[Budgetlinie]],MATCH(Tabelle1[[#This Row],[Maßnahme]],Ausfüllhilfe!$C$1:$C$22,0))","v":{"$error":"#N/A"}},null,null,null,null,null,null,null,null,{"$f":"VLOOKUP(Tabelle1[[#This Row],[Budgetlinie]],Ausfüllhilfe!$A$1:$D$23,4,0)","v":{"$error":"#N/A"}}]
[{"$f":"INDEX(Tabelle2[[#All],[Budgetlinie]],MATCH(Tabelle1[[#This Row],[Maßnahme]],Ausfüllhilfe!$C$1:$C$22,0))","v":{"$error":"#N/A"}},null,null,null,null,null,null,null,null,{"$f":"VLOOKUP(Tabelle1[[#This Row],[Budgetlinie]],Ausfüllhilfe!$A$1:$D$23,4,0)","v":{"$error":"#N/A"}}]
[{"$f":"INDEX(Tabelle2[[#All],[Budgetlinie]],MATCH(Tabelle1[[#This Row],[Maßnahme]],Ausfüllhilfe!$C$1:$C$22,0))","v":{"$error":"#N/A"}},null,null,null,null,null,null,null,null,{"$f":"VLOOKUP(Tabelle1[[#This Row],[Budgetlinie]],Ausfüllhilfe!$A$1:$D$23,4,0)","v":{"$error":"#N/A"}}]
[{"$f":"INDEX(Tabelle2[[#All],[Budgetlinie]],MATCH(Tabelle1[[#This Row],[Maßnahme]],Ausfüllhilfe!$C$1:$C$22,0))","v":{"$error":"#N/A"}},null,null,null,null,null,null,null,null,{"$f":"VLOOKUP(Tabelle1[[#This Row],[Budgetlinie]],Ausfüllhilfe!$A$1:$D$23,4,0)","v":{"$error":"#N/A"}}]
[{"$f":"INDEX(Tabelle2[[#All],[Budgetlinie]],MATCH(Tabelle1[[#This Row],[Maßnahme]],Ausfüllhilfe!$C$1:$C$22,0))","v":{"$error":"#N/A"}},null,null,null,null,null,null,null,null,{"$f":"VLOOKUP(Tabelle1[[#This Row],[Budgetlinie]],Ausfüllhilfe!$A$1:$D$23,4,0)","v":{"$error":"#N/A"}}]
[{"$f":"INDEX(Tabelle2[[#All],[Budgetlinie]],MATCH(Tabelle1[[#This Row],[Maßnahme]],Ausfüllhilfe!$C$1:$C$22,0))","v":{"$error":"#N/A"}},null,null,null,null,null,null,null,null,{"$f":"VLOOKUP(Tabelle1[[#This Row],[Budgetlinie]],Ausfüllhilfe!$A$1:$D$23,4,0)","v":{"$error":"#N/A"}}]
[{"$f":"INDEX(Tabelle2[[#All],[Budgetlinie]],MATCH(Tabelle1[[#This Row],[Maßnahme]],Ausfüllhilfe!$C$1:$C$22,0))","v":{"$error":"#N/A"}},null,null,null,null,null,null,null,null,{"$f":"VLOOKUP(Tabelle1[[#This Row],[Budgetlinie]],Ausfüllhilfe!$A$1:$D$23,4,0)","v":{"$error":"#N/A"}}]
[{"$f":"INDEX(Tabelle2[[#All],[Budgetlinie]],MATCH(Tabelle1[[#This Row],[Maßnahme]],Ausfüllhilfe!$C$1:$C$22,0))","v":{"$error":"#N/A"}},null,null,null,null,null,null,null,null,{"$f":"VLOOKUP(Tabelle1[[#This Row],[Budgetlinie]],Ausfüllhilfe!$A$1:$D$23,4,0)","v":{"$error":"#N/A"}}]
[{"$f":"INDEX(Tabelle2[[#All],[Budgetlinie]],MATCH(Tabelle1[[#This Row],[Maßnahme]],Ausfüllhilfe!$C$1:$C$22,0))","v":{"$error":"#N/A"}},null,null,null,null,null,null,null,null,{"$f":"VLOOKUP(Tabelle1[[#This Row],[Budgetlinie]],Ausfüllhilfe!$A$1:$D$23,4,0)","v":{"$error":"#N/A"}}]
[{"$f":"INDEX(Tabelle2[[#All],[Budgetlinie]],MATCH(Tabelle1[[#This Row],[Maßnahme]],Ausfüllhilfe!$C$1:$C$22,0))","v":{"$error":"#N/A"}},null,null,null,null,null,null,null,null,{"$f":"VLOOKUP(Tabelle1[[#This Row],[Budgetlinie]],Ausfüllhilfe!$A$1:$D$23,4,0)","v":{"$error":"#N/A"}}]
[{"$f":"INDEX(Tabelle2[[#All],[Budgetlinie]],MATCH(Tabelle1[[#This Row],[Maßnahme]],Ausfüllhilfe!$C$1:$C$22,0))","v":{"$error":"#N/A"}},null,null,null,null,null,null,null,null,{"$f":"VLOOKUP(Tabelle1[[#This Row],[Budgetlinie]],Ausfüllhilfe!$A$1:$D$23,4,0)","v":{"$error":"#N/A"}}]
[{"$f":"INDEX(Tabelle2[[#All],[Budgetlinie]],MATCH(Tabelle1[[#This Row],[Maßnahme]],Ausfüllhilfe!$C$1:$C$22,0))","v":{"$error":"#N/A"}},null,null,null,null,null,null,null,null,{"$f":"VLOOKUP(Tabelle1[[#This Row],[Budgetlinie]],Ausfüllhilfe!$A$1:$D$23,4,0)","v":{"$error":"#N/A"}}]
[{"$f":"INDEX(Tabelle2[[#All],[Budgetlinie]],MATCH(Tabelle1[[#This Row],[Maßnahme]],Ausfüllhilfe!$C$1:$C$22,0))","v":{"$error":"#N/A"}},null,null,null,null,null,null,null,null,{"$f":"VLOOKUP(Tabelle1[[#This Row],[Budgetlinie]],Ausfüllhilfe!$A$1:$D$23,4,0)","v":{"$error":"#N/A"}}]
[{"$f":"INDEX(Tabelle2[[#All],[Budgetlinie]],MATCH(Tabelle1[[#This Row],[Maßnahme]],Ausfüllhilfe!$C$1:$C$22,0))","v":{"$error":"#N/A"}},null,null,null,null,null,null,null,null,{"$f":"VLOOKUP(Tabelle1[[#This Row],[Budgetlinie]],Ausfüllhilfe!$A$1:$D$23,4,0)","v":{"$error":"#N/A"}}]
[{"$f":"INDEX(Tabelle2[[#All],[Budgetlinie]],MATCH(Tabelle1[[#This Row],[Maßnahme]],Ausfüllhilfe!$C$1:$C$22,0))","v":{"$error":"#N/A"}},null,null,null,null,null,null,null,null,{"$f":"VLOOKUP(Tabelle1[[#This Row],[Budgetlinie]],Ausfüllhilfe!$A$1:$D$23,4,0)","v":{"$error":"#N/A"}}]
[{"$f":"INDEX(Tabelle2[[#All],[Budgetlinie]],MATCH(Tabelle1[[#This Row],[Maßnahme]],Ausfüllhilfe!$C$1:$C$22,0))","v":{"$error":"#N/A"}},null,null,null,null,null,null,null,null,{"$f":"VLOOKUP(Tabelle1[[#This Row],[Budgetlinie]],Ausfüllhilfe!$A$1:$D$23,4,0)","v":{"$error":"#N/A"}}]
[{"$f":"INDEX(Tabelle2[[#All],[Budgetlinie]],MATCH(Tabelle1[[#This Row],[Maßnahme]],Ausfüllhilfe!$C$1:$C$22,0))","v":{"$error":"#N/A"}},null,null,null,null,null,null,null,null,{"$f":"VLOOKUP(Tabelle1[[#This Row],[Budgetlinie]],Ausfüllhilfe!$A$1:$D$23,4,0)","v":{"$error":"#N/A"}}]
[{"$f":"INDEX(Tabelle2[[#All],[Budgetlinie]],MATCH(Tabelle1[[#This Row],[Maßnahme]],Ausfüllhilfe!$C$1:$C$22,0))","v":{"$error":"#N/A"}},null,null,null,null,null,null,null,null,{"$f":"VLOOKUP(Tabelle1[[#This Row],[Budgetlinie]],Ausfüllhilfe!$A$1:$D$23,4,0)","v":{"$error":"#N/A"}}]
[{"$f":"INDEX(Tabelle2[[#All],[Budgetlinie]],MATCH(Tabelle1[[#This Row],[Maßnahme]],Ausfüllhilfe!$C$1:$C$22,0))","v":{"$error":"#N/A"}},null,null,null,null,null,null,null,null,{"$f":"VLOOKUP(Tabelle1[[#This Row],[Budgetlinie]],Ausfüllhilfe!$A$1:$D$23,4,0)","v":{"$error":"#N/A"}}]
[{"$f":"INDEX(Tabelle2[[#All],[Budgetlinie]],MATCH(Tabelle1[[#This Row],[Maßnahme]],Ausfüllhilfe!$C$1:$C$22,0))","v":{"$error":"#N/A"}},null,null,null,null,null,null,null,null,{"$f":"VLOOKUP(Tabelle1[[#This Row],[Budgetlinie]],Ausfüllhilfe!$A$1:$D$23,4,0)","v":{"$error":"#N/A"}}]
[{"$f":"INDEX(Tabelle2[[#All],[Budgetlinie]],MATCH(Tabelle1[[#This Row],[Maßnahme]],Ausfüllhilfe!$C$1:$C$22,0))","v":{"$error":"#N/A"}},null,null,null,null,null,null,null,null,{"$f":"VLOOKUP(Tabelle1[[#This Row],[Budgetlinie]],Ausfüllhilfe!$A$1:$D$23,4,0)","v":{"$error":"#N/A"}}]
[{"$f":"INDEX(Tabelle2[[#All],[Budgetlinie]],MATCH(Tabelle1[[#This Row],[Maßnahme]],Ausfüllhilfe!$C$1:$C$22,0))","v":{"$error":"#N/A"}},null,null,null,null,null,null,null,null,{"$f":"VLOOKUP(Tabelle1[[#This Row],[Budgetlinie]],Ausfüllhilfe!$A$1:$D$23,4,0)","v":{"$error":"#N/A"}}]
[{"$f":"INDEX(Tabelle2[[#All],[Budgetlinie]],MATCH(Tabelle1[[#This Row],[Maßnahme]],Ausfüllhilfe!$C$1:$C$22,0))","v":{"$error":"#N/A"}},null,null,null,null,null,null,null,null,{"$f":"VLOOKUP(Tabelle1[[#This Row],[Budgetlinie]],Ausfüllhilfe!$A$1:$D$23,4,0)","v":{"$error":"#N/A"}}]
[{"$f":"INDEX(Tabelle2[[#All],[Budgetlinie]],MATCH(Tabelle1[[#This Row],[Maßnahme]],Ausfüllhilfe!$C$1:$C$22,0))","v":{"$error":"#N/A"}},null,null,null,null,null,null,null,null,{"$f":"VLOOKUP(Tabelle1[[#This Row],[Budgetlinie]],Ausfüllhilfe!$A$1:$D$23,4,0)","v":{"$error":"#N/A"}}]
[{"$f":"INDEX(Tabelle2[[#All],[Budgetlinie]],MATCH(Tabelle1[[#This Row],[Maßnahme]],Ausfüllhilfe!$C$1:$C$22,0))","v":{"$error":"#N/A"}},null,null,null,null,null,null,null,null,{"$f":"VLOOKUP(Tabelle1[[#This Row],[Budgetlinie]],Ausfüllhilfe!$A$1:$D$23,4,0)","v":{"$error":"#N/A"}}]
[{"$f":"INDEX(Tabelle2[[#All],[Budgetlinie]],MATCH(Tabelle1[[#This Row],[Maßnahme]],Ausfüllhilfe!$C$1:$C$22,0))","v":{"$error":"#N/A"}},null,null,null,null,null,null,null,null,{"$f":"VLOOKUP(Tabelle1[[#This Row],[Budgetlinie]],Ausfüllhilfe!$A$1:$D$23,4,0)","v":{"$error":"#N/A"}}]
[{"$f":"INDEX(Tabelle2[[#All],[Budgetlinie]],MATCH(Tabelle1[[#This Row],[Maßnahme]],Ausfüllhilfe!$C$1:$C$22,0))","v":{"$error":"#N/A"}},null,null,null,null,null,null,null,null,{"$f":"VLOOKUP(Tabelle1[[#This Row],[Budgetlinie]],Ausfüllhilfe!$A$1:$D$23,4,0)","v":{"$error":"#N/A"}}]
[{"$f":"INDEX(Tabelle2[[#All],[Budgetlinie]],MATCH(Tabelle1[[#This Row],[Maßnahme]],Ausfüllhilfe!$C$1:$C$22,0))","v":{"$error":"#N/A"}},null,null,null,null,null,null,null,null,{"$f":"VLOOKUP(Tabelle1[[#This Row],[Budgetlinie]],Ausfüllhilfe!$A$1:$D$23,4,0)","v":{"$error":"#N/A"}}]
[{"$f":"INDEX(Tabelle2[[#All],[Budgetlinie]],MATCH(Tabelle1[[#This Row],[Maßnahme]],Ausfüllhilfe!$C$1:$C$22,0))","v":{"$error":"#N/A"}},null,null,null,null,null,null,null,null,{"$f":"VLOOKUP(Tabelle1[[#This Row],[Budgetlinie]],Ausfüllhilfe!$A$1:$D$23,4,0)","v":{"$error":"#N/A"}}]
[{"$f":"INDEX(Tabelle2[[#All],[Budgetlinie]],MATCH(Tabelle1[[#This Row],[Maßnahme]],Ausfüllhilfe!$C$1:$C$22,0))","v":{"$error":"#N/A"}},null,null,null,null,null,null,null,null,{"$f":"VLOOKUP(Tabelle1[[#This Row],[Budgetlinie]],Ausfüllhilfe!$A$1:$D$23,4,0)","v":{"$error":"#N/A"}}]
[{"$f":"INDEX(Tabelle2[[#All],[Budgetlinie]],MATCH(Tabelle1[[#This Row],[Maßnahme]],Ausfüllhilfe!$C$1:$C$22,0))","v":{"$error":"#N/A"}},null,null,null,null,null,null,null,null,{"$f":"VLOOKUP(Tabelle1[[#This Row],[Budgetlinie]],Ausfüllhilfe!$A$1:$D$23,4,0)","v":{"$error":"#N/A"}}]
[{"$f":"INDEX(Tabelle2[[#All],[Budgetlinie]],MATCH(Tabelle1[[#This Row],[Maßnahme]],Ausfüllhilfe!$C$1:$C$22,0))","v":{"$error":"#N/A"}},null,null,null,null,null,null,null,null,{"$f":"VLOOKUP(Tabelle1[[#This Row],[Budgetlinie]],Ausfüllhilfe!$A$1:$D$23,4,0)","v":{"$error":"#N/A"}}]
[{"$f":"INDEX(Tabelle2[[#All],[Budgetlinie]],MATCH(Tabelle1[[#This Row],[Maßnahme]],Ausfüllhilfe!$C$1:$C$22,0))","v":{"$error":"#N/A"}},null,null,null,null,null,null,null,null,{"$f":"VLOOKUP(Tabelle1[[#This Row],[Budgetlinie]],Ausfüllhilfe!$A$1:$D$23,4,0)","v":{"$error":"#N/A"}}]
[{"$f":"INDEX(Tabelle2[[#All],[Budgetlinie]],MATCH(Tabelle1[[#This Row],[Maßnahme]],Ausfüllhilfe!$C$1:$C$22,0))","v":{"$error":"#N/A"}},null,null,null,null,null,null,null,null,{"$f":"VLOOKUP(Tabelle1[[#This Row],[Budgetlinie]],Ausfüllhilfe!$A$1:$D$23,4,0)","v":{"$error":"#N/A"}}]
[{"$f":"INDEX(Tabelle2[[#All],[Budgetlinie]],MATCH(Tabelle1[[#This Row],[Maßnahme]],Ausfüllhilfe!$C$1:$C$22,0))","v":{"$error":"#N/A"}},null,null,null,null,null,null,null,null,{"$f":"VLOOKUP(Tabelle1[[#This Row],[Budgetlinie]],Ausfüllhilfe!$A$1:$D$23,4,0)","v":{"$error":"#N/A"}}]
[{"$f":"INDEX(Tabelle2[[#All],[Budgetlinie]],MATCH(Tabelle1[[#This Row],[Maßnahme]],Ausfüllhilfe!$C$1:$C$22,0))","v":{"$error":"#N/A"}},null,null,null,null,null,null,null,null,{"$f":"VLOOKUP(Tabelle1[[#This Row],[Budgetlinie]],Ausfüllhilfe!$A$1:$D$23,4,0)","v":{"$error":"#N/A"}}]
[{"$f":"INDEX(Tabelle2[[#All],[Budgetlinie]],MATCH(Tabelle1[[#This Row],[Maßnahme]],Ausfüllhilfe!$C$1:$C$22,0))","v":{"$error":"#N/A"}},null,null,null,null,null,null,null,null,{"$f":"VLOOKUP(Tabelle1[[#This Row],[Budgetlinie]],Ausfüllhilfe!$A$1:$D$23,4,0)","v":{"$error":"#N/A"}}]
[{"$f":"INDEX(Tabelle2[[#All],[Budgetlinie]],MATCH(Tabelle1[[#This Row],[Maßnahme]],Ausfüllhilfe!$C$1:$C$22,0))","v":{"$error":"#N/A"}},null,null,null,null,null,null,null,null,{"$f":"VLOOKUP(Tabelle1[[#This Row],[Budgetlinie]],Ausfüllhilfe!$A$1:$D$23,4,0)","v":{"$error":"#N/A"}}]
[{"$f":"INDEX(Tabelle2[[#All],[Budgetlinie]],MATCH(Tabelle1[[#This Row],[Maßnahme]],Ausfüllhilfe!$C$1:$C$22,0))","v":{"$error":"#N/A"}},null,null,null,null,null,null,null,null,{"$f":"VLOOKUP(Tabelle1[[#This Row],[Budgetlinie]],Ausfüllhilfe!$A$1:$D$23,4,0)","v":{"$error":"#N/A"}}]
[{"$f":"INDEX(Tabelle2[[#All],[Budgetlinie]],MATCH(Tabelle1[[#This Row],[Maßnahme]],Ausfüllhilfe!$C$1:$C$22,0))","v":{"$error":"#N/A"}},null,null,null,null,null,null,null,null,{"$f":"VLOOKUP(Tabelle1[[#This Row],[Budgetlinie]],Ausfüllhilfe!$A$1:$D$23,4,0)","v":{"$error":"#N/A"}}]
[{"$f":"INDEX(Tabelle2[[#All],[Budgetlinie]],MATCH(Tabelle1[[#This Row],[Maßnahme]],Ausfüllhilfe!$C$1:$C$22,0))","v":{"$error":"#N/A"}},null,null,null,null,null,null,null,null,{"$f":"VLOOKUP(Tabelle1[[#This Row],[Budgetlinie]],Ausfüllhilfe!$A$1:$D$23,4,0)","v":{"$error":"#N/A"}}]
[{"$f":"INDEX(Tabelle2[[#All],[Budgetlinie]],MATCH(Tabelle1[[#This Row],[Maßnahme]],Ausfüllhilfe!$C$1:$C$22,0))","v":{"$error":"#N/A"}},null,null,null,null,null,null,null,null,{"$f":"VLOOKUP(Tabelle1[[#This Row],[Budgetlinie]],Ausfüllhilfe!$A$1:$D$23,4,0)","v":{"$error":"#N/A"}}]
[{"$f":"INDEX(Tabelle2[[#All],[Budgetlinie]],MATCH(Tabelle1[[#This Row],[Maßnahme]],Ausfüllhilfe!$C$1:$C$22,0))","v":{"$error":"#N/A"}},null,null,null,null,null,null,null,null,{"$f":"VLOOKUP(Tabelle1[[#This Row],[Budgetlinie]],Ausfüllhilfe!$A$1:$D$23,4,0)","v":{"$error":"#N/A"}}]
[{"$f":"INDEX(Tabelle2[[#All],[Budgetlinie]],MATCH(Tabelle1[[#This Row],[Maßnahme]],Ausfüllhilfe!$C$1:$C$22,0))","v":{"$error":"#N/A"}},null,null,null,null,null,null,null,null,{"$f":"VLOOKUP(Tabelle1[[#This Row],[Budgetlinie]],Ausfüllhilfe!$A$1:$D$23,4,0)","v":{"$error":"#N/A"}}]
[{"$f":"INDEX(Tabelle2[[#All],[Budgetlinie]],MATCH(Tabelle1[[#This Row],[Maßnahme]],Ausfüllhilfe!$C$1:$C$22,0))","v":{"$error":"#N/A"}},null,null,null,null,null,null,null,null,{"$f":"VLOOKUP(Tabelle1[[#This Row],[Budgetlinie]],Ausfüllhilfe!$A$1:$D$23,4,0)","v":{"$error":"#N/A"}}]
[{"$f":"INDEX(Tabelle2[[#All],[Budgetlinie]],MATCH(Tabelle1[[#This Row],[Maßnahme]],Ausfüllhilfe!$C$1:$C$22,0))","v":{"$error":"#N/A"}},null,null,null,null,null,null,null,null,{"$f":"VLOOKUP(Tabelle1[[#This Row],[Budgetlinie]],Ausfüllhilfe!$A$1:$D$23,4,0)","v":{"$error":"#N/A"}}]
[{"$f":"INDEX(Tabelle2[[#All],[Budgetlinie]],MATCH(Tabelle1[[#This Row],[Maßnahme]],Ausfüllhilfe!$C$1:$C$22,0))","v":{"$error":"#N/A"}},null,null,null,null,null,null,null,null,{"$f":"VLOOKUP(Tabelle1[[#This Row],[Budgetlinie]],Ausfüllhilfe!$A$1:$D$23,4,0)","v":{"$error":"#N/A"}}]
[{"$f":"INDEX(Tabelle2[[#All],[Budgetlinie]],MATCH(Tabelle1[[#This Row],[Maßnahme]],Ausfüllhilfe!$C$1:$C$22,0))","v":{"$error":"#N/A"}},null,null,null,null,null,null,null,null,{"$f":"VLOOKUP(Tabelle1[[#This Row],[Budgetlinie]],Ausfüllhilfe!$A$1:$D$23,4,0)","v":{"$error":"#N/A"}}]
[{"$f":"INDEX(Tabelle2[[#All],[Budgetlinie]],MATCH(Tabelle1[[#This Row],[Maßnahme]],Ausfüllhilfe!$C$1:$C$22,0))","v":{"$error":"#N/A"}},null,null,null,null,null,null,null,null,{"$f":"VLOOKUP(Tabelle1[[#This Row],[Budgetlinie]],Ausfüllhilfe!$A$1:$D$23,4,0)","v":{"$error":"#N/A"}}]
[{"$f":"INDEX(Tabelle2[[#All],[Budgetlinie]],MATCH(Tabelle1[[#This Row],[Maßnahme]],Ausfüllhilfe!$C$1:$C$22,0))","v":{"$error":"#N/A"}},null,null,null,null,null,null,null,null,{"$f":"VLOOKUP(Tabelle1[[#This Row],[Budgetlinie]],Ausfüllhilfe!$A$1:$D$23,4,0)","v":{"$error":"#N/A"}}]
[{"$f":"INDEX(Tabelle2[[#All],[Budgetlinie]],MATCH(Tabelle1[[#This Row],[Maßnahme]],Ausfüllhilfe!$C$1:$C$22,0))","v":{"$error":"#N/A"}},null,null,null,null,null,null,null,null,{"$f":"VLOOKUP(Tabelle1[[#This Row],[Budgetlinie]],Ausfüllhilfe!$A$1:$D$23,4,0)","v":{"$error":"#N/A"}}]
[{"$f":"INDEX(Tabelle2[[#All],[Budgetlinie]],MATCH(Tabelle1[[#This Row],[Maßnahme]],Ausfüllhilfe!$C$1:$C$22,0))","v":{"$error":"#N/A"}},null,null,null,null,null,null,null,null,{"$f":"VLOOKUP(Tabelle1[[#This Row],[Budgetlinie]],Ausfüllhilfe!$A$1:$D$23,4,0)","v":{"$error":"#N/A"}}]
[{"$f":"INDEX(Tabelle2[[#All],[Budgetlinie]],MATCH(Tabelle1[[#This Row],[Maßnahme]],Ausfüllhilfe!$C$1:$C$22,0))","v":{"$error":"#N/A"}},null,null,null,null,null,null,null,null,{"$f":"VLOOKUP(Tabelle1[[#This Row],[Budgetlinie]],Ausfüllhilfe!$A$1:$D$23,4,0)","v":{"$error":"#N/A"}}]
[{"$f":"INDEX(Tabelle2[[#All],[Budgetlinie]],MATCH(Tabelle1[[#This Row],[Maßnahme]],Ausfüllhilfe!$C$1:$C$22,0))","v":{"$error":"#N/A"}},null,null,null,null,null,null,null,null,{"$f":"VLOOKUP(Tabelle1[[#This Row],[Budgetlinie]],Ausfüllhilfe!$A$1:$D$23,4,0)","v":{"$error":"#N/A"}}]
[{"$f":"INDEX(Tabelle2[[#All],[Budgetlinie]],MATCH(Tabelle1[[#This Row],[Maßnahme]],Ausfüllhilfe!$C$1:$C$22,0))","v":{"$error":"#N/A"}},null,null,null,null,null,null,null,null,{"$f":"VLOOKUP(Tabelle1[[#This Row],[Budgetlinie]],Ausfüllhilfe!$A$1:$D$23,4,0)","v":{"$error":"#N/A"}}]
[{"$f":"INDEX(Tabelle2[[#All],[Budgetlinie]],MATCH(Tabelle1[[#This Row],[Maßnahme]],Ausfüllhilfe!$C$1:$C$22,0))","v":{"$error":"#N/A"}},null,null,null,null,null,null,null,null,{"$f":"VLOOKUP(Tabelle1[[#This Row],[Budgetlinie]],Ausfüllhilfe!$A$1:$D$23,4,0)","v":{"$error":"#N/A"}}]
[{"$f":"INDEX(Tabelle2[[#All],[Budgetlinie]],MATCH(Tabelle1[[#This Row],[Maßnahme]],Ausfüllhilfe!$C$1:$C$22,0))","v":{"$error":"#N/A"}},null,null,null,null,null,null,null,null,{"$f":"VLOOKUP(Tabelle1[[#This Row],[Budgetlinie]],Ausfüllhilfe!$A$1:$D$23,4,0)","v":{"$error":"#N/A"}}]
[{"$f":"INDEX(Tabelle2[[#All],[Budgetlinie]],MATCH(Tabelle1[[#This Row],[Maßnahme]],Ausfüllhilfe!$C$1:$C$22,0))","v":{"$error":"#N/A"}},null,null,null,null,null,null,null,null,{"$f":"VLOOKUP(Tabelle1[[#This Row],[Budgetlinie]],Ausfüllhilfe!$A$1:$D$23,4,0)","v":{"$error":"#N/A"}}]
[{"$f":"INDEX(Tabelle2[[#All],[Budgetlinie]],MATCH(Tabelle1[[#This Row],[Maßnahme]],Ausfüllhilfe!$C$1:$C$22,0))","v":{"$error":"#N/A"}},null,null,null,null,null,null,null,null,{"$f":"VLOOKUP(Tabelle1[[#This Row],[Budgetlinie]],Ausfüllhilfe!$A$1:$D$23,4,0)","v":{"$error":"#N/A"}}]
[{"$f":"INDEX(Tabelle2[[#All],[Budgetlinie]],MATCH(Tabelle1[[#This Row],[Maßnahme]],Ausfüllhilfe!$C$1:$C$22,0))","v":{"$error":"#N/A"}},null,null,null,null,null,null,null,null,{"$f":"VLOOKUP(Tabelle1[[#This Row],[Budgetlinie]],Ausfüllhilfe!$A$1:$D$23,4,0)","v":{"$error":"#N/A"}}]
[{"$f":"INDEX(Tabelle2[[#All],[Budgetlinie]],MATCH(Tabelle1[[#This Row],[Maßnahme]],Ausfüllhilfe!$C$1:$C$22,0))","v":{"$error":"#N/A"}},null,null,null,null,null,null,null,null,{"$f":"VLOOKUP(Tabelle1[[#This Row],[Budgetlinie]],Ausfüllhilfe!$A$1:$D$23,4,0)","v":{"$error":"#N/A"}}]
[{"$f":"INDEX(Tabelle2[[#All],[Budgetlinie]],MATCH(Tabelle1[[#This Row],[Maßnahme]],Ausfüllhilfe!$C$1:$C$22,0))","v":{"$error":"#N/A"}},null,null,null,null,null,null,null,null,{"$f":"VLOOKUP(Tabelle1[[#This Row],[Budgetlinie]],Ausfüllhilfe!$A$1:$D$23,4,0)","v":{"$error":"#N/A"}}]
[{"$f":"INDEX(Tabelle2[[#All],[Budgetlinie]],MATCH(Tabelle1[[#This Row],[Maßnahme]],Ausfüllhilfe!$C$1:$C$22,0))","v":{"$error":"#N/A"}},null,null,null,null,null,null,null,null,{"$f":"VLOOKUP(Tabelle1[[#This Row],[Budgetlinie]],Ausfüllhilfe!$A$1:$D$23,4,0)","v":{"$error":"#N/A"}}]
[{"$f":"INDEX(Tabelle2[[#All],[Budgetlinie]],MATCH(Tabelle1[[#This Row],[Maßnahme]],Ausfüllhilfe!$C$1:$C$22,0))","v":{"$error":"#N/A"}},null,null,null,null,null,null,null,null,{"$f":"VLOOKUP(Tabelle1[[#This Row],[Budgetlinie]],Ausfüllhilfe!$A$1:$D$23,4,0)","v":{"$error":"#N/A"}}]
[{"$f":"INDEX(Tabelle2[[#All],[Budgetlinie]],MATCH(Tabelle1[[#This Row],[Maßnahme]],Ausfüllhilfe!$C$1:$C$22,0))","v":{"$error":"#N/A"}},null,null,null,null,null,null,null,null,{"$f":"VLOOKUP(Tabelle1[[#This Row],[Budgetlinie]],Ausfüllhilfe!$A$1:$D$23,4,0)","v":{"$error":"#N/A"}}]
[{"$f":"INDEX(Tabelle2[[#All],[Budgetlinie]],MATCH(Tabelle1[[#This Row],[Maßnahme]],Ausfüllhilfe!$C$1:$C$22,0))","v":{"$error":"#N/A"}},null,null,null,null,null,null,null,null,{"$f":"VLOOKUP(Tabelle1[[#This Row],[Budgetlinie]],Ausfüllhilfe!$A$1:$D$23,4,0)","v":{"$error":"#N/A"}}]
[{"$f":"INDEX(Tabelle2[[#All],[Budgetlinie]],MATCH(Tabelle1[[#This Row],[Maßnahme]],Ausfüllhilfe!$C$1:$C$22,0))","v":{"$error":"#N/A"}},null,null,null,null,null,null,null,null,{"$f":"VLOOKUP(Tabelle1[[#This Row],[Budgetlinie]],Ausfüllhilfe!$A$1:$D$23,4,0)","v":{"$error":"#N/A"}}]
[{"$f":"INDEX(Tabelle2[[#All],[Budgetlinie]],MATCH(Tabelle1[[#This Row],[Maßnahme]],Ausfüllhilfe!$C$1:$C$22,0))","v":{"$error":"#N/A"}},null,null,null,null,null,null,null,null,{"$f":"VLOOKUP(Tabelle1[[#This Row],[Budgetlinie]],Ausfüllhilfe!$A$1:$D$23,4,0)","v":{"$error":"#N/A"}}]
[{"$f":"INDEX(Tabelle2[[#All],[Budgetlinie]],MATCH(Tabelle1[[#This Row],[Maßnahme]],Ausfüllhilfe!$C$1:$C$22,0))","v":{"$error":"#N/A"}},null,null,null,null,null,null,null,null,{"$f":"VLOOKUP(Tabelle1[[#This Row],[Budgetlinie]],Ausfüllhilfe!$A$1:$D$23,4,0)","v":{"$error":"#N/A"}}]
[{"$f":"INDEX(Tabelle2[[#All],[Budgetlinie]],MATCH(Tabelle1[[#This Row],[Maßnahme]],Ausfüllhilfe!$C$1:$C$22,0))","v":{"$error":"#N/A"}},null,null,null,null,null,null,null,null,{"$f":"VLOOKUP(Tabelle1[[#This Row],[Budgetlinie]],Ausfüllhilfe!$A$1:$D$23,4,0)","v":{"$error":"#N/A"}}]
[{"$f":"INDEX(Tabelle2[[#All],[Budgetlinie]],MATCH(Tabelle1[[#This Row],[Maßnahme]],Ausfüllhilfe!$C$1:$C$22,0))","v":{"$error":"#N/A"}},null,null,null,null,null,null,null,null,{"$f":"VLOOKUP(Tabelle1[[#This Row],[Budgetlinie]],Ausfüllhilfe!$A$1:$D$23,4,0)","v":{"$error":"#N/A"}}]
[{"$f":"INDEX(Tabelle2[[#All],[Budgetlinie]],MATCH(Tabelle1[[#This Row],[Maßnahme]],Ausfüllhilfe!$C$1:$C$22,0))","v":{"$error":"#N/A"}},null,null,null,null,null,null,null,null,{"$f":"VLOOKUP(Tabelle1[[#This Row],[Budgetlinie]],Ausfüllhilfe!$A$1:$D$23,4,0)","v":{"$error":"#N/A"}}]
[{"$f":"INDEX(Tabelle2[[#All],[Budgetlinie]],MATCH(Tabelle1[[#This Row],[Maßnahme]],Ausfüllhilfe!$C$1:$C$22,0))","v":{"$error":"#N/A"}},null,null,null,null,null,null,null,null,{"$f":"VLOOKUP(Tabelle1[[#This Row],[Budgetlinie]],Ausfüllhilfe!$A$1:$D$23,4,0)","v":{"$error":"#N/A"}}]
[{"$f":"INDEX(Tabelle2[[#All],[Budgetlinie]],MATCH(Tabelle1[[#This Row],[Maßnahme]],Ausfüllhilfe!$C$1:$C$22,0))","v":{"$error":"#N/A"}},null,null,null,null,null,null,null,null,{"$f":"VLOOKUP(Tabelle1[[#This Row],[Budgetlinie]],Ausfüllhilfe!$A$1:$D$23,4,0)","v":{"$error":"#N/A"}}]
[{"$f":"INDEX(Tabelle2[[#All],[Budgetlinie]],MATCH(Tabelle1[[#This Row],[Maßnahme]],Ausfüllhilfe!$C$1:$C$22,0))","v":{"$error":"#N/A"}},null,null,null,null,null,null,null,null,{"$f":"VLOOKUP(Tabelle1[[#This Row],[Budgetlinie]],Ausfüllhilfe!$A$1:$D$23,4,0)","v":{"$error":"#N/A"}}]
[{"$f":"INDEX(Tabelle2[[#All],[Budgetlinie]],MATCH(Tabelle1[[#This Row],[Maßnahme]],Ausfüllhilfe!$C$1:$C$22,0))","v":{"$error":"#N/A"}},null,null,null,null,null,null,null,null,{"$f":"VLOOKUP(Tabelle1[[#This Row],[Budgetlinie]],Ausfüllhilfe!$A$1:$D$23,4,0)","v":{"$error":"#N/A"}}]
[{"$f":"INDEX(Tabelle2[[#All],[Budgetlinie]],MATCH(Tabelle1[[#This Row],[Maßnahme]],Ausfüllhilfe!$C$1:$C$22,0))","v":{"$error":"#N/A"}},null,null,null,null,null,null,null,null,{"$f":"VLOOKUP(Tabelle1[[#This Row],[Budgetlinie]],Ausfüllhilfe!$A$1:$D$23,4,0)","v":{"$error":"#N/A"}}]
[{"$f":"INDEX(Tabelle2[[#All],[Budgetlinie]],MATCH(Tabelle1[[#This Row],[Maßnahme]],Ausfüllhilfe!$C$1:$C$22,0))","v":{"$error":"#N/A"}},null,null,null,null,null,null,null,null,{"$f":"VLOOKUP(Tabelle1[[#This Row],[Budgetlinie]],Ausfüllhilfe!$A$1:$D$23,4,0)","v":{"$error":"#N/A"}}]
[{"$f":"INDEX(Tabelle2[[#All],[Budgetlinie]],MATCH(Tabelle1[[#This Row],[Maßnahme]],Ausfüllhilfe!$C$1:$C$22,0))","v":{"$error":"#N/A"}},null,null,null,null,null,null,null,null,{"$f":"VLOOKUP(Tabelle1[[#This Row],[Budgetlinie]],Ausfüllhilfe!$A$1:$D$23,4,0)","v":{"$error":"#N/A"}}]
[{"$f":"INDEX(Tabelle2[[#All],[Budgetlinie]],MATCH(Tabelle1[[#This Row],[Maßnahme]],Ausfüllhilfe!$C$1:$C$22,0))","v":{"$error":"#N/A"}},null,null,null,null,null,null,null,null,{"$f":"VLOOKUP(Tabelle1[[#This Row],[Budgetlinie]],Ausfüllhilfe!$A$1:$D$23,4,0)","v":{"$error":"#N/A"}}]
[{"$f":"INDEX(Tabelle2[[#All],[Budgetlinie]],MATCH(Tabelle1[[#This Row],[Maßnahme]],Ausfüllhilfe!$C$1:$C$22,0))","v":{"$error":"#N/A"}},null,null,null,null,null,null,null,null,{"$f":"VLOOKUP(Tabelle1[[#This Row],[Budgetlinie]],Ausfüllhilfe!$A$1:$D$23,4,0)","v":{"$error":"#N/A"}}]
[{"$f":"INDEX(Tabelle2[[#All],[Budgetlinie]],MATCH(Tabelle1[[#This Row],[Maßnahme]],Ausfüllhilfe!$C$1:$C$22,0))","v":{"$error":"#N/A"}},null,null,null,null,null,null,null,null,{"$f":"VLOOKUP(Tabelle1[[#This Row],[Budgetlinie]],Ausfüllhilfe!$A$1:$D$23,4,0)","v":{"$error":"#N/A"}}]
[{"$f":"INDEX(Tabelle2[[#All],[Budgetlinie]],MATCH(Tabelle1[[#This Row],[Maßnahme]],Ausfüllhilfe!$C$1:$C$22,0))","v":{"$error":"#N/A"}},null,null,null,null,null,null,null,null,{"$f":"VLOOKUP(Tabelle1[[#This Row],[Budgetlinie]],Ausfüllhilfe!$A$1:$D$23,4,0)","v":{"$error":"#N/A"}}]
[{"$f":"INDEX(Tabelle2[[#All],[Budgetlinie]],MATCH(Tabelle1[[#This Row],[Maßnahme]],Ausfüllhilfe!$C$1:$C$22,0))","v":{"$error":"#N/A"}},null,null,null,null,null,null,null,null,{"$f":"VLOOKUP(Tabelle1[[#This Row],[Budgetlinie]],Ausfüllhilfe!$A$1:$D$23,4,0)","v":{"$error":"#N/A"}}]
[{"$f":"INDEX(Tabelle2[[#All],[Budgetlinie]],MATCH(Tabelle1[[#This Row],[Maßnahme]],Ausfüllhilfe!$C$1:$C$22,0))","v":{"$error":"#N/A"}},null,null,null,null,null,null,null,null,{"$f":"VLOOKUP(Tabelle1[[#This Row],[Budgetlinie]],Ausfüllhilfe!$A$1:$D$23,4,0)","v":{"$error":"#N/A"}}]
[{"$f":"INDEX(Tabelle2[[#All],[Budgetlinie]],MATCH(Tabelle1[[#This Row],[Maßnahme]],Ausfüllhilfe!$C$1:$C$22,0))","v":{"$error":"#N/A"}},null,null,null,null,null,null,null,null,{"$f":"VLOOKUP(Tabelle1[[#This Row],[Budgetlinie]],Ausfüllhilfe!$A$1:$D$23,4,0)","v":{"$error":"#N/A"}}]
[{"$f":"INDEX(Tabelle2[[#All],[Budgetlinie]],MATCH(Tabelle1[[#This Row],[Maßnahme]],Ausfüllhilfe!$C$1:$C$22,0))","v":{"$error":"#N/A"}},null,null,null,null,null,null,null,null,{"$f":"VLOOKUP(Tabelle1[[#This Row],[Budgetlinie]],Ausfüllhilfe!$A$1:$D$23,4,0)","v":{"$error":"#N/A"}}]
[{"$f":"INDEX(Tabelle2[[#All],[Budgetlinie]],MATCH(Tabelle1[[#This Row],[Maßnahme]],Ausfüllhilfe!$C$1:$C$22,0))","v":{"$error":"#N/A"}},null,null,null,null,null,null,null,null,{"$f":"VLOOKUP(Tabelle1[[#This Row],[Budgetlinie]],Ausfüllhilfe!$A$1:$D$23,4,0)","v":{"$error":"#N/A"}}]
[{"$f":"INDEX(Tabelle2[[#All],[Budgetlinie]],MATCH(Tabelle1[[#This Row],[Maßnahme]],Ausfüllhilfe!$C$1:$C$22,0))","v":{"$error":"#N/A"}},null,null,null,null,null,null,null,null,{"$f":"VLOOKUP(Tabelle1[[#This Row],[Budgetlinie]],Ausfüllhilfe!$A$1:$D$23,4,0)","v":{"$error":"#N/A"}}]
[{"$f":"INDEX(Tabelle2[[#All],[Budgetlinie]],MATCH(Tabelle1[[#This Row],[Maßnahme]],Ausfüllhilfe!$C$1:$C$22,0))","v":{"$error":"#N/A"}},null,null,null,null,null,null,null,null,{"$f":"VLOOKUP(Tabelle1[[#This Row],[Budgetlinie]],Ausfüllhilfe!$A$1:$D$23,4,0)","v":{"$error":"#N/A"}}]
[{"$f":"INDEX(Tabelle2[[#All],[Budgetlinie]],MATCH(Tabelle1[[#This Row],[Maßnahme]],Ausfüllhilfe!$C$1:$C$22,0))","v":{"$error":"#N/A"}},null,null,null,null,null,null,null,null,{"$f":"VLOOKUP(Tabelle1[[#This Row],[Budgetlinie]],Ausfüllhilfe!$A$1:$D$23,4,0)","v":{"$error":"#N/A"}}]
[{"$f":"INDEX(Tabelle2[[#All],[Budgetlinie]],MATCH(Tabelle1[[#This Row],[Maßnahme]],Ausfüllhilfe!$C$1:$C$22,0))","v":{"$error":"#N/A"}},null,null,null,null,null,null,null,null,{"$f":"VLOOKUP(Tabelle1[[#This Row],[Budgetlinie]],Ausfüllhilfe!$A$1:$D$23,4,0)","v":{"$error":"#N/A"}}]
[{"$f":"INDEX(Tabelle2[[#All],[Budgetlinie]],MATCH(Tabelle1[[#This Row],[Maßnahme]],Ausfüllhilfe!$C$1:$C$22,0))","v":{"$error":"#N/A"}},null,null,null,null,null,null,null,null,{"$f":"VLOOKUP(Tabelle1[[#This Row],[Budgetlinie]],Ausfüllhilfe!$A$1:$D$23,4,0)","v":{"$error":"#N/A"}}]
[{"$f":"INDEX(Tabelle2[[#All],[Budgetlinie]],MATCH(Tabelle1[[#This Row],[Maßnahme]],Ausfüllhilfe!$C$1:$C$22,0))","v":{"$error":"#N/A"}},null,null,null,null,null,null,null,null,{"$f":"VLOOKUP(Tabelle1[[#This Row],[Budgetlinie]],Ausfüllhilfe!$A$1:$D$23,4,0)","v":{"$error":"#N/A"}}]
[{"$f":"INDEX(Tabelle2[[#All],[Budgetlinie]],MATCH(Tabelle1[[#This Row],[Maßnahme]],Ausfüllhilfe!$C$1:$C$22,0))","v":{"$error":"#N/A"}},null,null,null,null,null,null,null,null,{"$f":"VLOOKUP(Tabelle1[[#This Row],[Budgetlinie]],Ausfüllhilfe!$A$1:$D$23,4,0)","v":{"$error":"#N/A"}}]
[{"$f":"INDEX(Tabelle2[[#All],[Budgetlinie]],MATCH(Tabelle1[[#This Row],[Maßnahme]],Ausfüllhilfe!$C$1:$C$22,0))","v":{"$error":"#N/A"}},null,null,null,null,null,null,null,null,{"$f":"VLOOKUP(Tabelle1[[#This Row],[Budgetlinie]],Ausfüllhilfe!$A$1:$D$23,4,0)","v":{"$error":"#N/A"}}]
[{"$f":"INDEX(Tabelle2[[#All],[Budgetlinie]],MATCH(Tabelle1[[#This Row],[Maßnahme]],Ausfüllhilfe!$C$1:$C$22,0))","v":{"$error":"#N/A"}},null,null,null,null,null,null,null,null,{"$f":"VLOOKUP(Tabelle1[[#This Row],[Budgetlinie]],Ausfüllhilfe!$A$1:$D$23,4,0)","v":{"$error":"#N/A"}}]
[{"$f":"INDEX(Tabelle2[[#All],[Budgetlinie]],MATCH(Tabelle1[[#This Row],[Maßnahme]],Ausfüllhilfe!$C$1:$C$22,0))","v":{"$error":"#N/A"}},null,null,null,null,null,null,null,null,{"$f":"VLOOKUP(Tabelle1[[#This Row],[Budgetlinie]],Ausfüllhilfe!$A$1:$D$23,4,0)","v":{"$error":"#N/A"}}]
[{"$f":"INDEX(Tabelle2[[#All],[Budgetlinie]],MATCH(Tabelle1[[#This Row],[Maßnahme]],Ausfüllhilfe!$C$1:$C$22,0))","v":{"$error":"#N/A"}},null,null,null,null,null,null,null,null,{"$f":"VLOOKUP(Tabelle1[[#This Row],[Budgetlinie]],Ausfüllhilfe!$A$1:$D$23,4,0)","v":{"$error":"#N/A"}}]
[{"$f":"INDEX(Tabelle2[[#All],[Budgetlinie]],MATCH(Tabelle1[[#This Row],[Maßnahme]],Ausfüllhilfe!$C$1:$C$22,0))","v":{"$error":"#N/A"}},null,null,null,null,null,null,null,null,{"$f":"VLOOKUP(Tabelle1[[#This Row],[Budgetlinie]],Ausfüllhilfe!$A$1:$D$23,4,0)","v":{"$error":"#N/A"}}]
[{"$f":"INDEX(Tabelle2[[#All],[Budgetlinie]],MATCH(Tabelle1[[#This Row],[Maßnahme]],Ausfüllhilfe!$C$1:$C$22,0))","v":{"$error":"#N/A"}},null,null,null,null,null,null,null,null,{"$f":"VLOOKUP(Tabelle1[[#This Row],[Budgetlinie]],Ausfüllhilfe!$A$1:$D$23,4,0)","v":{"$error":"#N/A"}}]
[{"$f":"INDEX(Tabelle2[[#All],[Budgetlinie]],MATCH(Tabelle1[[#This Row],[Maßnahme]],Ausfüllhilfe!$C$1:$C$22,0))","v":{"$error":"#N/A"}},null,null,null,null,null,null,null,null,{"$f":"VLOOKUP(Tabelle1[[#This Row],[Budgetlinie]],Ausfüllhilfe!$A$1:$D$23,4,0)","v":{"$error":"#N/A"}}]
[{"$f":"INDEX(Tabelle2[[#All],[Budgetlinie]],MATCH(Tabelle1[[#This Row],[Maßnahme]],Ausfüllhilfe!$C$1:$C$22,0))","v":{"$error":"#N/A"}},null,null,null,null,null,null,null,null,{"$f":"VLOOKUP(Tabelle1[[#This Row],[Budgetlinie]],Ausfüllhilfe!$A$1:$D$23,4,0)","v":{"$error":"#N/A"}}]
[{"$f":"INDEX(Tabelle2[[#All],[Budgetlinie]],MATCH(Tabelle1[[#This Row],[Maßnahme]],Ausfüllhilfe!$C$1:$C$22,0))","v":{"$error":"#N/A"}},null,null,null,null,null,null,null,null,{"$f":"VLOOKUP(Tabelle1[[#This Row],[Budgetlinie]],Ausfüllhilfe!$A$1:$D$23,4,0)","v":{"$error":"#N/A"}}]
[{"$f":"INDEX(Tabelle2[[#All],[Budgetlinie]],MATCH(Tabelle1[[#This Row],[Maßnahme]],Ausfüllhilfe!$C$1:$C$22,0))","v":{"$error":"#N/A"}},null,null,null,null,null,null,null,null,{"$f":"VLOOKUP(Tabelle1[[#This Row],[Budgetlinie]],Ausfüllhilfe!$A$1:$D$23,4,0)","v":{"$error":"#N/A"}}]
[{"$f":"INDEX(Tabelle2[[#All],[Budgetlinie]],MATCH(Tabelle1[[#This Row],[Maßnahme]],Ausfüllhilfe!$C$1:$C$22,0))","v":{"$error":"#N/A"}},null,null,null,null,null,null,null,null,{"$f":"VLOOKUP(Tabelle1[[#This Row],[Budgetlinie]],Ausfüllhilfe!$A$1:$D$23,4,0)","v":{"$error":"#N/A"}}]
[{"$f":"INDEX(Tabelle2[[#All],[Budgetlinie]],MATCH(Tabelle1[[#This Row],[Maßnahme]],Ausfüllhilfe!$C$1:$C$22,0))","v":{"$error":"#N/A"}},null,null,null,null,null,null,null,null,{"$f":"VLOOKUP(Tabelle1[[#This Row],[Budgetlinie]],Ausfüllhilfe!$A$1:$D$23,4,0)","v":{"$error":"#N/A"}}]
[{"$f":"INDEX(Tabelle2[[#All],[Budgetlinie]],MATCH(Tabelle1[[#This Row],[Maßnahme]],Ausfüllhilfe!$C$1:$C$22,0))","v":{"$error":"#N/A"}},null,null,null,null,null,null,null,null,{"$f":"VLOOKUP(Tabelle1[[#This Row],[Budgetlinie]],Ausfüllhilfe!$A$1:$D$23,4,0)","v":{"$error":"#N/A"}}]
[{"$f":"INDEX(Tabelle2[[#All],[Budgetlinie]],MATCH(Tabelle1[[#This Row],[Maßnahme]],Ausfüllhilfe!$C$1:$C$22,0))","v":{"$error":"#N/A"}},null,null,null,null,null,null,null,null,{"$f":"VLOOKUP(Tabelle1[[#This Row],[Budgetlinie]],Ausfüllhilfe!$A$1:$D$23,4,0)","v":{"$error":"#N/A"}}]
[{"$f":"INDEX(Tabelle2[[#All],[Budgetlinie]],MATCH(Tabelle1[[#This Row],[Maßnahme]],Ausfüllhilfe!$C$1:$C$22,0))","v":{"$error":"#N/A"}},null,null,null,null,null,null,null,null,{"$f":"VLOOKUP(Tabelle1[[#This Row],[Budgetlinie]],Ausfüllhilfe!$A$1:$D$23,4,0)","v":{"$error":"#N/A"}}]
[{"$f":"INDEX(Tabelle2[[#All],[Budgetlinie]],MATCH(Tabelle1[[#This Row],[Maßnahme]],Ausfüllhilfe!$C$1:$C$22,0))","v":{"$error":"#N/A"}},null,null,null,null,null,null,null,null,{"$f":"VLOOKUP(Tabelle1[[#This Row],[Budgetlinie]],Ausfüllhilfe!$A$1:$D$23,4,0)","v":{"$error":"#N/A"}}]
[{"$f":"INDEX(Tabelle2[[#All],[Budgetlinie]],MATCH(Tabelle1[[#This Row],[Maßnahme]],Ausfüllhilfe!$C$1:$C$22,0))","v":{"$error":"#N/A"}},null,null,null,null,null,null,null,null,{"$f":"VLOOKUP(Tabelle1[[#This Row],[Budgetlinie]],Ausfüllhilfe!$A$1:$D$23,4,0)","v":{"$error":"#N/A"}}]
[{"$f":"INDEX(Tabelle2[[#All],[Budgetlinie]],MATCH(Tabelle1[[#This Row],[Maßnahme]],Ausfüllhilfe!$C$1:$C$22,0))","v":{"$error":"#N/A"}},null,null,null,null,null,null,null,null,{"$f":"VLOOKUP(Tabelle1[[#This Row],[Budgetlinie]],Ausfüllhilfe!$A$1:$D$23,4,0)","v":{"$error":"#N/A"}}]
[{"$f":"INDEX(Tabelle2[[#All],[Budgetlinie]],MATCH(Tabelle1[[#This Row],[Maßnahme]],Ausfüllhilfe!$C$1:$C$22,0))","v":{"$error":"#N/A"}},null,null,null,null,null,null,null,null,{"$f":"VLOOKUP(Tabelle1[[#This Row],[Budgetlinie]],Ausfüllhilfe!$A$1:$D$23,4,0)","v":{"$error":"#N/A"}}]
[{"$f":"INDEX(Tabelle2[[#All],[Budgetlinie]],MATCH(Tabelle1[[#This Row],[Maßnahme]],Ausfüllhilfe!$C$1:$C$22,0))","v":{"$error":"#N/A"}},null,null,null,null,null,null,null,null,{"$f":"VLOOKUP(Tabelle1[[#This Row],[Budgetlinie]],Ausfüllhilfe!$A$1:$D$23,4,0)","v":{"$error":"#N/A"}}]
[{"$f":"INDEX(Tabelle2[[#All],[Budgetlinie]],MATCH(Tabelle1[[#This Row],[Maßnahme]],Ausfüllhilfe!$C$1:$C$22,0))","v":{"$error":"#N/A"}},null,null,null,null,null,null,null,null,{"$f":"VLOOKUP(Tabelle1[[#This Row],[Budgetlinie]],Ausfüllhilfe!$A$1:$D$23,4,0)","v":{"$error":"#N/A"}}]
[{"$f":"INDEX(Tabelle2[[#All],[Budgetlinie]],MATCH(Tabelle1[[#This Row],[Maßnahme]],Ausfüllhilfe!$C$1:$C$22,0))","v":{"$error":"#N/A"}},null,null,null,null,null,null,null,null,{"$f":"VLOOKUP(Tabelle1[[#This Row],[Budgetlinie]],Ausfüllhilfe!$A$1:$D$23,4,0)","v":{"$error":"#N/A"}}]
[{"$f":"INDEX(Tabelle2[[#All],[Budgetlinie]],MATCH(Tabelle1[[#This Row],[Maßnahme]],Ausfüllhilfe!$C$1:$C$22,0))","v":{"$error":"#N/A"}},null,null,null,null,null,null,null,null,{"$f":"VLOOKUP(Tabelle1[[#This Row],[Budgetlinie]],Ausfüllhilfe!$A$1:$D$23,4,0)","v":{"$error":"#N/A"}}]
[{"$f":"INDEX(Tabelle2[[#All],[Budgetlinie]],MATCH(Tabelle1[[#This Row],[Maßnahme]],Ausfüllhilfe!$C$1:$C$22,0))","v":{"$error":"#N/A"}},null,null,null,null,null,null,null,null,{"$f":"VLOOKUP(Tabelle1[[#This Row],[Budgetlinie]],Ausfüllhilfe!$A$1:$D$23,4,0)","v":{"$error":"#N/A"}}]
[{"$f":"INDEX(Tabelle2[[#All],[Budgetlinie]],MATCH(Tabelle1[[#This Row],[Maßnahme]],Ausfüllhilfe!$C$1:$C$22,0))","v":{"$error":"#N/A"}},null,null,null,null,null,null,null,null,{"$f":"VLOOKUP(Tabelle1[[#This Row],[Budgetlinie]],Ausfüllhilfe!$A$1:$D$23,4,0)","v":{"$error":"#N/A"}}]
[{"$f":"INDEX(Tabelle2[[#All],[Budgetlinie]],MATCH(Tabelle1[[#This Row],[Maßnahme]],Ausfüllhilfe!$C$1:$C$22,0))","v":{"$error":"#N/A"}},null,null,null,null,null,null,null,null,{"$f":"VLOOKUP(Tabelle1[[#This Row],[Budgetlinie]],Ausfüllhilfe!$A$1:$D$23,4,0)","v":{"$error":"#N/A"}}]
[{"$f":"INDEX(Tabelle2[[#All],[Budgetlinie]],MATCH(Tabelle1[[#This Row],[Maßnahme]],Ausfüllhilfe!$C$1:$C$22,0))","v":{"$error":"#N/A"}},null,null,null,null,null,null,null,null,{"$f":"VLOOKUP(Tabelle1[[#This Row],[Budgetlinie]],Ausfüllhilfe!$A$1:$D$23,4,0)","v":{"$error":"#N/A"}}]
[{"$f":"INDEX(Tabelle2[[#All],[Budgetlinie]],MATCH(Tabelle1[[#This Row],[Maßnahme]],Ausfüllhilfe!$C$1:$C$22,0))","v":{"$error":"#N/A"}},null,null,null,null,null,null,null,null,{"$f":"VLOOKUP(Tabelle1[[#This Row],[Budgetlinie]],Ausfüllhilfe!$A$1:$D$23,4,0)","v":{"$error":"#N/A"}}]
[{"$f":"INDEX(Tabelle2[[#All],[Budgetlinie]],MATCH(Tabelle1[[#This Row],[Maßnahme]],Ausfüllhilfe!$C$1:$C$22,0))","v":{"$error":"#N/A"}},null,null,null,null,null,null,null,null,{"$f":"VLOOKUP(Tabelle1[[#This Row],[Budgetlinie]],Ausfüllhilfe!$A$1:$D$23,4,0)","v":{"$error":"#N/A"}}]
[{"$f":"INDEX(Tabelle2[[#All],[Budgetlinie]],MATCH(Tabelle1[[#This Row],[Maßnahme]],Ausfüllhilfe!$C$1:$C$22,0))","v":{"$error":"#N/A"}},null,null,null,null,null,null,null,null,{"$f":"VLOOKUP(Tabelle1[[#This Row],[Budgetlinie]],Ausfüllhilfe!$A$1:$D$23,4,0)","v":{"$error":"#N/A"}}]
[{"$f":"INDEX(Tabelle2[[#All],[Budgetlinie]],MATCH(Tabelle1[[#This Row],[Maßnahme]],Ausfüllhilfe!$C$1:$C$22,0))","v":{"$error":"#N/A"}},null,null,null,null,null,null,null,null,{"$f":"VLOOKUP(Tabelle1[[#This Row],[Budgetlinie]],Ausfüllhilfe!$A$1:$D$23,4,0)","v":{"$error":"#N/A"}}]
[{"$f":"INDEX(Tabelle2[[#All],[Budgetlinie]],MATCH(Tabelle1[[#This Row],[Maßnahme]],Ausfüllhilfe!$C$1:$C$22,0))","v":{"$error":"#N/A"}},null,null,null,null,null,null,null,null,{"$f":"VLOOKUP(Tabelle1[[#This Row],[Budgetlinie]],Ausfüllhilfe!$A$1:$D$23,4,0)","v":{"$error":"#N/A"}}]
[{"$f":"INDEX(Tabelle2[[#All],[Budgetlinie]],MATCH(Tabelle1[[#This Row],[Maßnahme]],Ausfüllhilfe!$C$1:$C$22,0))","v":{"$error":"#N/A"}},null,null,null,null,null,null,null,null,{"$f":"VLOOKUP(Tabelle1[[#This Row],[Budgetlinie]],Ausfüllhilfe!$A$1:$D$23,4,0)","v":{"$error":"#N/A"}}]
[{"$f":"INDEX(Tabelle2[[#All],[Budgetlinie]],MATCH(Tabelle1[[#This Row],[Maßnahme]],Ausfüllhilfe!$C$1:$C$22,0))","v":{"$error":"#N/A"}},null,null,null,null,null,null,null,null,{"$f":"VLOOKUP(Tabelle1[[#This Row],[Budgetlinie]],Ausfüllhilfe!$A$1:$D$23,4,0)","v":{"$error":"#N/A"}}]
[{"$f":"INDEX(Tabelle2[[#All],[Budgetlinie]],MATCH(Tabelle1[[#This Row],[Maßnahme]],Ausfüllhilfe!$C$1:$C$22,0))","v":{"$error":"#N/A"}},null,null,null,null,null,null,null,null,{"$f":"VLOOKUP(Tabelle1[[#This Row],[Budgetlinie]],Ausfüllhilfe!$A$1:$D$23,4,0)","v":{"$error":"#N/A"}}]
[{"$f":"INDEX(Tabelle2[[#All],[Budgetlinie]],MATCH(Tabelle1[[#This Row],[Maßnahme]],Ausfüllhilfe!$C$1:$C$22,0))","v":{"$error":"#N/A"}},null,null,null,null,null,null,null,null,{"$f":"VLOOKUP(Tabelle1[[#This Row],[Budgetlinie]],Ausfüllhilfe!$A$1:$D$23,4,0)","v":{"$error":"#N/A"}}]
[{"$f":"INDEX(Tabelle2[[#All],[Budgetlinie]],MATCH(Tabelle1[[#This Row],[Maßnahme]],Ausfüllhilfe!$C$1:$C$22,0))","v":{"$error":"#N/A"}},null,null,null,null,null,null,null,null,{"$f":"VLOOKUP(Tabelle1[[#This Row],[Budgetlinie]],Ausfüllhilfe!$A$1:$D$23,4,0)","v":{"$error":"#N/A"}}]
[{"$f":"INDEX(Tabelle2[[#All],[Budgetlinie]],MATCH(Tabelle1[[#This Row],[Maßnahme]],Ausfüllhilfe!$C$1:$C$22,0))","v":{"$error":"#N/A"}},null,null,null,null,null,null,null,null,{"$f":"VLOOKUP(Tabelle1[[#This Row],[Budgetlinie]],Ausfüllhilfe!$A$1:$D$23,4,0)","v":{"$error":"#N/A"}}]
[{"$f":"INDEX(Tabelle2[[#All],[Budgetlinie]],MATCH(Tabelle1[[#This Row],[Maßnahme]],Ausfüllhilfe!$C$1:$C$22,0))","v":{"$error":"#N/A"}},null,null,null,null,null,null,null,null,{"$f":"VLOOKUP(Tabelle1[[#This Row],[Budgetlinie]],Ausfüllhilfe!$A$1:$D$23,4,0)","v":{"$error":"#N/A"}}]
[{"$f":"INDEX(Tabelle2[[#All],[Budgetlinie]],MATCH(Tabelle1[[#This Row],[Maßnahme]],Ausfüllhilfe!$C$1:$C$22,0))","v":{"$error":"#N/A"}},null,null,null,null,null,null,null,null,{"$f":"VLOOKUP(Tabelle1[[#This Row],[Budgetlinie]],Ausfüllhilfe!$A$1:$D$23,4,0)","v":{"$error":"#N/A"}}]
[{"$f":"INDEX(Tabelle2[[#All],[Budgetlinie]],MATCH(Tabelle1[[#This Row],[Maßnahme]],Ausfüllhilfe!$C$1:$C$22,0))","v":{"$error":"#N/A"}},null,null,null,null,null,null,null,null,{"$f":"VLOOKUP(Tabelle1[[#This Row],[Budgetlinie]],Ausfüllhilfe!$A$1:$D$23,4,0)","v":{"$error":"#N/A"}}]
[{"$f":"INDEX(Tabelle2[[#All],[Budgetlinie]],MATCH(Tabelle1[[#This Row],[Maßnahme]],Ausfüllhilfe!$C$1:$C$22,0))","v":{"$error":"#N/A"}},null,null,null,null,null,null,null,null,{"$f":"VLOOKUP(Tabelle1[[#This Row],[Budgetlinie]],Ausfüllhilfe!$A$1:$D$23,4,0)","v":{"$error":"#N/A"}}]
[{"$f":"INDEX(Tabelle2[[#All],[Budgetlinie]],MATCH(Tabelle1[[#This Row],[Maßnahme]],Ausfüllhilfe!$C$1:$C$22,0))","v":{"$error":"#N/A"}},null,null,null,null,null,null,null,null,{"$f":"VLOOKUP(Tabelle1[[#This Row],[Budgetlinie]],Ausfüllhilfe!$A$1:$D$23,4,0)","v":{"$error":"#N/A"}}]
[{"$f":"INDEX(Tabelle2[[#All],[Budgetlinie]],MATCH(Tabelle1[[#This Row],[Maßnahme]],Ausfüllhilfe!$C$1:$C$22,0))","v":{"$error":"#N/A"}},null,null,null,null,null,null,null,null,{"$f":"VLOOKUP(Tabelle1[[#This Row],[Budgetlinie]],Ausfüllhilfe!$A$1:$D$23,4,0)","v":{"$error":"#N/A"}}]
[{"$f":"INDEX(Tabelle2[[#All],[Budgetlinie]],MATCH(Tabelle1[[#This Row],[Maßnahme]],Ausfüllhilfe!$C$1:$C$22,0))","v":{"$error":"#N/A"}},null,null,null,null,null,null,null,null,{"$f":"VLOOKUP(Tabelle1[[#This Row],[Budgetlinie]],Ausfüllhilfe!$A$1:$D$23,4,0)","v":{"$error":"#N/A"}}]
[{"$f":"INDEX(Tabelle2[[#All],[Budgetlinie]],MATCH(Tabelle1[[#This Row],[Maßnahme]],Ausfüllhilfe!$C$1:$C$22,0))","v":{"$error":"#N/A"}},null,null,null,null,null,null,null,null,{"$f":"VLOOKUP(Tabelle1[[#This Row],[Budgetlinie]],Ausfüllhilfe!$A$1:$D$23,4,0)","v":{"$error":"#N/A"}}]
[{"$f":"INDEX(Tabelle2[[#All],[Budgetlinie]],MATCH(Tabelle1[[#This Row],[Maßnahme]],Ausfüllhilfe!$C$1:$C$22,0))","v":{"$error":"#N/A"}},null,null,null,null,null,null,null,null,{"$f":"VLOOKUP(Tabelle1[[#This Row],[Budgetlinie]],Ausfüllhilfe!$A$1:$D$23,4,0)","v":{"$error":"#N/A"}}]
[{"$f":"INDEX(Tabelle2[[#All],[Budgetlinie]],MATCH(Tabelle1[[#This Row],[Maßnahme]],Ausfüllhilfe!$C$1:$C$22,0))","v":{"$error":"#N/A"}},null,null,null,null,null,null,null,null,{"$f":"VLOOKUP(Tabelle1[[#This Row],[Budgetlinie]],Ausfüllhilfe!$A$1:$D$23,4,0)","v":{"$error":"#N/A"}}]
[{"$f":"INDEX(Tabelle2[[#All],[Budgetlinie]],MATCH(Tabelle1[[#This Row],[Maßnahme]],Ausfüllhilfe!$C$1:$C$22,0))","v":{"$error":"#N/A"}},null,null,null,null,null,null,null,null,{"$f":"VLOOKUP(Tabelle1[[#This Row],[Budgetlinie]],Ausfüllhilfe!$A$1:$D$23,4,0)","v":{"$error":"#N/A"}}]
[{"$f":"INDEX(Tabelle2[[#All],[Budgetlinie]],MATCH(Tabelle1[[#This Row],[Maßnahme]],Ausfüllhilfe!$C$1:$C$22,0))","v":{"$error":"#N/A"}},null,null,null,null,null,null,null,null,{"$f":"VLOOKUP(Tabelle1[[#This Row],[Budgetlinie]],Ausfüllhilfe!$A$1:$D$23,4,0)","v":{"$error":"#N/A"}}]
[{"$f":"INDEX(Tabelle2[[#All],[Budgetlinie]],MATCH(Tabelle1[[#This Row],[Maßnahme]],Ausfüllhilfe!$C$1:$C$22,0))","v":{"$error":"#N/A"}},null,null,null,null,null,null,null,null,{"$f":"VLOOKUP(Tabelle1[[#This Row],[Budgetlinie]],Ausfüllhilfe!$A$1:$D$23,4,0)","v":{"$error":"#N/A"}}]
[{"$f":"INDEX(Tabelle2[[#All],[Budgetlinie]],MATCH(Tabelle1[[#This Row],[Maßnahme]],Ausfüllhilfe!$C$1:$C$22,0))","v":{"$error":"#N/A"}},null,null,null,null,null,null,null,null,{"$f":"VLOOKUP(Tabelle1[[#This Row],[Budgetlinie]],Ausfüllhilfe!$A$1:$D$23,4,0)","v":{"$error":"#N/A"}}]
[{"$f":"INDEX(Tabelle2[[#All],[Budgetlinie]],MATCH(Tabelle1[[#This Row],[Maßnahme]],Ausfüllhilfe!$C$1:$C$22,0))","v":{"$error":"#N/A"}},null,null,null,null,null,null,null,null,{"$f":"VLOOKUP(Tabelle1[[#This Row],[Budgetlinie]],Ausfüllhilfe!$A$1:$D$23,4,0)","v":{"$error":"#N/A"}}]
[{"$f":"INDEX(Tabelle2[[#All],[Budgetlinie]],MATCH(Tabelle1[[#This Row],[Maßnahme]],Ausfüllhilfe!$C$1:$C$22,0))","v":{"$error":"#N/A"}},null,null,null,null,null,null,null,null,{"$f":"VLOOKUP(Tabelle1[[#This Row],[Budgetlinie]],Ausfüllhilfe!$A$1:$D$23,4,0)","v":{"$error":"#N/A"}}]
[{"$f":"INDEX(Tabelle2[[#All],[Budgetlinie]],MATCH(Tabelle1[[#This Row],[Maßnahme]],Ausfüllhilfe!$C$1:$C$22,0))","v":{"$error":"#N/A"}},null,null,null,null,null,null,null,null,{"$f":"VLOOKUP(Tabelle1[[#This Row],[Budgetlinie]],Ausfüllhilfe!$A$1:$D$23,4,0)","v":{"$error":"#N/A"}}]
[{"$f":"INDEX(Tabelle2[[#All],[Budgetlinie]],MATCH(Tabelle1[[#This Row],[Maßnahme]],Ausfüllhilfe!$C$1:$C$22,0))","v":{"$error":"#N/A"}},null,null,null,null,null,null,null,null,{"$f":"VLOOKUP(Tabelle1[[#This Row],[Budgetlinie]],Ausfüllhilfe!$A$1:$D$23,4,0)","v":{"$error":"#N/A"}}]
[{"$f":"INDEX(Tabelle2[[#All],[Budgetlinie]],MATCH(Tabelle1[[#This Row],[Maßnahme]],Ausfüllhilfe!$C$1:$C$22,0))","v":{"$error":"#N/A"}},null,null,null,null,null,null,null,null,{"$f":"VLOOKUP(Tabelle1[[#This Row],[Budgetlinie]],Ausfüllhilfe!$A$1:$D$23,4,0)","v":{"$error":"#N/A"}}]
[{"$f":"INDEX(Tabelle2[[#All],[Budgetlinie]],MATCH(Tabelle1[[#This Row],[Maßnahme]],Ausfüllhilfe!$C$1:$C$22,0))","v":{"$error":"#N/A"}},null,null,null,null,null,null,null,null,{"$f":"VLOOKUP(Tabelle1[[#This Row],[Budgetlinie]],Ausfüllhilfe!$A$1:$D$23,4,0)","v":{"$error":"#N/A"}}]
[{"$f":"INDEX(Tabelle2[[#All],[Budgetlinie]],MATCH(Tabelle1[[#This Row],[Maßnahme]],Ausfüllhilfe!$C$1:$C$22,0))","v":{"$error":"#N/A"}},null,null,null,null,null,null,null,null,{"$f":"VLOOKUP(Tabelle1[[#This Row],[Budgetlinie]],Ausfüllhilfe!$A$1:$D$23,4,0)","v":{"$error":"#N/A"}}]
[{"$f":"INDEX(Tabelle2[[#All],[Budgetlinie]],MATCH(Tabelle1[[#This Row],[Maßnahme]],Ausfüllhilfe!$C$1:$C$22,0))","v":{"$error":"#N/A"}},null,null,null,null,null,null,null,null,{"$f":"VLOOKUP(Tabelle1[[#This Row],[Budgetlinie]],Ausfüllhilfe!$A$1:$D$23,4,0)","v":{"$error":"#N/A"}}]
[{"$f":"INDEX(Tabelle2[[#All],[Budgetlinie]],MATCH(Tabelle1[[#This Row],[Maßnahme]],Ausfüllhilfe!$C$1:$C$22,0))","v":{"$error":"#N/A"}},null,null,null,null,null,null,null,null,{"$f":"VLOOKUP(Tabelle1[[#This Row],[Budgetlinie]],Ausfüllhilfe!$A$1:$D$23,4,0)","v":{"$error":"#N/A"}}]
[{"$f":"INDEX(Tabelle2[[#All],[Budgetlinie]],MATCH(Tabelle1[[#This Row],[Maßnahme]],Ausfüllhilfe!$C$1:$C$22,0))","v":{"$error":"#N/A"}},null,null,null,null,null,null,null,null,{"$f":"VLOOKUP(Tabelle1[[#This Row],[Budgetlinie]],Ausfüllhilfe!$A$1:$D$23,4,0)","v":{"$error":"#N/A"}}]
[{"$f":"INDEX(Tabelle2[[#All],[Budgetlinie]],MATCH(Tabelle1[[#This Row],[Maßnahme]],Ausfüllhilfe!$C$1:$C$22,0))","v":{"$error":"#N/A"}},null,null,null,null,null,null,null,null,{"$f":"VLOOKUP(Tabelle1[[#This Row],[Budgetlinie]],Ausfüllhilfe!$A$1:$D$23,4,0)","v":{"$error":"#N/A"}}]
[{"$f":"INDEX(Tabelle2[[#All],[Budgetlinie]],MATCH(Tabelle1[[#This Row],[Maßnahme]],Ausfüllhilfe!$C$1:$C$22,0))","v":{"$error":"#N/A"}},null,null,null,null,null,null,null,null,{"$f":"VLOOKUP(Tabelle1[[#This Row],[Budgetlinie]],Ausfüllhilfe!$A$1:$D$23,4,0)","v":{"$error":"#N/A"}}]
[{"$f":"INDEX(Tabelle2[[#All],[Budgetlinie]],MATCH(Tabelle1[[#This Row],[Maßnahme]],Ausfüllhilfe!$C$1:$C$22,0))","v":{"$error":"#N/A"}},null,null,null,null,null,null,null,null,{"$f":"VLOOKUP(Tabelle1[[#This Row],[Budgetlinie]],Ausfüllhilfe!$A$1:$D$23,4,0)","v":{"$error":"#N/A"}}]
[{"$f":"INDEX(Tabelle2[[#All],[Budgetlinie]],MATCH(Tabelle1[[#This Row],[Maßnahme]],Ausfüllhilfe!$C$1:$C$22,0))","v":{"$error":"#N/A"}},null,null,null,null,null,null,null,null,{"$f":"VLOOKUP(Tabelle1[[#This Row],[Budgetlinie]],Ausfüllhilfe!$A$1:$D$23,4,0)","v":{"$error":"#N/A"}}]
[{"$f":"INDEX(Tabelle2[[#All],[Budgetlinie]],MATCH(Tabelle1[[#This Row],[Maßnahme]],Ausfüllhilfe!$C$1:$C$22,0))","v":{"$error":"#N/A"}},null,null,null,null,null,null,null,null,{"$f":"VLOOKUP(Tabelle1[[#This Row],[Budgetlinie]],Ausfüllhilfe!$A$1:$D$23,4,0)","v":{"$error":"#N/A"}}]
[{"$f":"INDEX(Tabelle2[[#All],[Budgetlinie]],MATCH(Tabelle1[[#This Row],[Maßnahme]],Ausfüllhilfe!$C$1:$C$22,0))","v":{"$error":"#N/A"}},null,null,null,null,null,null,null,null,{"$f":"VLOOKUP(Tabelle1[[#This Row],[Budgetlinie]],Ausfüllhilfe!$A$1:$D$23,4,0)","v":{"$error":"#N/A"}}]
[{"$f":"INDEX(Tabelle2[[#All],[Budgetlinie]],MATCH(Tabelle1[[#This Row],[Maßnahme]],Ausfüllhilfe!$C$1:$C$22,0))","v":{"$error":"#N/A"}},null,null,null,null,null,null,null,null,{"$f":"VLOOKUP(Tabelle1[[#This Row],[Budgetlinie]],Ausfüllhilfe!$A$1:$D$23,4,0)","v":{"$error":"#N/A"}}]
[{"$f":"INDEX(Tabelle2[[#All],[Budgetlinie]],MATCH(Tabelle1[[#This Row],[Maßnahme]],Ausfüllhilfe!$C$1:$C$22,0))","v":{"$error":"#N/A"}},null,null,null,null,null,null,null,null,{"$f":"VLOOKUP(Tabelle1[[#This Row],[Budgetlinie]],Ausfüllhilfe!$A$1:$D$23,4,0)","v":{"$error":"#N/A"}}]
[{"$f":"INDEX(Tabelle2[[#All],[Budgetlinie]],MATCH(Tabelle1[[#This Row],[Maßnahme]],Ausfüllhilfe!$C$1:$C$22,0))","v":{"$error":"#N/A"}},null,null,null,null,null,null,null,null,{"$f":"VLOOKUP(Tabelle1[[#This Row],[Budgetlinie]],Ausfüllhilfe!$A$1:$D$23,4,0)","v":{"$error":"#N/A"}}]
[{"$f":"INDEX(Tabelle2[[#All],[Budgetlinie]],MATCH(Tabelle1[[#This Row],[Maßnahme]],Ausfüllhilfe!$C$1:$C$22,0))","v":{"$error":"#N/A"}},null,null,null,null,null,null,null,null,{"$f":"VLOOKUP(Tabelle1[[#This Row],[Budgetlinie]],Ausfüllhilfe!$A$1:$D$23,4,0)","v":{"$error":"#N/A"}}]
[{"$f":"INDEX(Tabelle2[[#All],[Budgetlinie]],MATCH(Tabelle1[[#This Row],[Maßnahme]],Ausfüllhilfe!$C$1:$C$22,0))","v":{"$error":"#N/A"}},null,null,null,null,null,null,null,null,{"$f":"VLOOKUP(Tabelle1[[#This Row],[Budgetlinie]],Ausfüllhilfe!$A$1:$D$23,4,0)","v":{"$error":"#N/A"}}]
[{"$f":"INDEX(Tabelle2[[#All],[Budgetlinie]],MATCH(Tabelle1[[#This Row],[Maßnahme]],Ausfüllhilfe!$C$1:$C$22,0))","v":{"$error":"#N/A"}},null,null,null,null,null,null,null,null,{"$f":"VLOOKUP(Tabelle1[[#This Row],[Budgetlinie]],Ausfüllhilfe!$A$1:$D$23,4,0)","v":{"$error":"#N/A"}}]
[{"$f":"INDEX(Tabelle2[[#All],[Budgetlinie]],MATCH(Tabelle1[[#This Row],[Maßnahme]],Ausfüllhilfe!$C$1:$C$22,0))","v":{"$error":"#N/A"}},null,null,null,null,null,null,null,null,{"$f":"VLOOKUP(Tabelle1[[#This Row],[Budgetlinie]],Ausfüllhilfe!$A$1:$D$23,4,0)","v":{"$error":"#N/A"}}]
[{"$f":"INDEX(Tabelle2[[#All],[Budgetlinie]],MATCH(Tabelle1[[#This Row],[Maßnahme]],Ausfüllhilfe!$C$1:$C$22,0))","v":{"$error":"#N/A"}},null,null,null,null,null,null,null,null,{"$f":"VLOOKUP(Tabelle1[[#This Row],[Budgetlinie]],Ausfüllhilfe!$A$1:$D$23,4,0)","v":{"$error":"#N/A"}}]
[{"$f":"INDEX(Tabelle2[[#All],[Budgetlinie]],MATCH(Tabelle1[[#This Row],[Maßnahme]],Ausfüllhilfe!$C$1:$C$22,0))","v":{"$error":"#N/A"}},null,null,null,null,null,null,null,null,{"$f":"VLOOKUP(Tabelle1[[#This Row],[Budgetlinie]],Ausfüllhilfe!$A$1:$D$23,4,0)","v":{"$error":"#N/A"}}]
[{"$f":"INDEX(Tabelle2[[#All],[Budgetlinie]],MATCH(Tabelle1[[#This Row],[Maßnahme]],Ausfüllhilfe!$C$1:$C$22,0))","v":{"$error":"#N/A"}},null,null,null,null,null,null,null,null,{"$f":"VLOOKUP(Tabelle1[[#This Row],[Budgetlinie]],Ausfüllhilfe!$A$1:$D$23,4,0)","v":{"$error":"#N/A"}}]
[{"$f":"INDEX(Tabelle2[[#All],[Budgetlinie]],MATCH(Tabelle1[[#This Row],[Maßnahme]],Ausfüllhilfe!$C$1:$C$22,0))","v":{"$error":"#N/A"}},null,null,null,null,null,null,null,null,{"$f":"VLOOKUP(Tabelle1[[#This Row],[Budgetlinie]],Ausfüllhilfe!$A$1:$D$23,4,0)","v":{"$error":"#N/A"}}]
[{"$f":"INDEX(Tabelle2[[#All],[Budgetlinie]],MATCH(Tabelle1[[#This Row],[Maßnahme]],Ausfüllhilfe!$C$1:$C$22,0))","v":{"$error":"#N/A"}},null,null,null,null,null,null,null,null,{"$f":"VLOOKUP(Tabelle1[[#This Row],[Budgetlinie]],Ausfüllhilfe!$A$1:$D$23,4,0)","v":{"$error":"#N/A"}}]
[{"$f":"INDEX(Tabelle2[[#All],[Budgetlinie]],MATCH(Tabelle1[[#This Row],[Maßnahme]],Ausfüllhilfe!$C$1:$C$22,0))","v":{"$error":"#N/A"}},null,null,null,null,null,null,null,null,{"$f":"VLOOKUP(Tabelle1[[#This Row],[Budgetlinie]],Ausfüllhilfe!$A$1:$D$23,4,0)","v":{"$error":"#N/A"}}]
[{"$f":"INDEX(Tabelle2[[#All],[Budgetlinie]],MATCH(Tabelle1[[#This Row],[Maßnahme]],Ausfüllhilfe!$C$1:$C$22,0))","v":{"$error":"#N/A"}},null,null,null,null,null,null,null,null,{"$f":"VLOOKUP(Tabelle1[[#This Row],[Budgetlinie]],Ausfüllhilfe!$A$1:$D$23,4,0)","v":{"$error":"#N/A"}}]
[{"$f":"INDEX(Tabelle2[[#All],[Budgetlinie]],MATCH(Tabelle1[[#This Row],[Maßnahme]],Ausfüllhilfe!$C$1:$C$22,0))","v":{"$error":"#N/A"}},null,null,null,null,null,null,null,null,{"$f":"VLOOKUP(Tabelle1[[#This Row],[Budgetlinie]],Ausfüllhilfe!$A$1:$D$23,4,0)","v":{"$error":"#N/A"}}]
[{"$f":"INDEX(Tabelle2[[#All],[Budgetlinie]],MATCH(Tabelle1[[#This Row],[Maßnahme]],Ausfüllhilfe!$C$1:$C$22,0))","v":{"$error":"#N/A"}},null,null,null,null,null,null,null,null,{"$f":"VLOOKUP(Tabelle1[[#This Row],[Budgetlinie]],Ausfüllhilfe!$A$1:$D$23,4,0)","v":{"$error":"#N/A"}}]
[{"$f":"INDEX(Tabelle2[[#All],[Budgetlinie]],MATCH(Tabelle1[[#This Row],[Maßnahme]],Ausfüllhilfe!$C$1:$C$22,0))","v":{"$error":"#N/A"}},null,null,null,null,null,null,null,null,{"$f":"VLOOKUP(Tabelle1[[#This Row],[Budgetlinie]],Ausfüllhilfe!$A$1:$D$23,4,0)","v":{"$error":"#N/A"}}]
[{"$f":"INDEX(Tabelle2[[#All],[Budgetlinie]],MATCH(Tabelle1[[#This Row],[Maßnahme]],Ausfüllhilfe!$C$1:$C$22,0))","v":{"$error":"#N/A"}},null,null,null,null,null,null,null,null,{"$f":"VLOOKUP(Tabelle1[[#This Row],[Budgetlinie]],Ausfüllhilfe!$A$1:$D$23,4,0)","v":{"$error":"#N/A"}}]
[{"$f":"INDEX(Tabelle2[[#All],[Budgetlinie]],MATCH(Tabelle1[[#This Row],[Maßnahme]],Ausfüllhilfe!$C$1:$C$22,0))","v":{"$error":"#N/A"}},null,null,null,null,null,null,null,null,{"$f":"VLOOKUP(Tabelle1[[#This Row],[Budgetlinie]],Ausfüllhilfe!$A$1:$D$23,4,0)","v":{"$error":"#N/A"}}]
[{"$f":"INDEX(Tabelle2[[#All],[Budgetlinie]],MATCH(Tabelle1[[#This Row],[Maßnahme]],Ausfüllhilfe!$C$1:$C$22,0))","v":{"$error":"#N/A"}},null,null,null,null,null,null,null,null,{"$f":"VLOOKUP(Tabelle1[[#This Row],[Budgetlinie]],Ausfüllhilfe!$A$1:$D$23,4,0)","v":{"$error":"#N/A"}}]
[{"$f":"INDEX(Tabelle2[[#All],[Budgetlinie]],MATCH(Tabelle1[[#This Row],[Maßnahme]],Ausfüllhilfe!$C$1:$C$22,0))","v":{"$error":"#N/A"}},null,null,null,null,null,null,null,null,{"$f":"VLOOKUP(Tabelle1[[#This Row],[Budgetlinie]],Ausfüllhilfe!$A$1:$D$23,4,0)","v":{"$error":"#N/A"}}]
[{"$f":"INDEX(Tabelle2[[#All],[Budgetlinie]],MATCH(Tabelle1[[#This Row],[Maßnahme]],Ausfüllhilfe!$C$1:$C$22,0))","v":{"$error":"#N/A"}},null,null,null,null,null,null,null,null,{"$f":"VLOOKUP(Tabelle1[[#This Row],[Budgetlinie]],Ausfüllhilfe!$A$1:$D$23,4,0)","v":{"$error":"#N/A"}}]
[{"$f":"INDEX(Tabelle2[[#All],[Budgetlinie]],MATCH(Tabelle1[[#This Row],[Maßnahme]],Ausfüllhilfe!$C$1:$C$22,0))","v":{"$error":"#N/A"}},null,null,null,null,null,null,null,null,{"$f":"VLOOKUP(Tabelle1[[#This Row],[Budgetlinie]],Ausfüllhilfe!$A$1:$D$23,4,0)","v":{"$error":"#N/A"}}]
[{"$f":"INDEX(Tabelle2[[#All],[Budgetlinie]],MATCH(Tabelle1[[#This Row],[Maßnahme]],Ausfüllhilfe!$C$1:$C$22,0))","v":{"$error":"#N/A"}},null,null,null,null,null,null,null,null,{"$f":"VLOOKUP(Tabelle1[[#This Row],[Budgetlinie]],Ausfüllhilfe!$A$1:$D$23,4,0)","v":{"$error":"#N/A"}}]
[{"$f":"INDEX(Tabelle2[[#All],[Budgetlinie]],MATCH(Tabelle1[[#This Row],[Maßnahme]],Ausfüllhilfe!$C$1:$C$22,0))","v":{"$error":"#N/A"}},null,null,null,null,null,null,null,null,{"$f":"VLOOKUP(Tabelle1[[#This Row],[Budgetlinie]],Ausfüllhilfe!$A$1:$D$23,4,0)","v":{"$error":"#N/A"}}]
[{"$f":"INDEX(Tabelle2[[#All],[Budgetlinie]],MATCH(Tabelle1[[#This Row],[Maßnahme]],Ausfüllhilfe!$C$1:$C$22,0))","v":{"$error":"#N/A"}},null,null,null,null,null,null,null,null,{"$f":"VLOOKUP(Tabelle1[[#This Row],[Budgetlinie]],Ausfüllhilfe!$A$1:$D$23,4,0)","v":{"$error":"#N/A"}}]
[{"$f":"INDEX(Tabelle2[[#All],[Budgetlinie]],MATCH(Tabelle1[[#This Row],[Maßnahme]],Ausfüllhilfe!$C$1:$C$22,0))","v":{"$error":"#N/A"}},null,null,null,null,null,null,null,null,{"$f":"VLOOKUP(Tabelle1[[#This Row],[Budgetlinie]],Ausfüllhilfe!$A$1:$D$23,4,0)","v":{"$error":"#N/A"}}]
[{"$f":"INDEX(Tabelle2[[#All],[Budgetlinie]],MATCH(Tabelle1[[#This Row],[Maßnahme]],Ausfüllhilfe!$C$1:$C$22,0))","v":{"$error":"#N/A"}},null,null,null,null,null,null,null,null,{"$f":"VLOOKUP(Tabelle1[[#This Row],[Budgetlinie]],Ausfüllhilfe!$A$1:$D$23,4,0)","v":{"$error":"#N/A"}}]
[{"$f":"INDEX(Tabelle2[[#All],[Budgetlinie]],MATCH(Tabelle1[[#This Row],[Maßnahme]],Ausfüllhilfe!$C$1:$C$22,0))","v":{"$error":"#N/A"}},null,null,null,null,null,null,null,null,{"$f":"VLOOKUP(Tabelle1[[#This Row],[Budgetlinie]],Ausfüllhilfe!$A$1:$D$23,4,0)","v":{"$error":"#N/A"}}]
[{"$f":"INDEX(Tabelle2[[#All],[Budgetlinie]],MATCH(Tabelle1[[#This Row],[Maßnahme]],Ausfüllhilfe!$C$1:$C$22,0))","v":{"$error":"#N/A"}},null,null,null,null,null,null,null,null,{"$f":"VLOOKUP(Tabelle1[[#This Row],[Budgetlinie]],Ausfüllhilfe!$A$1:$D$23,4,0)","v":{"$error":"#N/A"}}]
[{"$f":"INDEX(Tabelle2[[#All],[Budgetlinie]],MATCH(Tabelle1[[#This Row],[Maßnahme]],Ausfüllhilfe!$C$1:$C$22,0))","v":{"$error":"#N/A"}},null,null,null,null,null,null,null,null,{"$f":"VLOOKUP(Tabelle1[[#This Row],[Budgetlinie]],Ausfüllhilfe!$A$1:$D$23,4,0)","v":{"$error":"#N/A"}}]
[{"$f":"INDEX(Tabelle2[[#All],[Budgetlinie]],MATCH(Tabelle1[[#This Row],[Maßnahme]],Ausfüllhilfe!$C$1:$C$22,0))","v":{"$error":"#N/A"}},null,null,null,null,null,null,null,null,{"$f":"VLOOKUP(Tabelle1[[#This Row],[Budgetlinie]],Ausfüllhilfe!$A$1:$D$23,4,0)","v":{"$error":"#N/A"}}]
[{"$f":"INDEX(Tabelle2[[#All],[Budgetlinie]],MATCH(Tabelle1[[#This Row],[Maßnahme]],Ausfüllhilfe!$C$1:$C$22,0))","v":{"$error":"#N/A"}},null,null,null,null,null,null,null,null,{"$f":"VLOOKUP(Tabelle1[[#This Row],[Budgetlinie]],Ausfüllhilfe!$A$1:$D$23,4,0)","v":{"$error":"#N/A"}}]
[{"$f":"INDEX(Tabelle2[[#All],[Budgetlinie]],MATCH(Tabelle1[[#This Row],[Maßnahme]],Ausfüllhilfe!$C$1:$C$22,0))","v":{"$error":"#N/A"}},null,null,null,null,null,null,null,null,{"$f":"VLOOKUP(Tabelle1[[#This Row],[Budgetlinie]],Ausfüllhilfe!$A$1:$D$23,4,0)","v":{"$error":"#N/A"}}]
[{"$f":"INDEX(Tabelle2[[#All],[Budgetlinie]],MATCH(Tabelle1[[#This Row],[Maßnahme]],Ausfüllhilfe!$C$1:$C$22,0))","v":{"$error":"#N/A"}},null,null,null,null,null,null,null,null,{"$f":"VLOOKUP(Tabelle1[[#This Row],[Budgetlinie]],Ausfüllhilfe!$A$1:$D$23,4,0)","v":{"$error":"#N/A"}}]
[{"$f":"INDEX(Tabelle2[[#All],[Budgetlinie]],MATCH(Tabelle1[[#This Row],[Maßnahme]],Ausfüllhilfe!$C$1:$C$22,0))","v":{"$error":"#N/A"}},null,null,null,null,null,null,null,null,{"$f":"VLOOKUP(Tabelle1[[#This Row],[Budgetlinie]],Ausfüllhilfe!$A$1:$D$23,4,0)","v":{"$error":"#N/A"}}]
[{"$f":"INDEX(Tabelle2[[#All],[Budgetlinie]],MATCH(Tabelle1[[#This Row],[Maßnahme]],Ausfüllhilfe!$C$1:$C$22,0))","v":{"$error":"#N/A"}},null,null,null,null,null,null,null,null,{"$f":"VLOOKUP(Tabelle1[[#This Row],[Budgetlinie]],Ausfüllhilfe!$A$1:$D$23,4,0)","v":{"$error":"#N/A"}}]
[{"$f":"INDEX(Tabelle2[[#All],[Budgetlinie]],MATCH(Tabelle1[[#This Row],[Maßnahme]],Ausfüllhilfe!$C$1:$C$22,0))","v":{"$error":"#N/A"}},null,null,null,null,null,null,null,null,{"$f":"VLOOKUP(Tabelle1[[#This Row],[Budgetlinie]],Ausfüllhilfe!$A$1:$D$23,4,0)","v":{"$error":"#N/A"}}]
[{"$f":"INDEX(Tabelle2[[#All],[Budgetlinie]],MATCH(Tabelle1[[#This Row],[Maßnahme]],Ausfüllhilfe!$C$1:$C$22,0))","v":{"$error":"#N/A"}},null,null,null,null,null,null,null,null,{"$f":"VLOOKUP(Tabelle1[[#This Row],[Budgetlinie]],Ausfüllhilfe!$A$1:$D$23,4,0)","v":{"$error":"#N/A"}}]
[{"$f":"INDEX(Tabelle2[[#All],[Budgetlinie]],MATCH(Tabelle1[[#This Row],[Maßnahme]],Ausfüllhilfe!$C$1:$C$22,0))","v":{"$error":"#N/A"}},null,null,null,null,null,null,null,null,{"$f":"VLOOKUP(Tabelle1[[#This Row],[Budgetlinie]],Ausfüllhilfe!$A$1:$D$23,4,0)","v":{"$error":"#N/A"}}]
[{"$f":"INDEX(Tabelle2[[#All],[Budgetlinie]],MATCH(Tabelle1[[#This Row],[Maßnahme]],Ausfüllhilfe!$C$1:$C$22,0))","v":{"$error":"#N/A"}},null,null,null,null,null,null,null,null,{"$f":"VLOOKUP(Tabelle1[[#This Row],[Budgetlinie]],Ausfüllhilfe!$A$1:$D$23,4,0)","v":{"$error":"#N/A"}}]
[{"$f":"INDEX(Tabelle2[[#All],[Budgetlinie]],MATCH(Tabelle1[[#This Row],[Maßnahme]],Ausfüllhilfe!$C$1:$C$22,0))","v":{"$error":"#N/A"}},null,null,null,null,null,null,null,null,{"$f":"VLOOKUP(Tabelle1[[#This Row],[Budgetlinie]],Ausfüllhilfe!$A$1:$D$23,4,0)","v":{"$error":"#N/A"}}]
[{"$f":"INDEX(Tabelle2[[#All],[Budgetlinie]],MATCH(Tabelle1[[#This Row],[Maßnahme]],Ausfüllhilfe!$C$1:$C$22,0))","v":{"$error":"#N/A"}},null,null,null,null,null,null,null,null,{"$f":"VLOOKUP(Tabelle1[[#This Row],[Budgetlinie]],Ausfüllhilfe!$A$1:$D$23,4,0)","v":{"$error":"#N/A"}}]
[{"$f":"INDEX(Tabelle2[[#All],[Budgetlinie]],MATCH(Tabelle1[[#This Row],[Maßnahme]],Ausfüllhilfe!$C$1:$C$22,0))","v":{"$error":"#N/A"}},null,null,null,null,null,null,null,null,{"$f":"VLOOKUP(Tabelle1[[#This Row],[Budgetlinie]],Ausfüllhilfe!$A$1:$D$23,4,0)","v":{"$error":"#N/A"}}]
[{"$f":"INDEX(Tabelle2[[#All],[Budgetlinie]],MATCH(Tabelle1[[#This Row],[Maßnahme]],Ausfüllhilfe!$C$1:$C$22,0))","v":{"$error":"#N/A"}},null,null,null,null,null,null,null,null,{"$f":"VLOOKUP(Tabelle1[[#This Row],[Budgetlinie]],Ausfüllhilfe!$A$1:$D$23,4,0)","v":{"$error":"#N/A"}}]
[{"$f":"INDEX(Tabelle2[[#All],[Budgetlinie]],MATCH(Tabelle1[[#This Row],[Maßnahme]],Ausfüllhilfe!$C$1:$C$22,0))","v":{"$error":"#N/A"}},null,null,null,null,null,null,null,null,{"$f":"VLOOKUP(Tabelle1[[#This Row],[Budgetlinie]],Ausfüllhilfe!$A$1:$D$23,4,0)","v":{"$error":"#N/A"}}]
[{"$f":"INDEX(Tabelle2[[#All],[Budgetlinie]],MATCH(Tabelle1[[#This Row],[Maßnahme]],Ausfüllhilfe!$C$1:$C$22,0))","v":{"$error":"#N/A"}},null,null,null,null,null,null,null,null,{"$f":"VLOOKUP(Tabelle1[[#This Row],[Budgetlinie]],Ausfüllhilfe!$A$1:$D$23,4,0)","v":{"$error":"#N/A"}}]
[{"$f":"INDEX(Tabelle2[[#All],[Budgetlinie]],MATCH(Tabelle1[[#This Row],[Maßnahme]],Ausfüllhilfe!$C$1:$C$22,0))","v":{"$error":"#N/A"}},null,null,null,null,null,null,null,null,{"$f":"VLOOKUP(Tabelle1[[#This Row],[Budgetlinie]],Ausfüllhilfe!$A$1:$D$23,4,0)","v":{"$error":"#N/A"}}]
[{"$f":"INDEX(Tabelle2[[#All],[Budgetlinie]],MATCH(Tabelle1[[#This Row],[Maßnahme]],Ausfüllhilfe!$C$1:$C$22,0))","v":{"$error":"#N/A"}},null,null,null,null,null,null,null,null,{"$f":"VLOOKUP(Tabelle1[[#This Row],[Budgetlinie]],Ausfüllhilfe!$A$1:$D$23,4,0)","v":{"$error":"#N/A"}}]
[{"$f":"INDEX(Tabelle2[[#All],[Budgetlinie]],MATCH(Tabelle1[[#This Row],[Maßnahme]],Ausfüllhilfe!$C$1:$C$22,0))","v":{"$error":"#N/A"}},null,null,null,null,null,null,null,null,{"$f":"VLOOKUP(Tabelle1[[#This Row],[Budgetlinie]],Ausfüllhilfe!$A$1:$D$23,4,0)","v":{"$error":"#N/A"}}]
[{"$f":"INDEX(Tabelle2[[#All],[Budgetlinie]],MATCH(Tabelle1[[#This Row],[Maßnahme]],Ausfüllhilfe!$C$1:$C$22,0))","v":{"$error":"#N/A"}},null,null,null,null,null,null,null,null,{"$f":"VLOOKUP(Tabelle1[[#This Row],[Budgetlinie]],Ausfüllhilfe!$A$1:$D$23,4,0)","v":{"$error":"#N/A"}}]
[{"$f":"INDEX(Tabelle2[[#All],[Budgetlinie]],MATCH(Tabelle1[[#This Row],[Maßnahme]],Ausfüllhilfe!$C$1:$C$22,0))","v":{"$error":"#N/A"}},null,null,null,null,null,null,null,null,{"$f":"VLOOKUP(Tabelle1[[#This Row],[Budgetlinie]],Ausfüllhilfe!$A$1:$D$23,4,0)","v":{"$error":"#N/A"}}]
[{"$f":"INDEX(Tabelle2[[#All],[Budgetlinie]],MATCH(Tabelle1[[#This Row],[Maßnahme]],Ausfüllhilfe!$C$1:$C$22,0))","v":{"$error":"#N/A"}},null,null,null,null,null,null,null,null,{"$f":"VLOOKUP(Tabelle1[[#This Row],[Budgetlinie]],Ausfüllhilfe!$A$1:$D$23,4,0)","v":{"$error":"#N/A"}}]
[{"$f":"INDEX(Tabelle2[[#All],[Budgetlinie]],MATCH(Tabelle1[[#This Row],[Maßnahme]],Ausfüllhilfe!$C$1:$C$22,0))","v":{"$error":"#N/A"}},null,null,null,null,null,null,null,null,{"$f":"VLOOKUP(Tabelle1[[#This Row],[Budgetlinie]],Ausfüllhilfe!$A$1:$D$23,4,0)","v":{"$error":"#N/A"}}]
[{"$f":"INDEX(Tabelle2[[#All],[Budgetlinie]],MATCH(Tabelle1[[#This Row],[Maßnahme]],Ausfüllhilfe!$C$1:$C$22,0))","v":{"$error":"#N/A"}},null,null,null,null,null,null,null,null,{"$f":"VLOOKUP(Tabelle1[[#This Row],[Budgetlinie]],Ausfüllhilfe!$A$1:$D$23,4,0)","v":{"$error":"#N/A"}}]
[{"$f":"INDEX(Tabelle2[[#All],[Budgetlinie]],MATCH(Tabelle1[[#This Row],[Maßnahme]],Ausfüllhilfe!$C$1:$C$22,0))","v":{"$error":"#N/A"}},null,null,null,null,null,null,null,null,{"$f":"VLOOKUP(Tabelle1[[#This Row],[Budgetlinie]],Ausfüllhilfe!$A$1:$D$23,4,0)","v":{"$error":"#N/A"}}]
[{"$f":"INDEX(Tabelle2[[#All],[Budgetlinie]],MATCH(Tabelle1[[#This Row],[Maßnahme]],Ausfüllhilfe!$C$1:$C$22,0))","v":{"$error":"#N/A"}},null,null,null,null,null,null,null,null,{"$f":"VLOOKUP(Tabelle1[[#This Row],[Budgetlinie]],Ausfüllhilfe!$A$1:$D$23,4,0)","v":{"$error":"#N/A"}}]
[{"$f":"INDEX(Tabelle2[[#All],[Budgetlinie]],MATCH(Tabelle1[[#This Row],[Maßnahme]],Ausfüllhilfe!$C$1:$C$22,0))","v":{"$error":"#N/A"}},null,null,null,null,null,null,null,null,{"$f":"VLOOKUP(Tabelle1[[#This Row],[Budgetlinie]],Ausfüllhilfe!$A$1:$D$23,4,0)","v":{"$error":"#N/A"}}]
[{"$f":"INDEX(Tabelle2[[#All],[Budgetlinie]],MATCH(Tabelle1[[#This Row],[Maßnahme]],Ausfüllhilfe!$C$1:$C$22,0))","v":{"$error":"#N/A"}},null,null,null,null,null,null,null,null,{"$f":"VLOOKUP(Tabelle1[[#This Row],[Budgetlinie]],Ausfüllhilfe!$A$1:$D$23,4,0)","v":{"$error":"#N/A"}}]
[{"$f":"INDEX(Tabelle2[[#All],[Budgetlinie]],MATCH(Tabelle1[[#This Row],[Maßnahme]],Ausfüllhilfe!$C$1:$C$22,0))","v":{"$error":"#N/A"}},null,null,null,null,null,null,null,null,{"$f":"VLOOKUP(Tabelle1[[#This Row],[Budgetlinie]],Ausfüllhilfe!$A$1:$D$23,4,0)","v":{"$error":"#N/A"}}]
[{"$f":"INDEX(Tabelle2[[#All],[Budgetlinie]],MATCH(Tabelle1[[#This Row],[Maßnahme]],Ausfüllhilfe!$C$1:$C$22,0))","v":{"$error":"#N/A"}},null,null,null,null,null,null,null,null,{"$f":"VLOOKUP(Tabelle1[[#This Row],[Budgetlinie]],Ausfüllhilfe!$A$1:$D$23,4,0)","v":{"$error":"#N/A"}}]
[{"$f":"INDEX(Tabelle2[[#All],[Budgetlinie]],MATCH(Tabelle1[[#This Row],[Maßnahme]],Ausfüllhilfe!$C$1:$C$22,0))","v":{"$error":"#N/A"}},null,null,null,null,null,null,null,null,{"$f":"VLOOKUP(Tabelle1[[#This Row],[Budgetlinie]],Ausfüllhilfe!$A$1:$D$23,4,0)","v":{"$error":"#N/A"}}]
[{"$f":"INDEX(Tabelle2[[#All],[Budgetlinie]],MATCH(Tabelle1[[#This Row],[Maßnahme]],Ausfüllhilfe!$C$1:$C$22,0))","v":{"$error":"#N/A"}},null,null,null,null,null,null,null,null,{"$f":"VLOOKUP(Tabelle1[[#This Row],[Budgetlinie]],Ausfüllhilfe!$A$1:$D$23,4,0)","v":{"$error":"#N/A"}}]
[{"$f":"INDEX(Tabelle2[[#All],[Budgetlinie]],MATCH(Tabelle1[[#This Row],[Maßnahme]],Ausfüllhilfe!$C$1:$C$22,0))","v":{"$error":"#N/A"}},null,null,null,null,null,null,null,null,{"$f":"VLOOKUP(Tabelle1[[#This Row],[Budgetlinie]],Ausfüllhilfe!$A$1:$D$23,4,0)","v":{"$error":"#N/A"}}]
[{"$f":"INDEX(Tabelle2[[#All],[Budgetlinie]],MATCH(Tabelle1[[#This Row],[Maßnahme]],Ausfüllhilfe!$C$1:$C$22,0))","v":{"$error":"#N/A"}},null,null,null,null,null,null,null,null,{"$f":"VLOOKUP(Tabelle1[[#This Row],[Budgetlinie]],Ausfüllhilfe!$A$1:$D$23,4,0)","v":{"$error":"#N/A"}}]
[{"$f":"INDEX(Tabelle2[[#All],[Budgetlinie]],MATCH(Tabelle1[[#This Row],[Maßnahme]],Ausfüllhilfe!$C$1:$C$22,0))","v":{"$error":"#N/A"}},null,null,null,null,null,null,null,null,{"$f":"VLOOKUP(Tabelle1[[#This Row],[Budgetlinie]],Ausfüllhilfe!$A$1:$D$23,4,0)","v":{"$error":"#N/A"}}]
[{"$f":"INDEX(Tabelle2[[#All],[Budgetlinie]],MATCH(Tabelle1[[#This Row],[Maßnahme]],Ausfüllhilfe!$C$1:$C$22,0))","v":{"$error":"#N/A"}},null,null,null,null,null,null,null,null,{"$f":"VLOOKUP(Tabelle1[[#This Row],[Budgetlinie]],Ausfüllhilfe!$A$1:$D$23,4,0)","v":{"$error":"#N/A"}}]
[{"$f":"INDEX(Tabelle2[[#All],[Budgetlinie]],MATCH(Tabelle1[[#This Row],[Maßnahme]],Ausfüllhilfe!$C$1:$C$22,0))","v":{"$error":"#N/A"}},null,null,null,null,null,null,null,null,{"$f":"VLOOKUP(Tabelle1[[#This Row],[Budgetlinie]],Ausfüllhilfe!$A$1:$D$23,4,0)","v":{"$error":"#N/A"}}]
[{"$f":"INDEX(Tabelle2[[#All],[Budgetlinie]],MATCH(Tabelle1[[#This Row],[Maßnahme]],Ausfüllhilfe!$C$1:$C$22,0))","v":{"$error":"#N/A"}},null,null,null,null,null,null,null,null,{"$f":"VLOOKUP(Tabelle1[[#This Row],[Budgetlinie]],Ausfüllhilfe!$A$1:$D$23,4,0)","v":{"$error":"#N/A"}}]
[{"$f":"INDEX(Tabelle2[[#All],[Budgetlinie]],MATCH(Tabelle1[[#This Row],[Maßnahme]],Ausfüllhilfe!$C$1:$C$22,0))","v":{"$error":"#N/A"}},null,null,null,null,null,null,null,null,{"$f":"VLOOKUP(Tabelle1[[#This Row],[Budgetlinie]],Ausfüllhilfe!$A$1:$D$23,4,0)","v":{"$error":"#N/A"}}]
[{"$f":"INDEX(Tabelle2[[#All],[Budgetlinie]],MATCH(Tabelle1[[#This Row],[Maßnahme]],Ausfüllhilfe!$C$1:$C$22,0))","v":{"$error":"#N/A"}},null,null,null,null,null,null,null,null,{"$f":"VLOOKUP(Tabelle1[[#This Row],[Budgetlinie]],Ausfüllhilfe!$A$1:$D$23,4,0)","v":{"$error":"#N/A"}}]
[{"$f":"INDEX(Tabelle2[[#All],[Budgetlinie]],MATCH(Tabelle1[[#This Row],[Maßnahme]],Ausfüllhilfe!$C$1:$C$22,0))","v":{"$error":"#N/A"}},null,null,null,null,null,null,null,null,{"$f":"VLOOKUP(Tabelle1[[#This Row],[Budgetlinie]],Ausfüllhilfe!$A$1:$D$23,4,0)","v":{"$error":"#N/A"}}]
[{"$f":"INDEX(Tabelle2[[#All],[Budgetlinie]],MATCH(Tabelle1[[#This Row],[Maßnahme]],Ausfüllhilfe!$C$1:$C$22,0))","v":{"$error":"#N/A"}},null,null,null,null,null,null,null,null,{"$f":"VLOOKUP(Tabelle1[[#This Row],[Budgetlinie]],Ausfüllhilfe!$A$1:$D$23,4,0)","v":{"$error":"#N/A"}}]
[{"$f":"INDEX(Tabelle2[[#All],[Budgetlinie]],MATCH(Tabelle1[[#This Row],[Maßnahme]],Ausfüllhilfe!$C$1:$C$22,0))","v":{"$error":"#N/A"}},null,null,null,null,null,null,null,null,{"$f":"VLOOKUP(Tabelle1[[#This Row],[Budgetlinie]],Ausfüllhilfe!$A$1:$D$23,4,0)","v":{"$error":"#N/A"}}]
[{"$f":"INDEX(Tabelle2[[#All],[Budgetlinie]],MATCH(Tabelle1[[#This Row],[Maßnahme]],Ausfüllhilfe!$C$1:$C$22,0))","v":{"$error":"#N/A"}},null,null,null,null,null,null,null,null,{"$f":"VLOOKUP(Tabelle1[[#This Row],[Budgetlinie]],Ausfüllhilfe!$A$1:$D$23,4,0)","v":{"$error":"#N/A"}}]
[{"$f":"INDEX(Tabelle2[[#All],[Budgetlinie]],MATCH(Tabelle1[[#This Row],[Maßnahme]],Ausfüllhilfe!$C$1:$C$22,0))","v":{"$error":"#N/A"}},null,null,null,null,null,null,null,null,{"$f":"VLOOKUP(Tabelle1[[#This Row],[Budgetlinie]],Ausfüllhilfe!$A$1:$D$23,4,0)","v":{"$error":"#N/A"}}]
[{"$f":"INDEX(Tabelle2[[#All],[Budgetlinie]],MATCH(Tabelle1[[#This Row],[Maßnahme]],Ausfüllhilfe!$C$1:$C$22,0))","v":{"$error":"#N/A"}},null,null,null,null,null,null,null,null,{"$f":"VLOOKUP(Tabelle1[[#This Row],[Budgetlinie]],Ausfüllhilfe!$A$1:$D$23,4,0)","v":{"$error":"#N/A"}}]
[{"$f":"INDEX(Tabelle2[[#All],[Budgetlinie]],MATCH(Tabelle1[[#This Row],[Maßnahme]],Ausfüllhilfe!$C$1:$C$22,0))","v":{"$error":"#N/A"}},null,null,null,null,null,null,null,null,{"$f":"VLOOKUP(Tabelle1[[#This Row],[Budgetlinie]],Ausfüllhilfe!$A$1:$D$23,4,0)","v":{"$error":"#N/A"}}]
[{"$f":"INDEX(Tabelle2[[#All],[Budgetlinie]],MATCH(Tabelle1[[#This Row],[Maßnahme]],Ausfüllhilfe!$C$1:$C$22,0))","v":{"$error":"#N/A"}},null,null,null,null,null,null,null,null,{"$f":"VLOOKUP(Tabelle1[[#This Row],[Budgetlinie]],Ausfüllhilfe!$A$1:$D$23,4,0)","v":{"$error":"#N/A"}}]
[{"$f":"INDEX(Tabelle2[[#All],[Budgetlinie]],MATCH(Tabelle1[[#This Row],[Maßnahme]],Ausfüllhilfe!$C$1:$C$22,0))","v":{"$error":"#N/A"}},null,null,null,null,null,null,null,null,{"$f":"VLOOKUP(Tabelle1[[#This Row],[Budgetlinie]],Ausfüllhilfe!$A$1:$D$23,4,0)","v":{"$error":"#N/A"}}]
[{"$f":"INDEX(Tabelle2[[#All],[Budgetlinie]],MATCH(Tabelle1[[#This Row],[Maßnahme]],Ausfüllhilfe!$C$1:$C$22,0))","v":{"$error":"#N/A"}},null,null,null,null,null,null,null,null,{"$f":"VLOOKUP(Tabelle1[[#This Row],[Budgetlinie]],Ausfüllhilfe!$A$1:$D$23,4,0)","v":{"$error":"#N/A"}}]
[{"$f":"INDEX(Tabelle2[[#All],[Budgetlinie]],MATCH(Tabelle1[[#This Row],[Maßnahme]],Ausfüllhilfe!$C$1:$C$22,0))","v":{"$error":"#N/A"}},null,null,null,null,null,null,null,null,{"$f":"VLOOKUP(Tabelle1[[#This Row],[Budgetlinie]],Ausfüllhilfe!$A$1:$D$23,4,0)","v":{"$error":"#N/A"}}]
[{"$f":"INDEX(Tabelle2[[#All],[Budgetlinie]],MATCH(Tabelle1[[#This Row],[Maßnahme]],Ausfüllhilfe!$C$1:$C$22,0))","v":{"$error":"#N/A"}},null,null,null,null,null,null,null,null,{"$f":"VLOOKUP(Tabelle1[[#This Row],[Budgetlinie]],Ausfüllhilfe!$A$1:$D$23,4,0)","v":{"$error":"#N/A"}}]
[{"$f":"INDEX(Tabelle2[[#All],[Budgetlinie]],MATCH(Tabelle1[[#This Row],[Maßnahme]],Ausfüllhilfe!$C$1:$C$22,0))","v":{"$error":"#N/A"}},null,null,null,null,null,null,null,null,{"$f":"VLOOKUP(Tabelle1[[#This Row],[Budgetlinie]],Ausfüllhilfe!$A$1:$D$23,4,0)","v":{"$error":"#N/A"}}]
[{"$f":"INDEX(Tabelle2[[#All],[Budgetlinie]],MATCH(Tabelle1[[#This Row],[Maßnahme]],Ausfüllhilfe!$C$1:$C$22,0))","v":{"$error":"#N/A"}},null,null,null,null,null,null,null,null,{"$f":"VLOOKUP(Tabelle1[[#This Row],[Budgetlinie]],Ausfüllhilfe!$A$1:$D$23,4,0)","v":{"$error":"#N/A"}}]
[{"$f":"INDEX(Tabelle2[[#All],[Budgetlinie]],MATCH(Tabelle1[[#This Row],[Maßnahme]],Ausfüllhilfe!$C$1:$C$22,0))","v":{"$error":"#N/A"}},null,null,null,null,null,null,null,null,{"$f":"VLOOKUP(Tabelle1[[#This Row],[Budgetlinie]],Ausfüllhilfe!$A$1:$D$23,4,0)","v":{"$error":"#N/A"}}]
[{"$f":"INDEX(Tabelle2[[#All],[Budgetlinie]],MATCH(Tabelle1[[#This Row],[Maßnahme]],Ausfüllhilfe!$C$1:$C$22,0))","v":{"$error":"#N/A"}},null,null,null,null,null,null,null,null,{"$f":"VLOOKUP(Tabelle1[[#This Row],[Budgetlinie]],Ausfüllhilfe!$A$1:$D$23,4,0)","v":{"$error":"#N/A"}}]
[{"$f":"INDEX(Tabelle2[[#All],[Budgetlinie]],MATCH(Tabelle1[[#This Row],[Maßnahme]],Ausfüllhilfe!$C$1:$C$22,0))","v":{"$error":"#N/A"}},null,null,null,null,null,null,null,null,{"$f":"VLOOKUP(Tabelle1[[#This Row],[Budgetlinie]],Ausfüllhilfe!$A$1:$D$23,4,0)","v":{"$error":"#N/A"}}]
[{"$f":"INDEX(Tabelle2[[#All],[Budgetlinie]],MATCH(Tabelle1[[#This Row],[Maßnahme]],Ausfüllhilfe!$C$1:$C$22,0))","v":{"$error":"#N/A"}},null,null,null,null,null,null,null,null,{"$f":"VLOOKUP(Tabelle1[[#This Row],[Budgetlinie]],Ausfüllhilfe!$A$1:$D$23,4,0)","v":{"$error":"#N/A"}}]
[{"$f":"INDEX(Tabelle2[[#All],[Budgetlinie]],MATCH(Tabelle1[[#This Row],[Maßnahme]],Ausfüllhilfe!$C$1:$C$22,0))","v":{"$error":"#N/A"}},null,null,null,null,null,null,null,null,{"$f":"VLOOKUP(Tabelle1[[#This Row],[Budgetlinie]],Ausfüllhilfe!$A$1:$D$23,4,0)","v":{"$error":"#N/A"}}]
[{"$f":"INDEX(Tabelle2[[#All],[Budgetlinie]],MATCH(Tabelle1[[#This Row],[Maßnahme]],Ausfüllhilfe!$C$1:$C$22,0))","v":{"$error":"#N/A"}},null,null,null,null,null,null,null,null,{"$f":"VLOOKUP(Tabelle1[[#This Row],[Budgetlinie]],Ausfüllhilfe!$A$1:$D$23,4,0)","v":{"$error":"#N/A"}}]
[{"$f":"INDEX(Tabelle2[[#All],[Budgetlinie]],MATCH(Tabelle1[[#This Row],[Maßnahme]],Ausfüllhilfe!$C$1:$C$22,0))","v":{"$error":"#N/A"}},null,null,null,null,null,null,null,null,{"$f":"VLOOKUP(Tabelle1[[#This Row],[Budgetlinie]],Ausfüllhilfe!$A$1:$D$23,4,0)","v":{"$error":"#N/A"}}]
[{"$f":"INDEX(Tabelle2[[#All],[Budgetlinie]],MATCH(Tabelle1[[#This Row],[Maßnahme]],Ausfüllhilfe!$C$1:$C$22,0))","v":{"$error":"#N/A"}},null,null,null,null,null,null,null,null,{"$f":"VLOOKUP(Tabelle1[[#This Row],[Budgetlinie]],Ausfüllhilfe!$A$1:$D$23,4,0)","v":{"$error":"#N/A"}}]
[{"$f":"INDEX(Tabelle2[[#All],[Budgetlinie]],MATCH(Tabelle1[[#This Row],[Maßnahme]],Ausfüllhilfe!$C$1:$C$22,0))","v":{"$error":"#N/A"}},null,null,null,null,null,null,null,null,{"$f":"VLOOKUP(Tabelle1[[#This Row],[Budgetlinie]],Ausfüllhilfe!$A$1:$D$23,4,0)","v":{"$error":"#N/A"}}]
[{"$f":"INDEX(Tabelle2[[#All],[Budgetlinie]],MATCH(Tabelle1[[#This Row],[Maßnahme]],Ausfüllhilfe!$C$1:$C$22,0))","v":{"$error":"#N/A"}},null,null,null,null,null,null,null,null,{"$f":"VLOOKUP(Tabelle1[[#This Row],[Budgetlinie]],Ausfüllhilfe!$A$1:$D$23,4,0)","v":{"$error":"#N/A"}}]
[{"$f":"INDEX(Tabelle2[[#All],[Budgetlinie]],MATCH(Tabelle1[[#This Row],[Maßnahme]],Ausfüllhilfe!$C$1:$C$22,0))","v":{"$error":"#N/A"}},null,null,null,null,null,null,null,null,{"$f":"VLOOKUP(Tabelle1[[#This Row],[Budgetlinie]],Ausfüllhilfe!$A$1:$D$23,4,0)","v":{"$error":"#N/A"}}]
[{"$f":"INDEX(Tabelle2[[#All],[Budgetlinie]],MATCH(Tabelle1[[#This Row],[Maßnahme]],Ausfüllhilfe!$C$1:$C$22,0))","v":{"$error":"#N/A"}},null,null,null,null,null,null,null,null,{"$f":"VLOOKUP(Tabelle1[[#This Row],[Budgetlinie]],Ausfüllhilfe!$A$1:$D$23,4,0)","v":{"$error":"#N/A"}}]
[{"$f":"INDEX(Tabelle2[[#All],[Budgetlinie]],MATCH(Tabelle1[[#This Row],[Maßnahme]],Ausfüllhilfe!$C$1:$C$22,0))","v":{"$error":"#N/A"}},null,null,null,null,null,null,null,null,{"$f":"VLOOKUP(Tabelle1[[#This Row],[Budgetlinie]],Ausfüllhilfe!$A$1:$D$23,4,0)","v":{"$error":"#N/A"}}]
[{"$f":"INDEX(Tabelle2[[#All],[Budgetlinie]],MATCH(Tabelle1[[#This Row],[Maßnahme]],Ausfüllhilfe!$C$1:$C$22,0))","v":{"$error":"#N/A"}},null,null,null,null,null,null,null,null,{"$f":"VLOOKUP(Tabelle1[[#This Row],[Budgetlinie]],Ausfüllhilfe!$A$1:$D$23,4,0)","v":{"$error":"#N/A"}}]
[{"$f":"INDEX(Tabelle2[[#All],[Budgetlinie]],MATCH(Tabelle1[[#This Row],[Maßnahme]],Ausfüllhilfe!$C$1:$C$22,0))","v":{"$error":"#N/A"}},null,null,null,null,null,null,null,null,{"$f":"VLOOKUP(Tabelle1[[#This Row],[Budgetlinie]],Ausfüllhilfe!$A$1:$D$23,4,0)","v":{"$error":"#N/A"}}]
[{"$f":"INDEX(Tabelle2[[#All],[Budgetlinie]],MATCH(Tabelle1[[#This Row],[Maßnahme]],Ausfüllhilfe!$C$1:$C$22,0))","v":{"$error":"#N/A"}},null,null,null,null,null,null,null,null,{"$f":"VLOOKUP(Tabelle1[[#This Row],[Budgetlinie]],Ausfüllhilfe!$A$1:$D$23,4,0)","v":{"$error":"#N/A"}}]
[{"$f":"INDEX(Tabelle2[[#All],[Budgetlinie]],MATCH(Tabelle1[[#This Row],[Maßnahme]],Ausfüllhilfe!$C$1:$C$22,0))","v":{"$error":"#N/A"}},null,null,null,null,null,null,null,null,{"$f":"VLOOKUP(Tabelle1[[#This Row],[Budgetlinie]],Ausfüllhilfe!$A$1:$D$23,4,0)","v":{"$error":"#N/A"}}]
[{"$f":"INDEX(Tabelle2[[#All],[Budgetlinie]],MATCH(Tabelle1[[#This Row],[Maßnahme]],Ausfüllhilfe!$C$1:$C$22,0))","v":{"$error":"#N/A"}},null,null,null,null,null,null,null,null,{"$f":"VLOOKUP(Tabelle1[[#This Row],[Budgetlinie]],Ausfüllhilfe!$A$1:$D$23,4,0)","v":{"$error":"#N/A"}}]
[{"$f":"INDEX(Tabelle2[[#All],[Budgetlinie]],MATCH(Tabelle1[[#This Row],[Maßnahme]],Ausfüllhilfe!$C$1:$C$22,0))","v":{"$error":"#N/A"}},null,null,null,null,null,null,null,null,{"$f":"VLOOKUP(Tabelle1[[#This Row],[Budgetlinie]],Ausfüllhilfe!$A$1:$D$23,4,0)","v":{"$error":"#N/A"}}]
[{"$f":"INDEX(Tabelle2[[#All],[Budgetlinie]],MATCH(Tabelle1[[#This Row],[Maßnahme]],Ausfüllhilfe!$C$1:$C$22,0))","v":{"$error":"#N/A"}},null,null,null,null,null,null,null,null,{"$f":"VLOOKUP(Tabelle1[[#This Row],[Budgetlinie]],Ausfüllhilfe!$A$1:$D$23,4,0)","v":{"$error":"#N/A"}}]
[{"$f":"INDEX(Tabelle2[[#All],[Budgetlinie]],MATCH(Tabelle1[[#This Row],[Maßnahme]],Ausfüllhilfe!$C$1:$C$22,0))","v":{"$error":"#N/A"}},null,null,null,null,null,null,null,null,{"$f":"VLOOKUP(Tabelle1[[#This Row],[Budgetlinie]],Ausfüllhilfe!$A$1:$D$23,4,0)","v":{"$error":"#N/A"}}]
[{"$f":"INDEX(Tabelle2[[#All],[Budgetlinie]],MATCH(Tabelle1[[#This Row],[Maßnahme]],Ausfüllhilfe!$C$1:$C$22,0))","v":{"$error":"#N/A"}},null,null,null,null,null,null,null,null,{"$f":"VLOOKUP(Tabelle1[[#This Row],[Budgetlinie]],Ausfüllhilfe!$A$1:$D$23,4,0)","v":{"$error":"#N/A"}}]
[{"$f":"INDEX(Tabelle2[[#All],[Budgetlinie]],MATCH(Tabelle1[[#This Row],[Maßnahme]],Ausfüllhilfe!$C$1:$C$22,0))","v":{"$error":"#N/A"}},null,null,null,null,null,null,null,null,{"$f":"VLOOKUP(Tabelle1[[#This Row],[Budgetlinie]],Ausfüllhilfe!$A$1:$D$23,4,0)","v":{"$error":"#N/A"}}]
[{"$f":"INDEX(Tabelle2[[#All],[Budgetlinie]],MATCH(Tabelle1[[#This Row],[Maßnahme]],Ausfüllhilfe!$C$1:$C$22,0))","v":{"$error":"#N/A"}},null,null,null,null,null,null,null,null,{"$f":"VLOOKUP(Tabelle1[[#This Row],[Budgetlinie]],Ausfüllhilfe!$A$1:$D$23,4,0)","v":{"$error":"#N/A"}}]
[{"$f":"INDEX(Tabelle2[[#All],[Budgetlinie]],MATCH(Tabelle1[[#This Row],[Maßnahme]],Ausfüllhilfe!$C$1:$C$22,0))","v":{"$error":"#N/A"}},null,null,null,null,null,null,null,null,{"$f":"VLOOKUP(Tabelle1[[#This Row],[Budgetlinie]],Ausfüllhilfe!$A$1:$D$23,4,0)","v":{"$error":"#N/A"}}]
[{"$f":"INDEX(Tabelle2[[#All],[Budgetlinie]],MATCH(Tabelle1[[#This Row],[Maßnahme]],Ausfüllhilfe!$C$1:$C$22,0))","v":{"$error":"#N/A"}},null,null,null,null,null,null,null,null,{"$f":"VLOOKUP(Tabelle1[[#This Row],[Budgetlinie]],Ausfüllhilfe!$A$1:$D$23,4,0)","v":{"$error":"#N/A"}}]
[{"$f":"INDEX(Tabelle2[[#All],[Budgetlinie]],MATCH(Tabelle1[[#This Row],[Maßnahme]],Ausfüllhilfe!$C$1:$C$22,0))","v":{"$error":"#N/A"}},null,null,null,null,null,null,null,null,{"$f":"VLOOKUP(Tabelle1[[#This Row],[Budgetlinie]],Ausfüllhilfe!$A$1:$D$23,4,0)","v":{"$error":"#N/A"}}]
[{"$f":"INDEX(Tabelle2[[#All],[Budgetlinie]],MATCH(Tabelle1[[#This Row],[Maßnahme]],Ausfüllhilfe!$C$1:$C$22,0))","v":{"$error":"#N/A"}},null,null,null,null,null,null,null,null,{"$f":"VLOOKUP(Tabelle1[[#This Row],[Budgetlinie]],Ausfüllhilfe!$A$1:$D$23,4,0)","v":{"$error":"#N/A"}}]
[{"$f":"INDEX(Tabelle2[[#All],[Budgetlinie]],MATCH(Tabelle1[[#This Row],[Maßnahme]],Ausfüllhilfe!$C$1:$C$22,0))","v":{"$error":"#N/A"}},null,null,null,null,null,null,null,null,{"$f":"VLOOKUP(Tabelle1[[#This Row],[Budgetlinie]],Ausfüllhilfe!$A$1:$D$23,4,0)","v":{"$error":"#N/A"}}]
[{"$f":"INDEX(Tabelle2[[#All],[Budgetlinie]],MATCH(Tabelle1[[#This Row],[Maßnahme]],Ausfüllhilfe!$C$1:$C$22,0))","v":{"$error":"#N/A"}},null,null,null,null,null,null,null,null,{"$f":"VLOOKUP(Tabelle1[[#This Row],[Budgetlinie]],Ausfüllhilfe!$A$1:$D$23,4,0)","v":{"$error":"#N/A"}}]
[{"$f":"INDEX(Tabelle2[[#All],[Budgetlinie]],MATCH(Tabelle1[[#This Row],[Maßnahme]],Ausfüllhilfe!$C$1:$C$22,0))","v":{"$error":"#N/A"}},null,null,null,null,null,null,null,null,{"$f":"VLOOKUP(Tabelle1[[#This Row],[Budgetlinie]],Ausfüllhilfe!$A$1:$D$23,4,0)","v":{"$error":"#N/A"}}]
[{"$f":"INDEX(Tabelle2[[#All],[Budgetlinie]],MATCH(Tabelle1[[#This Row],[Maßnahme]],Ausfüllhilfe!$C$1:$C$22,0))","v":{"$error":"#N/A"}},null,null,null,null,null,null,null,null,{"$f":"VLOOKUP(Tabelle1[[#This Row],[Budgetlinie]],Ausfüllhilfe!$A$1:$D$23,4,0)","v":{"$error":"#N/A"}}]
[{"$f":"INDEX(Tabelle2[[#All],[Budgetlinie]],MATCH(Tabelle1[[#This Row],[Maßnahme]],Ausfüllhilfe!$C$1:$C$22,0))","v":{"$error":"#N/A"}},null,null,null,null,null,null,null,null,{"$f":"VLOOKUP(Tabelle1[[#This Row],[Budgetlinie]],Ausfüllhilfe!$A$1:$D$23,4,0)","v":{"$error":"#N/A"}}]
[{"$f":"INDEX(Tabelle2[[#All],[Budgetlinie]],MATCH(Tabelle1[[#This Row],[Maßnahme]],Ausfüllhilfe!$C$1:$C$22,0))","v":{"$error":"#N/A"}},null,null,null,null,null,null,null,null,{"$f":"VLOOKUP(Tabelle1[[#This Row],[Budgetlinie]],Ausfüllhilfe!$A$1:$D$23,4,0)","v":{"$error":"#N/A"}}]
[{"$f":"INDEX(Tabelle2[[#All],[Budgetlinie]],MATCH(Tabelle1[[#This Row],[Maßnahme]],Ausfüllhilfe!$C$1:$C$22,0))","v":{"$error":"#N/A"}},null,null,null,null,null,null,null,null,{"$f":"VLOOKUP(Tabelle1[[#This Row],[Budgetlinie]],Ausfüllhilfe!$A$1:$D$23,4,0)","v":{"$error":"#N/A"}}]
[{"$f":"INDEX(Tabelle2[[#All],[Budgetlinie]],MATCH(Tabelle1[[#This Row],[Maßnahme]],Ausfüllhilfe!$C$1:$C$22,0))","v":{"$error":"#N/A"}},null,null,null,null,null,null,null,null,{"$f":"VLOOKUP(Tabelle1[[#This Row],[Budgetlinie]],Ausfüllhilfe!$A$1:$D$23,4,0)","v":{"$error":"#N/A"}}]
[{"$f":"INDEX(Tabelle2[[#All],[Budgetlinie]],MATCH(Tabelle1[[#This Row],[Maßnahme]],Ausfüllhilfe!$C$1:$C$22,0))","v":{"$error":"#N/A"}},null,null,null,null,null,null,null,null,{"$f":"VLOOKUP(Tabelle1[[#This Row],[Budgetlinie]],Ausfüllhilfe!$A$1:$D$23,4,0)","v":{"$error":"#N/A"}}]
[{"$f":"INDEX(Tabelle2[[#All],[Budgetlinie]],MATCH(Tabelle1[[#This Row],[Maßnahme]],Ausfüllhilfe!$C$1:$C$22,0))","v":{"$error":"#N/A"}},null,null,null,null,null,null,null,null,{"$f":"VLOOKUP(Tabelle1[[#This Row],[Budgetlinie]],Ausfüllhilfe!$A$1:$D$23,4,0)","v":{"$error":"#N/A"}}]
[{"$f":"INDEX(Tabelle2[[#All],[Budgetlinie]],MATCH(Tabelle1[[#This Row],[Maßnahme]],Ausfüllhilfe!$C$1:$C$22,0))","v":{"$error":"#N/A"}},null,null,null,null,null,null,null,null,{"$f":"VLOOKUP(Tabelle1[[#This Row],[Budgetlinie]],Ausfüllhilfe!$A$1:$D$23,4,0)","v":{"$error":"#N/A"}}]
[{"$f":"INDEX(Tabelle2[[#All],[Budgetlinie]],MATCH(Tabelle1[[#This Row],[Maßnahme]],Ausfüllhilfe!$C$1:$C$22,0))","v":{"$error":"#N/A"}},null,null,null,null,null,null,null,null,{"$f":"VLOOKUP(Tabelle1[[#This Row],[Budgetlinie]],Ausfüllhilfe!$A$1:$D$23,4,0)","v":{"$error":"#N/A"}}]
[{"$f":"INDEX(Tabelle2[[#All],[Budgetlinie]],MATCH(Tabelle1[[#This Row],[Maßnahme]],Ausfüllhilfe!$C$1:$C$22,0))","v":{"$error":"#N/A"}},null,null,null,null,null,null,null,null,{"$f":"VLOOKUP(Tabelle1[[#This Row],[Budgetlinie]],Ausfüllhilfe!$A$1:$D$23,4,0)","v":{"$error":"#N/A"}}]
[{"$f":"INDEX(Tabelle2[[#All],[Budgetlinie]],MATCH(Tabelle1[[#This Row],[Maßnahme]],Ausfüllhilfe!$C$1:$C$22,0))","v":{"$error":"#N/A"}},null,null,null,null,null,null,null,null,{"$f":"VLOOKUP(Tabelle1[[#This Row],[Budgetlinie]],Ausfüllhilfe!$A$1:$D$23,4,0)","v":{"$error":"#N/A"}}]
[{"$f":"INDEX(Tabelle2[[#All],[Budgetlinie]],MATCH(Tabelle1[[#This Row],[Maßnahme]],Ausfüllhilfe!$C$1:$C$22,0))","v":{"$error":"#N/A"}},null,null,null,null,null,null,null,null,{"$f":"VLOOKUP(Tabelle1[[#This Row],[Budgetlinie]],Ausfüllhilfe!$A$1:$D$23,4,0)","v":{"$error":"#N/A"}}]
[{"$f":"INDEX(Tabelle2[[#All],[Budgetlinie]],MATCH(Tabelle1[[#This Row],[Maßnahme]],Ausfüllhilfe!$C$1:$C$22,0))","v":{"$error":"#N/A"}},null,null,null,null,null,null,null,null,{"$f":"VLOOKUP(Tabelle1[[#This Row],[Budgetlinie]],Ausfüllhilfe!$A$1:$D$23,4,0)","v":{"$error":"#N/A"}}]
[{"$f":"INDEX(Tabelle2[[#All],[Budgetlinie]],MATCH(Tabelle1[[#This Row],[Maßnahme]],Ausfüllhilfe!$C$1:$C$22,0))","v":{"$error":"#N/A"}},null,null,null,null,null,null,null,null,{"$f":"VLOOKUP(Tabelle1[[#This Row],[Budgetlinie]],Ausfüllhilfe!$A$1:$D$23,4,0)","v":{"$error":"#N/A"}}]
[{"$f":"INDEX(Tabelle2[[#All],[Budgetlinie]],MATCH(Tabelle1[[#This Row],[Maßnahme]],Ausfüllhilfe!$C$1:$C$22,0))","v":{"$error":"#N/A"}},null,null,null,null,null,null,null,null,{"$f":"VLOOKUP(Tabelle1[[#This Row],[Budgetlinie]],Ausfüllhilfe!$A$1:$D$23,4,0)","v":{"$error":"#N/A"}}]
[{"$f":"INDEX(Tabelle2[[#All],[Budgetlinie]],MATCH(Tabelle1[[#This Row],[Maßnahme]],Ausfüllhilfe!$C$1:$C$22,0))","v":{"$error":"#N/A"}},null,null,null,null,null,null,null,null,{"$f":"VLOOKUP(Tabelle1[[#This Row],[Budgetlinie]],Ausfüllhilfe!$A$1:$D$23,4,0)","v":{"$error":"#N/A"}}]
[{"$f":"INDEX(Tabelle2[[#All],[Budgetlinie]],MATCH(Tabelle1[[#This Row],[Maßnahme]],Ausfüllhilfe!$C$1:$C$22,0))","v":{"$error":"#N/A"}},null,null,null,null,null,null,null,null,{"$f":"VLOOKUP(Tabelle1[[#This Row],[Budgetlinie]],Ausfüllhilfe!$A$1:$D$23,4,0)","v":{"$error":"#N/A"}}]
[{"$f":"INDEX(Tabelle2[[#All],[Budgetlinie]],MATCH(Tabelle1[[#This Row],[Maßnahme]],Ausfüllhilfe!$C$1:$C$22,0))","v":{"$error":"#N/A"}},null,null,null,null,null,null,null,null,{"$f":"VLOOKUP(Tabelle1[[#This Row],[Budgetlinie]],Ausfüllhilfe!$A$1:$D$23,4,0)","v":{"$error":"#N/A"}}]
[{"$f":"INDEX(Tabelle2[[#All],[Budgetlinie]],MATCH(Tabelle1[[#This Row],[Maßnahme]],Ausfüllhilfe!$C$1:$C$22,0))","v":{"$error":"#N/A"}},null,null,null,null,null,null,null,null,{"$f":"VLOOKUP(Tabelle1[[#This Row],[Budgetlinie]],Ausfüllhilfe!$A$1:$D$23,4,0)","v":{"$error":"#N/A"}}]
[{"$f":"INDEX(Tabelle2[[#All],[Budgetlinie]],MATCH(Tabelle1[[#This Row],[Maßnahme]],Ausfüllhilfe!$C$1:$C$22,0))","v":{"$error":"#N/A"}},null,null,null,null,null,null,null,null,{"$f":"VLOOKUP(Tabelle1[[#This Row],[Budgetlinie]],Ausfüllhilfe!$A$1:$D$23,4,0)","v":{"$error":"#N/A"}}]
[{"$f":"INDEX(Tabelle2[[#All],[Budgetlinie]],MATCH(Tabelle1[[#This Row],[Maßnahme]],Ausfüllhilfe!$C$1:$C$22,0))","v":{"$error":"#N/A"}},null,null,null,null,null,null,null,null,{"$f":"VLOOKUP(Tabelle1[[#This Row],[Budgetlinie]],Ausfüllhilfe!$A$1:$D$23,4,0)","v":{"$error":"#N/A"}}]
[{"$f":"INDEX(Tabelle2[[#All],[Budgetlinie]],MATCH(Tabelle1[[#This Row],[Maßnahme]],Ausfüllhilfe!$C$1:$C$22,0))","v":{"$error":"#N/A"}},null,null,null,null,null,null,null,null,{"$f":"VLOOKUP(Tabelle1[[#This Row],[Budgetlinie]],Ausfüllhilfe!$A$1:$D$23,4,0)","v":{"$error":"#N/A"}}]
[{"$f":"INDEX(Tabelle2[[#All],[Budgetlinie]],MATCH(Tabelle1[[#This Row],[Maßnahme]],Ausfüllhilfe!$C$1:$C$22,0))","v":{"$error":"#N/A"}},null,null,null,null,null,null,null,null,{"$f":"VLOOKUP(Tabelle1[[#This Row],[Budgetlinie]],Ausfüllhilfe!$A$1:$D$23,4,0)","v":{"$error":"#N/A"}}]
[{"$f":"INDEX(Tabelle2[[#All],[Budgetlinie]],MATCH(Tabelle1[[#This Row],[Maßnahme]],Ausfüllhilfe!$C$1:$C$22,0))","v":{"$error":"#N/A"}},null,null,null,null,null,null,null,null,{"$f":"VLOOKUP(Tabelle1[[#This Row],[Budgetlinie]],Ausfüllhilfe!$A$1:$D$23,4,0)","v":{"$error":"#N/A"}}]
[{"$f":"INDEX(Tabelle2[[#All],[Budgetlinie]],MATCH(Tabelle1[[#This Row],[Maßnahme]],Ausfüllhilfe!$C$1:$C$22,0))","v":{"$error":"#N/A"}},null,null,null,null,null,null,null,null,{"$f":"VLOOKUP(Tabelle1[[#This Row],[Budgetlinie]],Ausfüllhilfe!$A$1:$D$23,4,0)","v":{"$error":"#N/A"}}]
[{"$f":"INDEX(Tabelle2[[#All],[Budgetlinie]],MATCH(Tabelle1[[#This Row],[Maßnahme]],Ausfüllhilfe!$C$1:$C$22,0))","v":{"$error":"#N/A"}},null,null,null,null,null,null,null,null,{"$f":"VLOOKUP(Tabelle1[[#This Row],[Budgetlinie]],Ausfüllhilfe!$A$1:$D$23,4,0)","v":{"$error":"#N/A"}}]
[{"$f":"INDEX(Tabelle2[[#All],[Budgetlinie]],MATCH(Tabelle1[[#This Row],[Maßnahme]],Ausfüllhilfe!$C$1:$C$22,0))","v":{"$error":"#N/A"}},null,null,null,null,null,null,null,null,{"$f":"VLOOKUP(Tabelle1[[#This Row],[Budgetlinie]],Ausfüllhilfe!$A$1:$D$23,4,0)","v":{"$error":"#N/A"}}]
[{"$f":"INDEX(Tabelle2[[#All],[Budgetlinie]],MATCH(Tabelle1[[#This Row],[Maßnahme]],Ausfüllhilfe!$C$1:$C$22,0))","v":{"$error":"#N/A"}},null,null,null,null,null,null,null,null,{"$f":"VLOOKUP(Tabelle1[[#This Row],[Budgetlinie]],Ausfüllhilfe!$A$1:$D$23,4,0)","v":{"$error":"#N/A"}}]
[{"$f":"INDEX(Tabelle2[[#All],[Budgetlinie]],MATCH(Tabelle1[[#This Row],[Maßnahme]],Ausfüllhilfe!$C$1:$C$22,0))","v":{"$error":"#N/A"}},null,null,null,null,null,null,null,null,{"$f":"VLOOKUP(Tabelle1[[#This Row],[Budgetlinie]],Ausfüllhilfe!$A$1:$D$23,4,0)","v":{"$error":"#N/A"}}]
[{"$f":"INDEX(Tabelle2[[#All],[Budgetlinie]],MATCH(Tabelle1[[#This Row],[Maßnahme]],Ausfüllhilfe!$C$1:$C$22,0))","v":{"$error":"#N/A"}},null,null,null,null,null,null,null,null,{"$f":"VLOOKUP(Tabelle1[[#This Row],[Budgetlinie]],Ausfüllhilfe!$A$1:$D$23,4,0)","v":{"$error":"#N/A"}}]
[{"$f":"INDEX(Tabelle2[[#All],[Budgetlinie]],MATCH(Tabelle1[[#This Row],[Maßnahme]],Ausfüllhilfe!$C$1:$C$22,0))","v":{"$error":"#N/A"}},null,null,null,null,null,null,null,null,{"$f":"VLOOKUP(Tabelle1[[#This Row],[Budgetlinie]],Ausfüllhilfe!$A$1:$D$23,4,0)","v":{"$error":"#N/A"}}]
[{"$f":"INDEX(Tabelle2[[#All],[Budgetlinie]],MATCH(Tabelle1[[#This Row],[Maßnahme]],Ausfüllhilfe!$C$1:$C$22,0))","v":{"$error":"#N/A"}},null,null,null,null,null,null,null,null,{"$f":"VLOOKUP(Tabelle1[[#This Row],[Budgetlinie]],Ausfüllhilfe!$A$1:$D$23,4,0)","v":{"$error":"#N/A"}}]
[{"$f":"INDEX(Tabelle2[[#All],[Budgetlinie]],MATCH(Tabelle1[[#This Row],[Maßnahme]],Ausfüllhilfe!$C$1:$C$22,0))","v":{"$error":"#N/A"}},null,null,null,null,null,null,null,null,{"$f":"VLOOKUP(Tabelle1[[#This Row],[Budgetlinie]],Ausfüllhilfe!$A$1:$D$23,4,0)","v":{"$error":"#N/A"}}]
[{"$f":"INDEX(Tabelle2[[#All],[Budgetlinie]],MATCH(Tabelle1[[#This Row],[Maßnahme]],Ausfüllhilfe!$C$1:$C$22,0))","v":{"$error":"#N/A"}},null,null,null,null,null,null,null,null,{"$f":"VLOOKUP(Tabelle1[[#This Row],[Budgetlinie]],Ausfüllhilfe!$A$1:$D$23,4,0)","v":{"$error":"#N/A"}}]
[{"$f":"INDEX(Tabelle2[[#All],[Budgetlinie]],MATCH(Tabelle1[[#This Row],[Maßnahme]],Ausfüllhilfe!$C$1:$C$22,0))","v":{"$error":"#N/A"}},null,null,null,null,null,null,null,null,{"$f":"VLOOKUP(Tabelle1[[#This Row],[Budgetlinie]],Ausfüllhilfe!$A$1:$D$23,4,0)","v":{"$error":"#N/A"}}]
[{"$f":"INDEX(Tabelle2[[#All],[Budgetlinie]],MATCH(Tabelle1[[#This Row],[Maßnahme]],Ausfüllhilfe!$C$1:$C$22,0))","v":{"$error":"#N/A"}},null,null,null,null,null,null,null,null,{"$f":"VLOOKUP(Tabelle1[[#This Row],[Budgetlinie]],Ausfüllhilfe!$A$1:$D$23,4,0)","v":{"$error":"#N/A"}}]
[{"$f":"INDEX(Tabelle2[[#All],[Budgetlinie]],MATCH(Tabelle1[[#This Row],[Maßnahme]],Ausfüllhilfe!$C$1:$C$22,0))","v":{"$error":"#N/A"}},null,null,null,null,null,null,null,null,{"$f":"VLOOKUP(Tabelle1[[#This Row],[Budgetlinie]],Ausfüllhilfe!$A$1:$D$23,4,0)","v":{"$error":"#N/A"}}]
[{"$f":"INDEX(Tabelle2[[#All],[Budgetlinie]],MATCH(Tabelle1[[#This Row],[Maßnahme]],Ausfüllhilfe!$C$1:$C$22,0))","v":{"$error":"#N/A"}},null,null,null,null,null,null,null,null,{"$f":"VLOOKUP(Tabelle1[[#This Row],[Budgetlinie]],Ausfüllhilfe!$A$1:$D$23,4,0)","v":{"$error":"#N/A"}}]
[{"$f":"INDEX(Tabelle2[[#All],[Budgetlinie]],MATCH(Tabelle1[[#This Row],[Maßnahme]],Ausfüllhilfe!$C$1:$C$22,0))","v":{"$error":"#N/A"}},null,null,null,null,null,null,null,null,{"$f":"VLOOKUP(Tabelle1[[#This Row],[Budgetlinie]],Ausfüllhilfe!$A$1:$D$23,4,0)","v":{"$error":"#N/A"}}]
[{"$f":"INDEX(Tabelle2[[#All],[Budgetlinie]],MATCH(Tabelle1[[#This Row],[Maßnahme]],Ausfüllhilfe!$C$1:$C$22,0))","v":{"$error":"#N/A"}},null,null,null,null,null,null,null,null,{"$f":"VLOOKUP(Tabelle1[[#This Row],[Budgetlinie]],Ausfüllhilfe!$A$1:$D$23,4,0)","v":{"$error":"#N/A"}}]
[{"$f":"INDEX(Tabelle2[[#All],[Budgetlinie]],MATCH(Tabelle1[[#This Row],[Maßnahme]],Ausfüllhilfe!$C$1:$C$22,0))","v":{"$error":"#N/A"}},null,null,null,null,null,null,null,null,{"$f":"VLOOKUP(Tabelle1[[#This Row],[Budgetlinie]],Ausfüllhilfe!$A$1:$D$23,4,0)","v":{"$error":"#N/A"}}]
[{"$f":"INDEX(Tabelle2[[#All],[Budgetlinie]],MATCH(Tabelle1[[#This Row],[Maßnahme]],Ausfüllhilfe!$C$1:$C$22,0))","v":{"$error":"#N/A"}},null,null,null,null,null,null,null,null,{"$f":"VLOOKUP(Tabelle1[[#This Row],[Budgetlinie]],Ausfüllhilfe!$A$1:$D$23,4,0)","v":{"$error":"#N/A"}}]
[{"$f":"INDEX(Tabelle2[[#All],[Budgetlinie]],MATCH(Tabelle1[[#This Row],[Maßnahme]],Ausfüllhilfe!$C$1:$C$22,0))","v":{"$error":"#N/A"}},null,null,null,null,null,null,null,null,{"$f":"VLOOKUP(Tabelle1[[#This Row],[Budgetlinie]],Ausfüllhilfe!$A$1:$D$23,4,0)","v":{"$error":"#N/A"}}]
[{"$f":"INDEX(Tabelle2[[#All],[Budgetlinie]],MATCH(Tabelle1[[#This Row],[Maßnahme]],Ausfüllhilfe!$C$1:$C$22,0))","v":{"$error":"#N/A"}},null,null,null,null,null,null,null,null,{"$f":"VLOOKUP(Tabelle1[[#This Row],[Budgetlinie]],Ausfüllhilfe!$A$1:$D$23,4,0)","v":{"$error":"#N/A"}}]
[{"$f":"INDEX(Tabelle2[[#All],[Budgetlinie]],MATCH(Tabelle1[[#This Row],[Maßnahme]],Ausfüllhilfe!$C$1:$C$22,0))","v":{"$error":"#N/A"}},null,null,null,null,null,null,null,null,{"$f":"VLOOKUP(Tabelle1[[#This Row],[Budgetlinie]],Ausfüllhilfe!$A$1:$D$23,4,0)","v":{"$error":"#N/A"}}]
[{"$f":"INDEX(Tabelle2[[#All],[Budgetlinie]],MATCH(Tabelle1[[#This Row],[Maßnahme]],Ausfüllhilfe!$C$1:$C$22,0))","v":{"$error":"#N/A"}},null,null,null,null,null,null,null,null,{"$f":"VLOOKUP(Tabelle1[[#This Row],[Budgetlinie]],Ausfüllhilfe!$A$1:$D$23,4,0)","v":{"$error":"#N/A"}}]
[{"$f":"INDEX(Tabelle2[[#All],[Budgetlinie]],MATCH(Tabelle1[[#This Row],[Maßnahme]],Ausfüllhilfe!$C$1:$C$22,0))","v":{"$error":"#N/A"}},null,null,null,null,null,null,null,null,{"$f":"VLOOKUP(Tabelle1[[#This Row],[Budgetlinie]],Ausfüllhilfe!$A$1:$D$23,4,0)","v":{"$error":"#N/A"}}]
[{"$f":"INDEX(Tabelle2[[#All],[Budgetlinie]],MATCH(Tabelle1[[#This Row],[Maßnahme]],Ausfüllhilfe!$C$1:$C$22,0))","v":{"$error":"#N/A"}},null,null,null,null,null,null,null,null,{"$f":"VLOOKUP(Tabelle1[[#This Row],[Budgetlinie]],Ausfüllhilfe!$A$1:$D$23,4,0)","v":{"$error":"#N/A"}}]
[{"$f":"INDEX(Tabelle2[[#All],[Budgetlinie]],MATCH(Tabelle1[[#This Row],[Maßnahme]],Ausfüllhilfe!$C$1:$C$22,0))","v":{"$error":"#N/A"}},null,null,null,null,null,null,null,null,{"$f":"VLOOKUP(Tabelle1[[#This Row],[Budgetlinie]],Ausfüllhilfe!$A$1:$D$23,4,0)","v":{"$error":"#N/A"}}]
[{"$f":"INDEX(Tabelle2[[#All],[Budgetlinie]],MATCH(Tabelle1[[#This Row],[Maßnahme]],Ausfüllhilfe!$C$1:$C$22,0))","v":{"$error":"#N/A"}},null,null,null,null,null,null,null,null,{"$f":"VLOOKUP(Tabelle1[[#This Row],[Budgetlinie]],Ausfüllhilfe!$A$1:$D$23,4,0)","v":{"$error":"#N/A"}}]
[{"$f":"INDEX(Tabelle2[[#All],[Budgetlinie]],MATCH(Tabelle1[[#This Row],[Maßnahme]],Ausfüllhilfe!$C$1:$C$22,0))","v":{"$error":"#N/A"}},null,null,null,null,null,null,null,null,{"$f":"VLOOKUP(Tabelle1[[#This Row],[Budgetlinie]],Ausfüllhilfe!$A$1:$D$23,4,0)","v":{"$error":"#N/A"}}]
[{"$f":"INDEX(Tabelle2[[#All],[Budgetlinie]],MATCH(Tabelle1[[#This Row],[Maßnahme]],Ausfüllhilfe!$C$1:$C$22,0))","v":{"$error":"#N/A"}},null,null,null,null,null,null,null,null,{"$f":"VLOOKUP(Tabelle1[[#This Row],[Budgetlinie]],Ausfüllhilfe!$A$1:$D$23,4,0)","v":{"$error":"#N/A"}}]
[{"$f":"INDEX(Tabelle2[[#All],[Budgetlinie]],MATCH(Tabelle1[[#This Row],[Maßnahme]],Ausfüllhilfe!$C$1:$C$22,0))","v":{"$error":"#N/A"}},null,null,null,null,null,null,null,null,{"$f":"VLOOKUP(Tabelle1[[#This Row],[Budgetlinie]],Ausfüllhilfe!$A$1:$D$23,4,0)","v":{"$error":"#N/A"}}]
[{"$f":"INDEX(Tabelle2[[#All],[Budgetlinie]],MATCH(Tabelle1[[#This Row],[Maßnahme]],Ausfüllhilfe!$C$1:$C$22,0))","v":{"$error":"#N/A"}},null,null,null,null,null,null,null,null,{"$f":"VLOOKUP(Tabelle1[[#This Row],[Budgetlinie]],Ausfüllhilfe!$A$1:$D$23,4,0)","v":{"$error":"#N/A"}}]
[{"$f":"INDEX(Tabelle2[[#All],[Budgetlinie]],MATCH(Tabelle1[[#This Row],[Maßnahme]],Ausfüllhilfe!$C$1:$C$22,0))","v":{"$error":"#N/A"}},null,null,null,null,null,null,null,null,{"$f":"VLOOKUP(Tabelle1[[#This Row],[Budgetlinie]],Ausfüllhilfe!$A$1:$D$23,4,0)","v":{"$error":"#N/A"}}]
[{"$f":"INDEX(Tabelle2[[#All],[Budgetlinie]],MATCH(Tabelle1[[#This Row],[Maßnahme]],Ausfüllhilfe!$C$1:$C$22,0))","v":{"$error":"#N/A"}},null,null,null,null,null,null,null,null,{"$f":"VLOOKUP(Tabelle1[[#This Row],[Budgetlinie]],Ausfüllhilfe!$A$1:$D$23,4,0)","v":{"$error":"#N/A"}}]
[{"$f":"INDEX(Tabelle2[[#All],[Budgetlinie]],MATCH(Tabelle1[[#This Row],[Maßnahme]],Ausfüllhilfe!$C$1:$C$22,0))","v":{"$error":"#N/A"}},null,null,null,null,null,null,null,null,{"$f":"VLOOKUP(Tabelle1[[#This Row],[Budgetlinie]],Ausfüllhilfe!$A$1:$D$23,4,0)","v":{"$error":"#N/A"}}]
[{"$f":"INDEX(Tabelle2[[#All],[Budgetlinie]],MATCH(Tabelle1[[#This Row],[Maßnahme]],Ausfüllhilfe!$C$1:$C$22,0))","v":{"$error":"#N/A"}},null,null,null,null,null,null,null,null,{"$f":"VLOOKUP(Tabelle1[[#This Row],[Budgetlinie]],Ausfüllhilfe!$A$1:$D$23,4,0)","v":{"$error":"#N/A"}}]
[{"$f":"INDEX(Tabelle2[[#All],[Budgetlinie]],MATCH(Tabelle1[[#This Row],[Maßnahme]],Ausfüllhilfe!$C$1:$C$22,0))","v":{"$error":"#N/A"}},null,null,null,null,null,null,null,null,{"$f":"VLOOKUP(Tabelle1[[#This Row],[Budgetlinie]],Ausfüllhilfe!$A$1:$D$23,4,0)","v":{"$error":"#N/A"}}]
[{"$f":"INDEX(Tabelle2[[#All],[Budgetlinie]],MATCH(Tabelle1[[#This Row],[Maßnahme]],Ausfüllhilfe!$C$1:$C$22,0))","v":{"$error":"#N/A"}},null,null,null,null,null,null,null,null,{"$f":"VLOOKUP(Tabelle1[[#This Row],[Budgetlinie]],Ausfüllhilfe!$A$1:$D$23,4,0)","v":{"$error":"#N/A"}}]
[{"$f":"INDEX(Tabelle2[[#All],[Budgetlinie]],MATCH(Tabelle1[[#This Row],[Maßnahme]],Ausfüllhilfe!$C$1:$C$22,0))","v":{"$error":"#N/A"}},null,null,null,null,null,null,null,null,{"$f":"VLOOKUP(Tabelle1[[#This Row],[Budgetlinie]],Ausfüllhilfe!$A$1:$D$23,4,0)","v":{"$error":"#N/A"}}]
[{"$f":"INDEX(Tabelle2[[#All],[Budgetlinie]],MATCH(Tabelle1[[#This Row],[Maßnahme]],Ausfüllhilfe!$C$1:$C$22,0))","v":{"$error":"#N/A"}},null,null,null,null,null,null,null,null,{"$f":"VLOOKUP(Tabelle1[[#This Row],[Budgetlinie]],Ausfüllhilfe!$A$1:$D$23,4,0)","v":{"$error":"#N/A"}}]
[{"$f":"INDEX(Tabelle2[[#All],[Budgetlinie]],MATCH(Tabelle1[[#This Row],[Maßnahme]],Ausfüllhilfe!$C$1:$C$22,0))","v":{"$error":"#N/A"}},null,null,null,null,null,null,null,null,{"$f":"VLOOKUP(Tabelle1[[#This Row],[Budgetlinie]],Ausfüllhilfe!$A$1:$D$23,4,0)","v":{"$error":"#N/A"}}]
[{"$f":"INDEX(Tabelle2[[#All],[Budgetlinie]],MATCH(Tabelle1[[#This Row],[Maßnahme]],Ausfüllhilfe!$C$1:$C$22,0))","v":{"$error":"#N/A"}},null,null,null,null,null,null,null,null,{"$f":"VLOOKUP(Tabelle1[[#This Row],[Budgetlinie]],Ausfüllhilfe!$A$1:$D$23,4,0)","v":{"$error":"#N/A"}}]
[{"$f":"INDEX(Tabelle2[[#All],[Budgetlinie]],MATCH(Tabelle1[[#This Row],[Maßnahme]],Ausfüllhilfe!$C$1:$C$22,0))","v":{"$error":"#N/A"}},null,null,null,null,null,null,null,null,{"$f":"VLOOKUP(Tabelle1[[#This Row],[Budgetlinie]],Ausfüllhilfe!$A$1:$D$23,4,0)","v":{"$error":"#N/A"}}]
[{"$f":"INDEX(Tabelle2[[#All],[Budgetlinie]],MATCH(Tabelle1[[#This Row],[Maßnahme]],Ausfüllhilfe!$C$1:$C$22,0))","v":{"$error":"#N/A"}},null,null,null,null,null,null,null,null,{"$f":"VLOOKUP(Tabelle1[[#This Row],[Budgetlinie]],Ausfüllhilfe!$A$1:$D$23,4,0)","v":{"$error":"#N/A"}}]
[{"$f":"INDEX(Tabelle2[[#All],[Budgetlinie]],MATCH(Tabelle1[[#This Row],[Maßnahme]],Ausfüllhilfe!$C$1:$C$22,0))","v":{"$error":"#N/A"}},null,null,null,null,null,null,null,null,{"$f":"VLOOKUP(Tabelle1[[#This Row],[Budgetlinie]],Ausfüllhilfe!$A$1:$D$23,4,0)","v":{"$error":"#N/A"}}]
[{"$f":"INDEX(Tabelle2[[#All],[Budgetlinie]],MATCH(Tabelle1[[#This Row],[Maßnahme]],Ausfüllhilfe!$C$1:$C$22,0))","v":{"$error":"#N/A"}},null,null,null,null,null,null,null,null,{"$f":"VLOOKUP(Tabelle1[[#This Row],[Budgetlinie]],Ausfüllhilfe!$A$1:$D$23,4,0)","v":{"$error":"#N/A"}}]
[{"$f":"INDEX(Tabelle2[[#All],[Budgetlinie]],MATCH(Tabelle1[[#This Row],[Maßnahme]],Ausfüllhilfe!$C$1:$C$22,0))","v":{"$error":"#N/A"}},null,null,null,null,null,null,null,null,{"$f":"VLOOKUP(Tabelle1[[#This Row],[Budgetlinie]],Ausfüllhilfe!$A$1:$D$23,4,0)","v":{"$error":"#N/A"}}]
[{"$f":"INDEX(Tabelle2[[#All],[Budgetlinie]],MATCH(Tabelle1[[#This Row],[Maßnahme]],Ausfüllhilfe!$C$1:$C$22,0))","v":{"$error":"#N/A"}},null,null,null,null,null,null,null,null,{"$f":"VLOOKUP(Tabelle1[[#This Row],[Budgetlinie]],Ausfüllhilfe!$A$1:$D$23,4,0)","v":{"$error":"#N/A"}}]
[{"$f":"INDEX(Tabelle2[[#All],[Budgetlinie]],MATCH(Tabelle1[[#This Row],[Maßnahme]],Ausfüllhilfe!$C$1:$C$22,0))","v":{"$error":"#N/A"}},null,null,null,null,null,null,null,null,{"$f":"VLOOKUP(Tabelle1[[#This Row],[Budgetlinie]],Ausfüllhilfe!$A$1:$D$23,4,0)","v":{"$error":"#N/A"}}]
[{"$f":"INDEX(Tabelle2[[#All],[Budgetlinie]],MATCH(Tabelle1[[#This Row],[Maßnahme]],Ausfüllhilfe!$C$1:$C$22,0))","v":{"$error":"#N/A"}},null,null,null,null,null,null,null,null,{"$f":"VLOOKUP(Tabelle1[[#This Row],[Budgetlinie]],Ausfüllhilfe!$A$1:$D$23,4,0)","v":{"$error":"#N/A"}}]
[{"$f":"INDEX(Tabelle2[[#All],[Budgetlinie]],MATCH(Tabelle1[[#This Row],[Maßnahme]],Ausfüllhilfe!$C$1:$C$22,0))","v":{"$error":"#N/A"}},null,null,null,null,null,null,null,null,{"$f":"VLOOKUP(Tabelle1[[#This Row],[Budgetlinie]],Ausfüllhilfe!$A$1:$D$23,4,0)","v":{"$error":"#N/A"}}]
[{"$f":"INDEX(Tabelle2[[#All],[Budgetlinie]],MATCH(Tabelle1[[#This Row],[Maßnahme]],Ausfüllhilfe!$C$1:$C$22,0))","v":{"$error":"#N/A"}},null,null,null,null,null,null,null,null,{"$f":"VLOOKUP(Tabelle1[[#This Row],[Budgetlinie]],Ausfüllhilfe!$A$1:$D$23,4,0)","v":{"$error":"#N/A"}}]
[{"$f":"INDEX(Tabelle2[[#All],[Budgetlinie]],MATCH(Tabelle1[[#This Row],[Maßnahme]],Ausfüllhilfe!$C$1:$C$22,0))","v":{"$error":"#N/A"}},null,null,null,null,null,null,null,null,{"$f":"VLOOKUP(Tabelle1[[#This Row],[Budgetlinie]],Ausfüllhilfe!$A$1:$D$23,4,0)","v":{"$error":"#N/A"}}]
[{"$f":"INDEX(Tabelle2[[#All],[Budgetlinie]],MATCH(Tabelle1[[#This Row],[Maßnahme]],Ausfüllhilfe!$C$1:$C$22,0))","v":{"$error":"#N/A"}},null,null,null,null,null,null,null,null,{"$f":"VLOOKUP(Tabelle1[[#This Row],[Budgetlinie]],Ausfüllhilfe!$A$1:$D$23,4,0)","v":{"$error":"#N/A"}}]
[{"$f":"INDEX(Tabelle2[[#All],[Budgetlinie]],MATCH(Tabelle1[[#This Row],[Maßnahme]],Ausfüllhilfe!$C$1:$C$22,0))","v":{"$error":"#N/A"}},null,null,null,null,null,null,null,null,{"$f":"VLOOKUP(Tabelle1[[#This Row],[Budgetlinie]],Ausfüllhilfe!$A$1:$D$23,4,0)","v":{"$error":"#N/A"}}]
[{"$f":"INDEX(Tabelle2[[#All],[Budgetlinie]],MATCH(Tabelle1[[#This Row],[Maßnahme]],Ausfüllhilfe!$C$1:$C$22,0))","v":{"$error":"#N/A"}},null,null,null,null,null,null,null,null,{"$f":"VLOOKUP(Tabelle1[[#This Row],[Budgetlinie]],Ausfüllhilfe!$A$1:$D$23,4,0)","v":{"$error":"#N/A"}}]
[{"$f":"INDEX(Tabelle2[[#All],[Budgetlinie]],MATCH(Tabelle1[[#This Row],[Maßnahme]],Ausfüllhilfe!$C$1:$C$22,0))","v":{"$error":"#N/A"}},null,null,null,null,null,null,null,null,{"$f":"VLOOKUP(Tabelle1[[#This Row],[Budgetlinie]],Ausfüllhilfe!$A$1:$D$23,4,0)","v":{"$error":"#N/A"}}]
[{"$f":"INDEX(Tabelle2[[#All],[Budgetlinie]],MATCH(Tabelle1[[#This Row],[Maßnahme]],Ausfüllhilfe!$C$1:$C$22,0))","v":{"$error":"#N/A"}},null,null,null,null,null,null,null,null,{"$f":"VLOOKUP(Tabelle1[[#This Row],[Budgetlinie]],Ausfüllhilfe!$A$1:$D$23,4,0)","v":{"$error":"#N/A"}}]
[{"$f":"INDEX(Tabelle2[[#All],[Budgetlinie]],MATCH(Tabelle1[[#This Row],[Maßnahme]],Ausfüllhilfe!$C$1:$C$22,0))","v":{"$error":"#N/A"}},null,null,null,null,null,null,null,null,{"$f":"VLOOKUP(Tabelle1[[#This Row],[Budgetlinie]],Ausfüllhilfe!$A$1:$D$23,4,0)","v":{"$error":"#N/A"}}]
[{"$f":"INDEX(Tabelle2[[#All],[Budgetlinie]],MATCH(Tabelle1[[#This Row],[Maßnahme]],Ausfüllhilfe!$C$1:$C$22,0))","v":{"$error":"#N/A"}},null,null,null,null,null,null,null,null,{"$f":"VLOOKUP(Tabelle1[[#This Row],[Budgetlinie]],Ausfüllhilfe!$A$1:$D$23,4,0)","v":{"$error":"#N/A"}}]
[{"$f":"INDEX(Tabelle2[[#All],[Budgetlinie]],MATCH(Tabelle1[[#This Row],[Maßnahme]],Ausfüllhilfe!$C$1:$C$22,0))","v":{"$error":"#N/A"}},null,null,null,null,null,null,null,null,{"$f":"VLOOKUP(Tabelle1[[#This Row],[Budgetlinie]],Ausfüllhilfe!$A$1:$D$23,4,0)","v":{"$error":"#N/A"}}]
[{"$f":"INDEX(Tabelle2[[#All],[Budgetlinie]],MATCH(Tabelle1[[#This Row],[Maßnahme]],Ausfüllhilfe!$C$1:$C$22,0))","v":{"$error":"#N/A"}},null,null,null,null,null,null,null,null,{"$f":"VLOOKUP(Tabelle1[[#This Row],[Budgetlinie]],Ausfüllhilfe!$A$1:$D$23,4,0)","v":{"$error":"#N/A"}}]
[{"$f":"INDEX(Tabelle2[[#All],[Budgetlinie]],MATCH(Tabelle1[[#This Row],[Maßnahme]],Ausfüllhilfe!$C$1:$C$22,0))","v":{"$error":"#N/A"}},null,null,null,null,null,null,null,null,{"$f":"VLOOKUP(Tabelle1[[#This Row],[Budgetlinie]],Ausfüllhilfe!$A$1:$D$23,4,0)","v":{"$error":"#N/A"}}]
[{"$f":"INDEX(Tabelle2[[#All],[Budgetlinie]],MATCH(Tabelle1[[#This Row],[Maßnahme]],Ausfüllhilfe!$C$1:$C$22,0))","v":{"$error":"#N/A"}},null,null,null,null,null,null,null,null,{"$f":"VLOOKUP(Tabelle1[[#This Row],[Budgetlinie]],Ausfüllhilfe!$A$1:$D$23,4,0)","v":{"$error":"#N/A"}}]
[{"$f":"INDEX(Tabelle2[[#All],[Budgetlinie]],MATCH(Tabelle1[[#This Row],[Maßnahme]],Ausfüllhilfe!$C$1:$C$22,0))","v":{"$error":"#N/A"}},null,null,null,null,null,null,null,null,{"$f":"VLOOKUP(Tabelle1[[#This Row],[Budgetlinie]],Ausfüllhilfe!$A$1:$D$23,4,0)","v":{"$error":"#N/A"}}]
[{"$f":"INDEX(Tabelle2[[#All],[Budgetlinie]],MATCH(Tabelle1[[#This Row],[Maßnahme]],Ausfüllhilfe!$C$1:$C$22,0))","v":{"$error":"#N/A"}},null,null,null,null,null,null,null,null,{"$f":"VLOOKUP(Tabelle1[[#This Row],[Budgetlinie]],Ausfüllhilfe!$A$1:$D$23,4,0)","v":{"$error":"#N/A"}}]
[{"$f":"INDEX(Tabelle2[[#All],[Budgetlinie]],MATCH(Tabelle1[[#This Row],[Maßnahme]],Ausfüllhilfe!$C$1:$C$22,0))","v":{"$error":"#N/A"}},null,null,null,null,null,null,null,null,{"$f":"VLOOKUP(Tabelle1[[#This Row],[Budgetlinie]],Ausfüllhilfe!$A$1:$D$23,4,0)","v":{"$error":"#N/A"}}]
[{"$f":"INDEX(Tabelle2[[#All],[Budgetlinie]],MATCH(Tabelle1[[#This Row],[Maßnahme]],Ausfüllhilfe!$C$1:$C$22,0))","v":{"$error":"#N/A"}},null,null,null,null,null,null,null,null,{"$f":"VLOOKUP(Tabelle1[[#This Row],[Budgetlinie]],Ausfüllhilfe!$A$1:$D$23,4,0)","v":{"$error":"#N/A"}}]
[{"$f":"INDEX(Tabelle2[[#All],[Budgetlinie]],MATCH(Tabelle1[[#This Row],[Maßnahme]],Ausfüllhilfe!$C$1:$C$22,0))","v":{"$error":"#N/A"}},null,null,null,null,null,null,null,null,{"$f":"VLOOKUP(Tabelle1[[#This Row],[Budgetlinie]],Ausfüllhilfe!$A$1:$D$23,4,0)","v":{"$error":"#N/A"}}]
[{"$f":"INDEX(Tabelle2[[#All],[Budgetlinie]],MATCH(Tabelle1[[#This Row],[Maßnahme]],Ausfüllhilfe!$C$1:$C$22,0))","v":{"$error":"#N/A"}},null,null,null,null,null,null,null,null,{"$f":"VLOOKUP(Tabelle1[[#This Row],[Budgetlinie]],Ausfüllhilfe!$A$1:$D$23,4,0)","v":{"$error":"#N/A"}}]
[{"$f":"INDEX(Tabelle2[[#All],[Budgetlinie]],MATCH(Tabelle1[[#This Row],[Maßnahme]],Ausfüllhilfe!$C$1:$C$22,0))","v":{"$error":"#N/A"}},null,null,null,null,null,null,null,null,{"$f":"VLOOKUP(Tabelle1[[#This Row],[Budgetlinie]],Ausfüllhilfe!$A$1:$D$23,4,0)","v":{"$error":"#N/A"}}]
[{"$f":"INDEX(Tabelle2[[#All],[Budgetlinie]],MATCH(Tabelle1[[#This Row],[Maßnahme]],Ausfüllhilfe!$C$1:$C$22,0))","v":{"$error":"#N/A"}},null,null,null,null,null,null,null,null,{"$f":"VLOOKUP(Tabelle1[[#This Row],[Budgetlinie]],Ausfüllhilfe!$A$1:$D$23,4,0)","v":{"$error":"#N/A"}}]
[{"$f":"INDEX(Tabelle2[[#All],[Budgetlinie]],MATCH(Tabelle1[[#This Row],[Maßnahme]],Ausfüllhilfe!$C$1:$C$22,0))","v":{"$error":"#N/A"}},null,null,null,null,null,null,null,null,{"$f":"VLOOKUP(Tabelle1[[#This Row],[Budgetlinie]],Ausfüllhilfe!$A$1:$D$23,4,0)","v":{"$error":"#N/A"}}]
[{"$f":"INDEX(Tabelle2[[#All],[Budgetlinie]],MATCH(Tabelle1[[#This Row],[Maßnahme]],Ausfüllhilfe!$C$1:$C$22,0))","v":{"$error":"#N/A"}},null,null,null,null,null,null,null,null,{"$f":"VLOOKUP(Tabelle1[[#This Row],[Budgetlinie]],Ausfüllhilfe!$A$1:$D$23,4,0)","v":{"$error":"#N/A"}}]
[{"$f":"INDEX(Tabelle2[[#All],[Budgetlinie]],MATCH(Tabelle1[[#This Row],[Maßnahme]],Ausfüllhilfe!$C$1:$C$22,0))","v":{"$error":"#N/A"}},null,null,null,null,null,null,null,null,{"$f":"VLOOKUP(Tabelle1[[#This Row],[Budgetlinie]],Ausfüllhilfe!$A$1:$D$23,4,0)","v":{"$error":"#N/A"}}]
[{"$f":"INDEX(Tabelle2[[#All],[Budgetlinie]],MATCH(Tabelle1[[#This Row],[Maßnahme]],Ausfüllhilfe!$C$1:$C$22,0))","v":{"$error":"#N/A"}},null,null,null,null,null,null,null,null,{"$f":"VLOOKUP(Tabelle1[[#This Row],[Budgetlinie]],Ausfüllhilfe!$A$1:$D$23,4,0)","v":{"$error":"#N/A"}}]
[{"$f":"INDEX(Tabelle2[[#All],[Budgetlinie]],MATCH(Tabelle1[[#This Row],[Maßnahme]],Ausfüllhilfe!$C$1:$C$22,0))","v":{"$error":"#N/A"}},null,null,null,null,null,null,null,null,{"$f":"VLOOKUP(Tabelle1[[#This Row],[Budgetlinie]],Ausfüllhilfe!$A$1:$D$23,4,0)","v":{"$error":"#N/A"}}]
[{"$f":"INDEX(Tabelle2[[#All],[Budgetlinie]],MATCH(Tabelle1[[#This Row],[Maßnahme]],Ausfüllhilfe!$C$1:$C$22,0))","v":{"$error":"#N/A"}},null,null,null,null,null,null,null,null,{"$f":"VLOOKUP(Tabelle1[[#This Row],[Budgetlinie]],Ausfüllhilfe!$A$1:$D$23,4,0)","v":{"$error":"#N/A"}}]
[{"$f":"INDEX(Tabelle2[[#All],[Budgetlinie]],MATCH(Tabelle1[[#This Row],[Maßnahme]],Ausfüllhilfe!$C$1:$C$22,0))","v":{"$error":"#N/A"}},null,null,null,null,null,null,null,null,{"$f":"VLOOKUP(Tabelle1[[#This Row],[Budgetlinie]],Ausfüllhilfe!$A$1:$D$23,4,0)","v":{"$error":"#N/A"}}]
[{"$f":"INDEX(Tabelle2[[#All],[Budgetlinie]],MATCH(Tabelle1[[#This Row],[Maßnahme]],Ausfüllhilfe!$C$1:$C$22,0))","v":{"$error":"#N/A"}},null,null,null,null,null,null,null,null,{"$f":"VLOOKUP(Tabelle1[[#This Row],[Budgetlinie]],Ausfüllhilfe!$A$1:$D$23,4,0)","v":{"$error":"#N/A"}}]
[{"$f":"INDEX(Tabelle2[[#All],[Budgetlinie]],MATCH(Tabelle1[[#This Row],[Maßnahme]],Ausfüllhilfe!$C$1:$C$22,0))","v":{"$error":"#N/A"}},null,null,null,null,null,null,null,null,{"$f":"VLOOKUP(Tabelle1[[#This Row],[Budgetlinie]],Ausfüllhilfe!$A$1:$D$23,4,0)","v":{"$error":"#N/A"}}]
[{"$f":"INDEX(Tabelle2[[#All],[Budgetlinie]],MATCH(Tabelle1[[#This Row],[Maßnahme]],Ausfüllhilfe!$C$1:$C$22,0))","v":{"$error":"#N/A"}},null,null,null,null,null,null,null,null,{"$f":"VLOOKUP(Tabelle1[[#This Row],[Budgetlinie]],Ausfüllhilfe!$A$1:$D$23,4,0)","v":{"$error":"#N/A"}}]
[{"$f":"INDEX(Tabelle2[[#All],[Budgetlinie]],MATCH(Tabelle1[[#This Row],[Maßnahme]],Ausfüllhilfe!$C$1:$C$22,0))","v":{"$error":"#N/A"}},null,null,null,null,null,null,null,null,{"$f":"VLOOKUP(Tabelle1[[#This Row],[Budgetlinie]],Ausfüllhilfe!$A$1:$D$23,4,0)","v":{"$error":"#N/A"}}]
[{"$f":"INDEX(Tabelle2[[#All],[Budgetlinie]],MATCH(Tabelle1[[#This Row],[Maßnahme]],Ausfüllhilfe!$C$1:$C$22,0))","v":{"$error":"#N/A"}},null,null,null,null,null,null,null,null,{"$f":"VLOOKUP(Tabelle1[[#This Row],[Budgetlinie]],Ausfüllhilfe!$A$1:$D$23,4,0)","v":{"$error":"#N/A"}}]
[{"$f":"INDEX(Tabelle2[[#All],[Budgetlinie]],MATCH(Tabelle1[[#This Row],[Maßnahme]],Ausfüllhilfe!$C$1:$C$22,0))","v":{"$error":"#N/A"}},null,null,null,null,null,null,null,null,{"$f":"VLOOKUP(Tabelle1[[#This Row],[Budgetlinie]],Ausfüllhilfe!$A$1:$D$23,4,0)","v":{"$error":"#N/A"}}]
[{"$f":"INDEX(Tabelle2[[#All],[Budgetlinie]],MATCH(Tabelle1[[#This Row],[Maßnahme]],Ausfüllhilfe!$C$1:$C$22,0))","v":{"$error":"#N/A"}},null,null,null,null,null,null,null,null,{"$f":"VLOOKUP(Tabelle1[[#This Row],[Budgetlinie]],Ausfüllhilfe!$A$1:$D$23,4,0)","v":{"$error":"#N/A"}}]
[{"$f":"INDEX(Tabelle2[[#All],[Budgetlinie]],MATCH(Tabelle1[[#This Row],[Maßnahme]],Ausfüllhilfe!$C$1:$C$22,0))","v":{"$error":"#N/A"}},null,null,null,null,null,null,null,null,{"$f":"VLOOKUP(Tabelle1[[#This Row],[Budgetlinie]],Ausfüllhilfe!$A$1:$D$23,4,0)","v":{"$error":"#N/A"}}]
[{"$f":"INDEX(Tabelle2[[#All],[Budgetlinie]],MATCH(Tabelle1[[#This Row],[Maßnahme]],Ausfüllhilfe!$C$1:$C$22,0))","v":{"$error":"#N/A"}},null,null,null,null,null,null,null,null,{"$f":"VLOOKUP(Tabelle1[[#This Row],[Budgetlinie]],Ausfüllhilfe!$A$1:$D$23,4,0)","v":{"$error":"#N/A"}}]
[{"$f":"INDEX(Tabelle2[[#All],[Budgetlinie]],MATCH(Tabelle1[[#This Row],[Maßnahme]],Ausfüllhilfe!$C$1:$C$22,0))","v":{"$error":"#N/A"}},null,null,null,null,null,null,null,null,{"$f":"VLOOKUP(Tabelle1[[#This Row],[Budgetlinie]],Ausfüllhilfe!$A$1:$D$23,4,0)","v":{"$error":"#N/A"}}]
[{"$f":"INDEX(Tabelle2[[#All],[Budgetlinie]],MATCH(Tabelle1[[#This Row],[Maßnahme]],Ausfüllhilfe!$C$1:$C$22,0))","v":{"$error":"#N/A"}},null,null,null,null,null,null,null,null,{"$f":"VLOOKUP(Tabelle1[[#This Row],[Budgetlinie]],Ausfüllhilfe!$A$1:$D$23,4,0)","v":{"$error":"#N/A"}}]
[{"$f":"INDEX(Tabelle2[[#All],[Budgetlinie]],MATCH(Tabelle1[[#This Row],[Maßnahme]],Ausfüllhilfe!$C$1:$C$22,0))","v":{"$error":"#N/A"}},null,null,null,null,null,null,null,null,{"$f":"VLOOKUP(Tabelle1[[#This Row],[Budgetlinie]],Ausfüllhilfe!$A$1:$D$23,4,0)","v":{"$error":"#N/A"}}]
[{"$f":"INDEX(Tabelle2[[#All],[Budgetlinie]],MATCH(Tabelle1[[#This Row],[Maßnahme]],Ausfüllhilfe!$C$1:$C$22,0))","v":{"$error":"#N/A"}},null,null,null,null,null,null,null,null,{"$f":"VLOOKUP(Tabelle1[[#This Row],[Budgetlinie]],Ausfüllhilfe!$A$1:$D$23,4,0)","v":{"$error":"#N/A"}}]
[{"$f":"INDEX(Tabelle2[[#All],[Budgetlinie]],MATCH(Tabelle1[[#This Row],[Maßnahme]],Ausfüllhilfe!$C$1:$C$22,0))","v":{"$error":"#N/A"}},null,null,null,null,null,null,null,null,{"$f":"VLOOKUP(Tabelle1[[#This Row],[Budgetlinie]],Ausfüllhilfe!$A$1:$D$23,4,0)","v":{"$error":"#N/A"}}]
[{"$f":"INDEX(Tabelle2[[#All],[Budgetlinie]],MATCH(Tabelle1[[#This Row],[Maßnahme]],Ausfüllhilfe!$C$1:$C$22,0))","v":{"$error":"#N/A"}},null,null,null,null,null,null,null,null,{"$f":"VLOOKUP(Tabelle1[[#This Row],[Budgetlinie]],Ausfüllhilfe!$A$1:$D$23,4,0)","v":{"$error":"#N/A"}}]
[{"$f":"INDEX(Tabelle2[[#All],[Budgetlinie]],MATCH(Tabelle1[[#This Row],[Maßnahme]],Ausfüllhilfe!$C$1:$C$22,0))","v":{"$error":"#N/A"}},null,null,null,null,null,null,null,null,{"$f":"VLOOKUP(Tabelle1[[#This Row],[Budgetlinie]],Ausfüllhilfe!$A$1:$D$23,4,0)","v":{"$error":"#N/A"}}]
[{"$f":"INDEX(Tabelle2[[#All],[Budgetlinie]],MATCH(Tabelle1[[#This Row],[Maßnahme]],Ausfüllhilfe!$C$1:$C$22,0))","v":{"$error":"#N/A"}},null,null,null,null,null,null,null,null,{"$f":"VLOOKUP(Tabelle1[[#This Row],[Budgetlinie]],Ausfüllhilfe!$A$1:$D$23,4,0)","v":{"$error":"#N/A"}}]
[{"$f":"INDEX(Tabelle2[[#All],[Budgetlinie]],MATCH(Tabelle1[[#This Row],[Maßnahme]],Ausfüllhilfe!$C$1:$C$22,0))","v":{"$error":"#N/A"}},null,null,null,null,null,null,null,null,{"$f":"VLOOKUP(Tabelle1[[#This Row],[Budgetlinie]],Ausfüllhilfe!$A$1:$D$23,4,0)","v":{"$error":"#N/A"}}]
[{"$f":"INDEX(Tabelle2[[#All],[Budgetlinie]],MATCH(Tabelle1[[#This Row],[Maßnahme]],Ausfüllhilfe!$C$1:$C$22,0))","v":{"$error":"#N/A"}},null,null,null,null,null,null,null,null,{"$f":"VLOOKUP(Tabelle1[[#This Row],[Budgetlinie]],Ausfüllhilfe!$A$1:$D$23,4,0)","v":{"$error":"#N/A"}}]
[{"$f":"INDEX(Tabelle2[[#All],[Budgetlinie]],MATCH(Tabelle1[[#This Row],[Maßnahme]],Ausfüllhilfe!$C$1:$C$22,0))","v":{"$error":"#N/A"}},null,null,null,null,null,null,null,null,{"$f":"VLOOKUP(Tabelle1[[#This Row],[Budgetlinie]],Ausfüllhilfe!$A$1:$D$23,4,0)","v":{"$error":"#N/A"}}]
[{"$f":"INDEX(Tabelle2[[#All],[Budgetlinie]],MATCH(Tabelle1[[#This Row],[Maßnahme]],Ausfüllhilfe!$C$1:$C$22,0))","v":{"$error":"#N/A"}},null,null,null,null,null,null,null,null,{"$f":"VLOOKUP(Tabelle1[[#This Row],[Budgetlinie]],Ausfüllhilfe!$A$1:$D$23,4,0)","v":{"$error":"#N/A"}}]
[{"$f":"INDEX(Tabelle2[[#All],[Budgetlinie]],MATCH(Tabelle1[[#This Row],[Maßnahme]],Ausfüllhilfe!$C$1:$C$22,0))","v":{"$error":"#N/A"}},null,null,null,null,null,null,null,null,{"$f":"VLOOKUP(Tabelle1[[#This Row],[Budgetlinie]],Ausfüllhilfe!$A$1:$D$23,4,0)","v":{"$error":"#N/A"}}]
[{"$f":"INDEX(Tabelle2[[#All],[Budgetlinie]],MATCH(Tabelle1[[#This Row],[Maßnahme]],Ausfüllhilfe!$C$1:$C$22,0))","v":{"$error":"#N/A"}},null,null,null,null,null,null,null,null,{"$f":"VLOOKUP(Tabelle1[[#This Row],[Budgetlinie]],Ausfüllhilfe!$A$1:$D$23,4,0)","v":{"$error":"#N/A"}}]
[{"$f":"INDEX(Tabelle2[[#All],[Budgetlinie]],MATCH(Tabelle1[[#This Row],[Maßnahme]],Ausfüllhilfe!$C$1:$C$22,0))","v":{"$error":"#N/A"}},null,null,null,null,null,null,null,null,{"$f":"VLOOKUP(Tabelle1[[#This Row],[Budgetlinie]],Ausfüllhilfe!$A$1:$D$23,4,0)","v":{"$error":"#N/A"}}]
[{"$f":"INDEX(Tabelle2[[#All],[Budgetlinie]],MATCH(Tabelle1[[#This Row],[Maßnahme]],Ausfüllhilfe!$C$1:$C$22,0))","v":{"$error":"#N/A"}},null,null,null,null,null,null,null,null,{"$f":"VLOOKUP(Tabelle1[[#This Row],[Budgetlinie]],Ausfüllhilfe!$A$1:$D$23,4,0)","v":{"$error":"#N/A"}}]
[{"$f":"INDEX(Tabelle2[[#All],[Budgetlinie]],MATCH(Tabelle1[[#This Row],[Maßnahme]],Ausfüllhilfe!$C$1:$C$22,0))","v":{"$error":"#N/A"}},null,null,null,null,null,null,null,null,{"$f":"VLOOKUP(Tabelle1[[#This Row],[Budgetlinie]],Ausfüllhilfe!$A$1:$D$23,4,0)","v":{"$error":"#N/A"}}]
[{"$f":"INDEX(Tabelle2[[#All],[Budgetlinie]],MATCH(Tabelle1[[#This Row],[Maßnahme]],Ausfüllhilfe!$C$1:$C$22,0))","v":{"$error":"#N/A"}},null,null,null,null,null,null,null,null,{"$f":"VLOOKUP(Tabelle1[[#This Row],[Budgetlinie]],Ausfüllhilfe!$A$1:$D$23,4,0)","v":{"$error":"#N/A"}}]
[{"$f":"INDEX(Tabelle2[[#All],[Budgetlinie]],MATCH(Tabelle1[[#This Row],[Maßnahme]],Ausfüllhilfe!$C$1:$C$22,0))","v":{"$error":"#N/A"}},null,null,null,null,null,null,null,null,{"$f":"VLOOKUP(Tabelle1[[#This Row],[Budgetlinie]],Ausfüllhilfe!$A$1:$D$23,4,0)","v":{"$error":"#N/A"}}]
[{"$f":"INDEX(Tabelle2[[#All],[Budgetlinie]],MATCH(Tabelle1[[#This Row],[Maßnahme]],Ausfüllhilfe!$C$1:$C$22,0))","v":{"$error":"#N/A"}},null,null,null,null,null,null,null,null,{"$f":"VLOOKUP(Tabelle1[[#This Row],[Budgetlinie]],Ausfüllhilfe!$A$1:$D$23,4,0)","v":{"$error":"#N/A"}}]
[{"$f":"INDEX(Tabelle2[[#All],[Budgetlinie]],MATCH(Tabelle1[[#This Row],[Maßnahme]],Ausfüllhilfe!$C$1:$C$22,0))","v":{"$error":"#N/A"}},null,null,null,null,null,null,null,null,{"$f":"VLOOKUP(Tabelle1[[#This Row],[Budgetlinie]],Ausfüllhilfe!$A$1:$D$23,4,0)","v":{"$error":"#N/A"}}]
[{"$f":"INDEX(Tabelle2[[#All],[Budgetlinie]],MATCH(Tabelle1[[#This Row],[Maßnahme]],Ausfüllhilfe!$C$1:$C$22,0))","v":{"$error":"#N/A"}},null,null,null,null,null,null,null,null,{"$f":"VLOOKUP(Tabelle1[[#This Row],[Budgetlinie]],Ausfüllhilfe!$A$1:$D$23,4,0)","v":{"$error":"#N/A"}}]
[{"$f":"INDEX(Tabelle2[[#All],[Budgetlinie]],MATCH(Tabelle1[[#This Row],[Maßnahme]],Ausfüllhilfe!$C$1:$C$22,0))","v":{"$error":"#N/A"}},null,null,null,null,null,null,null,null,{"$f":"VLOOKUP(Tabelle1[[#This Row],[Budgetlinie]],Ausfüllhilfe!$A$1:$D$23,4,0)","v":{"$error":"#N/A"}}]
[{"$f":"INDEX(Tabelle2[[#All],[Budgetlinie]],MATCH(Tabelle1[[#This Row],[Maßnahme]],Ausfüllhilfe!$C$1:$C$22,0))","v":{"$error":"#N/A"}},null,null,null,null,null,null,null,null,{"$f":"VLOOKUP(Tabelle1[[#This Row],[Budgetlinie]],Ausfüllhilfe!$A$1:$D$23,4,0)","v":{"$error":"#N/A"}}]
[{"$f":"INDEX(Tabelle2[[#All],[Budgetlinie]],MATCH(Tabelle1[[#This Row],[Maßnahme]],Ausfüllhilfe!$C$1:$C$22,0))","v":{"$error":"#N/A"}},null,null,null,null,null,null,null,null,{"$f":"VLOOKUP(Tabelle1[[#This Row],[Budgetlinie]],Ausfüllhilfe!$A$1:$D$23,4,0)","v":{"$error":"#N/A"}}]
[{"$f":"INDEX(Tabelle2[[#All],[Budgetlinie]],MATCH(Tabelle1[[#This Row],[Maßnahme]],Ausfüllhilfe!$C$1:$C$22,0))","v":{"$error":"#N/A"}},null,null,null,null,null,null,null,null,{"$f":"VLOOKUP(Tabelle1[[#This Row],[Budgetlinie]],Ausfüllhilfe!$A$1:$D$23,4,0)","v":{"$error":"#N/A"}}]
[{"$f":"INDEX(Tabelle2[[#All],[Budgetlinie]],MATCH(Tabelle1[[#This Row],[Maßnahme]],Ausfüllhilfe!$C$1:$C$22,0))","v":{"$error":"#N/A"}},null,null,null,null,null,null,null,null,{"$f":"VLOOKUP(Tabelle1[[#This Row],[Budgetlinie]],Ausfüllhilfe!$A$1:$D$23,4,0)","v":{"$error":"#N/A"}}]
[{"$f":"INDEX(Tabelle2[[#All],[Budgetlinie]],MATCH(Tabelle1[[#This Row],[Maßnahme]],Ausfüllhilfe!$C$1:$C$22,0))","v":{"$error":"#N/A"}},null,null,null,null,null,null,null,null,{"$f":"VLOOKUP(Tabelle1[[#This Row],[Budgetlinie]],Ausfüllhilfe!$A$1:$D$23,4,0)","v":{"$error":"#N/A"}}]
[{"$f":"INDEX(Tabelle2[[#All],[Budgetlinie]],MATCH(Tabelle1[[#This Row],[Maßnahme]],Ausfüllhilfe!$C$1:$C$22,0))","v":{"$error":"#N/A"}},null,null,null,null,null,null,null,null,{"$f":"VLOOKUP(Tabelle1[[#This Row],[Budgetlinie]],Ausfüllhilfe!$A$1:$D$23,4,0)","v":{"$error":"#N/A"}}]
[{"$f":"INDEX(Tabelle2[[#All],[Budgetlinie]],MATCH(Tabelle1[[#This Row],[Maßnahme]],Ausfüllhilfe!$C$1:$C$22,0))","v":{"$error":"#N/A"}},null,null,null,null,null,null,null,null,{"$f":"VLOOKUP(Tabelle1[[#This Row],[Budgetlinie]],Ausfüllhilfe!$A$1:$D$23,4,0)","v":{"$error":"#N/A"}}]
[{"$f":"INDEX(Tabelle2[[#All],[Budgetlinie]],MATCH(Tabelle1[[#This Row],[Maßnahme]],Ausfüllhilfe!$C$1:$C$22,0))","v":{"$error":"#N/A"}},null,null,null,null,null,null,null,null,{"$f":"VLOOKUP(Tabelle1[[#This Row],[Budgetlinie]],Ausfüllhilfe!$A$1:$D$23,4,0)","v":{"$error":"#N/A"}}]
[{"$f":"INDEX(Tabelle2[[#All],[Budgetlinie]],MATCH(Tabelle1[[#This Row],[Maßnahme]],Ausfüllhilfe!$C$1:$C$22,0))","v":{"$error":"#N/A"}},null,null,null,null,null,null,null,null,{"$f":"VLOOKUP(Tabelle1[[#This Row],[Budgetlinie]],Ausfüllhilfe!$A$1:$D$23,4,0)","v":{"$error":"#N/A"}}]
[{"$f":"INDEX(Tabelle2[[#All],[Budgetlinie]],MATCH(Tabelle1[[#This Row],[Maßnahme]],Ausfüllhilfe!$C$1:$C$22,0))","v":{"$error":"#N/A"}},null,null,null,null,null,null,null,null,{"$f":"VLOOKUP(Tabelle1[[#This Row],[Budgetlinie]],Ausfüllhilfe!$A$1:$D$23,4,0)","v":{"$error":"#N/A"}}]
[{"$f":"INDEX(Tabelle2[[#All],[Budgetlinie]],MATCH(Tabelle1[[#This Row],[Maßnahme]],Ausfüllhilfe!$C$1:$C$22,0))","v":{"$error":"#N/A"}},null,null,null,null,null,null,null,null,{"$f":"VLOOKUP(Tabelle1[[#This Row],[Budgetlinie]],Ausfüllhilfe!$A$1:$D$23,4,0)","v":{"$error":"#N/A"}}]
[{"$f":"INDEX(Tabelle2[[#All],[Budgetlinie]],MATCH(Tabelle1[[#This Row],[Maßnahme]],Ausfüllhilfe!$C$1:$C$22,0))","v":{"$error":"#N/A"}},null,null,null,null,null,null,null,null,{"$f":"VLOOKUP(Tabelle1[[#This Row],[Budgetlinie]],Ausfüllhilfe!$A$1:$D$23,4,0)","v":{"$error":"#N/A"}}]
[{"$f":"INDEX(Tabelle2[[#All],[Budgetlinie]],MATCH(Tabelle1[[#This Row],[Maßnahme]],Ausfüllhilfe!$C$1:$C$22,0))","v":{"$error":"#N/A"}},null,null,null,null,null,null,null,null,{"$f":"VLOOKUP(Tabelle1[[#This Row],[Budgetlinie]],Ausfüllhilfe!$A$1:$D$23,4,0)","v":{"$error":"#N/A"}}]
[{"$f":"INDEX(Tabelle2[[#All],[Budgetlinie]],MATCH(Tabelle1[[#This Row],[Maßnahme]],Ausfüllhilfe!$C$1:$C$22,0))","v":{"$error":"#N/A"}},null,null,null,null,null,null,null,null,{"$f":"VLOOKUP(Tabelle1[[#This Row],[Budgetlinie]],Ausfüllhilfe!$A$1:$D$23,4,0)","v":{"$error":"#N/A"}}]
[{"$f":"INDEX(Tabelle2[[#All],[Budgetlinie]],MATCH(Tabelle1[[#This Row],[Maßnahme]],Ausfüllhilfe!$C$1:$C$22,0))","v":{"$error":"#N/A"}},null,null,null,null,null,null,null,null,{"$f":"VLOOKUP(Tabelle1[[#This Row],[Budgetlinie]],Ausfüllhilfe!$A$1:$D$23,4,0)","v":{"$error":"#N/A"}}]
[{"$f":"INDEX(Tabelle2[[#All],[Budgetlinie]],MATCH(Tabelle1[[#This Row],[Maßnahme]],Ausfüllhilfe!$C$1:$C$22,0))","v":{"$error":"#N/A"}},null,null,null,null,null,null,null,null,{"$f":"VLOOKUP(Tabelle1[[#This Row],[Budgetlinie]],Ausfüllhilfe!$A$1:$D$23,4,0)","v":{"$error":"#N/A"}}]
[{"$f":"INDEX(Tabelle2[[#All],[Budgetlinie]],MATCH(Tabelle1[[#This Row],[Maßnahme]],Ausfüllhilfe!$C$1:$C$22,0))","v":{"$error":"#N/A"}},null,null,null,null,null,null,null,null,{"$f":"VLOOKUP(Tabelle1[[#This Row],[Budgetlinie]],Ausfüllhilfe!$A$1:$D$23,4,0)","v":{"$error":"#N/A"}}]
[{"$f":"INDEX(Tabelle2[[#All],[Budgetlinie]],MATCH(Tabelle1[[#This Row],[Maßnahme]],Ausfüllhilfe!$C$1:$C$22,0))","v":{"$error":"#N/A"}},null,null,null,null,null,null,null,null,{"$f":"VLOOKUP(Tabelle1[[#This Row],[Budgetlinie]],Ausfüllhilfe!$A$1:$D$23,4,0)","v":{"$error":"#N/A"}}]
[{"$f":"INDEX(Tabelle2[[#All],[Budgetlinie]],MATCH(Tabelle1[[#This Row],[Maßnahme]],Ausfüllhilfe!$C$1:$C$22,0))","v":{"$error":"#N/A"}},null,null,null,null,null,null,null,null,{"$f":"VLOOKUP(Tabelle1[[#This Row],[Budgetlinie]],Ausfüllhilfe!$A$1:$D$23,4,0)","v":{"$error":"#N/A"}}]
[{"$f":"INDEX(Tabelle2[[#All],[Budgetlinie]],MATCH(Tabelle1[[#This Row],[Maßnahme]],Ausfüllhilfe!$C$1:$C$22,0))","v":{"$error":"#N/A"}},null,null,null,null,null,null,null,null,{"$f":"VLOOKUP(Tabelle1[[#This Row],[Budgetlinie]],Ausfüllhilfe!$A$1:$D$23,4,0)","v":{"$error":"#N/A"}}]
[{"$f":"INDEX(Tabelle2[[#All],[Budgetlinie]],MATCH(Tabelle1[[#This Row],[Maßnahme]],Ausfüllhilfe!$C$1:$C$22,0))","v":{"$error":"#N/A"}},null,null,null,null,null,null,null,null,{"$f":"VLOOKUP(Tabelle1[[#This Row],[Budgetlinie]],Ausfüllhilfe!$A$1:$D$23,4,0)","v":{"$error":"#N/A"}}]
[{"$f":"INDEX(Tabelle2[[#All],[Budgetlinie]],MATCH(Tabelle1[[#This Row],[Maßnahme]],Ausfüllhilfe!$C$1:$C$22,0))","v":{"$error":"#N/A"}},null,null,null,null,null,null,null,null,{"$f":"VLOOKUP(Tabelle1[[#This Row],[Budgetlinie]],Ausfüllhilfe!$A$1:$D$23,4,0)","v":{"$error":"#N/A"}}]
[{"$f":"INDEX(Tabelle2[[#All],[Budgetlinie]],MATCH(Tabelle1[[#This Row],[Maßnahme]],Ausfüllhilfe!$C$1:$C$22,0))","v":{"$error":"#N/A"}},null,null,null,null,null,null,null,null,{"$f":"VLOOKUP(Tabelle1[[#This Row],[Budgetlinie]],Ausfüllhilfe!$A$1:$D$23,4,0)","v":{"$error":"#N/A"}}]
[{"$f":"INDEX(Tabelle2[[#All],[Budgetlinie]],MATCH(Tabelle1[[#This Row],[Maßnahme]],Ausfüllhilfe!$C$1:$C$22,0))","v":{"$error":"#N/A"}},null,null,null,null,null,null,null,null,{"$f":"VLOOKUP(Tabelle1[[#This Row],[Budgetlinie]],Ausfüllhilfe!$A$1:$D$23,4,0)","v":{"$error":"#N/A"}}]
[{"$f":"INDEX(Tabelle2[[#All],[Budgetlinie]],MATCH(Tabelle1[[#This Row],[Maßnahme]],Ausfüllhilfe!$C$1:$C$22,0))","v":{"$error":"#N/A"}},null,null,null,null,null,null,null,null,{"$f":"VLOOKUP(Tabelle1[[#This Row],[Budgetlinie]],Ausfüllhilfe!$A$1:$D$23,4,0)","v":{"$error":"#N/A"}}]
[{"$f":"INDEX(Tabelle2[[#All],[Budgetlinie]],MATCH(Tabelle1[[#This Row],[Maßnahme]],Ausfüllhilfe!$C$1:$C$22,0))","v":{"$error":"#N/A"}},null,null,null,null,null,null,null,null,{"$f":"VLOOKUP(Tabelle1[[#This Row],[Budgetlinie]],Ausfüllhilfe!$A$1:$D$23,4,0)","v":{"$error":"#N/A"}}]
[{"$f":"INDEX(Tabelle2[[#All],[Budgetlinie]],MATCH(Tabelle1[[#This Row],[Maßnahme]],Ausfüllhilfe!$C$1:$C$22,0))","v":{"$error":"#N/A"}},null,null,null,null,null,null,null,null,{"$f":"VLOOKUP(Tabelle1[[#This Row],[Budgetlinie]],Ausfüllhilfe!$A$1:$D$23,4,0)","v":{"$error":"#N/A"}}]
[{"$f":"INDEX(Tabelle2[[#All],[Budgetlinie]],MATCH(Tabelle1[[#This Row],[Maßnahme]],Ausfüllhilfe!$C$1:$C$22,0))","v":{"$error":"#N/A"}},null,null,null,null,null,null,null,null,{"$f":"VLOOKUP(Tabelle1[[#This Row],[Budgetlinie]],Ausfüllhilfe!$A$1:$D$23,4,0)","v":{"$error":"#N/A"}}]
[{"$f":"INDEX(Tabelle2[[#All],[Budgetlinie]],MATCH(Tabelle1[[#This Row],[Maßnahme]],Ausfüllhilfe!$C$1:$C$22,0))","v":{"$error":"#N/A"}},null,null,null,null,null,null,null,null,{"$f":"VLOOKUP(Tabelle1[[#This Row],[Budgetlinie]],Ausfüllhilfe!$A$1:$D$23,4,0)","v":{"$error":"#N/A"}}]
[{"$f":"INDEX(Tabelle2[[#All],[Budgetlinie]],MATCH(Tabelle1[[#This Row],[Maßnahme]],Ausfüllhilfe!$C$1:$C$22,0))","v":{"$error":"#N/A"}},null,null,null,null,null,null,null,null,{"$f":"VLOOKUP(Tabelle1[[#This Row],[Budgetlinie]],Ausfüllhilfe!$A$1:$D$23,4,0)","v":{"$error":"#N/A"}}]
[{"$f":"INDEX(Tabelle2[[#All],[Budgetlinie]],MATCH(Tabelle1[[#This Row],[Maßnahme]],Ausfüllhilfe!$C$1:$C$22,0))","v":{"$error":"#N/A"}},null,null,null,null,null,null,null,null,{"$f":"VLOOKUP(Tabelle1[[#This Row],[Budgetlinie]],Ausfüllhilfe!$A$1:$D$23,4,0)","v":{"$error":"#N/A"}}]
[{"$f":"INDEX(Tabelle2[[#All],[Budgetlinie]],MATCH(Tabelle1[[#This Row],[Maßnahme]],Ausfüllhilfe!$C$1:$C$22,0))","v":{"$error":"#N/A"}},null,null,null,null,null,null,null,null,{"$f":"VLOOKUP(Tabelle1[[#This Row],[Budgetlinie]],Ausfüllhilfe!$A$1:$D$23,4,0)","v":{"$error":"#N/A"}}]
[{"$f":"INDEX(Tabelle2[[#All],[Budgetlinie]],MATCH(Tabelle1[[#This Row],[Maßnahme]],Ausfüllhilfe!$C$1:$C$22,0))","v":{"$error":"#N/A"}},null,null,null,null,null,null,null,null,{"$f":"VLOOKUP(Tabelle1[[#This Row],[Budgetlinie]],Ausfüllhilfe!$A$1:$D$23,4,0)","v":{"$error":"#N/A"}}]
[{"$f":"INDEX(Tabelle2[[#All],[Budgetlinie]],MATCH(Tabelle1[[#This Row],[Maßnahme]],Ausfüllhilfe!$C$1:$C$22,0))","v":{"$error":"#N/A"}},null,null,null,null,null,null,null,null,{"$f":"VLOOKUP(Tabelle1[[#This Row],[Budgetlinie]],Ausfüllhilfe!$A$1:$D$23,4,0)","v":{"$error":"#N/A"}}]
[{"$f":"INDEX(Tabelle2[[#All],[Budgetlinie]],MATCH(Tabelle1[[#This Row],[Maßnahme]],Ausfüllhilfe!$C$1:$C$22,0))","v":{"$error":"#N/A"}},null,null,null,null,null,null,null,null,{"$f":"VLOOKUP(Tabelle1[[#This Row],[Budgetlinie]],Ausfüllhilfe!$A$1:$D$23,4,0)","v":{"$error":"#N/A"}}]
[{"$f":"INDEX(Tabelle2[[#All],[Budgetlinie]],MATCH(Tabelle1[[#This Row],[Maßnahme]],Ausfüllhilfe!$C$1:$C$22,0))","v":{"$error":"#N/A"}},null,null,null,null,null,null,null,null,{"$f":"VLOOKUP(Tabelle1[[#This Row],[Budgetlinie]],Ausfüllhilfe!$A$1:$D$23,4,0)","v":{"$error":"#N/A"}}]
[{"$f":"INDEX(Tabelle2[[#All],[Budgetlinie]],MATCH(Tabelle1[[#This Row],[Maßnahme]],Ausfüllhilfe!$C$1:$C$22,0))","v":{"$error":"#N/A"}},null,null,null,null,null,null,null,null,{"$f":"VLOOKUP(Tabelle1[[#This Row],[Budgetlinie]],Ausfüllhilfe!$A$1:$D$23,4,0)","v":{"$error":"#N/A"}}]
[{"$f":"INDEX(Tabelle2[[#All],[Budgetlinie]],MATCH(Tabelle1[[#This Row],[Maßnahme]],Ausfüllhilfe!$C$1:$C$22,0))","v":{"$error":"#N/A"}},null,null,null,null,null,null,null,null,{"$f":"VLOOKUP(Tabelle1[[#This Row],[Budgetlinie]],Ausfüllhilfe!$A$1:$D$23,4,0)","v":{"$error":"#N/A"}}]
[{"$f":"INDEX(Tabelle2[[#All],[Budgetlinie]],MATCH(Tabelle1[[#This Row],[Maßnahme]],Ausfüllhilfe!$C$1:$C$22,0))","v":{"$error":"#N/A"}},null,null,null,null,null,null,null,null,{"$f":"VLOOKUP(Tabelle1[[#This Row],[Budgetlinie]],Ausfüllhilfe!$A$1:$D$23,4,0)","v":{"$error":"#N/A"}}]
[{"$f":"INDEX(Tabelle2[[#All],[Budgetlinie]],MATCH(Tabelle1[[#This Row],[Maßnahme]],Ausfüllhilfe!$C$1:$C$22,0))","v":{"$error":"#N/A"}},null,null,null,null,null,null,null,null,{"$f":"VLOOKUP(Tabelle1[[#This Row],[Budgetlinie]],Ausfüllhilfe!$A$1:$D$23,4,0)","v":{"$error":"#N/A"}}]
[{"$f":"INDEX(Tabelle2[[#All],[Budgetlinie]],MATCH(Tabelle1[[#This Row],[Maßnahme]],Ausfüllhilfe!$C$1:$C$22,0))","v":{"$error":"#N/A"}},null,null,null,null,null,null,null,null,{"$f":"VLOOKUP(Tabelle1[[#This Row],[Budgetlinie]],Ausfüllhilfe!$A$1:$D$23,4,0)","v":{"$error":"#N/A"}}]
[{"$f":"INDEX(Tabelle2[[#All],[Budgetlinie]],MATCH(Tabelle1[[#This Row],[Maßnahme]],Ausfüllhilfe!$C$1:$C$22,0))","v":{"$error":"#N/A"}},null,null,null,null,null,null,null,null,{"$f":"VLOOKUP(Tabelle1[[#This Row],[Budgetlinie]],Ausfüllhilfe!$A$1:$D$23,4,0)","v":{"$error":"#N/A"}}]
[{"$f":"INDEX(Tabelle2[[#All],[Budgetlinie]],MATCH(Tabelle1[[#This Row],[Maßnahme]],Ausfüllhilfe!$C$1:$C$22,0))","v":{"$error":"#N/A"}},null,null,null,null,null,null,null,null,{"$f":"VLOOKUP(Tabelle1[[#This Row],[Budgetlinie]],Ausfüllhilfe!$A$1:$D$23,4,0)","v":{"$error":"#N/A"}}]
[{"$f":"INDEX(Tabelle2[[#All],[Budgetlinie]],MATCH(Tabelle1[[#This Row],[Maßnahme]],Ausfüllhilfe!$C$1:$C$22,0))","v":{"$error":"#N/A"}},null,null,null,null,null,null,null,null,{"$f":"VLOOKUP(Tabelle1[[#This Row],[Budgetlinie]],Ausfüllhilfe!$A$1:$D$23,4,0)","v":{"$error":"#N/A"}}]
[{"$f":"INDEX(Tabelle2[[#All],[Budgetlinie]],MATCH(Tabelle1[[#This Row],[Maßnahme]],Ausfüllhilfe!$C$1:$C$22,0))","v":{"$error":"#N/A"}},null,null,null,null,null,null,null,null,{"$f":"VLOOKUP(Tabelle1[[#This Row],[Budgetlinie]],Ausfüllhilfe!$A$1:$D$23,4,0)","v":{"$error":"#N/A"}}]
[{"$f":"INDEX(Tabelle2[[#All],[Budgetlinie]],MATCH(Tabelle1[[#This Row],[Maßnahme]],Ausfüllhilfe!$C$1:$C$22,0))","v":{"$error":"#N/A"}},null,null,null,null,null,null,null,null,{"$f":"VLOOKUP(Tabelle1[[#This Row],[Budgetlinie]],Ausfüllhilfe!$A$1:$D$23,4,0)","v":{"$error":"#N/A"}}]
[{"$f":"INDEX(Tabelle2[[#All],[Budgetlinie]],MATCH(Tabelle1[[#This Row],[Maßnahme]],Ausfüllhilfe!$C$1:$C$22,0))","v":{"$error":"#N/A"}},null,null,null,null,null,null,null,null,{"$f":"VLOOKUP(Tabelle1[[#This Row],[Budgetlinie]],Ausfüllhilfe!$A$1:$D$23,4,0)","v":{"$error":"#N/A"}}]
[{"$f":"INDEX(Tabelle2[[#All],[Budgetlinie]],MATCH(Tabelle1[[#This Row],[Maßnahme]],Ausfüllhilfe!$C$1:$C$22,0))","v":{"$error":"#N/A"}},null,null,null,null,null,null,null,null,{"$f":"VLOOKUP(Tabelle1[[#This Row],[Budgetlinie]],Ausfüllhilfe!$A$1:$D$23,4,0)","v":{"$error":"#N/A"}}]
[{"$f":"INDEX(Tabelle2[[#All],[Budgetlinie]],MATCH(Tabelle1[[#This Row],[Maßnahme]],Ausfüllhilfe!$C$1:$C$22,0))","v":{"$error":"#N/A"}},null,null,null,null,null,null,null,null,{"$f":"VLOOKUP(Tabelle1[[#This Row],[Budgetlinie]],Ausfüllhilfe!$A$1:$D$23,4,0)","v":{"$error":"#N/A"}}]
[{"$f":"INDEX(Tabelle2[[#All],[Budgetlinie]],MATCH(Tabelle1[[#This Row],[Maßnahme]],Ausfüllhilfe!$C$1:$C$22,0))","v":{"$error":"#N/A"}},null,null,null,null,null,null,null,null,{"$f":"VLOOKUP(Tabelle1[[#This Row],[Budgetlinie]],Ausfüllhilfe!$A$1:$D$23,4,0)","v":{"$error":"#N/A"}}]
[{"$f":"INDEX(Tabelle2[[#All],[Budgetlinie]],MATCH(Tabelle1[[#This Row],[Maßnahme]],Ausfüllhilfe!$C$1:$C$22,0))","v":{"$error":"#N/A"}},null,null,null,null,null,null,null,null,{"$f":"VLOOKUP(Tabelle1[[#This Row],[Budgetlinie]],Ausfüllhilfe!$A$1:$D$23,4,0)","v":{"$error":"#N/A"}}]
[{"$f":"INDEX(Tabelle2[[#All],[Budgetlinie]],MATCH(Tabelle1[[#This Row],[Maßnahme]],Ausfüllhilfe!$C$1:$C$22,0))","v":{"$error":"#N/A"}},null,null,null,null,null,null,null,null,{"$f":"VLOOKUP(Tabelle1[[#This Row],[Budgetlinie]],Ausfüllhilfe!$A$1:$D$23,4,0)","v":{"$error":"#N/A"}}]
[{"$f":"INDEX(Tabelle2[[#All],[Budgetlinie]],MATCH(Tabelle1[[#This Row],[Maßnahme]],Ausfüllhilfe!$C$1:$C$22,0))","v":{"$error":"#N/A"}},null,null,null,null,null,null,null,null,{"$f":"VLOOKUP(Tabelle1[[#This Row],[Budgetlinie]],Ausfüllhilfe!$A$1:$D$23,4,0)","v":{"$error":"#N/A"}}]
[{"$f":"INDEX(Tabelle2[[#All],[Budgetlinie]],MATCH(Tabelle1[[#This Row],[Maßnahme]],Ausfüllhilfe!$C$1:$C$22,0))","v":{"$error":"#N/A"}},null,null,null,null,null,null,null,null,{"$f":"VLOOKUP(Tabelle1[[#This Row],[Budgetlinie]],Ausfüllhilfe!$A$1:$D$23,4,0)","v":{"$error":"#N/A"}}]
[{"$f":"INDEX(Tabelle2[[#All],[Budgetlinie]],MATCH(Tabelle1[[#This Row],[Maßnahme]],Ausfüllhilfe!$C$1:$C$22,0))","v":{"$error":"#N/A"}},null,null,null,null,null,null,null,null,{"$f":"VLOOKUP(Tabelle1[[#This Row],[Budgetlinie]],Ausfüllhilfe!$A$1:$D$23,4,0)","v":{"$error":"#N/A"}}]
[{"$f":"INDEX(Tabelle2[[#All],[Budgetlinie]],MATCH(Tabelle1[[#This Row],[Maßnahme]],Ausfüllhilfe!$C$1:$C$22,0))","v":{"$error":"#N/A"}},null,null,null,null,null,null,null,null,{"$f":"VLOOKUP(Tabelle1[[#This Row],[Budgetlinie]],Ausfüllhilfe!$A$1:$D$23,4,0)","v":{"$error":"#N/A"}}]
[{"$f":"INDEX(Tabelle2[[#All],[Budgetlinie]],MATCH(Tabelle1[[#This Row],[Maßnahme]],Ausfüllhilfe!$C$1:$C$22,0))","v":{"$error":"#N/A"}},null,null,null,null,null,null,null,null,{"$f":"VLOOKUP(Tabelle1[[#This Row],[Budgetlinie]],Ausfüllhilfe!$A$1:$D$23,4,0)","v":{"$error":"#N/A"}}]
[{"$f":"INDEX(Tabelle2[[#All],[Budgetlinie]],MATCH(Tabelle1[[#This Row],[Maßnahme]],Ausfüllhilfe!$C$1:$C$22,0))","v":{"$error":"#N/A"}},null,null,null,null,null,null,null,null,{"$f":"VLOOKUP(Tabelle1[[#This Row],[Budgetlinie]],Ausfüllhilfe!$A$1:$D$23,4,0)","v":{"$error":"#N/A"}}]
[{"$f":"INDEX(Tabelle2[[#All],[Budgetlinie]],MATCH(Tabelle1[[#This Row],[Maßnahme]],Ausfüllhilfe!$C$1:$C$22,0))","v":{"$error":"#N/A"}},null,null,null,null,null,null,null,null,{"$f":"VLOOKUP(Tabelle1[[#This Row],[Budgetlinie]],Ausfüllhilfe!$A$1:$D$23,4,0)","v":{"$error":"#N/A"}}]
[{"$f":"INDEX(Tabelle2[[#All],[Budgetlinie]],MATCH(Tabelle1[[#This Row],[Maßnahme]],Ausfüllhilfe!$C$1:$C$22,0))","v":{"$error":"#N/A"}},null,null,null,null,null,null,null,null,{"$f":"VLOOKUP(Tabelle1[[#This Row],[Budgetlinie]],Ausfüllhilfe!$A$1:$D$23,4,0)","v":{"$error":"#N/A"}}]
[{"$f":"INDEX(Tabelle2[[#All],[Budgetlinie]],MATCH(Tabelle1[[#This Row],[Maßnahme]],Ausfüllhilfe!$C$1:$C$22,0))","v":{"$error":"#N/A"}},null,null,null,null,null,null,null,null,{"$f":"VLOOKUP(Tabelle1[[#This Row],[Budgetlinie]],Ausfüllhilfe!$A$1:$D$23,4,0)","v":{"$error":"#N/A"}}]
[{"$f":"INDEX(Tabelle2[[#All],[Budgetlinie]],MATCH(Tabelle1[[#This Row],[Maßnahme]],Ausfüllhilfe!$C$1:$C$22,0))","v":{"$error":"#N/A"}},null,null,null,null,null,null,null,null,{"$f":"VLOOKUP(Tabelle1[[#This Row],[Budgetlinie]],Ausfüllhilfe!$A$1:$D$23,4,0)","v":{"$error":"#N/A"}}]
[{"$f":"INDEX(Tabelle2[[#All],[Budgetlinie]],MATCH(Tabelle1[[#This Row],[Maßnahme]],Ausfüllhilfe!$C$1:$C$22,0))","v":{"$error":"#N/A"}},null,null,null,null,null,null,null,null,{"$f":"VLOOKUP(Tabelle1[[#This Row],[Budgetlinie]],Ausfüllhilfe!$A$1:$D$23,4,0)","v":{"$error":"#N/A"}}]
[{"$f":"INDEX(Tabelle2[[#All],[Budgetlinie]],MATCH(Tabelle1[[#This Row],[Maßnahme]],Ausfüllhilfe!$C$1:$C$22,0))","v":{"$error":"#N/A"}},null,null,null,null,null,null,null,null,{"$f":"VLOOKUP(Tabelle1[[#This Row],[Budgetlinie]],Ausfüllhilfe!$A$1:$D$23,4,0)","v":{"$error":"#N/A"}}]
[{"$f":"INDEX(Tabelle2[[#All],[Budgetlinie]],MATCH(Tabelle1[[#This Row],[Maßnahme]],Ausfüllhilfe!$C$1:$C$22,0))","v":{"$error":"#N/A"}},null,null,null,null,null,null,null,null,{"$f":"VLOOKUP(Tabelle1[[#This Row],[Budgetlinie]],Ausfüllhilfe!$A$1:$D$23,4,0)","v":{"$error":"#N/A"}}]
[{"$f":"INDEX(Tabelle2[[#All],[Budgetlinie]],MATCH(Tabelle1[[#This Row],[Maßnahme]],Ausfüllhilfe!$C$1:$C$22,0))","v":{"$error":"#N/A"}},null,null,null,null,null,null,null,null,{"$f":"VLOOKUP(Tabelle1[[#This Row],[Budgetlinie]],Ausfüllhilfe!$A$1:$D$23,4,0)","v":{"$error":"#N/A"}}]
[{"$f":"INDEX(Tabelle2[[#All],[Budgetlinie]],MATCH(Tabelle1[[#This Row],[Maßnahme]],Ausfüllhilfe!$C$1:$C$22,0))","v":{"$error":"#N/A"}},null,null,null,null,null,null,null,null,{"$f":"VLOOKUP(Tabelle1[[#This Row],[Budgetlinie]],Ausfüllhilfe!$A$1:$D$23,4,0)","v":{"$error":"#N/A"}}]
[{"$f":"INDEX(Tabelle2[[#All],[Budgetlinie]],MATCH(Tabelle1[[#This Row],[Maßnahme]],Ausfüllhilfe!$C$1:$C$22,0))","v":{"$error":"#N/A"}},null,null,null,null,null,null,null,null,{"$f":"VLOOKUP(Tabelle1[[#This Row],[Budgetlinie]],Ausfüllhilfe!$A$1:$D$23,4,0)","v":{"$error":"#N/A"}}]
[{"$f":"INDEX(Tabelle2[[#All],[Budgetlinie]],MATCH(Tabelle1[[#This Row],[Maßnahme]],Ausfüllhilfe!$C$1:$C$22,0))","v":{"$error":"#N/A"}},null,null,null,null,null,null,null,null,{"$f":"VLOOKUP(Tabelle1[[#This Row],[Budgetlinie]],Ausfüllhilfe!$A$1:$D$23,4,0)","v":{"$error":"#N/A"}}]
[{"$f":"INDEX(Tabelle2[[#All],[Budgetlinie]],MATCH(Tabelle1[[#This Row],[Maßnahme]],Ausfüllhilfe!$C$1:$C$22,0))","v":{"$error":"#N/A"}},null,null,null,null,null,null,null,null,{"$f":"VLOOKUP(Tabelle1[[#This Row],[Budgetlinie]],Ausfüllhilfe!$A$1:$D$23,4,0)","v":{"$error":"#N/A"}}]
[{"$f":"INDEX(Tabelle2[[#All],[Budgetlinie]],MATCH(Tabelle1[[#This Row],[Maßnahme]],Ausfüllhilfe!$C$1:$C$22,0))","v":{"$error":"#N/A"}},null,null,null,null,null,null,null,null,{"$f":"VLOOKUP(Tabelle1[[#This Row],[Budgetlinie]],Ausfüllhilfe!$A$1:$D$23,4,0)","v":{"$error":"#N/A"}}]
[{"$f":"INDEX(Tabelle2[[#All],[Budgetlinie]],MATCH(Tabelle1[[#This Row],[Maßnahme]],Ausfüllhilfe!$C$1:$C$22,0))","v":{"$error":"#N/A"}},null,null,null,null,null,null,null,null,{"$f":"VLOOKUP(Tabelle1[[#This Row],[Budgetlinie]],Ausfüllhilfe!$A$1:$D$23,4,0)","v":{"$error":"#N/A"}}]
[{"$f":"INDEX(Tabelle2[[#All],[Budgetlinie]],MATCH(Tabelle1[[#This Row],[Maßnahme]],Ausfüllhilfe!$C$1:$C$22,0))","v":{"$error":"#N/A"}},null,null,null,null,null,null,null,null,{"$f":"VLOOKUP(Tabelle1[[#This Row],[Budgetlinie]],Ausfüllhilfe!$A$1:$D$23,4,0)","v":{"$error":"#N/A"}}]
[{"$f":"INDEX(Tabelle2[[#All],[Budgetlinie]],MATCH(Tabelle1[[#This Row],[Maßnahme]],Ausfüllhilfe!$C$1:$C$22,0))","v":{"$error":"#N/A"}},null,null,null,null,null,null,null,null,{"$f":"VLOOKUP(Tabelle1[[#This Row],[Budgetlinie]],Ausfüllhilfe!$A$1:$D$23,4,0)","v":{"$error":"#N/A"}}]
[{"$f":"INDEX(Tabelle2[[#All],[Budgetlinie]],MATCH(Tabelle1[[#This Row],[Maßnahme]],Ausfüllhilfe!$C$1:$C$22,0))","v":{"$error":"#N/A"}},null,null,null,null,null,null,null,null,{"$f":"VLOOKUP(Tabelle1[[#This Row],[Budgetlinie]],Ausfüllhilfe!$A$1:$D$23,4,0)","v":{"$error":"#N/A"}}]
[{"$f":"INDEX(Tabelle2[[#All],[Budgetlinie]],MATCH(Tabelle1[[#This Row],[Maßnahme]],Ausfüllhilfe!$C$1:$C$22,0))","v":{"$error":"#N/A"}},null,null,null,null,null,null,null,null,{"$f":"VLOOKUP(Tabelle1[[#This Row],[Budgetlinie]],Ausfüllhilfe!$A$1:$D$23,4,0)","v":{"$error":"#N/A"}}]
[{"$f":"INDEX(Tabelle2[[#All],[Budgetlinie]],MATCH(Tabelle1[[#This Row],[Maßnahme]],Ausfüllhilfe!$C$1:$C$22,0))","v":{"$error":"#N/A"}},null,null,null,null,null,null,null,null,{"$f":"VLOOKUP(Tabelle1[[#This Row],[Budgetlinie]],Ausfüllhilfe!$A$1:$D$23,4,0)","v":{"$error":"#N/A"}}]
[{"$f":"INDEX(Tabelle2[[#All],[Budgetlinie]],MATCH(Tabelle1[[#This Row],[Maßnahme]],Ausfüllhilfe!$C$1:$C$22,0))","v":{"$error":"#N/A"}},null,null,null,null,null,null,null,null,{"$f":"VLOOKUP(Tabelle1[[#This Row],[Budgetlinie]],Ausfüllhilfe!$A$1:$D$23,4,0)","v":{"$error":"#N/A"}}]
[{"$f":"INDEX(Tabelle2[[#All],[Budgetlinie]],MATCH(Tabelle1[[#This Row],[Maßnahme]],Ausfüllhilfe!$C$1:$C$22,0))","v":{"$error":"#N/A"}},null,null,null,null,null,null,null,null,{"$f":"VLOOKUP(Tabelle1[[#This Row],[Budgetlinie]],Ausfüllhilfe!$A$1:$D$23,4,0)","v":{"$error":"#N/A"}}]
[{"$f":"INDEX(Tabelle2[[#All],[Budgetlinie]],MATCH(Tabelle1[[#This Row],[Maßnahme]],Ausfüllhilfe!$C$1:$C$22,0))","v":{"$error":"#N/A"}},null,null,null,null,null,null,null,null,{"$f":"VLOOKUP(Tabelle1[[#This Row],[Budgetlinie]],Ausfüllhilfe!$A$1:$D$23,4,0)","v":{"$error":"#N/A"}}]
[{"$f":"INDEX(Tabelle2[[#All],[Budgetlinie]],MATCH(Tabelle1[[#This Row],[Maßnahme]],Ausfüllhilfe!$C$1:$C$22,0))","v":{"$error":"#N/A"}},null,null,null,null,null,null,null,null,{"$f":"VLOOKUP(Tabelle1[[#This Row],[Budgetlinie]],Ausfüllhilfe!$A$1:$D$23,4,0)","v":{"$error":"#N/A"}}]
[{"$f":"INDEX(Tabelle2[[#All],[Budgetlinie]],MATCH(Tabelle1[[#This Row],[Maßnahme]],Ausfüllhilfe!$C$1:$C$22,0))","v":{"$error":"#N/A"}},null,null,null,null,null,null,null,null,{"$f":"VLOOKUP(Tabelle1[[#This Row],[Budgetlinie]],Ausfüllhilfe!$A$1:$D$23,4,0)","v":{"$error":"#N/A"}}]
[{"$f":"INDEX(Tabelle2[[#All],[Budgetlinie]],MATCH(Tabelle1[[#This Row],[Maßnahme]],Ausfüllhilfe!$C$1:$C$22,0))","v":{"$error":"#N/A"}},null,null,null,null,null,null,null,null,{"$f":"VLOOKUP(Tabelle1[[#This Row],[Budgetlinie]],Ausfüllhilfe!$A$1:$D$23,4,0)","v":{"$error":"#N/A"}}]
[{"$f":"INDEX(Tabelle2[[#All],[Budgetlinie]],MATCH(Tabelle1[[#This Row],[Maßnahme]],Ausfüllhilfe!$C$1:$C$22,0))","v":{"$error":"#N/A"}},null,null,null,null,null,null,null,null,{"$f":"VLOOKUP(Tabelle1[[#This Row],[Budgetlinie]],Ausfüllhilfe!$A$1:$D$23,4,0)","v":{"$error":"#N/A"}}]
[{"$f":"INDEX(Tabelle2[[#All],[Budgetlinie]],MATCH(Tabelle1[[#This Row],[Maßnahme]],Ausfüllhilfe!$C$1:$C$22,0))","v":{"$error":"#N/A"}},null,null,null,null,null,null,null,null,{"$f":"VLOOKUP(Tabelle1[[#This Row],[Budgetlinie]],Ausfüllhilfe!$A$1:$D$23,4,0)","v":{"$error":"#N/A"}}]
[{"$f":"INDEX(Tabelle2[[#All],[Budgetlinie]],MATCH(Tabelle1[[#This Row],[Maßnahme]],Ausfüllhilfe!$C$1:$C$22,0))","v":{"$error":"#N/A"}},null,null,null,null,null,null,null,null,{"$f":"VLOOKUP(Tabelle1[[#This Row],[Budgetlinie]],Ausfüllhilfe!$A$1:$D$23,4,0)","v":{"$error":"#N/A"}}]
[{"$f":"INDEX(Tabelle2[[#All],[Budgetlinie]],MATCH(Tabelle1[[#This Row],[Maßnahme]],Ausfüllhilfe!$C$1:$C$22,0))","v":{"$error":"#N/A"}},null,null,null,null,null,null,null,null,{"$f":"VLOOKUP(Tabelle1[[#This Row],[Budgetlinie]],Ausfüllhilfe!$A$1:$D$23,4,0)","v":{"$error":"#N/A"}}]
[{"$f":"INDEX(Tabelle2[[#All],[Budgetlinie]],MATCH(Tabelle1[[#This Row],[Maßnahme]],Ausfüllhilfe!$C$1:$C$22,0))","v":{"$error":"#N/A"}},null,null,null,null,null,null,null,null,{"$f":"VLOOKUP(Tabelle1[[#This Row],[Budgetlinie]],Ausfüllhilfe!$A$1:$D$23,4,0)","v":{"$error":"#N/A"}}]
[{"$f":"INDEX(Tabelle2[[#All],[Budgetlinie]],MATCH(Tabelle1[[#This Row],[Maßnahme]],Ausfüllhilfe!$C$1:$C$22,0))","v":{"$error":"#N/A"}},null,null,null,null,null,null,null,null,{"$f":"VLOOKUP(Tabelle1[[#This Row],[Budgetlinie]],Ausfüllhilfe!$A$1:$D$23,4,0)","v":{"$error":"#N/A"}}]
[{"$f":"INDEX(Tabelle2[[#All],[Budgetlinie]],MATCH(Tabelle1[[#This Row],[Maßnahme]],Ausfüllhilfe!$C$1:$C$22,0))","v":{"$error":"#N/A"}},null,null,null,null,null,null,null,null,{"$f":"VLOOKUP(Tabelle1[[#This Row],[Budgetlinie]],Ausfüllhilfe!$A$1:$D$23,4,0)","v":{"$error":"#N/A"}}]
[{"$f":"INDEX(Tabelle2[[#All],[Budgetlinie]],MATCH(Tabelle1[[#This Row],[Maßnahme]],Ausfüllhilfe!$C$1:$C$22,0))","v":{"$error":"#N/A"}},null,null,null,null,null,null,null,null,{"$f":"VLOOKUP(Tabelle1[[#This Row],[Budgetlinie]],Ausfüllhilfe!$A$1:$D$23,4,0)","v":{"$error":"#N/A"}}]
[{"$f":"INDEX(Tabelle2[[#All],[Budgetlinie]],MATCH(Tabelle1[[#This Row],[Maßnahme]],Ausfüllhilfe!$C$1:$C$22,0))","v":{"$error":"#N/A"}},null,null,null,null,null,null,null,null,{"$f":"VLOOKUP(Tabelle1[[#This Row],[Budgetlinie]],Ausfüllhilfe!$A$1:$D$23,4,0)","v":{"$error":"#N/A"}}]
[{"$f":"INDEX(Tabelle2[[#All],[Budgetlinie]],MATCH(Tabelle1[[#This Row],[Maßnahme]],Ausfüllhilfe!$C$1:$C$22,0))","v":{"$error":"#N/A"}},null,null,null,null,null,null,null,null,{"$f":"VLOOKUP(Tabelle1[[#This Row],[Budgetlinie]],Ausfüllhilfe!$A$1:$D$23,4,0)","v":{"$error":"#N/A"}}]
[{"$f":"INDEX(Tabelle2[[#All],[Budgetlinie]],MATCH(Tabelle1[[#This Row],[Maßnahme]],Ausfüllhilfe!$C$1:$C$22,0))","v":{"$error":"#N/A"}},null,null,null,null,null,null,null,null,{"$f":"VLOOKUP(Tabelle1[[#This Row],[Budgetlinie]],Ausfüllhilfe!$A$1:$D$23,4,0)","v":{"$error":"#N/A"}}]
[{"$f":"INDEX(Tabelle2[[#All],[Budgetlinie]],MATCH(Tabelle1[[#This Row],[Maßnahme]],Ausfüllhilfe!$C$1:$C$22,0))","v":{"$error":"#N/A"}},null,null,null,null,null,null,null,null,{"$f":"VLOOKUP(Tabelle1[[#This Row],[Budgetlinie]],Ausfüllhilfe!$A$1:$D$23,4,0)","v":{"$error":"#N/A"}}]
[{"$f":"INDEX(Tabelle2[[#All],[Budgetlinie]],MATCH(Tabelle1[[#This Row],[Maßnahme]],Ausfüllhilfe!$C$1:$C$22,0))","v":{"$error":"#N/A"}},null,null,null,null,null,null,null,null,{"$f":"VLOOKUP(Tabelle1[[#This Row],[Budgetlinie]],Ausfüllhilfe!$A$1:$D$23,4,0)","v":{"$error":"#N/A"}}]
[{"$f":"INDEX(Tabelle2[[#All],[Budgetlinie]],MATCH(Tabelle1[[#This Row],[Maßnahme]],Ausfüllhilfe!$C$1:$C$22,0))","v":{"$error":"#N/A"}},null,null,null,null,null,null,null,null,{"$f":"VLOOKUP(Tabelle1[[#This Row],[Budgetlinie]],Ausfüllhilfe!$A$1:$D$23,4,0)","v":{"$error":"#N/A"}}]
[{"$f":"INDEX(Tabelle2[[#All],[Budgetlinie]],MATCH(Tabelle1[[#This Row],[Maßnahme]],Ausfüllhilfe!$C$1:$C$22,0))","v":{"$error":"#N/A"}},null,null,null,null,null,null,null,null,{"$f":"VLOOKUP(Tabelle1[[#This Row],[Budgetlinie]],Ausfüllhilfe!$A$1:$D$23,4,0)","v":{"$error":"#N/A"}}]
[{"$f":"INDEX(Tabelle2[[#All],[Budgetlinie]],MATCH(Tabelle1[[#This Row],[Maßnahme]],Ausfüllhilfe!$C$1:$C$22,0))","v":{"$error":"#N/A"}},null,null,null,null,null,null,null,null,{"$f":"VLOOKUP(Tabelle1[[#This Row],[Budgetlinie]],Ausfüllhilfe!$A$1:$D$23,4,0)","v":{"$error":"#N/A"}}]
[{"$f":"INDEX(Tabelle2[[#All],[Budgetlinie]],MATCH(Tabelle1[[#This Row],[Maßnahme]],Ausfüllhilfe!$C$1:$C$22,0))","v":{"$error":"#N/A"}},null,null,null,null,null,null,null,null,{"$f":"VLOOKUP(Tabelle1[[#This Row],[Budgetlinie]],Ausfüllhilfe!$A$1:$D$23,4,0)","v":{"$error":"#N/A"}}]
[{"$f":"INDEX(Tabelle2[[#All],[Budgetlinie]],MATCH(Tabelle1[[#This Row],[Maßnahme]],Ausfüllhilfe!$C$1:$C$22,0))","v":{"$error":"#N/A"}},null,null,null,null,null,null,null,null,{"$f":"VLOOKUP(Tabelle1[[#This Row],[Budgetlinie]],Ausfüllhilfe!$A$1:$D$23,4,0)","v":{"$error":"#N/A"}}]
[{"$f":"INDEX(Tabelle2[[#All],[Budgetlinie]],MATCH(Tabelle1[[#This Row],[Maßnahme]],Ausfüllhilfe!$C$1:$C$22,0))","v":{"$error":"#N/A"}},null,null,null,null,null,null,null,null,{"$f":"VLOOKUP(Tabelle1[[#This Row],[Budgetlinie]],Ausfüllhilfe!$A$1:$D$23,4,0)","v":{"$error":"#N/A"}}]
[{"$f":"INDEX(Tabelle2[[#All],[Budgetlinie]],MATCH(Tabelle1[[#This Row],[Maßnahme]],Ausfüllhilfe!$C$1:$C$22,0))","v":{"$error":"#N/A"}},null,null,null,null,null,null,null,null,{"$f":"VLOOKUP(Tabelle1[[#This Row],[Budgetlinie]],Ausfüllhilfe!$A$1:$D$23,4,0)","v":{"$error":"#N/A"}}]
[{"$f":"INDEX(Tabelle2[[#All],[Budgetlinie]],MATCH(Tabelle1[[#This Row],[Maßnahme]],Ausfüllhilfe!$C$1:$C$22,0))","v":{"$error":"#N/A"}},null,null,null,null,null,null,null,null,{"$f":"VLOOKUP(Tabelle1[[#This Row],[Budgetlinie]],Ausfüllhilfe!$A$1:$D$23,4,0)","v":{"$error":"#N/A"}}]
[{"$f":"INDEX(Tabelle2[[#All],[Budgetlinie]],MATCH(Tabelle1[[#This Row],[Maßnahme]],Ausfüllhilfe!$C$1:$C$22,0))","v":{"$error":"#N/A"}},null,null,null,null,null,null,null,null,{"$f":"VLOOKUP(Tabelle1[[#This Row],[Budgetlinie]],Ausfüllhilfe!$A$1:$D$23,4,0)","v":{"$error":"#N/A"}}]
[{"$f":"INDEX(Tabelle2[[#All],[Budgetlinie]],MATCH(Tabelle1[[#This Row],[Maßnahme]],Ausfüllhilfe!$C$1:$C$22,0))","v":{"$error":"#N/A"}},null,null,null,null,null,null,null,null,{"$f":"VLOOKUP(Tabelle1[[#This Row],[Budgetlinie]],Ausfüllhilfe!$A$1:$D$23,4,0)","v":{"$error":"#N/A"}}]
[{"$f":"INDEX(Tabelle2[[#All],[Budgetlinie]],MATCH(Tabelle1[[#This Row],[Maßnahme]],Ausfüllhilfe!$C$1:$C$22,0))","v":{"$error":"#N/A"}},null,null,null,null,null,null,null,null,{"$f":"VLOOKUP(Tabelle1[[#This Row],[Budgetlinie]],Ausfüllhilfe!$A$1:$D$23,4,0)","v":{"$error":"#N/A"}}]
[{"$f":"INDEX(Tabelle2[[#All],[Budgetlinie]],MATCH(Tabelle1[[#This Row],[Maßnahme]],Ausfüllhilfe!$C$1:$C$22,0))","v":{"$error":"#N/A"}},null,null,null,null,null,null,null,null,{"$f":"VLOOKUP(Tabelle1[[#This Row],[Budgetlinie]],Ausfüllhilfe!$A$1:$D$23,4,0)","v":{"$error":"#N/A"}}]
[{"$f":"INDEX(Tabelle2[[#All],[Budgetlinie]],MATCH(Tabelle1[[#This Row],[Maßnahme]],Ausfüllhilfe!$C$1:$C$22,0))","v":{"$error":"#N/A"}},null,null,null,null,null,null,null,null,{"$f":"VLOOKUP(Tabelle1[[#This Row],[Budgetlinie]],Ausfüllhilfe!$A$1:$D$23,4,0)","v":{"$error":"#N/A"}}]
[{"$f":"INDEX(Tabelle2[[#All],[Budgetlinie]],MATCH(Tabelle1[[#This Row],[Maßnahme]],Ausfüllhilfe!$C$1:$C$22,0))","v":{"$error":"#N/A"}},null,null,null,null,null,null,null,null,{"$f":"VLOOKUP(Tabelle1[[#This Row],[Budgetlinie]],Ausfüllhilfe!$A$1:$D$23,4,0)","v":{"$error":"#N/A"}}]
[{"$f":"INDEX(Tabelle2[[#All],[Budgetlinie]],MATCH(Tabelle1[[#This Row],[Maßnahme]],Ausfüllhilfe!$C$1:$C$22,0))","v":{"$error":"#N/A"}},null,null,null,null,null,null,null,null,{"$f":"VLOOKUP(Tabelle1[[#This Row],[Budgetlinie]],Ausfüllhilfe!$A$1:$D$23,4,0)","v":{"$error":"#N/A"}}]
[{"$f":"INDEX(Tabelle2[[#All],[Budgetlinie]],MATCH(Tabelle1[[#This Row],[Maßnahme]],Ausfüllhilfe!$C$1:$C$22,0))","v":{"$error":"#N/A"}},null,null,null,null,null,null,null,null,{"$f":"VLOOKUP(Tabelle1[[#This Row],[Budgetlinie]],Ausfüllhilfe!$A$1:$D$23,4,0)","v":{"$error":"#N/A"}}]
[{"$f":"INDEX(Tabelle2[[#All],[Budgetlinie]],MATCH(Tabelle1[[#This Row],[Maßnahme]],Ausfüllhilfe!$C$1:$C$22,0))","v":{"$error":"#N/A"}},null,null,null,null,null,null,null,null,{"$f":"VLOOKUP(Tabelle1[[#This Row],[Budgetlinie]],Ausfüllhilfe!$A$1:$D$23,4,0)","v":{"$error":"#N/A"}}]
[{"$f":"INDEX(Tabelle2[[#All],[Budgetlinie]],MATCH(Tabelle1[[#This Row],[Maßnahme]],Ausfüllhilfe!$C$1:$C$22,0))","v":{"$error":"#N/A"}},null,null,null,null,null,null,null,null,{"$f":"VLOOKUP(Tabelle1[[#This Row],[Budgetlinie]],Ausfüllhilfe!$A$1:$D$23,4,0)","v":{"$error":"#N/A"}}]
[{"$f":"INDEX(Tabelle2[[#All],[Budgetlinie]],MATCH(Tabelle1[[#This Row],[Maßnahme]],Ausfüllhilfe!$C$1:$C$22,0))","v":{"$error":"#N/A"}},null,null,null,null,null,null,null,null,{"$f":"VLOOKUP(Tabelle1[[#This Row],[Budgetlinie]],Ausfüllhilfe!$A$1:$D$23,4,0)","v":{"$error":"#N/A"}}]
[{"$f":"INDEX(Tabelle2[[#All],[Budgetlinie]],MATCH(Tabelle1[[#This Row],[Maßnahme]],Ausfüllhilfe!$C$1:$C$22,0))","v":{"$error":"#N/A"}},null,null,null,null,null,null,null,null,{"$f":"VLOOKUP(Tabelle1[[#This Row],[Budgetlinie]],Ausfüllhilfe!$A$1:$D$23,4,0)","v":{"$error":"#N/A"}}]
[{"$f":"INDEX(Tabelle2[[#All],[Budgetlinie]],MATCH(Tabelle1[[#This Row],[Maßnahme]],Ausfüllhilfe!$C$1:$C$22,0))","v":{"$error":"#N/A"}},null,null,null,null,null,null,null,null,{"$f":"VLOOKUP(Tabelle1[[#This Row],[Budgetlinie]],Ausfüllhilfe!$A$1:$D$23,4,0)","v":{"$error":"#N/A"}}]
[{"$f":"INDEX(Tabelle2[[#All],[Budgetlinie]],MATCH(Tabelle1[[#This Row],[Maßnahme]],Ausfüllhilfe!$C$1:$C$22,0))","v":{"$error":"#N/A"}},null,null,null,null,null,null,null,null,{"$f":"VLOOKUP(Tabelle1[[#This Row],[Budgetlinie]],Ausfüllhilfe!$A$1:$D$23,4,0)","v":{"$error":"#N/A"}}]
[{"$f":"INDEX(Tabelle2[[#All],[Budgetlinie]],MATCH(Tabelle1[[#This Row],[Maßnahme]],Ausfüllhilfe!$C$1:$C$22,0))","v":{"$error":"#N/A"}},null,null,null,null,null,null,null,null,{"$f":"VLOOKUP(Tabelle1[[#This Row],[Budgetlinie]],Ausfüllhilfe!$A$1:$D$23,4,0)","v":{"$error":"#N/A"}}]
[{"$f":"INDEX(Tabelle2[[#All],[Budgetlinie]],MATCH(Tabelle1[[#This Row],[Maßnahme]],Ausfüllhilfe!$C$1:$C$22,0))","v":{"$error":"#N/A"}},null,null,null,null,null,null,null,null,{"$f":"VLOOKUP(Tabelle1[[#This Row],[Budgetlinie]],Ausfüllhilfe!$A$1:$D$23,4,0)","v":{"$error":"#N/A"}}]
[{"$f":"INDEX(Tabelle2[[#All],[Budgetlinie]],MATCH(Tabelle1[[#This Row],[Maßnahme]],Ausfüllhilfe!$C$1:$C$22,0))","v":{"$error":"#N/A"}},null,null,null,null,null,null,null,null,{"$f":"VLOOKUP(Tabelle1[[#This Row],[Budgetlinie]],Ausfüllhilfe!$A$1:$D$23,4,0)","v":{"$error":"#N/A"}}]
[{"$f":"INDEX(Tabelle2[[#All],[Budgetlinie]],MATCH(Tabelle1[[#This Row],[Maßnahme]],Ausfüllhilfe!$C$1:$C$22,0))","v":{"$error":"#N/A"}},null,null,null,null,null,null,null,null,{"$f":"VLOOKUP(Tabelle1[[#This Row],[Budgetlinie]],Ausfüllhilfe!$A$1:$D$23,4,0)","v":{"$error":"#N/A"}}]
[{"$f":"INDEX(Tabelle2[[#All],[Budgetlinie]],MATCH(Tabelle1[[#This Row],[Maßnahme]],Ausfüllhilfe!$C$1:$C$22,0))","v":{"$error":"#N/A"}},null,null,null,null,null,null,null,null,{"$f":"VLOOKUP(Tabelle1[[#This Row],[Budgetlinie]],Ausfüllhilfe!$A$1:$D$23,4,0)","v":{"$error":"#N/A"}}]
[{"$f":"INDEX(Tabelle2[[#All],[Budgetlinie]],MATCH(Tabelle1[[#This Row],[Maßnahme]],Ausfüllhilfe!$C$1:$C$22,0))","v":{"$error":"#N/A"}},null,null,null,null,null,null,null,null,{"$f":"VLOOKUP(Tabelle1[[#This Row],[Budgetlinie]],Ausfüllhilfe!$A$1:$D$23,4,0)","v":{"$error":"#N/A"}}]
[{"$f":"INDEX(Tabelle2[[#All],[Budgetlinie]],MATCH(Tabelle1[[#This Row],[Maßnahme]],Ausfüllhilfe!$C$1:$C$22,0))","v":{"$error":"#N/A"}},null,null,null,null,null,null,null,null,{"$f":"VLOOKUP(Tabelle1[[#This Row],[Budgetlinie]],Ausfüllhilfe!$A$1:$D$23,4,0)","v":{"$error":"#N/A"}}]
[{"$f":"INDEX(Tabelle2[[#All],[Budgetlinie]],MATCH(Tabelle1[[#This Row],[Maßnahme]],Ausfüllhilfe!$C$1:$C$22,0))","v":{"$error":"#N/A"}},null,null,null,null,null,null,null,null,{"$f":"VLOOKUP(Tabelle1[[#This Row],[Budgetlinie]],Ausfüllhilfe!$A$1:$D$23,4,0)","v":{"$error":"#N/A"}}]
[{"$f":"INDEX(Tabelle2[[#All],[Budgetlinie]],MATCH(Tabelle1[[#This Row],[Maßnahme]],Ausfüllhilfe!$C$1:$C$22,0))","v":{"$error":"#N/A"}},null,null,null,null,null,null,null,null,{"$f":"VLOOKUP(Tabelle1[[#This Row],[Budgetlinie]],Ausfüllhilfe!$A$1:$D$23,4,0)","v":{"$error":"#N/A"}}]
[{"$f":"INDEX(Tabelle2[[#All],[Budgetlinie]],MATCH(Tabelle1[[#This Row],[Maßnahme]],Ausfüllhilfe!$C$1:$C$22,0))","v":{"$error":"#N/A"}},null,null,null,null,null,null,null,null,{"$f":"VLOOKUP(Tabelle1[[#This Row],[Budgetlinie]],Ausfüllhilfe!$A$1:$D$23,4,0)","v":{"$error":"#N/A"}}]
[{"$f":"INDEX(Tabelle2[[#All],[Budgetlinie]],MATCH(Tabelle1[[#This Row],[Maßnahme]],Ausfüllhilfe!$C$1:$C$22,0))","v":{"$error":"#N/A"}},null,null,null,null,null,null,null,null,{"$f":"VLOOKUP(Tabelle1[[#This Row],[Budgetlinie]],Ausfüllhilfe!$A$1:$D$23,4,0)","v":{"$error":"#N/A"}}]
[{"$f":"INDEX(Tabelle2[[#All],[Budgetlinie]],MATCH(Tabelle1[[#This Row],[Maßnahme]],Ausfüllhilfe!$C$1:$C$22,0))","v":{"$error":"#N/A"}},null,null,null,null,null,null,null,null,{"$f":"VLOOKUP(Tabelle1[[#This Row],[Budgetlinie]],Ausfüllhilfe!$A$1:$D$23,4,0)","v":{"$error":"#N/A"}}]
[{"$f":"INDEX(Tabelle2[[#All],[Budgetlinie]],MATCH(Tabelle1[[#This Row],[Maßnahme]],Ausfüllhilfe!$C$1:$C$22,0))","v":{"$error":"#N/A"}},null,null,null,null,null,null,null,null,{"$f":"VLOOKUP(Tabelle1[[#This Row],[Budgetlinie]],Ausfüllhilfe!$A$1:$D$23,4,0)","v":{"$error":"#N/A"}}]
[{"$f":"INDEX(Tabelle2[[#All],[Budgetlinie]],MATCH(Tabelle1[[#This Row],[Maßnahme]],Ausfüllhilfe!$C$1:$C$22,0))","v":{"$error":"#N/A"}},null,null,null,null,null,null,null,null,{"$f":"VLOOKUP(Tabelle1[[#This Row],[Budgetlinie]],Ausfüllhilfe!$A$1:$D$23,4,0)","v":{"$error":"#N/A"}}]
[{"$f":"INDEX(Tabelle2[[#All],[Budgetlinie]],MATCH(Tabelle1[[#This Row],[Maßnahme]],Ausfüllhilfe!$C$1:$C$22,0))","v":{"$error":"#N/A"}},null,null,null,null,null,null,null,null,{"$f":"VLOOKUP(Tabelle1[[#This Row],[Budgetlinie]],Ausfüllhilfe!$A$1:$D$23,4,0)","v":{"$error":"#N/A"}}]
[{"$f":"INDEX(Tabelle2[[#All],[Budgetlinie]],MATCH(Tabelle1[[#This Row],[Maßnahme]],Ausfüllhilfe!$C$1:$C$22,0))","v":{"$error":"#N/A"}},null,null,null,null,null,null,null,null,{"$f":"VLOOKUP(Tabelle1[[#This Row],[Budgetlinie]],Ausfüllhilfe!$A$1:$D$23,4,0)","v":{"$error":"#N/A"}}]
[{"$f":"INDEX(Tabelle2[[#All],[Budgetlinie]],MATCH(Tabelle1[[#This Row],[Maßnahme]],Ausfüllhilfe!$C$1:$C$22,0))","v":{"$error":"#N/A"}},null,null,null,null,null,null,null,null,{"$f":"VLOOKUP(Tabelle1[[#This Row],[Budgetlinie]],Ausfüllhilfe!$A$1:$D$23,4,0)","v":{"$error":"#N/A"}}]
[{"$f":"INDEX(Tabelle2[[#All],[Budgetlinie]],MATCH(Tabelle1[[#This Row],[Maßnahme]],Ausfüllhilfe!$C$1:$C$22,0))","v":{"$error":"#N/A"}},null,null,null,null,null,null,null,null,{"$f":"VLOOKUP(Tabelle1[[#This Row],[Budgetlinie]],Ausfüllhilfe!$A$1:$D$23,4,0)","v":{"$error":"#N/A"}}]
[{"$f":"INDEX(Tabelle2[[#All],[Budgetlinie]],MATCH(Tabelle1[[#This Row],[Maßnahme]],Ausfüllhilfe!$C$1:$C$22,0))","v":{"$error":"#N/A"}},null,null,null,null,null,null,null,null,{"$f":"VLOOKUP(Tabelle1[[#This Row],[Budgetlinie]],Ausfüllhilfe!$A$1:$D$23,4,0)","v":{"$error":"#N/A"}}]
[{"$f":"INDEX(Tabelle2[[#All],[Budgetlinie]],MATCH(Tabelle1[[#This Row],[Maßnahme]],Ausfüllhilfe!$C$1:$C$22,0))","v":{"$error":"#N/A"}},null,null,null,null,null,null,null,null,{"$f":"VLOOKUP(Tabelle1[[#This Row],[Budgetlinie]],Ausfüllhilfe!$A$1:$D$23,4,0)","v":{"$error":"#N/A"}}]
[{"$f":"INDEX(Tabelle2[[#All],[Budgetlinie]],MATCH(Tabelle1[[#This Row],[Maßnahme]],Ausfüllhilfe!$C$1:$C$22,0))","v":{"$error":"#N/A"}},null,null,null,null,null,null,null,null,{"$f":"VLOOKUP(Tabelle1[[#This Row],[Budgetlinie]],Ausfüllhilfe!$A$1:$D$23,4,0)","v":{"$error":"#N/A"}}]
[{"$f":"INDEX(Tabelle2[[#All],[Budgetlinie]],MATCH(Tabelle1[[#This Row],[Maßnahme]],Ausfüllhilfe!$C$1:$C$22,0))","v":{"$error":"#N/A"}},null,null,null,null,null,null,null,null,{"$f":"VLOOKUP(Tabelle1[[#This Row],[Budgetlinie]],Ausfüllhilfe!$A$1:$D$23,4,0)","v":{"$error":"#N/A"}}]
[{"$f":"INDEX(Tabelle2[[#All],[Budgetlinie]],MATCH(Tabelle1[[#This Row],[Maßnahme]],Ausfüllhilfe!$C$1:$C$22,0))","v":{"$error":"#N/A"}},null,null,null,null,null,null,null,null,{"$f":"VLOOKUP(Tabelle1[[#This Row],[Budgetlinie]],Ausfüllhilfe!$A$1:$D$23,4,0)","v":{"$error":"#N/A"}}]
[{"$f":"INDEX(Tabelle2[[#All],[Budgetlinie]],MATCH(Tabelle1[[#This Row],[Maßnahme]],Ausfüllhilfe!$C$1:$C$22,0))","v":{"$error":"#N/A"}},null,null,null,null,null,null,null,null,{"$f":"VLOOKUP(Tabelle1[[#This Row],[Budgetlinie]],Ausfüllhilfe!$A$1:$D$23,4,0)","v":{"$error":"#N/A"}}]
[{"$f":"INDEX(Tabelle2[[#All],[Budgetlinie]],MATCH(Tabelle1[[#This Row],[Maßnahme]],Ausfüllhilfe!$C$1:$C$22,0))","v":{"$error":"#N/A"}},null,null,null,null,null,null,null,null,{"$f":"VLOOKUP(Tabelle1[[#This Row],[Budgetlinie]],Ausfüllhilfe!$A$1:$D$23,4,0)","v":{"$error":"#N/A"}}]
[{"$f":"INDEX(Tabelle2[[#All],[Budgetlinie]],MATCH(Tabelle1[[#This Row],[Maßnahme]],Ausfüllhilfe!$C$1:$C$22,0))","v":{"$error":"#N/A"}},null,null,null,null,null,null,null,null,{"$f":"VLOOKUP(Tabelle1[[#This Row],[Budgetlinie]],Ausfüllhilfe!$A$1:$D$23,4,0)","v":{"$error":"#N/A"}}]
[{"$f":"INDEX(Tabelle2[[#All],[Budgetlinie]],MATCH(Tabelle1[[#This Row],[Maßnahme]],Ausfüllhilfe!$C$1:$C$22,0))","v":{"$error":"#N/A"}},null,null,null,null,null,null,null,null,{"$f":"VLOOKUP(Tabelle1[[#This Row],[Budgetlinie]],Ausfüllhilfe!$A$1:$D$23,4,0)","v":{"$error":"#N/A"}}]
[{"$f":"INDEX(Tabelle2[[#All],[Budgetlinie]],MATCH(Tabelle1[[#This Row],[Maßnahme]],Ausfüllhilfe!$C$1:$C$22,0))","v":{"$error":"#N/A"}},null,null,null,null,null,null,null,null,{"$f":"VLOOKUP(Tabelle1[[#This Row],[Budgetlinie]],Ausfüllhilfe!$A$1:$D$23,4,0)","v":{"$error":"#N/A"}}]
[{"$f":"INDEX(Tabelle2[[#All],[Budgetlinie]],MATCH(Tabelle1[[#This Row],[Maßnahme]],Ausfüllhilfe!$C$1:$C$22,0))","v":{"$error":"#N/A"}},null,null,null,null,null,null,null,null,{"$f":"VLOOKUP(Tabelle1[[#This Row],[Budgetlinie]],Ausfüllhilfe!$A$1:$D$23,4,0)","v":{"$error":"#N/A"}}]
[{"$f":"INDEX(Tabelle2[[#All],[Budgetlinie]],MATCH(Tabelle1[[#This Row],[Maßnahme]],Ausfüllhilfe!$C$1:$C$22,0))","v":{"$error":"#N/A"}},null,null,null,null,null,null,null,null,{"$f":"VLOOKUP(Tabelle1[[#This Row],[Budgetlinie]],Ausfüllhilfe!$A$1:$D$23,4,0)","v":{"$error":"#N/A"}}]
[{"$f":"INDEX(Tabelle2[[#All],[Budgetlinie]],MATCH(Tabelle1[[#This Row],[Maßnahme]],Ausfüllhilfe!$C$1:$C$22,0))","v":{"$error":"#N/A"}},null,null,null,null,null,null,null,null,{"$f":"VLOOKUP(Tabelle1[[#This Row],[Budgetlinie]],Ausfüllhilfe!$A$1:$D$23,4,0)","v":{"$error":"#N/A"}}]
[{"$f":"INDEX(Tabelle2[[#All],[Budgetlinie]],MATCH(Tabelle1[[#This Row],[Maßnahme]],Ausfüllhilfe!$C$1:$C$22,0))","v":{"$error":"#N/A"}},null,null,null,null,null,null,null,null,{"$f":"VLOOKUP(Tabelle1[[#This Row],[Budgetlinie]],Ausfüllhilfe!$A$1:$D$23,4,0)","v":{"$error":"#N/A"}}]
[{"$f":"INDEX(Tabelle2[[#All],[Budgetlinie]],MATCH(Tabelle1[[#This Row],[Maßnahme]],Ausfüllhilfe!$C$1:$C$22,0))","v":{"$error":"#N/A"}},null,null,null,null,null,null,null,null,{"$f":"VLOOKUP(Tabelle1[[#This Row],[Budgetlinie]],Ausfüllhilfe!$A$1:$D$23,4,0)","v":{"$error":"#N/A"}}]
[{"$f":"INDEX(Tabelle2[[#All],[Budgetlinie]],MATCH(Tabelle1[[#This Row],[Maßnahme]],Ausfüllhilfe!$C$1:$C$22,0))","v":{"$error":"#N/A"}},null,null,null,null,null,null,null,null,{"$f":"VLOOKUP(Tabelle1[[#This Row],[Budgetlinie]],Ausfüllhilfe!$A$1:$D$23,4,0)","v":{"$error":"#N/A"}}]
[{"$f":"INDEX(Tabelle2[[#All],[Budgetlinie]],MATCH(Tabelle1[[#This Row],[Maßnahme]],Ausfüllhilfe!$C$1:$C$22,0))","v":{"$error":"#N/A"}},null,null,null,null,null,null,null,null,{"$f":"VLOOKUP(Tabelle1[[#This Row],[Budgetlinie]],Ausfüllhilfe!$A$1:$D$23,4,0)","v":{"$error":"#N/A"}}]
[{"$f":"INDEX(Tabelle2[[#All],[Budgetlinie]],MATCH(Tabelle1[[#This Row],[Maßnahme]],Ausfüllhilfe!$C$1:$C$22,0))","v":{"$error":"#N/A"}},null,null,null,null,null,null,null,null,{"$f":"VLOOKUP(Tabelle1[[#This Row],[Budgetlinie]],Ausfüllhilfe!$A$1:$D$23,4,0)","v":{"$error":"#N/A"}}]
[{"$f":"INDEX(Tabelle2[[#All],[Budgetlinie]],MATCH(Tabelle1[[#This Row],[Maßnahme]],Ausfüllhilfe!$C$1:$C$22,0))","v":{"$error":"#N/A"}},null,null,null,null,null,null,null,null,{"$f":"VLOOKUP(Tabelle1[[#This Row],[Budgetlinie]],Ausfüllhilfe!$A$1:$D$23,4,0)","v":{"$error":"#N/A"}}]
[{"$f":"INDEX(Tabelle2[[#All],[Budgetlinie]],MATCH(Tabelle1[[#This Row],[Maßnahme]],Ausfüllhilfe!$C$1:$C$22,0))","v":{"$error":"#N/A"}},null,null,null,null,null,null,null,null,{"$f":"VLOOKUP(Tabelle1[[#This Row],[Budgetlinie]],Ausfüllhilfe!$A$1:$D$23,4,0)","v":{"$error":"#N/A"}}]
[{"$f":"INDEX(Tabelle2[[#All],[Budgetlinie]],MATCH(Tabelle1[[#This Row],[Maßnahme]],Ausfüllhilfe!$C$1:$C$22,0))","v":{"$error":"#N/A"}},null,null,null,null,null,null,null,null,{"$f":"VLOOKUP(Tabelle1[[#This Row],[Budgetlinie]],Ausfüllhilfe!$A$1:$D$23,4,0)","v":{"$error":"#N/A"}}]
[{"$f":"INDEX(Tabelle2[[#All],[Budgetlinie]],MATCH(Tabelle1[[#This Row],[Maßnahme]],Ausfüllhilfe!$C$1:$C$22,0))","v":{"$error":"#N/A"}},null,null,null,null,null,null,null,null,{"$f":"VLOOKUP(Tabelle1[[#This Row],[Budgetlinie]],Ausfüllhilfe!$A$1:$D$23,4,0)","v":{"$error":"#N/A"}}]
[{"$f":"INDEX(Tabelle2[[#All],[Budgetlinie]],MATCH(Tabelle1[[#This Row],[Maßnahme]],Ausfüllhilfe!$C$1:$C$22,0))","v":{"$error":"#N/A"}},null,null,null,null,null,null,null,null,{"$f":"VLOOKUP(Tabelle1[[#This Row],[Budgetlinie]],Ausfüllhilfe!$A$1:$D$23,4,0)","v":{"$error":"#N/A"}}]
[{"$f":"INDEX(Tabelle2[[#All],[Budgetlinie]],MATCH(Tabelle1[[#This Row],[Maßnahme]],Ausfüllhilfe!$C$1:$C$22,0))","v":{"$error":"#N/A"}},null,null,null,null,null,null,null,null,{"$f":"VLOOKUP(Tabelle1[[#This Row],[Budgetlinie]],Ausfüllhilfe!$A$1:$D$23,4,0)","v":{"$error":"#N/A"}}]
[{"$f":"INDEX(Tabelle2[[#All],[Budgetlinie]],MATCH(Tabelle1[[#This Row],[Maßnahme]],Ausfüllhilfe!$C$1:$C$22,0))","v":{"$error":"#N/A"}},null,null,null,null,null,null,null,null,{"$f":"VLOOKUP(Tabelle1[[#This Row],[Budgetlinie]],Ausfüllhilfe!$A$1:$D$23,4,0)","v":{"$error":"#N/A"}}]
[{"$f":"INDEX(Tabelle2[[#All],[Budgetlinie]],MATCH(Tabelle1[[#This Row],[Maßnahme]],Ausfüllhilfe!$C$1:$C$22,0))","v":{"$error":"#N/A"}},null,null,null,null,null,null,null,null,{"$f":"VLOOKUP(Tabelle1[[#This Row],[Budgetlinie]],Ausfüllhilfe!$A$1:$D$23,4,0)","v":{"$error":"#N/A"}}]
[{"$f":"INDEX(Tabelle2[[#All],[Budgetlinie]],MATCH(Tabelle1[[#This Row],[Maßnahme]],Ausfüllhilfe!$C$1:$C$22,0))","v":{"$error":"#N/A"}},null,null,null,null,null,null,null,null,{"$f":"VLOOKUP(Tabelle1[[#This Row],[Budgetlinie]],Ausfüllhilfe!$A$1:$D$23,4,0)","v":{"$error":"#N/A"}}]
[{"$f":"INDEX(Tabelle2[[#All],[Budgetlinie]],MATCH(Tabelle1[[#This Row],[Maßnahme]],Ausfüllhilfe!$C$1:$C$22,0))","v":{"$error":"#N/A"}},null,null,null,null,null,null,null,null,{"$f":"VLOOKUP(Tabelle1[[#This Row],[Budgetlinie]],Ausfüllhilfe!$A$1:$D$23,4,0)","v":{"$error":"#N/A"}}]
[{"$f":"INDEX(Tabelle2[[#All],[Budgetlinie]],MATCH(Tabelle1[[#This Row],[Maßnahme]],Ausfüllhilfe!$C$1:$C$22,0))","v":{"$error":"#N/A"}},null,null,null,null,null,null,null,null,{"$f":"VLOOKUP(Tabelle1[[#This Row],[Budgetlinie]],Ausfüllhilfe!$A$1:$D$23,4,0)","v":{"$error":"#N/A"}}]
[{"$f":"INDEX(Tabelle2[[#All],[Budgetlinie]],MATCH(Tabelle1[[#This Row],[Maßnahme]],Ausfüllhilfe!$C$1:$C$22,0))","v":{"$error":"#N/A"}},null,null,null,null,null,null,null,null,{"$f":"VLOOKUP(Tabelle1[[#This Row],[Budgetlinie]],Ausfüllhilfe!$A$1:$D$23,4,0)","v":{"$error":"#N/A"}}]
[{"$f":"INDEX(Tabelle2[[#All],[Budgetlinie]],MATCH(Tabelle1[[#This Row],[Maßnahme]],Ausfüllhilfe!$C$1:$C$22,0))","v":{"$error":"#N/A"}},null,null,null,null,null,null,null,null,{"$f":"VLOOKUP(Tabelle1[[#This Row],[Budgetlinie]],Ausfüllhilfe!$A$1:$D$23,4,0)","v":{"$error":"#N/A"}}]
[{"$f":"INDEX(Tabelle2[[#All],[Budgetlinie]],MATCH(Tabelle1[[#This Row],[Maßnahme]],Ausfüllhilfe!$C$1:$C$22,0))","v":{"$error":"#N/A"}},null,null,null,null,null,null,null,null,{"$f":"VLOOKUP(Tabelle1[[#This Row],[Budgetlinie]],Ausfüllhilfe!$A$1:$D$23,4,0)","v":{"$error":"#N/A"}}]
[{"$f":"INDEX(Tabelle2[[#All],[Budgetlinie]],MATCH(Tabelle1[[#This Row],[Maßnahme]],Ausfüllhilfe!$C$1:$C$22,0))","v":{"$error":"#N/A"}},null,null,null,null,null,null,null,null,{"$f":"VLOOKUP(Tabelle1[[#This Row],[Budgetlinie]],Ausfüllhilfe!$A$1:$D$23,4,0)","v":{"$error":"#N/A"}}]
[{"$f":"INDEX(Tabelle2[[#All],[Budgetlinie]],MATCH(Tabelle1[[#This Row],[Maßnahme]],Ausfüllhilfe!$C$1:$C$22,0))","v":{"$error":"#N/A"}},null,null,null,null,null,null,null,null,{"$f":"VLOOKUP(Tabelle1[[#This Row],[Budgetlinie]],Ausfüllhilfe!$A$1:$D$23,4,0)","v":{"$error":"#N/A"}}]
[{"$f":"INDEX(Tabelle2[[#All],[Budgetlinie]],MATCH(Tabelle1[[#This Row],[Maßnahme]],Ausfüllhilfe!$C$1:$C$22,0))","v":{"$error":"#N/A"}},null,null,null,null,null,null,null,null,{"$f":"VLOOKUP(Tabelle1[[#This Row],[Budgetlinie]],Ausfüllhilfe!$A$1:$D$23,4,0)","v":{"$error":"#N/A"}}]
[{"$f":"INDEX(Tabelle2[[#All],[Budgetlinie]],MATCH(Tabelle1[[#This Row],[Maßnahme]],Ausfüllhilfe!$C$1:$C$22,0))","v":{"$error":"#N/A"}},null,null,null,null,null,null,null,null,{"$f":"VLOOKUP(Tabelle1[[#This Row],[Budgetlinie]],Ausfüllhilfe!$A$1:$D$23,4,0)","v":{"$error":"#N/A"}}]
[{"$f":"INDEX(Tabelle2[[#All],[Budgetlinie]],MATCH(Tabelle1[[#This Row],[Maßnahme]],Ausfüllhilfe!$C$1:$C$22,0))","v":{"$error":"#N/A"}},null,null,null,null,null,null,null,null,{"$f":"VLOOKUP(Tabelle1[[#This Row],[Budgetlinie]],Ausfüllhilfe!$A$1:$D$23,4,0)","v":{"$error":"#N/A"}}]
[{"$f":"INDEX(Tabelle2[[#All],[Budgetlinie]],MATCH(Tabelle1[[#This Row],[Maßnahme]],Ausfüllhilfe!$C$1:$C$22,0))","v":{"$error":"#N/A"}},null,null,null,null,null,null,null,null,{"$f":"VLOOKUP(Tabelle1[[#This Row],[Budgetlinie]],Ausfüllhilfe!$A$1:$D$23,4,0)","v":{"$error":"#N/A"}}]
[{"$f":"INDEX(Tabelle2[[#All],[Budgetlinie]],MATCH(Tabelle1[[#This Row],[Maßnahme]],Ausfüllhilfe!$C$1:$C$22,0))","v":{"$error":"#N/A"}},null,null,null,null,null,null,null,null,{"$f":"VLOOKUP(Tabelle1[[#This Row],[Budgetlinie]],Ausfüllhilfe!$A$1:$D$23,4,0)","v":{"$error":"#N/A"}}]
[{"$f":"INDEX(Tabelle2[[#All],[Budgetlinie]],MATCH(Tabelle1[[#This Row],[Maßnahme]],Ausfüllhilfe!$C$1:$C$22,0))","v":{"$error":"#N/A"}},null,null,null,null,null,null,null,null,{"$f":"VLOOKUP(Tabelle1[[#This Row],[Budgetlinie]],Ausfüllhilfe!$A$1:$D$23,4,0)","v":{"$error":"#N/A"}}]
[{"$f":"INDEX(Tabelle2[[#All],[Budgetlinie]],MATCH(Tabelle1[[#This Row],[Maßnahme]],Ausfüllhilfe!$C$1:$C$22,0))","v":{"$error":"#N/A"}},null,null,null,null,null,null,null,null,{"$f":"VLOOKUP(Tabelle1[[#This Row],[Budgetlinie]],Ausfüllhilfe!$A$1:$D$23,4,0)","v":{"$error":"#N/A"}}]
[{"$f":"INDEX(Tabelle2[[#All],[Budgetlinie]],MATCH(Tabelle1[[#This Row],[Maßnahme]],Ausfüllhilfe!$C$1:$C$22,0))","v":{"$error":"#N/A"}},null,null,null,null,null,null,null,null,{"$f":"VLOOKUP(Tabelle1[[#This Row],[Budgetlinie]],Ausfüllhilfe!$A$1:$D$23,4,0)","v":{"$error":"#N/A"}}]
[{"$f":"INDEX(Tabelle2[[#All],[Budgetlinie]],MATCH(Tabelle1[[#This Row],[Maßnahme]],Ausfüllhilfe!$C$1:$C$22,0))","v":{"$error":"#N/A"}},null,null,null,null,null,null,null,null,{"$f":"VLOOKUP(Tabelle1[[#This Row],[Budgetlinie]],Ausfüllhilfe!$A$1:$D$23,4,0)","v":{"$error":"#N/A"}}]
[{"$f":"INDEX(Tabelle2[[#All],[Budgetlinie]],MATCH(Tabelle1[[#This Row],[Maßnahme]],Ausfüllhilfe!$C$1:$C$22,0))","v":{"$error":"#N/A"}},null,null,null,null,null,null,null,null,{"$f":"VLOOKUP(Tabelle1[[#This Row],[Budgetlinie]],Ausfüllhilfe!$A$1:$D$23,4,0)","v":{"$error":"#N/A"}}]
[{"$f":"INDEX(Tabelle2[[#All],[Budgetlinie]],MATCH(Tabelle1[[#This Row],[Maßnahme]],Ausfüllhilfe!$C$1:$C$22,0))","v":{"$error":"#N/A"}},null,null,null,null,null,null,null,null,{"$f":"VLOOKUP(Tabelle1[[#This Row],[Budgetlinie]],Ausfüllhilfe!$A$1:$D$23,4,0)","v":{"$error":"#N/A"}}]
[{"$f":"INDEX(Tabelle2[[#All],[Budgetlinie]],MATCH(Tabelle1[[#This Row],[Maßnahme]],Ausfüllhilfe!$C$1:$C$22,0))","v":{"$error":"#N/A"}},null,null,null,null,null,null,null,null,{"$f":"VLOOKUP(Tabelle1[[#This Row],[Budgetlinie]],Ausfüllhilfe!$A$1:$D$23,4,0)","v":{"$error":"#N/A"}}]
[{"$f":"INDEX(Tabelle2[[#All],[Budgetlinie]],MATCH(Tabelle1[[#This Row],[Maßnahme]],Ausfüllhilfe!$C$1:$C$22,0))","v":{"$error":"#N/A"}},null,null,null,null,null,null,null,null,{"$f":"VLOOKUP(Tabelle1[[#This Row],[Budgetlinie]],Ausfüllhilfe!$A$1:$D$23,4,0)","v":{"$error":"#N/A"}}]
[{"$f":"INDEX(Tabelle2[[#All],[Budgetlinie]],MATCH(Tabelle1[[#This Row],[Maßnahme]],Ausfüllhilfe!$C$1:$C$22,0))","v":{"$error":"#N/A"}},null,null,null,null,null,null,null,null,{"$f":"VLOOKUP(Tabelle1[[#This Row],[Budgetlinie]],Ausfüllhilfe!$A$1:$D$23,4,0)","v":{"$error":"#N/A"}}]
[{"$f":"INDEX(Tabelle2[[#All],[Budgetlinie]],MATCH(Tabelle1[[#This Row],[Maßnahme]],Ausfüllhilfe!$C$1:$C$22,0))","v":{"$error":"#N/A"}},null,null,null,null,null,null,null,null,{"$f":"VLOOKUP(Tabelle1[[#This Row],[Budgetlinie]],Ausfüllhilfe!$A$1:$D$23,4,0)","v":{"$error":"#N/A"}}]
[{"$f":"INDEX(Tabelle2[[#All],[Budgetlinie]],MATCH(Tabelle1[[#This Row],[Maßnahme]],Ausfüllhilfe!$C$1:$C$22,0))","v":{"$error":"#N/A"}},null,null,null,null,null,null,null,null,{"$f":"VLOOKUP(Tabelle1[[#This Row],[Budgetlinie]],Ausfüllhilfe!$A$1:$D$23,4,0)","v":{"$error":"#N/A"}}]
[{"$f":"INDEX(Tabelle2[[#All],[Budgetlinie]],MATCH(Tabelle1[[#This Row],[Maßnahme]],Ausfüllhilfe!$C$1:$C$22,0))","v":{"$error":"#N/A"}},null,null,null,null,null,null,null,null,{"$f":"VLOOKUP(Tabelle1[[#This Row],[Budgetlinie]],Ausfüllhilfe!$A$1:$D$23,4,0)","v":{"$error":"#N/A"}}]
[{"$f":"INDEX(Tabelle2[[#All],[Budgetlinie]],MATCH(Tabelle1[[#This Row],[Maßnahme]],Ausfüllhilfe!$C$1:$C$22,0))","v":{"$error":"#N/A"}},null,null,null,null,null,null,null,null,{"$f":"VLOOKUP(Tabelle1[[#This Row],[Budgetlinie]],Ausfüllhilfe!$A$1:$D$23,4,0)","v":{"$error":"#N/A"}}]
[{"$f":"INDEX(Tabelle2[[#All],[Budgetlinie]],MATCH(Tabelle1[[#This Row],[Maßnahme]],Ausfüllhilfe!$C$1:$C$22,0))","v":{"$error":"#N/A"}},null,null,null,null,null,null,null,null,{"$f":"VLOOKUP(Tabelle1[[#This Row],[Budgetlinie]],Ausfüllhilfe!$A$1:$D$23,4,0)","v":{"$error":"#N/A"}}]
[{"$f":"INDEX(Tabelle2[[#All],[Budgetlinie]],MATCH(Tabelle1[[#This Row],[Maßnahme]],Ausfüllhilfe!$C$1:$C$22,0))","v":{"$error":"#N/A"}},null,null,null,null,null,null,null,null,{"$f":"VLOOKUP(Tabelle1[[#This Row],[Budgetlinie]],Ausfüllhilfe!$A$1:$D$23,4,0)","v":{"$error":"#N/A"}}]
[{"$f":"INDEX(Tabelle2[[#All],[Budgetlinie]],MATCH(Tabelle1[[#This Row],[Maßnahme]],Ausfüllhilfe!$C$1:$C$22,0))","v":{"$error":"#N/A"}},null,null,null,null,null,null,null,null,{"$f":"VLOOKUP(Tabelle1[[#This Row],[Budgetlinie]],Ausfüllhilfe!$A$1:$D$23,4,0)","v":{"$error":"#N/A"}}]
[{"$f":"INDEX(Tabelle2[[#All],[Budgetlinie]],MATCH(Tabelle1[[#This Row],[Maßnahme]],Ausfüllhilfe!$C$1:$C$22,0))","v":{"$error":"#N/A"}},null,null,null,null,null,null,null,null,{"$f":"VLOOKUP(Tabelle1[[#This Row],[Budgetlinie]],Ausfüllhilfe!$A$1:$D$23,4,0)","v":{"$error":"#N/A"}}]
[{"$f":"INDEX(Tabelle2[[#All],[Budgetlinie]],MATCH(Tabelle1[[#This Row],[Maßnahme]],Ausfüllhilfe!$C$1:$C$22,0))","v":{"$error":"#N/A"}},null,null,null,null,null,null,null,null,{"$f":"VLOOKUP(Tabelle1[[#This Row],[Budgetlinie]],Ausfüllhilfe!$A$1:$D$23,4,0)","v":{"$error":"#N/A"}}]
[{"$f":"INDEX(Tabelle2[[#All],[Budgetlinie]],MATCH(Tabelle1[[#This Row],[Maßnahme]],Ausfüllhilfe!$C$1:$C$22,0))","v":{"$error":"#N/A"}},null,null,null,null,null,null,null,null,{"$f":"VLOOKUP(Tabelle1[[#This Row],[Budgetlinie]],Ausfüllhilfe!$A$1:$D$23,4,0)","v":{"$error":"#N/A"}}]
[{"$f":"INDEX(Tabelle2[[#All],[Budgetlinie]],MATCH(Tabelle1[[#This Row],[Maßnahme]],Ausfüllhilfe!$C$1:$C$22,0))","v":{"$error":"#N/A"}},null,null,null,null,null,null,null,null,{"$f":"VLOOKUP(Tabelle1[[#This Row],[Budgetlinie]],Ausfüllhilfe!$A$1:$D$23,4,0)","v":{"$error":"#N/A"}}]
[{"$f":"INDEX(Tabelle2[[#All],[Budgetlinie]],MATCH(Tabelle1[[#This Row],[Maßnahme]],Ausfüllhilfe!$C$1:$C$22,0))","v":{"$error":"#N/A"}},null,null,null,null,null,null,null,null,{"$f":"VLOOKUP(Tabelle1[[#This Row],[Budgetlinie]],Ausfüllhilfe!$A$1:$D$23,4,0)","v":{"$error":"#N/A"}}]
[{"$f":"INDEX(Tabelle2[[#All],[Budgetlinie]],MATCH(Tabelle1[[#This Row],[Maßnahme]],Ausfüllhilfe!$C$1:$C$22,0))","v":{"$error":"#N/A"}},null,null,null,null,null,null,null,null,{"$f":"VLOOKUP(Tabelle1[[#This Row],[Budgetlinie]],Ausfüllhilfe!$A$1:$D$23,4,0)","v":{"$error":"#N/A"}}]
[{"$f":"INDEX(Tabelle2[[#All],[Budgetlinie]],MATCH(Tabelle1[[#This Row],[Maßnahme]],Ausfüllhilfe!$C$1:$C$22,0))","v":{"$error":"#N/A"}},null,null,null,null,null,null,null,null,{"$f":"VLOOKUP(Tabelle1[[#This Row],[Budgetlinie]],Ausfüllhilfe!$A$1:$D$23,4,0)","v":{"$error":"#N/A"}}]
[{"$f":"INDEX(Tabelle2[[#All],[Budgetlinie]],MATCH(Tabelle1[[#This Row],[Maßnahme]],Ausfüllhilfe!$C$1:$C$22,0))","v":{"$error":"#N/A"}},null,null,null,null,null,null,null,null,{"$f":"VLOOKUP(Tabelle1[[#This Row],[Budgetlinie]],Ausfüllhilfe!$A$1:$D$23,4,0)","v":{"$error":"#N/A"}}]
[{"$f":"INDEX(Tabelle2[[#All],[Budgetlinie]],MATCH(Tabelle1[[#This Row],[Maßnahme]],Ausfüllhilfe!$C$1:$C$22,0))","v":{"$error":"#N/A"}},null,null,null,null,null,null,null,null,{"$f":"VLOOKUP(Tabelle1[[#This Row],[Budgetlinie]],Ausfüllhilfe!$A$1:$D$23,4,0)","v":{"$error":"#N/A"}}]
[{"$f":"INDEX(Tabelle2[[#All],[Budgetlinie]],MATCH(Tabelle1[[#This Row],[Maßnahme]],Ausfüllhilfe!$C$1:$C$22,0))","v":{"$error":"#N/A"}},null,null,null,null,null,null,null,null,{"$f":"VLOOKUP(Tabelle1[[#This Row],[Budgetlinie]],Ausfüllhilfe!$A$1:$D$23,4,0)","v":{"$error":"#N/A"}}]
[{"$f":"INDEX(Tabelle2[[#All],[Budgetlinie]],MATCH(Tabelle1[[#This Row],[Maßnahme]],Ausfüllhilfe!$C$1:$C$22,0))","v":{"$error":"#N/A"}},null,null,null,null,null,null,null,null,{"$f":"VLOOKUP(Tabelle1[[#This Row],[Budgetlinie]],Ausfüllhilfe!$A$1:$D$23,4,0)","v":{"$error":"#N/A"}}]
[{"$f":"INDEX(Tabelle2[[#All],[Budgetlinie]],MATCH(Tabelle1[[#This Row],[Maßnahme]],Ausfüllhilfe!$C$1:$C$22,0))","v":{"$error":"#N/A"}},null,null,null,null,null,null,null,null,{"$f":"VLOOKUP(Tabelle1[[#This Row],[Budgetlinie]],Ausfüllhilfe!$A$1:$D$23,4,0)","v":{"$error":"#N/A"}}]
[{"$f":"INDEX(Tabelle2[[#All],[Budgetlinie]],MATCH(Tabelle1[[#This Row],[Maßnahme]],Ausfüllhilfe!$C$1:$C$22,0))","v":{"$error":"#N/A"}},null,null,null,null,null,null,null,null,{"$f":"VLOOKUP(Tabelle1[[#This Row],[Budgetlinie]],Ausfüllhilfe!$A$1:$D$23,4,0)","v":{"$error":"#N/A"}}]
[{"$f":"INDEX(Tabelle2[[#All],[Budgetlinie]],MATCH(Tabelle1[[#This Row],[Maßnahme]],Ausfüllhilfe!$C$1:$C$22,0))","v":{"$error":"#N/A"}},null,null,null,null,null,null,null,null,{"$f":"VLOOKUP(Tabelle1[[#This Row],[Budgetlinie]],Ausfüllhilfe!$A$1:$D$23,4,0)","v":{"$error":"#N/A"}}]
[{"$f":"INDEX(Tabelle2[[#All],[Budgetlinie]],MATCH(Tabelle1[[#This Row],[Maßnahme]],Ausfüllhilfe!$C$1:$C$22,0))","v":{"$error":"#N/A"}},null,null,null,null,null,null,null,null,{"$f":"VLOOKUP(Tabelle1[[#This Row],[Budgetlinie]],Ausfüllhilfe!$A$1:$D$23,4,0)","v":{"$error":"#N/A"}}]
[{"$f":"INDEX(Tabelle2[[#All],[Budgetlinie]],MATCH(Tabelle1[[#This Row],[Maßnahme]],Ausfüllhilfe!$C$1:$C$22,0))","v":{"$error":"#N/A"}},null,null,null,null,null,null,null,null,{"$f":"VLOOKUP(Tabelle1[[#This Row],[Budgetlinie]],Ausfüllhilfe!$A$1:$D$23,4,0)","v":{"$error":"#N/A"}}]
[{"$f":"INDEX(Tabelle2[[#All],[Budgetlinie]],MATCH(Tabelle1[[#This Row],[Maßnahme]],Ausfüllhilfe!$C$1:$C$22,0))","v":{"$error":"#N/A"}},null,null,null,null,null,null,null,null,{"$f":"VLOOKUP(Tabelle1[[#This Row],[Budgetlinie]],Ausfüllhilfe!$A$1:$D$23,4,0)","v":{"$error":"#N/A"}}]
[{"$f":"INDEX(Tabelle2[[#All],[Budgetlinie]],MATCH(Tabelle1[[#This Row],[Maßnahme]],Ausfüllhilfe!$C$1:$C$22,0))","v":{"$error":"#N/A"}},null,null,null,null,null,null,null,null,{"$f":"VLOOKUP(Tabelle1[[#This Row],[Budgetlinie]],Ausfüllhilfe!$A$1:$D$23,4,0)","v":{"$error":"#N/A"}}]
[{"$f":"INDEX(Tabelle2[[#All],[Budgetlinie]],MATCH(Tabelle1[[#This Row],[Maßnahme]],Ausfüllhilfe!$C$1:$C$22,0))","v":{"$error":"#N/A"}},null,null,null,null,null,null,null,null,{"$f":"VLOOKUP(Tabelle1[[#This Row],[Budgetlinie]],Ausfüllhilfe!$A$1:$D$23,4,0)","v":{"$error":"#N/A"}}]
[{"$f":"INDEX(Tabelle2[[#All],[Budgetlinie]],MATCH(Tabelle1[[#This Row],[Maßnahme]],Ausfüllhilfe!$C$1:$C$22,0))","v":{"$error":"#N/A"}},null,null,null,null,null,null,null,null,{"$f":"VLOOKUP(Tabelle1[[#This Row],[Budgetlinie]],Ausfüllhilfe!$A$1:$D$23,4,0)","v":{"$error":"#N/A"}}]
[{"$f":"INDEX(Tabelle2[[#All],[Budgetlinie]],MATCH(Tabelle1[[#This Row],[Maßnahme]],Ausfüllhilfe!$C$1:$C$22,0))","v":{"$error":"#N/A"}},null,null,null,null,null,null,null,null,{"$f":"VLOOKUP(Tabelle1[[#This Row],[Budgetlinie]],Ausfüllhilfe!$A$1:$D$23,4,0)","v":{"$error":"#N/A"}}]
[{"$f":"INDEX(Tabelle2[[#All],[Budgetlinie]],MATCH(Tabelle1[[#This Row],[Maßnahme]],Ausfüllhilfe!$C$1:$C$22,0))","v":{"$error":"#N/A"}},null,null,null,null,null,null,null,null,{"$f":"VLOOKUP(Tabelle1[[#This Row],[Budgetlinie]],Ausfüllhilfe!$A$1:$D$23,4,0)","v":{"$error":"#N/A"}}]
[{"$f":"INDEX(Tabelle2[[#All],[Budgetlinie]],MATCH(Tabelle1[[#This Row],[Maßnahme]],Ausfüllhilfe!$C$1:$C$22,0))","v":{"$error":"#N/A"}},null,null,null,null,null,null,null,null,{"$f":"VLOOKUP(Tabelle1[[#This Row],[Budgetlinie]],Ausfüllhilfe!$A$1:$D$23,4,0)","v":{"$error":"#N/A"}}]
[{"$f":"INDEX(Tabelle2[[#All],[Budgetlinie]],MATCH(Tabelle1[[#This Row],[Maßnahme]],Ausfüllhilfe!$C$1:$C$22,0))","v":{"$error":"#N/A"}},null,null,null,null,null,null,null,null,{"$f":"VLOOKUP(Tabelle1[[#This Row],[Budgetlinie]],Ausfüllhilfe!$A$1:$D$23,4,0)","v":{"$error":"#N/A"}}]
[{"$f":"INDEX(Tabelle2[[#All],[Budgetlinie]],MATCH(Tabelle1[[#This Row],[Maßnahme]],Ausfüllhilfe!$C$1:$C$22,0))","v":{"$error":"#N/A"}},null,null,null,null,null,null,null,null,{"$f":"VLOOKUP(Tabelle1[[#This Row],[Budgetlinie]],Ausfüllhilfe!$A$1:$D$23,4,0)","v":{"$error":"#N/A"}}]
[{"$f":"INDEX(Tabelle2[[#All],[Budgetlinie]],MATCH(Tabelle1[[#This Row],[Maßnahme]],Ausfüllhilfe!$C$1:$C$22,0))","v":{"$error":"#N/A"}},null,null,null,null,null,null,null,null,{"$f":"VLOOKUP(Tabelle1[[#This Row],[Budgetlinie]],Ausfüllhilfe!$A$1:$D$23,4,0)","v":{"$error":"#N/A"}}]
[{"$f":"INDEX(Tabelle2[[#All],[Budgetlinie]],MATCH(Tabelle1[[#This Row],[Maßnahme]],Ausfüllhilfe!$C$1:$C$22,0))","v":{"$error":"#N/A"}},null,null,null,null,null,null,null,null,{"$f":"VLOOKUP(Tabelle1[[#This Row],[Budgetlinie]],Ausfüllhilfe!$A$1:$D$23,4,0)","v":{"$error":"#N/A"}}]
[{"$f":"INDEX(Tabelle2[[#All],[Budgetlinie]],MATCH(Tabelle1[[#This Row],[Maßnahme]],Ausfüllhilfe!$C$1:$C$22,0))","v":{"$error":"#N/A"}},null,null,null,null,null,null,null,null,{"$f":"VLOOKUP(Tabelle1[[#This Row],[Budgetlinie]],Ausfüllhilfe!$A$1:$D$23,4,0)","v":{"$error":"#N/A"}}]
[{"$f":"INDEX(Tabelle2[[#All],[Budgetlinie]],MATCH(Tabelle1[[#This Row],[Maßnahme]],Ausfüllhilfe!$C$1:$C$22,0))","v":{"$error":"#N/A"}},null,null,null,null,null,null,null,null,{"$f":"VLOOKUP(Tabelle1[[#This Row],[Budgetlinie]],Ausfüllhilfe!$A$1:$D$23,4,0)","v":{"$error":"#N/A"}}]
[{"$f":"INDEX(Tabelle2[[#All],[Budgetlinie]],MATCH(Tabelle1[[#This Row],[Maßnahme]],Ausfüllhilfe!$C$1:$C$22,0))","v":{"$error":"#N/A"}},null,null,null,null,null,null,null,null,{"$f":"VLOOKUP(Tabelle1[[#This Row],[Budgetlinie]],Ausfüllhilfe!$A$1:$D$23,4,0)","v":{"$error":"#N/A"}}]
[{"$f":"INDEX(Tabelle2[[#All],[Budgetlinie]],MATCH(Tabelle1[[#This Row],[Maßnahme]],Ausfüllhilfe!$C$1:$C$22,0))","v":{"$error":"#N/A"}},null,null,null,null,null,null,null,null,{"$f":"VLOOKUP(Tabelle1[[#This Row],[Budgetlinie]],Ausfüllhilfe!$A$1:$D$23,4,0)","v":{"$error":"#N/A"}}]
[{"$f":"INDEX(Tabelle2[[#All],[Budgetlinie]],MATCH(Tabelle1[[#This Row],[Maßnahme]],Ausfüllhilfe!$C$1:$C$22,0))","v":{"$error":"#N/A"}},null,null,null,null,null,null,null,null,{"$f":"VLOOKUP(Tabelle1[[#This Row],[Budgetlinie]],Ausfüllhilfe!$A$1:$D$23,4,0)","v":{"$error":"#N/A"}}]
[{"$f":"INDEX(Tabelle2[[#All],[Budgetlinie]],MATCH(Tabelle1[[#This Row],[Maßnahme]],Ausfüllhilfe!$C$1:$C$22,0))","v":{"$error":"#N/A"}},null,null,null,null,null,null,null,null,{"$f":"VLOOKUP(Tabelle1[[#This Row],[Budgetlinie]],Ausfüllhilfe!$A$1:$D$23,4,0)","v":{"$error":"#N/A"}}]
[{"$f":"INDEX(Tabelle2[[#All],[Budgetlinie]],MATCH(Tabelle1[[#This Row],[Maßnahme]],Ausfüllhilfe!$C$1:$C$22,0))","v":{"$error":"#N/A"}},null,null,null,null,null,null,null,null,{"$f":"VLOOKUP(Tabelle1[[#This Row],[Budgetlinie]],Ausfüllhilfe!$A$1:$D$23,4,0)","v":{"$error":"#N/A"}}]
[{"$f":"INDEX(Tabelle2[[#All],[Budgetlinie]],MATCH(Tabelle1[[#This Row],[Maßnahme]],Ausfüllhilfe!$C$1:$C$22,0))","v":{"$error":"#N/A"}},null,null,null,null,null,null,null,null,{"$f":"VLOOKUP(Tabelle1[[#This Row],[Budgetlinie]],Ausfüllhilfe!$A$1:$D$23,4,0)","v":{"$error":"#N/A"}}]
[{"$f":"INDEX(Tabelle2[[#All],[Budgetlinie]],MATCH(Tabelle1[[#This Row],[Maßnahme]],Ausfüllhilfe!$C$1:$C$22,0))","v":{"$error":"#N/A"}},null,null,null,null,null,null,null,null,{"$f":"VLOOKUP(Tabelle1[[#This Row],[Budgetlinie]],Ausfüllhilfe!$A$1:$D$23,4,0)","v":{"$error":"#N/A"}}]
[{"$f":"INDEX(Tabelle2[[#All],[Budgetlinie]],MATCH(Tabelle1[[#This Row],[Maßnahme]],Ausfüllhilfe!$C$1:$C$22,0))","v":{"$error":"#N/A"}},null,null,null,null,null,null,null,null,{"$f":"VLOOKUP(Tabelle1[[#This Row],[Budgetlinie]],Ausfüllhilfe!$A$1:$D$23,4,0)","v":{"$error":"#N/A"}}]
[{"$f":"INDEX(Tabelle2[[#All],[Budgetlinie]],MATCH(Tabelle1[[#This Row],[Maßnahme]],Ausfüllhilfe!$C$1:$C$22,0))","v":{"$error":"#N/A"}},null,null,null,null,null,null,null,null,{"$f":"VLOOKUP(Tabelle1[[#This Row],[Budgetlinie]],Ausfüllhilfe!$A$1:$D$23,4,0)","v":{"$error":"#N/A"}}]
[{"$f":"INDEX(Tabelle2[[#All],[Budgetlinie]],MATCH(Tabelle1[[#This Row],[Maßnahme]],Ausfüllhilfe!$C$1:$C$22,0))","v":{"$error":"#N/A"}},null,null,null,null,null,null,null,null,{"$f":"VLOOKUP(Tabelle1[[#This Row],[Budgetlinie]],Ausfüllhilfe!$A$1:$D$23,4,0)","v":{"$error":"#N/A"}}]
[{"$f":"INDEX(Tabelle2[[#All],[Budgetlinie]],MATCH(Tabelle1[[#This Row],[Maßnahme]],Ausfüllhilfe!$C$1:$C$22,0))","v":{"$error":"#N/A"}},null,null,null,null,null,null,null,null,{"$f":"VLOOKUP(Tabelle1[[#This Row],[Budgetlinie]],Ausfüllhilfe!$A$1:$D$23,4,0)","v":{"$error":"#N/A"}}]
[{"$f":"INDEX(Tabelle2[[#All],[Budgetlinie]],MATCH(Tabelle1[[#This Row],[Maßnahme]],Ausfüllhilfe!$C$1:$C$22,0))","v":{"$error":"#N/A"}},null,null,null,null,null,null,null,null,{"$f":"VLOOKUP(Tabelle1[[#This Row],[Budgetlinie]],Ausfüllhilfe!$A$1:$D$23,4,0)","v":{"$error":"#N/A"}}]
[{"$f":"INDEX(Tabelle2[[#All],[Budgetlinie]],MATCH(Tabelle1[[#This Row],[Maßnahme]],Ausfüllhilfe!$C$1:$C$22,0))","v":{"$error":"#N/A"}},null,null,null,null,null,null,null,null,{"$f":"VLOOKUP(Tabelle1[[#This Row],[Budgetlinie]],Ausfüllhilfe!$A$1:$D$23,4,0)","v":{"$error":"#N/A"}}]
[{"$f":"INDEX(Tabelle2[[#All],[Budgetlinie]],MATCH(Tabelle1[[#This Row],[Maßnahme]],Ausfüllhilfe!$C$1:$C$22,0))","v":{"$error":"#N/A"}},null,null,null,null,null,null,null,null,{"$f":"VLOOKUP(Tabelle1[[#This Row],[Budgetlinie]],Ausfüllhilfe!$A$1:$D$23,4,0)","v":{"$error":"#N/A"}}]
[{"$f":"INDEX(Tabelle2[[#All],[Budgetlinie]],MATCH(Tabelle1[[#This Row],[Maßnahme]],Ausfüllhilfe!$C$1:$C$22,0))","v":{"$error":"#N/A"}},null,null,null,null,null,null,null,null,{"$f":"VLOOKUP(Tabelle1[[#This Row],[Budgetlinie]],Ausfüllhilfe!$A$1:$D$23,4,0)","v":{"$error":"#N/A"}}]
[{"$f":"INDEX(Tabelle2[[#All],[Budgetlinie]],MATCH(Tabelle1[[#This Row],[Maßnahme]],Ausfüllhilfe!$C$1:$C$22,0))","v":{"$error":"#N/A"}},null,null,null,null,null,null,null,null,{"$f":"VLOOKUP(Tabelle1[[#This Row],[Budgetlinie]],Ausfüllhilfe!$A$1:$D$23,4,0)","v":{"$error":"#N/A"}}]
[{"$f":"INDEX(Tabelle2[[#All],[Budgetlinie]],MATCH(Tabelle1[[#This Row],[Maßnahme]],Ausfüllhilfe!$C$1:$C$22,0))","v":{"$error":"#N/A"}},null,null,null,null,null,null,null,null,{"$f":"VLOOKUP(Tabelle1[[#This Row],[Budgetlinie]],Ausfüllhilfe!$A$1:$D$23,4,0)","v":{"$error":"#N/A"}}]
[{"$f":"INDEX(Tabelle2[[#All],[Budgetlinie]],MATCH(Tabelle1[[#This Row],[Maßnahme]],Ausfüllhilfe!$C$1:$C$22,0))","v":{"$error":"#N/A"}},null,null,null,null,null,null,null,null,{"$f":"VLOOKUP(Tabelle1[[#This Row],[Budgetlinie]],Ausfüllhilfe!$A$1:$D$23,4,0)","v":{"$error":"#N/A"}}]
[{"$f":"INDEX(Tabelle2[[#All],[Budgetlinie]],MATCH(Tabelle1[[#This Row],[Maßnahme]],Ausfüllhilfe!$C$1:$C$22,0))","v":{"$error":"#N/A"}},null,null,null,null,null,null,null,null,{"$f":"VLOOKUP(Tabelle1[[#This Row],[Budgetlinie]],Ausfüllhilfe!$A$1:$D$23,4,0)","v":{"$error":"#N/A"}}]
[{"$f":"INDEX(Tabelle2[[#All],[Budgetlinie]],MATCH(Tabelle1[[#This Row],[Maßnahme]],Ausfüllhilfe!$C$1:$C$22,0))","v":{"$error":"#N/A"}},null,null,null,null,null,null,null,null,{"$f":"VLOOKUP(Tabelle1[[#This Row],[Budgetlinie]],Ausfüllhilfe!$A$1:$D$23,4,0)","v":{"$error":"#N/A"}}]
[{"$f":"INDEX(Tabelle2[[#All],[Budgetlinie]],MATCH(Tabelle1[[#This Row],[Maßnahme]],Ausfüllhilfe!$C$1:$C$22,0))","v":{"$error":"#N/A"}},null,null,null,null,null,null,null,null,{"$f":"VLOOKUP(Tabelle1[[#This Row],[Budgetlinie]],Ausfüllhilfe!$A$1:$D$23,4,0)","v":{"$error":"#N/A"}}]
[{"$f":"INDEX(Tabelle2[[#All],[Budgetlinie]],MATCH(Tabelle1[[#This Row],[Maßnahme]],Ausfüllhilfe!$C$1:$C$22,0))","v":{"$error":"#N/A"}},null,null,null,null,null,null,null,null,{"$f":"VLOOKUP(Tabelle1[[#This Row],[Budgetlinie]],Ausfüllhilfe!$A$1:$D$23,4,0)","v":{"$error":"#N/A"}}]
[{"$f":"INDEX(Tabelle2[[#All],[Budgetlinie]],MATCH(Tabelle1[[#This Row],[Maßnahme]],Ausfüllhilfe!$C$1:$C$22,0))","v":{"$error":"#N/A"}},null,null,null,null,null,null,null,null,{"$f":"VLOOKUP(Tabelle1[[#This Row],[Budgetlinie]],Ausfüllhilfe!$A$1:$D$23,4,0)","v":{"$error":"#N/A"}}]
[{"$f":"INDEX(Tabelle2[[#All],[Budgetlinie]],MATCH(Tabelle1[[#This Row],[Maßnahme]],Ausfüllhilfe!$C$1:$C$22,0))","v":{"$error":"#N/A"}},null,null,null,null,null,null,null,null,{"$f":"VLOOKUP(Tabelle1[[#This Row],[Budgetlinie]],Ausfüllhilfe!$A$1:$D$23,4,0)","v":{"$error":"#N/A"}}]
[{"$f":"INDEX(Tabelle2[[#All],[Budgetlinie]],MATCH(Tabelle1[[#This Row],[Maßnahme]],Ausfüllhilfe!$C$1:$C$22,0))","v":{"$error":"#N/A"}},null,null,null,null,null,null,null,null,{"$f":"VLOOKUP(Tabelle1[[#This Row],[Budgetlinie]],Ausfüllhilfe!$A$1:$D$23,4,0)","v":{"$error":"#N/A"}}]
[{"$f":"INDEX(Tabelle2[[#All],[Budgetlinie]],MATCH(Tabelle1[[#This Row],[Maßnahme]],Ausfüllhilfe!$C$1:$C$22,0))","v":{"$error":"#N/A"}},null,null,null,null,null,null,null,null,{"$f":"VLOOKUP(Tabelle1[[#This Row],[Budgetlinie]],Ausfüllhilfe!$A$1:$D$23,4,0)","v":{"$error":"#N/A"}}]
[{"$f":"INDEX(Tabelle2[[#All],[Budgetlinie]],MATCH(Tabelle1[[#This Row],[Maßnahme]],Ausfüllhilfe!$C$1:$C$22,0))","v":{"$error":"#N/A"}},null,null,null,null,null,null,null,null,{"$f":"VLOOKUP(Tabelle1[[#This Row],[Budgetlinie]],Ausfüllhilfe!$A$1:$D$23,4,0)","v":{"$error":"#N/A"}}]
[{"$f":"INDEX(Tabelle2[[#All],[Budgetlinie]],MATCH(Tabelle1[[#This Row],[Maßnahme]],Ausfüllhilfe!$C$1:$C$22,0))","v":{"$error":"#N/A"}},null,null,null,null,null,null,null,null,{"$f":"VLOOKUP(Tabelle1[[#This Row],[Budgetlinie]],Ausfüllhilfe!$A$1:$D$23,4,0)","v":{"$error":"#N/A"}}]
[{"$f":"INDEX(Tabelle2[[#All],[Budgetlinie]],MATCH(Tabelle1[[#This Row],[Maßnahme]],Ausfüllhilfe!$C$1:$C$22,0))","v":{"$error":"#N/A"}},null,null,null,null,null,null,null,null,{"$f":"VLOOKUP(Tabelle1[[#This Row],[Budgetlinie]],Ausfüllhilfe!$A$1:$D$23,4,0)","v":{"$error":"#N/A"}}]
[{"$f":"INDEX(Tabelle2[[#All],[Budgetlinie]],MATCH(Tabelle1[[#This Row],[Maßnahme]],Ausfüllhilfe!$C$1:$C$22,0))","v":{"$error":"#N/A"}},null,null,null,null,null,null,null,null,{"$f":"VLOOKUP(Tabelle1[[#This Row],[Budgetlinie]],Ausfüllhilfe!$A$1:$D$23,4,0)","v":{"$error":"#N/A"}}]
[{"$f":"INDEX(Tabelle2[[#All],[Budgetlinie]],MATCH(Tabelle1[[#This Row],[Maßnahme]],Ausfüllhilfe!$C$1:$C$22,0))","v":{"$error":"#N/A"}},null,null,null,null,null,null,null,null,{"$f":"VLOOKUP(Tabelle1[[#This Row],[Budgetlinie]],Ausfüllhilfe!$A$1:$D$23,4,0)","v":{"$error":"#N/A"}}]
[{"$f":"INDEX(Tabelle2[[#All],[Budgetlinie]],MATCH(Tabelle1[[#This Row],[Maßnahme]],Ausfüllhilfe!$C$1:$C$22,0))","v":{"$error":"#N/A"}},null,null,null,null,null,null,null,null,{"$f":"VLOOKUP(Tabelle1[[#This Row],[Budgetlinie]],Ausfüllhilfe!$A$1:$D$23,4,0)","v":{"$error":"#N/A"}}]
[{"$f":"INDEX(Tabelle2[[#All],[Budgetlinie]],MATCH(Tabelle1[[#This Row],[Maßnahme]],Ausfüllhilfe!$C$1:$C$22,0))","v":{"$error":"#N/A"}},null,null,null,null,null,null,null,null,{"$f":"VLOOKUP(Tabelle1[[#This Row],[Budgetlinie]],Ausfüllhilfe!$A$1:$D$23,4,0)","v":{"$error":"#N/A"}}]
[{"$f":"INDEX(Tabelle2[[#All],[Budgetlinie]],MATCH(Tabelle1[[#This Row],[Maßnahme]],Ausfüllhilfe!$C$1:$C$22,0))","v":{"$error":"#N/A"}},null,null,null,null,null,null,null,null,{"$f":"VLOOKUP(Tabelle1[[#This Row],[Budgetlinie]],Ausfüllhilfe!$A$1:$D$23,4,0)","v":{"$error":"#N/A"}}]
[{"$f":"INDEX(Tabelle2[[#All],[Budgetlinie]],MATCH(Tabelle1[[#This Row],[Maßnahme]],Ausfüllhilfe!$C$1:$C$22,0))","v":{"$error":"#N/A"}},null,null,null,null,null,null,null,null,{"$f":"VLOOKUP(Tabelle1[[#This Row],[Budgetlinie]],Ausfüllhilfe!$A$1:$D$23,4,0)","v":{"$error":"#N/A"}}]
[{"$f":"INDEX(Tabelle2[[#All],[Budgetlinie]],MATCH(Tabelle1[[#This Row],[Maßnahme]],Ausfüllhilfe!$C$1:$C$22,0))","v":{"$error":"#N/A"}},null,null,null,null,null,null,null,null,{"$f":"VLOOKUP(Tabelle1[[#This Row],[Budgetlinie]],Ausfüllhilfe!$A$1:$D$23,4,0)","v":{"$error":"#N/A"}}]
[{"$f":"INDEX(Tabelle2[[#All],[Budgetlinie]],MATCH(Tabelle1[[#This Row],[Maßnahme]],Ausfüllhilfe!$C$1:$C$22,0))","v":{"$error":"#N/A"}},null,null,null,null,null,null,null,null,{"$f":"VLOOKUP(Tabelle1[[#This Row],[Budgetlinie]],Ausfüllhilfe!$A$1:$D$23,4,0)","v":{"$error":"#N/A"}}]
[{"$f":"INDEX(Tabelle2[[#All],[Budgetlinie]],MATCH(Tabelle1[[#This Row],[Maßnahme]],Ausfüllhilfe!$C$1:$C$22,0))","v":{"$error":"#N/A"}},null,null,null,null,null,null,null,null,{"$f":"VLOOKUP(Tabelle1[[#This Row],[Budgetlinie]],Ausfüllhilfe!$A$1:$D$23,4,0)","v":{"$error":"#N/A"}}]
[{"$f":"INDEX(Tabelle2[[#All],[Budgetlinie]],MATCH(Tabelle1[[#This Row],[Maßnahme]],Ausfüllhilfe!$C$1:$C$22,0))","v":{"$error":"#N/A"}},null,null,null,null,null,null,null,null,{"$f":"VLOOKUP(Tabelle1[[#This Row],[Budgetlinie]],Ausfüllhilfe!$A$1:$D$23,4,0)","v":{"$error":"#N/A"}}]
[{"$f":"INDEX(Tabelle2[[#All],[Budgetlinie]],MATCH(Tabelle1[[#This Row],[Maßnahme]],Ausfüllhilfe!$C$1:$C$22,0))","v":{"$error":"#N/A"}},null,null,null,null,null,null,null,null,{"$f":"VLOOKUP(Tabelle1[[#This Row],[Budgetlinie]],Ausfüllhilfe!$A$1:$D$23,4,0)","v":{"$error":"#N/A"}}]
[{"$f":"INDEX(Tabelle2[[#All],[Budgetlinie]],MATCH(Tabelle1[[#This Row],[Maßnahme]],Ausfüllhilfe!$C$1:$C$22,0))","v":{"$error":"#N/A"}},null,null,null,null,null,null,null,null,{"$f":"VLOOKUP(Tabelle1[[#This Row],[Budgetlinie]],Ausfüllhilfe!$A$1:$D$23,4,0)","v":{"$error":"#N/A"}}]
[{"$f":"INDEX(Tabelle2[[#All],[Budgetlinie]],MATCH(Tabelle1[[#This Row],[Maßnahme]],Ausfüllhilfe!$C$1:$C$22,0))","v":{"$error":"#N/A"}},null,null,null,null,null,null,null,null,{"$f":"VLOOKUP(Tabelle1[[#This Row],[Budgetlinie]],Ausfüllhilfe!$A$1:$D$23,4,0)","v":{"$error":"#N/A"}}]
[{"$f":"INDEX(Tabelle2[[#All],[Budgetlinie]],MATCH(Tabelle1[[#This Row],[Maßnahme]],Ausfüllhilfe!$C$1:$C$22,0))","v":{"$error":"#N/A"}},null,null,null,null,null,null,null,null,{"$f":"VLOOKUP(Tabelle1[[#This Row],[Budgetlinie]],Ausfüllhilfe!$A$1:$D$23,4,0)","v":{"$error":"#N/A"}}]
[{"$f":"INDEX(Tabelle2[[#All],[Budgetlinie]],MATCH(Tabelle1[[#This Row],[Maßnahme]],Ausfüllhilfe!$C$1:$C$22,0))","v":{"$error":"#N/A"}},null,null,null,null,null,null,null,null,{"$f":"VLOOKUP(Tabelle1[[#This Row],[Budgetlinie]],Ausfüllhilfe!$A$1:$D$23,4,0)","v":{"$error":"#N/A"}}]
[{"$f":"INDEX(Tabelle2[[#All],[Budgetlinie]],MATCH(Tabelle1[[#This Row],[Maßnahme]],Ausfüllhilfe!$C$1:$C$22,0))","v":{"$error":"#N/A"}},null,null,null,null,null,null,null,null,{"$f":"VLOOKUP(Tabelle1[[#This Row],[Budgetlinie]],Ausfüllhilfe!$A$1:$D$23,4,0)","v":{"$error":"#N/A"}}]
[{"$f":"INDEX(Tabelle2[[#All],[Budgetlinie]],MATCH(Tabelle1[[#This Row],[Maßnahme]],Ausfüllhilfe!$C$1:$C$22,0))","v":{"$error":"#N/A"}},null,null,null,null,null,null,null,null,{"$f":"VLOOKUP(Tabelle1[[#This Row],[Budgetlinie]],Ausfüllhilfe!$A$1:$D$23,4,0)","v":{"$error":"#N/A"}}]
[{"$f":"INDEX(Tabelle2[[#All],[Budgetlinie]],MATCH(Tabelle1[[#This Row],[Maßnahme]],Ausfüllhilfe!$C$1:$C$22,0))","v":{"$error":"#N/A"}},null,null,null,null,null,null,null,null,{"$f":"VLOOKUP(Tabelle1[[#This Row],[Budgetlinie]],Ausfüllhilfe!$A$1:$D$23,4,0)","v":{"$error":"#N/A"}}]
[{"$f":"INDEX(Tabelle2[[#All],[Budgetlinie]],MATCH(Tabelle1[[#This Row],[Maßnahme]],Ausfüllhilfe!$C$1:$C$22,0))","v":{"$error":"#N/A"}},null,null,null,null,null,null,null,null,{"$f":"VLOOKUP(Tabelle1[[#This Row],[Budgetlinie]],Ausfüllhilfe!$A$1:$D$23,4,0)","v":{"$error":"#N/A"}}]
[{"$f":"INDEX(Tabelle2[[#All],[Budgetlinie]],MATCH(Tabelle1[[#This Row],[Maßnahme]],Ausfüllhilfe!$C$1:$C$22,0))","v":{"$error":"#N/A"}},null,null,null,null,null,null,null,null,{"$f":"VLOOKUP(Tabelle1[[#This Row],[Budgetlinie]],Ausfüllhilfe!$A$1:$D$23,4,0)","v":{"$error":"#N/A"}}]
[{"$f":"INDEX(Tabelle2[[#All],[Budgetlinie]],MATCH(Tabelle1[[#This Row],[Maßnahme]],Ausfüllhilfe!$C$1:$C$22,0))","v":{"$error":"#N/A"}},null,null,null,null,null,null,null,null,{"$f":"VLOOKUP(Tabelle1[[#This Row],[Budgetlinie]],Ausfüllhilfe!$A$1:$D$23,4,0)","v":{"$error":"#N/A"}}]
[{"$f":"INDEX(Tabelle2[[#All],[Budgetlinie]],MATCH(Tabelle1[[#This Row],[Maßnahme]],Ausfüllhilfe!$C$1:$C$22,0))","v":{"$error":"#N/A"}},null,null,null,null,null,null,null,null,{"$f":"VLOOKUP(Tabelle1[[#This Row],[Budgetlinie]],Ausfüllhilfe!$A$1:$D$23,4,0)","v":{"$error":"#N/A"}}]
[{"$f":"INDEX(Tabelle2[[#All],[Budgetlinie]],MATCH(Tabelle1[[#This Row],[Maßnahme]],Ausfüllhilfe!$C$1:$C$22,0))","v":{"$error":"#N/A"}},null,null,null,null,null,null,null,null,{"$f":"VLOOKUP(Tabelle1[[#This Row],[Budgetlinie]],Ausfüllhilfe!$A$1:$D$23,4,0)","v":{"$error":"#N/A"}}]
[{"$f":"INDEX(Tabelle2[[#All],[Budgetlinie]],MATCH(Tabelle1[[#This Row],[Maßnahme]],Ausfüllhilfe!$C$1:$C$22,0))","v":{"$error":"#N/A"}},null,null,null,null,null,null,null,null,{"$f":"VLOOKUP(Tabelle1[[#This Row],[Budgetlinie]],Ausfüllhilfe!$A$1:$D$23,4,0)","v":{"$error":"#N/A"}}]
[{"$f":"INDEX(Tabelle2[[#All],[Budgetlinie]],MATCH(Tabelle1[[#This Row],[Maßnahme]],Ausfüllhilfe!$C$1:$C$22,0))","v":{"$error":"#N/A"}},null,null,null,null,null,null,null,null,{"$f":"VLOOKUP(Tabelle1[[#This Row],[Budgetlinie]],Ausfüllhilfe!$A$1:$D$23,4,0)","v":{"$error":"#N/A"}}]
[{"$f":"INDEX(Tabelle2[[#All],[Budgetlinie]],MATCH(Tabelle1[[#This Row],[Maßnahme]],Ausfüllhilfe!$C$1:$C$22,0))","v":{"$error":"#N/A"}},null,null,null,null,null,null,null,null,{"$f":"VLOOKUP(Tabelle1[[#This Row],[Budgetlinie]],Ausfüllhilfe!$A$1:$D$23,4,0)","v":{"$error":"#N/A"}}]
[{"$f":"INDEX(Tabelle2[[#All],[Budgetlinie]],MATCH(Tabelle1[[#This Row],[Maßnahme]],Ausfüllhilfe!$C$1:$C$22,0))","v":{"$error":"#N/A"}},null,null,null,null,null,null,null,null,{"$f":"VLOOKUP(Tabelle1[[#This Row],[Budgetlinie]],Ausfüllhilfe!$A$1:$D$23,4,0)","v":{"$error":"#N/A"}}]
[{"$f":"INDEX(Tabelle2[[#All],[Budgetlinie]],MATCH(Tabelle1[[#This Row],[Maßnahme]],Ausfüllhilfe!$C$1:$C$22,0))","v":{"$error":"#N/A"}},null,null,null,null,null,null,null,null,{"$f":"VLOOKUP(Tabelle1[[#This Row],[Budgetlinie]],Ausfüllhilfe!$A$1:$D$23,4,0)","v":{"$error":"#N/A"}}]
[{"$f":"INDEX(Tabelle2[[#All],[Budgetlinie]],MATCH(Tabelle1[[#This Row],[Maßnahme]],Ausfüllhilfe!$C$1:$C$22,0))","v":{"$error":"#N/A"}},null,null,null,null,null,null,null,null,{"$f":"VLOOKUP(Tabelle1[[#This Row],[Budgetlinie]],Ausfüllhilfe!$A$1:$D$23,4,0)","v":{"$error":"#N/A"}}]
[{"$f":"INDEX(Tabelle2[[#All],[Budgetlinie]],MATCH(Tabelle1[[#This Row],[Maßnahme]],Ausfüllhilfe!$C$1:$C$22,0))","v":{"$error":"#N/A"}},null,null,null,null,null,null,null,null,{"$f":"VLOOKUP(Tabelle1[[#This Row],[Budgetlinie]],Ausfüllhilfe!$A$1:$D$23,4,0)","v":{"$error":"#N/A"}}]
[{"$f":"INDEX(Tabelle2[[#All],[Budgetlinie]],MATCH(Tabelle1[[#This Row],[Maßnahme]],Ausfüllhilfe!$C$1:$C$22,0))","v":{"$error":"#N/A"}},null,null,null,null,null,null,null,null,{"$f":"VLOOKUP(Tabelle1[[#This Row],[Budgetlinie]],Ausfüllhilfe!$A$1:$D$23,4,0)","v":{"$error":"#N/A"}}]
[{"$f":"INDEX(Tabelle2[[#All],[Budgetlinie]],MATCH(Tabelle1[[#This Row],[Maßnahme]],Ausfüllhilfe!$C$1:$C$22,0))","v":{"$error":"#N/A"}},null,null,null,null,null,null,null,null,{"$f":"VLOOKUP(Tabelle1[[#This Row],[Budgetlinie]],Ausfüllhilfe!$A$1:$D$23,4,0)","v":{"$error":"#N/A"}}]
[{"$f":"INDEX(Tabelle2[[#All],[Budgetlinie]],MATCH(Tabelle1[[#This Row],[Maßnahme]],Ausfüllhilfe!$C$1:$C$22,0))","v":{"$error":"#N/A"}},null,null,null,null,null,null,null,null,{"$f":"VLOOKUP(Tabelle1[[#This Row],[Budgetlinie]],Ausfüllhilfe!$A$1:$D$23,4,0)","v":{"$error":"#N/A"}}]
[{"$f":"INDEX(Tabelle2[[#All],[Budgetlinie]],MATCH(Tabelle1[[#This Row],[Maßnahme]],Ausfüllhilfe!$C$1:$C$22,0))","v":{"$error":"#N/A"}},null,null,null,null,null,null,null,null,{"$f":"VLOOKUP(Tabelle1[[#This Row],[Budgetlinie]],Ausfüllhilfe!$A$1:$D$23,4,0)","v":{"$error":"#N/A"}}]
[{"$f":"INDEX(Tabelle2[[#All],[Budgetlinie]],MATCH(Tabelle1[[#This Row],[Maßnahme]],Ausfüllhilfe!$C$1:$C$22,0))","v":{"$error":"#N/A"}},null,null,null,null,null,null,null,null,{"$f":"VLOOKUP(Tabelle1[[#This Row],[Budgetlinie]],Ausfüllhilfe!$A$1:$D$23,4,0)","v":{"$error":"#N/A"}}]
[{"$f":"INDEX(Tabelle2[[#All],[Budgetlinie]],MATCH(Tabelle1[[#This Row],[Maßnahme]],Ausfüllhilfe!$C$1:$C$22,0))","v":{"$error":"#N/A"}},null,null,null,null,null,null,null,null,{"$f":"VLOOKUP(Tabelle1[[#This Row],[Budgetlinie]],Ausfüllhilfe!$A$1:$D$23,4,0)","v":{"$error":"#N/A"}}]
[{"$f":"INDEX(Tabelle2[[#All],[Budgetlinie]],MATCH(Tabelle1[[#This Row],[Maßnahme]],Ausfüllhilfe!$C$1:$C$22,0))","v":{"$error":"#N/A"}},null,null,null,null,null,null,null,null,{"$f":"VLOOKUP(Tabelle1[[#This Row],[Budgetlinie]],Ausfüllhilfe!$A$1:$D$23,4,0)","v":{"$error":"#N/A"}}]
[{"$f":"INDEX(Tabelle2[[#All],[Budgetlinie]],MATCH(Tabelle1[[#This Row],[Maßnahme]],Ausfüllhilfe!$C$1:$C$22,0))","v":{"$error":"#N/A"}},null,null,null,null,null,null,null,null,{"$f":"VLOOKUP(Tabelle1[[#This Row],[Budgetlinie]],Ausfüllhilfe!$A$1:$D$23,4,0)","v":{"$error":"#N/A"}}]
[{"$f":"INDEX(Tabelle2[[#All],[Budgetlinie]],MATCH(Tabelle1[[#This Row],[Maßnahme]],Ausfüllhilfe!$C$1:$C$22,0))","v":{"$error":"#N/A"}},null,null,null,null,null,null,null,null,{"$f":"VLOOKUP(Tabelle1[[#This Row],[Budgetlinie]],Ausfüllhilfe!$A$1:$D$23,4,0)","v":{"$error":"#N/A"}}]
[{"$f":"INDEX(Tabelle2[[#All],[Budgetlinie]],MATCH(Tabelle1[[#This Row],[Maßnahme]],Ausfüllhilfe!$C$1:$C$22,0))","v":{"$error":"#N/A"}},null,null,null,null,null,null,null,null,{"$f":"VLOOKUP(Tabelle1[[#This Row],[Budgetlinie]],Ausfüllhilfe!$A$1:$D$23,4,0)","v":{"$error":"#N/A"}}]
[{"$f":"INDEX(Tabelle2[[#All],[Budgetlinie]],MATCH(Tabelle1[[#This Row],[Maßnahme]],Ausfüllhilfe!$C$1:$C$22,0))","v":{"$error":"#N/A"}},null,null,null,null,null,null,null,null,{"$f":"VLOOKUP(Tabelle1[[#This Row],[Budgetlinie]],Ausfüllhilfe!$A$1:$D$23,4,0)","v":{"$error":"#N/A"}}]
[{"$f":"INDEX(Tabelle2[[#All],[Budgetlinie]],MATCH(Tabelle1[[#This Row],[Maßnahme]],Ausfüllhilfe!$C$1:$C$22,0))","v":{"$error":"#N/A"}},null,null,null,null,null,null,null,null,{"$f":"VLOOKUP(Tabelle1[[#This Row],[Budgetlinie]],Ausfüllhilfe!$A$1:$D$23,4,0)","v":{"$error":"#N/A"}}]
[{"$f":"INDEX(Tabelle2[[#All],[Budgetlinie]],MATCH(Tabelle1[[#This Row],[Maßnahme]],Ausfüllhilfe!$C$1:$C$22,0))","v":{"$error":"#N/A"}},null,null,null,null,null,null,null,null,{"$f":"VLOOKUP(Tabelle1[[#This Row],[Budgetlinie]],Ausfüllhilfe!$A$1:$D$23,4,0)","v":{"$error":"#N/A"}}]
[{"$f":"INDEX(Tabelle2[[#All],[Budgetlinie]],MATCH(Tabelle1[[#This Row],[Maßnahme]],Ausfüllhilfe!$C$1:$C$22,0))","v":{"$error":"#N/A"}},null,null,null,null,null,null,null,null,{"$f":"VLOOKUP(Tabelle1[[#This Row],[Budgetlinie]],Ausfüllhilfe!$A$1:$D$23,4,0)","v":{"$error":"#N/A"}}]
[{"$f":"INDEX(Tabelle2[[#All],[Budgetlinie]],MATCH(Tabelle1[[#This Row],[Maßnahme]],Ausfüllhilfe!$C$1:$C$22,0))","v":{"$error":"#N/A"}},null,null,null,null,null,null,null,null,{"$f":"VLOOKUP(Tabelle1[[#This Row],[Budgetlinie]],Ausfüllhilfe!$A$1:$D$23,4,0)","v":{"$error":"#N/A"}}]
[{"$f":"INDEX(Tabelle2[[#All],[Budgetlinie]],MATCH(Tabelle1[[#This Row],[Maßnahme]],Ausfüllhilfe!$C$1:$C$22,0))","v":{"$error":"#N/A"}},null,null,null,null,null,null,null,null,{"$f":"VLOOKUP(Tabelle1[[#This Row],[Budgetlinie]],Ausfüllhilfe!$A$1:$D$23,4,0)","v":{"$error":"#N/A"}}]
[{"$f":"INDEX(Tabelle2[[#All],[Budgetlinie]],MATCH(Tabelle1[[#This Row],[Maßnahme]],Ausfüllhilfe!$C$1:$C$22,0))","v":{"$error":"#N/A"}},null,null,null,null,null,null,null,null,{"$f":"VLOOKUP(Tabelle1[[#This Row],[Budgetlinie]],Ausfüllhilfe!$A$1:$D$23,4,0)","v":{"$error":"#N/A"}}]
[{"$f":"INDEX(Tabelle2[[#All],[Budgetlinie]],MATCH(Tabelle1[[#This Row],[Maßnahme]],Ausfüllhilfe!$C$1:$C$22,0))","v":{"$error":"#N/A"}},null,null,null,null,null,null,null,null,{"$f":"VLOOKUP(Tabelle1[[#This Row],[Budgetlinie]],Ausfüllhilfe!$A$1:$D$23,4,0)","v":{"$error":"#N/A"}}]
[{"$f":"INDEX(Tabelle2[[#All],[Budgetlinie]],MATCH(Tabelle1[[#This Row],[Maßnahme]],Ausfüllhilfe!$C$1:$C$22,0))","v":{"$error":"#N/A"}},null,null,null,null,null,null,null,null,{"$f":"VLOOKUP(Tabelle1[[#This Row],[Budgetlinie]],Ausfüllhilfe!$A$1:$D$23,4,0)","v":{"$error":"#N/A"}}]
[{"$f":"INDEX(Tabelle2[[#All],[Budgetlinie]],MATCH(Tabelle1[[#This Row],[Maßnahme]],Ausfüllhilfe!$C$1:$C$22,0))","v":{"$error":"#N/A"}},null,null,null,null,null,null,null,null,{"$f":"VLOOKUP(Tabelle1[[#This Row],[Budgetlinie]],Ausfüllhilfe!$A$1:$D$23,4,0)","v":{"$error":"#N/A"}}]
[{"$f":"INDEX(Tabelle2[[#All],[Budgetlinie]],MATCH(Tabelle1[[#This Row],[Maßnahme]],Ausfüllhilfe!$C$1:$C$22,0))","v":{"$error":"#N/A"}},null,null,null,null,null,null,null,null,{"$f":"VLOOKUP(Tabelle1[[#This Row],[Budgetlinie]],Ausfüllhilfe!$A$1:$D$23,4,0)","v":{"$error":"#N/A"}}]
[{"$f":"INDEX(Tabelle2[[#All],[Budgetlinie]],MATCH(Tabelle1[[#This Row],[Maßnahme]],Ausfüllhilfe!$C$1:$C$22,0))","v":{"$error":"#N/A"}},null,null,null,null,null,null,null,null,{"$f":"VLOOKUP(Tabelle1[[#This Row],[Budgetlinie]],Ausfüllhilfe!$A$1:$D$23,4,0)","v":{"$error":"#N/A"}}]
[{"$f":"INDEX(Tabelle2[[#All],[Budgetlinie]],MATCH(Tabelle1[[#This Row],[Maßnahme]],Ausfüllhilfe!$C$1:$C$22,0))","v":{"$error":"#N/A"}},null,null,null,null,null,null,null,null,{"$f":"VLOOKUP(Tabelle1[[#This Row],[Budgetlinie]],Ausfüllhilfe!$A$1:$D$23,4,0)","v":{"$error":"#N/A"}}]
[{"$f":"INDEX(Tabelle2[[#All],[Budgetlinie]],MATCH(Tabelle1[[#This Row],[Maßnahme]],Ausfüllhilfe!$C$1:$C$22,0))","v":{"$error":"#N/A"}},null,null,null,null,null,null,null,null,{"$f":"VLOOKUP(Tabelle1[[#This Row],[Budgetlinie]],Ausfüllhilfe!$A$1:$D$23,4,0)","v":{"$error":"#N/A"}}]
[{"$f":"INDEX(Tabelle2[[#All],[Budgetlinie]],MATCH(Tabelle1[[#This Row],[Maßnahme]],Ausfüllhilfe!$C$1:$C$22,0))","v":{"$error":"#N/A"}},null,null,null,null,null,null,null,null,{"$f":"VLOOKUP(Tabelle1[[#This Row],[Budgetlinie]],Ausfüllhilfe!$A$1:$D$23,4,0)","v":{"$error":"#N/A"}}]
[{"$f":"INDEX(Tabelle2[[#All],[Budgetlinie]],MATCH(Tabelle1[[#This Row],[Maßnahme]],Ausfüllhilfe!$C$1:$C$22,0))","v":{"$error":"#N/A"}},null,null,null,null,null,null,null,null,{"$f":"VLOOKUP(Tabelle1[[#This Row],[Budgetlinie]],Ausfüllhilfe!$A$1:$D$23,4,0)","v":{"$error":"#N/A"}}]
[{"$f":"INDEX(Tabelle2[[#All],[Budgetlinie]],MATCH(Tabelle1[[#This Row],[Maßnahme]],Ausfüllhilfe!$C$1:$C$22,0))","v":{"$error":"#N/A"}},null,null,null,null,null,null,null,null,{"$f":"VLOOKUP(Tabelle1[[#This Row],[Budgetlinie]],Ausfüllhilfe!$A$1:$D$23,4,0)","v":{"$error":"#N/A"}}]
[{"$f":"INDEX(Tabelle2[[#All],[Budgetlinie]],MATCH(Tabelle1[[#This Row],[Maßnahme]],Ausfüllhilfe!$C$1:$C$22,0))","v":{"$error":"#N/A"}},null,null,null,null,null,null,null,null,{"$f":"VLOOKUP(Tabelle1[[#This Row],[Budgetlinie]],Ausfüllhilfe!$A$1:$D$23,4,0)","v":{"$error":"#N/A"}}]
[{"$f":"INDEX(Tabelle2[[#All],[Budgetlinie]],MATCH(Tabelle1[[#This Row],[Maßnahme]],Ausfüllhilfe!$C$1:$C$22,0))","v":{"$error":"#N/A"}},null,null,null,null,null,null,null,null,{"$f":"VLOOKUP(Tabelle1[[#This Row],[Budgetlinie]],Ausfüllhilfe!$A$1:$D$23,4,0)","v":{"$error":"#N/A"}}]
[{"$f":"INDEX(Tabelle2[[#All],[Budgetlinie]],MATCH(Tabelle1[[#This Row],[Maßnahme]],Ausfüllhilfe!$C$1:$C$22,0))","v":{"$error":"#N/A"}},null,null,null,null,null,null,null,null,{"$f":"VLOOKUP(Tabelle1[[#This Row],[Budgetlinie]],Ausfüllhilfe!$A$1:$D$23,4,0)","v":{"$error":"#N/A"}}]
[{"$f":"INDEX(Tabelle2[[#All],[Budgetlinie]],MATCH(Tabelle1[[#This Row],[Maßnahme]],Ausfüllhilfe!$C$1:$C$22,0))","v":{"$error":"#N/A"}},null,null,null,null,null,null,null,null,{"$f":"VLOOKUP(Tabelle1[[#This Row],[Budgetlinie]],Ausfüllhilfe!$A$1:$D$23,4,0)","v":{"$error":"#N/A"}}]
[{"$f":"INDEX(Tabelle2[[#All],[Budgetlinie]],MATCH(Tabelle1[[#This Row],[Maßnahme]],Ausfüllhilfe!$C$1:$C$22,0))","v":{"$error":"#N/A"}},null,null,null,null,null,null,null,null,{"$f":"VLOOKUP(Tabelle1[[#This Row],[Budgetlinie]],Ausfüllhilfe!$A$1:$D$23,4,0)","v":{"$error":"#N/A"}}]
[{"$f":"INDEX(Tabelle2[[#All],[Budgetlinie]],MATCH(Tabelle1[[#This Row],[Maßnahme]],Ausfüllhilfe!$C$1:$C$22,0))","v":{"$error":"#N/A"}},null,null,null,null,null,null,null,null,{"$f":"VLOOKUP(Tabelle1[[#This Row],[Budgetlinie]],Ausfüllhilfe!$A$1:$D$23,4,0)","v":{"$error":"#N/A"}}]
[{"$f":"INDEX(Tabelle2[[#All],[Budgetlinie]],MATCH(Tabelle1[[#This Row],[Maßnahme]],Ausfüllhilfe!$C$1:$C$22,0))","v":{"$error":"#N/A"}},null,null,null,null,null,null,null,null,{"$f":"VLOOKUP(Tabelle1[[#This Row],[Budgetlinie]],Ausfüllhilfe!$A$1:$D$23,4,0)","v":{"$error":"#N/A"}}]
[{"$f":"INDEX(Tabelle2[[#All],[Budgetlinie]],MATCH(Tabelle1[[#This Row],[Maßnahme]],Ausfüllhilfe!$C$1:$C$22,0))","v":{"$error":"#N/A"}},null,null,null,null,null,null,null,null,{"$f":"VLOOKUP(Tabelle1[[#This Row],[Budgetlinie]],Ausfüllhilfe!$A$1:$D$23,4,0)","v":{"$error":"#N/A"}}]
[{"$f":"INDEX(Tabelle2[[#All],[Budgetlinie]],MATCH(Tabelle1[[#This Row],[Maßnahme]],Ausfüllhilfe!$C$1:$C$22,0))","v":{"$error":"#N/A"}},null,null,null,null,null,null,null,null,{"$f":"VLOOKUP(Tabelle1[[#This Row],[Budgetlinie]],Ausfüllhilfe!$A$1:$D$23,4,0)","v":{"$error":"#N/A"}}]

{"sheet":"Übersicht Verwendungsnachweis","index":2,"n_rows":90,"n_cols":9,"rows_kept":90,"cut":false,"hidden":false,"merged":[[0,2,0,6],[1,2,1,6],[2,2,2,6],[3,2,3,6],[6,0,6,6]]}
[null,"Kurzbezeichnung des Vorhabens:"]
[null,"Name und Anschrift des Zuwendungsempfängers:"]
[null,"Vertragsnummer:"]
[null,"Zeitraum von……………….bis…………………………..:"]
[]
[]
["Gesamtübersicht 2023"]
["Ausgaben"]
["Budgetlinie","Beschreibung","Budget \n2023","Bisher abgerechnete Kosten ","Kosten der aktuellen Abrechnung \n","Gesamtkosten/-ausgabe ","Restbudget \n2023"]
["1. Personalausgaben ZE",null,{"$f":"SUM(C11:C15)","v":0},{"$f":"SUM(D11:D15)","v":0},0,0,0]
["1.1",{"$f":"VLOOKUP(A11,Ausfüllhilfe!$A$1:$B$22,2)","v":0},null,null,{"$f":"DSUM(Buchung!$A$3:$G$4963,Tabelle1[[#Headers],[Betrag in €]],$A$49:$H$50)","v":0},{"$f":"D11+E11","v":0},{"$f":"C11-F11","v":0}]
["1.2",{"$f":"VLOOKUP(A12,Ausfüllhilfe!$A$1:$B$22,2)","v":0},null,null,{"$f":"DSUM(Buchung!$A$3:$G$4963,Tabelle1[[#Headers],[Betrag in €]],$A$51:$H$52)","v":0},{"$f":"D12+E12","v":0},{"$f":"C12-F12","v":0}]
["1.3",{"$f":"VLOOKUP(A13,Ausfüllhilfe!$A$1:$B$22,2)","v":0},null,null,{"$f":"DSUM(Buchung!$A$3:$G$4963,Tabelle1[[#Headers],[Betrag in €]],$A$53:$H$54)","v":0},0,0]
["1.4",{"$f":"VLOOKUP(A14,Ausfüllhilfe!$A$1:$B$22,2)","v":0},null,null,{"$f":"DSUM(Buchung!$A$3:$G$4963,Tabelle1[[#Headers],[Betrag in €]],$A$55:$H$56)","v":0},0,0]
["1.5",{"$f":"VLOOKUP(A15,Ausfüllhilfe!$A$1:$B$22,2)","v":0},null,null,{"$f":"DSUM(Buchung!$A$3:$G$4963,Tabelle1[[#Headers],[Betrag in €]],$A$57:$H$58)","v":0},0,0]
["2. Externe Dienstleistungen",null,{"$f":"SUM(C17:C21)","v":0},{"$f":"SUM(D17:D21)","v":0},0,0,{"$f":"SUM(G17:G21)","v":0}]
["2.1",{"$f":"VLOOKUP(A17,Ausfüllhilfe!$A$1:$B$22,2)","v":"Externe Dienstleister Inland"},null,null,{"$f":"DSUM(Buchung!$A$3:$G$4963,Tabelle1[[#Headers],[Betrag in €]],$A$59:$H$60)","v":0},0,{"$f":"C17-F17","v":0}]
["2.2",{"$f":"VLOOKUP(A18,Ausfüllhilfe!$A$1:$B$22,2)","v":"Externe Dienstleister Ausland"},null,null,{"$f":"DSUM(Buchung!$A$3:$G$4963,Tabelle1[[#Headers],[Betrag in €]],$A$61:$H$62)","v":0},0,0]
["2.3",{"$f":"VLOOKUP(A19,Ausfüllhilfe!$A$1:$B$22,2)","v":0},null,null,{"$f":"DSUM(Buchung!$A$3:$G$4963,Tabelle1[[#Headers],[Betrag in €]],$A$63:$H$64)","v":0},0,0]
["2.4",{"$f":"VLOOKUP(A20,Ausfüllhilfe!$A$1:$B$22,2)","v":0},null,null,{"$f":"DSUM(Buchung!$A$3:$G$4963,Tabelle1[[#Headers],[Betrag in €]],$A$65:$H$66)","v":0},0,0]
["2.5",{"$f":"VLOOKUP(A21,Ausfüllhilfe!$A$1:$B$22,2)","v":0},null,null,{"$f":"DSUM(Buchung!$A$3:$G$4963,Tabelle1[[#Headers],[Betrag in €]],$A$67:$H$68)","v":0},0,0]
["3. Sachkosten",null,{"$f":"SUM(C23:C27)","v":0},{"$f":"SUM(D23:D27)","v":0},0,0,{"$f":"SUM(G23:G27)","v":0}]
["3.1",{"$f":"VLOOKUP(A23,Ausfüllhilfe!$A$1:$B$22,2)","v":"Reisekosten Projektpersonal (Fahrt, Flug, Aufenthalt)"},null,null,{"$f":"DSUM(Buchung!$A$3:$G$4963,Tabelle1[[#Headers],[Betrag in €]],$A$69:$H$70)","v":0},0,{"$f":"C23-F23","v":0}]
["3.2",{"$f":"VLOOKUP(A24,Ausfüllhilfe!$A$1:$B$22,2)","v":"Verbrauchsgüter"},null,null,{"$f":"DSUM(Buchung!$A$3:$G$4963,Tabelle1[[#Headers],[Betrag in €]],$A$71:$H$72)","v":0},0,0]
["3.3",{"$f":"VLOOKUP(A25,Ausfüllhilfe!$A$1:$B$22,2)","v":"Wirtschaftsgüter"},null,null,{"$f":"DSUM(Buchung!$A$3:$G$4963,Tabelle1[[#Headers],[Betrag in €]],$A$73:$H$74)","v":0},0,0]
["3.4",{"$f":"VLOOKUP(A26,Ausfüllhilfe!$A$1:$B$22,2)","v":"Sonstige Sachmittel"},null,null,{"$f":"DSUM(Buchung!$A$3:$G$4963,Tabelle1[[#Headers],[Betrag in €]],$A$75:$H$76)","v":0},0,0]
["3.5",{"$f":"VLOOKUP(A27,Ausfüllhilfe!$A$1:$B$22,2)","v":0},null,null,{"$f":"DSUM(Buchung!$A$3:$G$4963,Tabelle1[[#Headers],[Betrag in €]],$A$77:$H$78)","v":0},0,0]
["4.Weiterleitung an Partnerinstitutionen (Tatsächliche Kosten)",null,{"$f":"SUM(C29:C31)","v":0},{"$f":"SUM(D29:D31)","v":0},0,{"$f":"SUM(F29:F31)","v":0},{"$f":"SUM(G29:G31)","v":0}]
["4.1",{"$f":"VLOOKUP(A29,Ausfüllhilfe!$A$1:$B$22,2)","v":"Weiterleitung an Partnerinstitution 1 (Name)_Acktuelle Kosten"},null,null,{"$f":"DSUM(Buchung!$A$3:$G$4963,Tabelle1[[#Headers],[Betrag in €]],$A$79:$H$80)","v":0},0,{"$f":"C29-F29","v":0}]
["4.2",{"$f":"VLOOKUP(A30,Ausfüllhilfe!$A$1:$B$22,2)","v":"Weiterleitung an Partnerinstitution 2 (Name)_Acktuelle Kosten"},null,null,{"$f":"DSUM(Buchung!$A$3:$G$4963,Tabelle1[[#Headers],[Betrag in €]],$A$81:$H$82)","v":0},0,0]
["4.3",{"$f":"VLOOKUP(A31,Ausfüllhilfe!$A$1:$B$22,2)","v":"Weiterleitung an Partnerinstitution 3 (Name)_Acktuelle Kosten"},null,null,{"$f":"DSUM(Buchung!$A$3:$G$4963,Tabelle1[[#Headers],[Betrag in €]],$A$83:$H$84)","v":0},0,0]
[null,"Total Ausgaben:",{"$f":"C28+C22+C16+C10","v":0},{"$f":"D28+D22+D16+D10","v":0},0,0,0]
[]
["Einnahmen"]
["5. Einnahme",null,null,null,"Einnahmen [EUR]"]
["5.1",{"$f":"VLOOKUP(A36,Ausfüllhilfe!$A$1:$B$22,2)","v":"Einnahme"},null,null,{"$f":"DSUM(Buchung!$A$3:$G$4963,Tabelle1[[#Headers],[Betrag in €]],$A$85:$H$86)","v":0}]
[null,"Total Einnahmen:",null,null,{"$f":"E36","v":0}]
[]
["Weitergeleitete Vorzahlungen an Partnerinstitutionen"]
["Budgetlinie","Beschreibung","Budget \n2023","Kosten der aktuellen Abrechnung \n","Vorzahlung"]
["6.1",{"$f":"VLOOKUP(A41,Ausfüllhilfe!$A$1:$B$22,2)","v":"Vorzahlung an Partnerinstitution 1 (Name)"},{"$f":"C29","v":0},{"$f":"E29","v":0},{"$f":"DSUM(Buchung!$A$3:$G$4963,Tabelle1[[#Headers],[Betrag in €]],$A$87:$H$88)","v":0}]
["6.2",{"$f":"VLOOKUP(A42,Ausfüllhilfe!$A$1:$B$22,2)","v":"Vorzahlung an Partnerinstitution 2 (Name)"},null,null,{"$f":"DSUM(Buchung!$A$3:$G$4963,Tabelle1[[#Headers],[Betrag in €]],$A$89:$H$90)","v":0}]
[null,"Total Abschläge:",null,null,{"$f":"E41+E42","v":0}]
[]
[null,"Mittelbestand (Kontostand)",null,null,{"$f":"E37-F32-E43","v":0}]
[]
["* Kurs, entweder gegen Nachweis (Umtauschbeleg) oder durch Anwendung des Währungsrechners Oanda",null,null,null,"check",{"$f":"E37-F32-E43-E45","v":0}]
[]
["Budgetlinie","Datum","Empfänger",null,"Betrag in €",null,"Betrag FW","Art FW","Begründung"]
["1.1"]
["Budgetlinie","Datum","Empfänger",null,"Betrag in €",null,"Betrag FW","Art FW","Begründung"]
["1.2"]
["Budgetlinie","Datum","Empfänger",null,"Betrag in €",null,"Betrag FW","Art FW","Begründung"]
["1.3"]
["Budgetlinie","Datum","Empfänger",null,"Betrag in €",null,"Betrag FW","Art FW","Begründung"]
["1.4"]
["Budgetlinie","Datum","Empfänger",null,"Betrag in €",null,"Betrag FW","Art FW","Begründung"]
["1.5"]
["Budgetlinie","Datum","Empfänger",null,"Betrag in €",null,"Betrag FW","Art FW","Begründung"]
["2.1"]
["Budgetlinie","Datum","Empfänger",null,"Betrag in €",null,"Betrag FW","Art FW","Begründung"]
["2.2"]
["Budgetlinie","Datum","Empfänger",null,"Betrag in €",null,"Betrag FW","Art FW","Begründung"]
["2.3"]
["Budgetlinie","Datum","Empfänger",null,"Betrag in €",null,"Betrag FW","Art FW","Begründung"]
["2.4"]
["Budgetlinie","Datum","Empfänger",null,"Betrag in €",null,"Betrag FW","Art FW","Begründung"]
["2.5"]
["Budgetlinie","Datum","Empfänger",null,"Betrag in €",null,"Betrag FW","Art FW","Begründung"]
["3.1"]
["Budgetlinie","Datum","Empfänger",null,"Betrag in €",null,"Betrag FW","Art FW","Begründung"]
["3.2"]
["Budgetlinie","Datum","Empfänger",null,"Betrag in €",null,"Betrag FW","Art FW","Begründung"]
["3.3"]
["Budgetlinie","Datum","Empfänger",null,"Betrag in €",null,"Betrag FW","Art FW","Begründung"]
["3.4"]
["Budgetlinie","Datum","Empfänger",null,"Betrag in €",null,"Betrag FW","Art FW","Begründung"]
["3.5"]
["Budgetlinie","Datum","Empfänger",null,"Betrag in €",null,"Betrag FW","Art FW","Begründung"]
["4.1"]
["Budgetlinie","Datum","Empfänger",null,"Betrag in €",null,"Betrag FW","Art FW","Begründung"]
["4.2"]
["Budgetlinie","Datum","Empfänger",null,"Betrag in €",null,"Betrag FW","Art FW","Begründung"]
["4.3"]
["Budgetlinie","Datum","Empfänger",null,"Betrag in €",null,"Betrag FW","Art FW","Begründung"]
["5.1"]
["Budgetlinie","Datum","Empfänger",null,"Betrag in €",null,"Betrag FW","Art FW","Begründung"]
["6.1"]
["Budgetlinie","Datum","Empfänger",null,"Betrag in €",null,"Betrag FW","Art FW","Begründung"]
["6.2"]

{"sheet":"Mittelanforderung","index":3,"n_rows":80,"n_cols":8,"rows_kept":80,"cut":false,"hidden":false,"merged":[[1,2,1,4],[2,2,2,4],[3,2,3,4],[6,0,6,5],[0,2,0,4],[4,2,4,4]]}
[null,"Kurzbezeichnung des Vorhabens:",{"$f":"'Übersicht Verwendungsnachweis'!C1:G1","v":0}]
[null,"Name und Anschrift des Zuwendungsempfängers:",{"$f":"'Übersicht Verwendungsnachweis'!C2:G2","v":0}]
[null,"Vertragsnummer:",{"$f":"'Übersicht Verwendungsnachweis'!C3:G3","v":0}]
[null,"Zeitraum:"]
[null,"Mittelanforderungsnummer: "]
[]
["Mittelanforderung"]
[]
["Budgetlinie","Beschreibung","Budget 2023","Gesammtausgabe  2023","Restbudget 2023","Mittelbedarf für die nächste zwei Monate "]
["1. Personalausgaben ZE",null,{"$f":"SUM(C11:C15)","v":0},{"$f":"SUM(D11:D15)","v":0},0,0]
["1.1",{"$f":"VLOOKUP(A11,Ausfüllhilfe!$A$1:$B$22,2)","v":0},{"$f":"'Übersicht Verwendungsnachweis'!C11","v":0},{"$f":"'Übersicht Verwendungsnachweis'!F11","v":0},{"$f":"C11-D11","v":0}]
["1.2",{"$f":"VLOOKUP(A12,Ausfüllhilfe!$A$1:$B$22,2)","v":0},{"$f":"'Übersicht Verwendungsnachweis'!C12","v":0},{"$f":"'Übersicht Verwendungsnachweis'!F12","v":0},{"$f":"C12-D12","v":0}]
["1.3",{"$f":"VLOOKUP(A13,Ausfüllhilfe!$A$1:$B$22,2)","v":0},{"$f":"'Übersicht Verwendungsnachweis'!C13","v":0},{"$f":"'Übersicht Verwendungsnachweis'!F13","v":0},0]
["1.4",{"$f":"VLOOKUP(A14,Ausfüllhilfe!$A$1:$B$22,2)","v":0},{"$f":"'Übersicht Verwendungsnachweis'!C14","v":0},{"$f":"'Übersicht Verwendungsnachweis'!F14","v":0},0]
["1.5",{"$f":"VLOOKUP(A15,Ausfüllhilfe!$A$1:$B$22,2)","v":0},{"$f":"'Übersicht Verwendungsnachweis'!C15","v":0},{"$f":"'Übersicht Verwendungsnachweis'!F15","v":0},0]
["2. Externe Dienstleistungen",null,{"$f":"SUM(C17:C21)","v":0},{"$f":"SUM(D17:D21)","v":0},0,0]
["2.1",{"$f":"VLOOKUP(A17,Ausfüllhilfe!$A$1:$B$22,2)","v":"Externe Dienstleister Inland"},{"$f":"'Übersicht Verwendungsnachweis'!C17","v":0},{"$f":"'Übersicht Verwendungsnachweis'!F17","v":0},0]
["2.2",{"$f":"VLOOKUP(A18,Ausfüllhilfe!$A$1:$B$22,2)","v":"Externe Dienstleister Ausland"},{"$f":"'Übersicht Verwendungsnachweis'!C18","v":0},{"$f":"'Übersicht Verwendungsnachweis'!F18","v":0},0]
["2.3",{"$f":"VLOOKUP(A19,Ausfüllhilfe!$A$1:$B$22,2)","v":0},{"$f":"'Übersicht Verwendungsnachweis'!C19","v":0},{"$f":"'Übersicht Verwendungsnachweis'!F19","v":0},0]
["2.4",{"$f":"VLOOKUP(A20,Ausfüllhilfe!$A$1:$B$22,2)","v":0},{"$f":"'Übersicht Verwendungsnachweis'!C20","v":0},{"$f":"'Übersicht Verwendungsnachweis'!F20","v":0},0]
["2.5",{"$f":"VLOOKUP(A21,Ausfüllhilfe!$A$1:$B$22,2)","v":0},{"$f":"'Übersicht Verwendungsnachweis'!C21","v":0},{"$f":"'Übersicht Verwendungsnachweis'!F21","v":0},0]
["3. Sachkosten",null,{"$f":"SUM(C23:C27)","v":0},{"$f":"SUM(D23:D27)","v":0},0,0]
["3.1",{"$f":"VLOOKUP(A23,Ausfüllhilfe!$A$1:$B$22,2)","v":"Reisekosten Projektpersonal (Fahrt, Flug, Aufenthalt)"},{"$f":"'Übersicht Verwendungsnachweis'!C23","v":0},{"$f":"'Übersicht Verwendungsnachweis'!F23","v":0},0]
["3.2",{"$f":"VLOOKUP(A24,Ausfüllhilfe!$A$1:$B$22,2)","v":"Verbrauchsgüter"},{"$f":"'Übersicht Verwendungsnachweis'!C24","v":0},{"$f":"'Übersicht Verwendungsnachweis'!F24","v":0},{"$f":"C24-D24","v":0}]
["3.3",{"$f":"VLOOKUP(A25,Ausfüllhilfe!$A$1:$B$22,2)","v":"Wirtschaftsgüter"},{"$f":"'Übersicht Verwendungsnachweis'!C25","v":0},{"$f":"'Übersicht Verwendungsnachweis'!F25","v":0},0]
["3.4",{"$f":"VLOOKUP(A26,Ausfüllhilfe!$A$1:$B$22,2)","v":"Sonstige Sachmittel"},{"$f":"'Übersicht Verwendungsnachweis'!C26","v":0},{"$f":"'Übersicht Verwendungsnachweis'!F26","v":0},0]
["3.5",{"$f":"VLOOKUP(A27,Ausfüllhilfe!$A$1:$B$22,2)","v":0},{"$f":"'Übersicht Verwendungsnachweis'!C27","v":0},{"$f":"'Übersicht Verwendungsnachweis'!F27","v":0},0]
["4.Weiterleitung an Partnerinstitutionen",null,{"$f":"SUM(C29:C31)","v":0},{"$f":"SUM(D29:D31)","v":0},0,0]
["4.1",{"$f":"VLOOKUP(A29,Ausfüllhilfe!$A$1:$B$22,2)","v":"Weiterleitung an Partnerinstitution 1 (Name)_Acktuelle Kosten"},{"$f":"'Übersicht Verwendungsnachweis'!C29","v":0},{"$f":"'Übersicht Verwendungsnachweis'!F29","v":0},0]
["4.2",{"$f":"VLOOKUP(A30,Ausfüllhilfe!$A$1:$B$22,2)","v":"Weiterleitung an Partnerinstitution 2 (Name)_Acktuelle Kosten"},{"$f":"'Übersicht Verwendungsnachweis'!C30","v":0},{"$f":"'Übersicht Verwendungsnachweis'!F30","v":0},0]
["4.3",{"$f":"VLOOKUP(A31,Ausfüllhilfe!$A$1:$B$22,2)","v":"Weiterleitung an Partnerinstitution 3 (Name)_Acktuelle Kosten"},{"$f":"'Übersicht Verwendungsnachweis'!C31","v":0},{"$f":"'Übersicht Verwendungsnachweis'!F31","v":0},0]
[null,"Summe",{"$f":"C28+C22+C16+C10","v":0},{"$f":"D28+D22+D16+D10","v":0},0,0]
[]
[null,{"$f":"'Übersicht Verwendungsnachweis'!B45","v":"Mittelbestand (Kontostand)"},null,null,null,{"$f":"'Übersicht Verwendungsnachweis'!E45","v":0}]
[]
[null,"Anzufordernder Betrag",null,null,null,{"$f":"F32-F34","v":0}]
[]
[]
["Budgetlinie","Datum","Empfänger",null,null,"Betrag in €","Art FW","Begründung"]
["1.1"]
["Budgetlinie","Datum","Empfänger",null,null,"Betrag in €","Art FW","Begründung"]
["1.2"]
["Budgetlinie","Datum","Empfänger",null,null,"Betrag in €","Art FW","Begründung"]
["1.3"]
["Budgetlinie","Datum","Empfänger",null,null,"Betrag in €","Art FW","Begründung"]
["1.4"]
["Budgetlinie","Datum","Empfänger",null,null,"Betrag in €","Art FW","Begründung"]
["1.5"]
["Budgetlinie","Datum","Empfänger",null,null,"Betrag in €","Art FW","Begründung"]
["2.1"]
["Budgetlinie","Datum","Empfänger",null,null,"Betrag in €","Art FW","Begründung"]
["2.2"]
["Budgetlinie","Datum","Empfänger",null,null,"Betrag in €","Art FW","Begründung"]
["2.3"]
["Budgetlinie","Datum","Empfänger",null,null,"Betrag in €","Art FW","Begründung"]
["2.4"]
["Budgetlinie","Datum","Empfänger",null,null,"Betrag in €","Art FW","Begründung"]
["2.5"]
["Budgetlinie","Datum","Empfänger",null,null,"Betrag in €","Art FW","Begründung"]
["3.1"]
["Budgetlinie","Datum","Empfänger",null,null,"Betrag in €","Art FW","Begründung"]
["3.2"]
["Budgetlinie","Datum","Empfänger",null,null,"Betrag in €","Art FW","Begründung"]
["3.3"]
["Budgetlinie","Datum","Empfänger",null,null,"Betrag in €","Art FW","Begründung"]
["3.4"]
["Budgetlinie","Datum","Empfänger",null,null,"Betrag in €","Art FW","Begründung"]
["4.1"]
["Budgetlinie","Datum","Empfänger",null,null,"Betrag in €","Art FW","Begründung"]
["4.2"]
["Budgetlinie","Datum","Empfänger",null,null,"Betrag in €","Art FW","Begründung"]
["4.3"]
["Budgetlinie","Datum","Empfänger",null,null,"Betrag in €","Art FW","Begründung"]
["4.4"]
["Budgetlinie","Datum","Empfänger",null,null,"Betrag in €","Art FW","Begründung"]
["5.1"]
["Budgetlinie","Datum","Empfänger",null,null,"Betrag in €","Art FW","Begründung"]
["6.1"]
["Budgetlinie","Datum","Empfänger",null,null,"Betrag in €","Art FW","Begründung"]
["6.2"]

{"sheet":"Ausfüllhilfe","index":4,"n_rows":22,"n_cols":5,"rows_kept":22,"cut":false,"hidden":false,"merged":[]}
["Budgetlinie","Maßnahme",null,null,"Einnahmen/Ausgaben/Vorzahlung"]
["1.1",null,{"$f":"CONCATENATE(Tabelle2[[#This Row],[Budgetlinie]],\"_\",B2)","v":"1.1_"},"Ausgabe","Einnahme"]
["1.2",null,{"$f":"CONCATENATE(Tabelle2[[#This Row],[Budgetlinie]],\"_\",B3)","v":"1.2_"},"Ausgabe","Ausgabe"]
["1.3",null,{"$f":"CONCATENATE(Tabelle2[[#This Row],[Budgetlinie]],\"_\",B4)","v":"1.3_"},"Ausgabe","Vorzahlung"]
["1.4",null,{"$f":"CONCATENATE(Tabelle2[[#This Row],[Budgetlinie]],\"_\",B5)","v":"1.4_"},"Ausgabe"]
["1.5",null,{"$f":"CONCATENATE(Tabelle2[[#This Row],[Budgetlinie]],\"_\",B6)","v":"1.5_"},"Ausgabe"]
["2.1","Externe Dienstleister Inland",{"$f":"CONCATENATE(Tabelle2[[#This Row],[Budgetlinie]],\"_\",B7)","v":"2.1_Externe Dienstleister Inland"},"Ausgabe"]
["2.2","Externe Dienstleister Ausland",{"$f":"CONCATENATE(Tabelle2[[#This Row],[Budgetlinie]],\"_\",B8)","v":"2.2_Externe Dienstleister Ausland"},"Ausgabe"]
["2.3",null,{"$f":"CONCATENATE(Tabelle2[[#This Row],[Budgetlinie]],\"_\",B9)","v":"2.3_"},"Ausgabe"]
["2.4",null,{"$f":"CONCATENATE(Tabelle2[[#This Row],[Budgetlinie]],\"_\",B10)","v":"2.4_"},"Ausgabe"]
["2.5",null,{"$f":"CONCATENATE(Tabelle2[[#This Row],[Budgetlinie]],\"_\",B11)","v":"2.5_"},"Ausgabe"]
["3.1","Reisekosten Projektpersonal (Fahrt, Flug, Aufenthalt)",{"$f":"CONCATENATE(Tabelle2[[#This Row],[Budgetlinie]],\"_\",B12)","v":"3.1_Reisekosten Projektpersonal (Fahrt, Flug, Aufenthalt)"},"Ausgabe"]
["3.2","Verbrauchsgüter",{"$f":"CONCATENATE(Tabelle2[[#This Row],[Budgetlinie]],\"_\",B13)","v":"3.2_Verbrauchsgüter"},"Ausgabe"]
["3.3","Wirtschaftsgüter",{"$f":"CONCATENATE(Tabelle2[[#This Row],[Budgetlinie]],\"_\",B14)","v":"3.3_Wirtschaftsgüter"},"Ausgabe"]
["3.4","Sonstige Sachmittel",{"$f":"CONCATENATE(Tabelle2[[#This Row],[Budgetlinie]],\"_\",B15)","v":"3.4_Sonstige Sachmittel"},"Ausgabe"]
["3.5",null,{"$f":"CONCATENATE(Tabelle2[[#This Row],[Budgetlinie]],\"_\",B16)","v":"3.5_"},"Ausgabe"]
["4.1","Weiterleitung an Partnerinstitution 1 (Name)_Acktuelle Kosten",{"$f":"CONCATENATE(Tabelle2[[#This Row],[Budgetlinie]],\"_\",B17)","v":"4.1_Weiterleitung an Partnerinstitution 1 (Name)_Acktuelle Kosten"},"Ausgabe"]
["4.2","Weiterleitung an Partnerinstitution 2 (Name)_Acktuelle Kosten",{"$f":"CONCATENATE(Tabelle2[[#This Row],[Budgetlinie]],\"_\",B18)","v":"4.2_Weiterleitung an Partnerinstitution 2 (Name)_Acktuelle Kosten"},"Ausgabe"]
["4.3","Weiterleitung an Partnerinstitution 3 (Name)_Acktuelle Kosten",{"$f":"CONCATENATE(Tabelle2[[#This Row],[Budgetlinie]],\"_\",B19)","v":"4.3_Weiterleitung an Partnerinstitution 3 (Name)_Acktuelle Kosten"},"Ausgabe"]
["5.1","Einnahme",{"$f":"CONCATENATE(Tabelle2[[#This Row],[Budgetlinie]],\"_\",B20)","v":"5.1_Einnahme"},"Einnahme"]
["6.1","Vorzahlung an Partnerinstitution 1 (Name)",{"$f":"CONCATENATE(Tabelle2[[#This Row],[Budgetlinie]],\"_\",B21)","v":"6.1_Vorzahlung an Partnerinstitution 1 (Name)"},"Vorzahlung"]
["6.2","Vorzahlung an Partnerinstitution 2 (Name)",{"$f":"CONCATENATE(Tabelle2[[#This Row],[Budgetlinie]],\"_\",B22)","v":"6.2_Vorzahlung an Partnerinstitution 2 (Name)"},"Vorzahlung"]